{"text_format":"1","workbook":"xlsx","n_sheets":24,"sheets":["Configuration","Export","Employee Profiles","Materials","Expenses","Subcontractor Spend","Community Investment","Subcontractors","Diversity Information Consent","Case","Com Inv Type","Unions","Material Types","Service Type","Currency","Provinces States","Countries","Service Completed","TFW Programs","Traditional Studies","Aboriginal Affiliation","Leveraging Plans","Release Notes","Copy Map"],"not_rendered":{"charts":0,"images":0,"macros":1,"external_links":0,"defined_names":2,"comments":6,"pivot_tables":0},"unopened":[],"bounds":{"document_bytes":16777216,"sheet_cells":100000,"rows_first":2000,"rows_last":500,"rows_between":2000,"halvings":0,"cell_chars":16384,"cell_head_chars":4096},"cells_cut":0,"cells_raw":0,"read":"whole","date_system":"1900"}

{"sheet":"Configuration","index":0,"n_rows":45,"n_cols":4,"rows_kept":45,"cut":false,"hidden":false,"merged":[[21,3,21,16],[9,3,9,16],[10,3,10,16],[13,3,13,16],[14,3,14,16],[15,3,15,16],[16,3,16,16],[18,3,18,16],[19,3,19,16],[20,3,20,16],[11,3,11,16],[6,3,6,16],[12,3,12,16],[17,3,17,16],[0,3,0,16],[3,3,3,16],[5,3,5,16],[1,3,1,16],[2,3,2,16],[4,3,4,16],[7,3,7,16],[8,3,8,16],[23,3,23,16],[24,3,24,16],[25,3,25,16],[26,3,26,16],[27,3,27,16],[28,3,28,16],[29,3,29,16],[30,3,30,16],[31,3,31,16],[32,3,32,16],[33,3,33,16],[34,3,34,16],[35,3,35,16],[36,3,36,16],[37,3,37,16],[43,3,43,16],[44,3,44,16],[38,3,38,16],[39,3,39,16],[40,3,40,16],[41,3,41,16],[42,3,42,16]]}
["QuickBase Record ID",null,null,"TransCanada Indigenous, Diverse and Local Spend Template"]
[null,null,null,"Enter your company's indigenous, diverse and local spend for each period by filling out this template.  Below are high-level instructions.  Detailed instructions will be provided to you separately. Additionally the detailed instructions are stored in the\nQuickBase app called \"Support Centre\" on the 'Help' page.   \nIf you require assistance filling out the  Template or uploading the data, send an email to DLS_Support@TransCanada.com."]
[null,null,null,"Note: All diversity information provided to us by your company and employees is voluntary.  For more information\nclick on the worksheet called ``Diversity Information Consent\""]
[null,null,null,"Click Enable Macros on the yellow bar above if required before populating information."]
[null,null,null,"Step 1 - Prepare the  Template"]
[null,null,null,"1. Enter your subcontractor companies on the Subcontractors  worksheet, along with the ID for each subcontractor (as listed in the DLS Record in QuickBase).  Then click \"Update Subcontractors list.\"   This will auto populate the Subcontractor dropdown boxes with your listing of subcontractors throughout the monthly record form."]
[null,null,null,"Step 2 - Enter the  data"]
[null,null,null,"1. Fill out the Employees Profiles worksheet - Enter a record for each of your direct employees and subcontractor employees (if known) who worked on the project during the reporting period.   "]
[null,null,null,"2. Fill out the Materials worksheet  - Record the local purchases including rentals by location for this reporting period"]
[null,null,null,"3. Fill out the Expenses worksheet -  Record the local expenses including per diem by location for this reporting period."]
[null,null,null,"4. Fill out the Subcontractor Spend worksheet - Record the $ paid to each subcontractor during the period"]
[null,null,null,"5. Fill out the Community Investment worksheet - Record the $ contributed to each recipient organization durin gthe reporting period, as applicable"]
[null,null,null,"Step 3 - Prepare the Upload File (CSV)"]
[null,null,null,"1. Retrieve your QuickBase DLS Record ID number. The ID number is listed on your DLS Record and enter the ID in the green square located on this worksheet (Configuration)"]
[null,null,null,"2. Click \"Prep Export Sheet\" on this worksheet (Configuration)"]
[null,null,null,"3. Click the \"Export\" worksheet below and save that worksheet to your desktop as a CSV file.  "]
[null,null,null,"Hint: Include in the filename the project, period, and DLS Record ID#  to help organize your work and to ensure you upload the correct DLS record each period."]
[null,null,null,"Step 4 - Upload and Submit the Data"]
[null,null,null,"1. Log into the Supplier DLS Portal, open up the \"DLS Record\" that has been assigned to you by clicking the edit icon (\"pencil\")"]
[null,null,null,"2. Click the \"Import from CSV\" button in the DLS record, and follow the steps to import the data"]
[null,null,null,"3. Review all data in the \"DLS Record\" to ensure all data is accurate "]
[null,null,null,"4. Click \"Submit\" at the bottom of the record.  You will receive a notification that the data was submitted and will be reviewed by a TransCanada and you will either be notified if further information is required or if your report has been reviewed as complete. "]
[]
[null,null,null,"Modèle des dépenses auprès des fournisseurs autochtones, locaux et qui répondent aux critères de diversité de TransCanada"]
[null,null,null,"Entrez les dépenses auprès des fournisseurs autochtones, locaux et qui répondent aux critères de diversité de votre entreprise pour chaque période en remplissant le présent modèle.  Des instructions générales se trouvent ci-dessous.  Des instructions détaillées vous seront fournies séparément. Les instructions détaillées sont en outre accessibles dans\nl’application QuickBase appelée \"Centre de soutien\" sur la page 'Aide'.   \nSi vous avez besoin d’aide pour remplir le modèle ou télécharger les données, envoyez un courriel à l’adresse DLS_Support@TransCanada.com."]
[null,null,null,"Remarque : Tous les renseignements sur la diversité que votre entreprise et vos employés nous fournissent sont facultatifs.  Pour de plus amples renseignements, cliquez sur la feuille de travail intitulée \"Consentement des informations sur la diversité\"."]
[null,null,null,"Au besoin, cliquez sur \"Activer les macros\" dans la barre jaune ci-dessus avant de charger les renseignements."]
[null,null,null,"Étape 1 - Préparation du modèle"]
[null,null,null,"1. Entrez les entreprises de vos sous-traitants dans la feuille de travail  Sous-traitants ainsi que le no d’identification pour chaque sous-traitant (figurant dans le document des DFLD dans QuickBase).  Puis, cliquez sur \"Mettre à jour la liste des sous-traitants\".   Les boîtes déroulantes des sous-traitants seront ainsi automatiquement remplies à partir de votre liste de sous-traitants dans tout le formulaire de documents mensuels."]
[null,null,null,"Étape 2 - Saisie des données"]
[null,null,null,"1. Remplissez la feuille de travail Profils des employés. Inscrivez chacun de vos employés directs et des employés des sous-traitants (si vous les connaissez) qui ont travaillé sur le projet pendant la période de déclaration.   "]
[null,null,null,"2. Remplissez la feuille de travail Matériaux. Inscrivez les achats locaux, y compris les locations par lieu, pour la période de déclaration."]
[null,null,null,"3. Remplissez la feuille de travail Dépenses. Inscrivez les dépenses locales, y compris les indemnités quotidiennes par lieu, pour la période de déclaration."]
[null,null,null,"4. Remplissez la feuille de travail Dépenses pour les sous-traitants. Inscrivez la somme $ versée à chaque sous-traitant pendant la période."]
[null,null,null,"5. Remplissez la feuille de travail Investissements dans la collectivité. Inscrivez la somme $ offerte à chaque organisme bénéficiaire pendant la période de déclaration, selon le cas."]
[null,null,null,"Étape 3 - Préparation du fichier à télécharger (CSV)"]
[null,null,null,"1. Récupérez votre no d’identification du document des DFLD dans QuickBase. Le no d’identification figure dans votre document des DFLD. Entrez le no d’identification dans le carré vert de la présente feuille de travail (Configuration)."]
[null,null,null,"2. Cliquez sur \"Préparer la feuille à exporter\" dans la présente feuille de travail (Configuration)."]
[null,null,null,"3. Cliquez sur la feuille de travail \"Exportation\" ci-dessous et enregistrez-la sur votre bureau comme fichier CSV.  "]
[null,null,null,"Conseil : Incluez dans le nom du fichier le projet, la période et le no d’identification du document des DFLD pour vous aider à organiser votre travail et vous assurer de télécharger le bon document des DFLD à chaque période."]
[null,null,null,"Étape 4 - Téléchargement et transmission des données"]
[null,null,null,"1. Entrez dans le Portail des DFLD et ouvrez le \"document des DFLD\" qui vous a été assigné en cliquant sur l’icône de modification (\"crayon\")."]
[null,null,null,"2. Cliquez sur le bouton \"Import from CSV\" dans le document des DFLD et suivez les étapes pour importer les données."]
[null,null,null,"3. Passez en revue toutes les données du \"document des DFLD\" pour vous assurer de leur exactitude. "]
[null,null,null,"4. Cliquez sur \"Soumettre\" dans le bas du document.  Vous recevrez un avis vous informant que les données ont été transmises et seront examinées par TransCanada et serez informé si d’autres renseignements sont requis ou si votre rapport a été évalué comme étant complet. "]

{"sheet":"Export","index":1,"n_rows":1,"n_cols":41,"rows_kept":1,"cut":false,"hidden":false,"merged":[]}
["City","Province/ State","Country","Postal/Zip Code","Service Completed","Hourly Rate","Choose Not To Answer","No","Women","Visible Minority","Indigenous","Div African-American","Div Asian-American","Div Hispanic-American","Div Native-American","Div Veteran","Aboriginal Affiliation","Aboriginal Affiliation Other","Related TFW Program","Labour Union","Hours Worked","Currency","Spend City","Spend Province/ State","Spend Country","Spend Postal Zip Code","Material Supplier Name","Material Cost Incl Tax","Total Per Diem","Sub Hours Worked","Sub Total Spend","Traditional Studies","Phase Subcontractor","Material Type","Service Type","Related DLS Record","Recipient Organization","Community Spend","Community Investment Type","Leveraging Plans","Div LGBT"]

{"sheet":"Employee Profiles","index":2,"n_rows":5024,"n_cols":27,"rows_kept":2250,"cut":true,"hidden":false,"merged":[],"bounds":{"rows_first":1000,"rows_last":250,"rows_between":1000,"halvings":1}}
[]
[]
[null,null,null,null,null,null,null,null,null,null,null,null,null,null,null,null,null,null,null,null,null,null,null,"Hide",null,null,"Hide"]
["Sous-traitant","Nom","Ville","Province/État","Pays","Code Postal/Zip","Service accompli","Heures Travaillées","\n \nTaux horaire ","Devise","Choisir de ne pas répondre","Non","Femmes",null,"Minorité visible","Autochtone - Première Nation (CAN)","Vétéran ","Afro-américains (É.-U)","Asiatique-américains (É.-U)","Hispanique-américains (É.-U)","Amérindien (É.-U)","Communauté Autochtone","Autre Communauté Autochtone",null,"Organisation Syndicale","Programme des travailleurs étrangers temporaires"]
["Subcontractor","Name","Home City","Home Province/ State","Home Country","Home Postal/ Zip Code","Service Completed","Hours Worked","Hourly Rate","Currency","Choose Not To Answer","No","Women","LGBT","Visible Minority  (CAN)","Indigenous (CAN)","Veteran","African-American (USA)","Asian-American (USA)","Hispanic-American (USA)","Native-Amerian (USA)","Indigenous/Tribal Community","Other Indigenous/Tribal Community","Related TFW Program","Labour Union","Temporary Foreign Worker Program","Related Phase Subcontractor"]
[null,null,null,null,null,null,null,null,null,null,null,null,null,null,null,null,null,null,null,null,null,null,null,{"$f":"IF(LEN(Z6)>0,VLOOKUP(Z6,'TFW Programs'!$A$2:$B$8,2,FALSE),\"\")","v":""},null,null,{"$f":"IF(LEN(A6)>0,VLOOKUP(A6,Subcontractors!$A$2:$B$4,2,FALSE),\"\")","v":""}]
[null,null,null,null,null,null,null,null,null,null,null,null,null,null,null,null,null,null,null,null,null,null,null,{"$f":"IF(LEN(Z7)>0,VLOOKUP(Z7,'TFW Programs'!$A$2:$B$8,2,FALSE),\"\")","v":""},null,null,{"$f":"IF(LEN(A7)>0,VLOOKUP(A7,Subcontractors!$A$2:$B$4,2,FALSE),\"\")","v":""}]
[null,null,null,null,null,null,null,null,null,null,null,null,null,null,null,null,null,null,null,null,null,null,null,{"$f":"IF(LEN(Z8)>0,VLOOKUP(Z8,'TFW Programs'!$A$2:$B$8,2,FALSE),\"\")","v":""},null,null,{"$f":"IF(LEN(A8)>0,VLOOKUP(A8,Subcontractors!$A$2:$B$4,2,FALSE),\"\")","v":""}]
[null,null,null,null,null,null,null,null,null,null,null,null,null,null,null,null,null,null,null,null,null,null,null,{"$f":"IF(LEN(Z9)>0,VLOOKUP(Z9,'TFW Programs'!$A$2:$B$8,2,FALSE),\"\")","v":""},null,null,{"$f":"IF(LEN(A9)>0,VLOOKUP(A9,Subcontractors!$A$2:$B$4,2,FALSE),\"\")","v":""}]
[null,null,null,null,null,null,null,null,null,null,null,null,null,null,null,null,null,null,null,null,null,null,null,{"$f":"IF(LEN(Z10)>0,VLOOKUP(Z10,'TFW Programs'!$A$2:$B$8,2,FALSE),\"\")","v":""},null,null,{"$f":"IF(LEN(A10)>0,VLOOKUP(A10,Subcontractors!$A$2:$B$4,2,FALSE),\"\")","v":""}]
[null,null,null,null,null,null,null,null,null,null,null,null,null,null,null,null,null,null,null,null,null,null,null,{"$f":"IF(LEN(Z11)>0,VLOOKUP(Z11,'TFW Programs'!$A$2:$B$8,2,FALSE),\"\")","v":""},null,null,{"$f":"IF(LEN(A11)>0,VLOOKUP(A11,Subcontractors!$A$2:$B$4,2,FALSE),\"\")","v":""}]
[null,null,null,null,null,null,null,null,null,null,null,null,null,null,null,null,null,null,null,null,null,null,null,{"$f":"IF(LEN(Z12)>0,VLOOKUP(Z12,'TFW Programs'!$A$2:$B$8,2,FALSE),\"\")","v":""},null,null,{"$f":"IF(LEN(A12)>0,VLOOKUP(A12,Subcontractors!$A$2:$B$4,2,FALSE),\"\")","v":""}]
[null,null,null,null,null,null,null,null,null,null,null,null,null,null,null,null,null,null,null,null,null,null,null,{"$f":"IF(LEN(Z13)>0,VLOOKUP(Z13,'TFW Programs'!$A$2:$B$8,2,FALSE),\"\")","v":""},null,null,{"$f":"IF(LEN(A13)>0,VLOOKUP(A13,Subcontractors!$A$2:$B$4,2,FALSE),\"\")","v":""}]
[null,null,null,null,null,null,null,null,null,null,null,null,null,null,null,null,null,null,null,null,null,null,null,{"$f":"IF(LEN(Z14)>0,VLOOKUP(Z14,'TFW Programs'!$A$2:$B$8,2,FALSE),\"\")","v":""},null,null,{"$f":"IF(LEN(A14)>0,VLOOKUP(A14,Subcontractors!$A$2:$B$4,2,FALSE),\"\")","v":""}]
[null,null,null,null,null,null,null,null,null,null,null,null,null,null,null,null,null,null,null,null,null,null,null,{"$f":"IF(LEN(Z15)>0,VLOOKUP(Z15,'TFW Programs'!$A$2:$B$8,2,FALSE),\"\")","v":""},null,null,{"$f":"IF(LEN(A15)>0,VLOOKUP(A15,Subcontractors!$A$2:$B$4,2,FALSE),\"\")","v":""}]
[null,null,null,null,null,null,null,null,null,null,null,null,null,null,null,null,null,null,null,null,null,null,null,{"$f":"IF(LEN(Z16)>0,VLOOKUP(Z16,'TFW Programs'!$A$2:$B$8,2,FALSE),\"\")","v":""},null,null,{"$f":"IF(LEN(A16)>0,VLOOKUP(A16,Subcontractors!$A$2:$B$4,2,FALSE),\"\")","v":""}]
[null,null,null,null,null,null,null,null,null,null,null,null,null,null,null,null,null,null,null,null,null,null,null,{"$f":"IF(LEN(Z17)>0,VLOOKUP(Z17,'TFW Programs'!$A$2:$B$8,2,FALSE),\"\")","v":""},null,null,{"$f":"IF(LEN(A17)>0,VLOOKUP(A17,Subcontractors!$A$2:$B$4,2,FALSE),\"\")","v":""}]
[null,null,null,null,null,null,null,null,null,null,null,null,null,null,null,null,null,null,null,null,null,null,null,{"$f":"IF(LEN(Z18)>0,VLOOKUP(Z18,'TFW Programs'!$A$2:$B$8,2,FALSE),\"\")","v":""},null,null,{"$f":"IF(LEN(A18)>0,VLOOKUP(A18,Subcontractors!$A$2:$B$4,2,FALSE),\"\")","v":""}]
[null,null,null,null,null,null,null,null,null,null,null,null,null,null,null,null,null,null,null,null,null,null,null,{"$f":"IF(LEN(Z19)>0,VLOOKUP(Z19,'TFW Programs'!$A$2:$B$8,2,FALSE),\"\")","v":""},null,null,{"$f":"IF(LEN(A19)>0,VLOOKUP(A19,Subcontractors!$A$2:$B$4,2,FALSE),\"\")","v":""}]
[null,null,null,null,null,null,null,null,null,null,null,null,null,null,null,null,null,null,null,null,null,null,null,{"$f":"IF(LEN(Z20)>0,VLOOKUP(Z20,'TFW Programs'!$A$2:$B$8,2,FALSE),\"\")","v":""},null,null,{"$f":"IF(LEN(A20)>0,VLOOKUP(A20,Subcontractors!$A$2:$B$4,2,FALSE),\"\")","v":""}]
[null,null,null,null,null,null,null,null,null,null,null,null,null,null,null,null,null,null,null,null,null,null,null,{"$f":"IF(LEN(Z21)>0,VLOOKUP(Z21,'TFW Programs'!$A$2:$B$8,2,FALSE),\"\")","v":""},null,null,{"$f":"IF(LEN(A21)>0,VLOOKUP(A21,Subcontractors!$A$2:$B$4,2,FALSE),\"\")","v":""}]
[null,null,null,null,null,null,null,null,null,null,null,null,null,null,null,null,null,null,null,null,null,null,null,{"$f":"IF(LEN(Z22)>0,VLOOKUP(Z22,'TFW Programs'!$A$2:$B$8,2,FALSE),\"\")","v":""},null,null,{"$f":"IF(LEN(A22)>0,VLOOKUP(A22,Subcontractors!$A$2:$B$4,2,FALSE),\"\")","v":""}]
[null,null,null,null,null,null,null,null,null,null,null,null,null,null,null,null,null,null,null,null,null,null,null,{"$f":"IF(LEN(Z23)>0,VLOOKUP(Z23,'TFW Programs'!$A$2:$B$8,2,FALSE),\"\")","v":""},null,null,{"$f":"IF(LEN(A23)>0,VLOOKUP(A23,Subcontractors!$A$2:$B$4,2,FALSE),\"\")","v":""}]
[null,null,null,null,null,null,null,null,null,null,null,null,null,null,null,null,null,null,null,null,null,null,null,{"$f":"IF(LEN(Z24)>0,VLOOKUP(Z24,'TFW Programs'!$A$2:$B$8,2,FALSE),\"\")","v":""},null,null,{"$f":"IF(LEN(A24)>0,VLOOKUP(A24,Subcontractors!$A$2:$B$4,2,FALSE),\"\")","v":""}]
[null,null,null,null,null,null,null,null,null,null,null,null,null,null,null,null,null,null,null,null,null,null,null,{"$f":"IF(LEN(Z25)>0,VLOOKUP(Z25,'TFW Programs'!$A$2:$B$8,2,FALSE),\"\")","v":""},null,null,{"$f":"IF(LEN(A25)>0,VLOOKUP(A25,Subcontractors!$A$2:$B$4,2,FALSE),\"\")","v":""}]
[null,null,null,null,null,null,null,null,null,null,null,null,null,null,null,null,null,null,null,null,null,null,null,{"$f":"IF(LEN(Z26)>0,VLOOKUP(Z26,'TFW Programs'!$A$2:$B$8,2,FALSE),\"\")","v":""},null,null,{"$f":"IF(LEN(A26)>0,VLOOKUP(A26,Subcontractors!$A$2:$B$4,2,FALSE),\"\")","v":""}]
[null,null,null,null,null,null,null,null,null,null,null,null,null,null,null,null,null,null,null,null,null,null,null,{"$f":"IF(LEN(Z27)>0,VLOOKUP(Z27,'TFW Programs'!$A$2:$B$8,2,FALSE),\"\")","v":""},null,null,{"$f":"IF(LEN(A27)>0,VLOOKUP(A27,Subcontractors!$A$2:$B$4,2,FALSE),\"\")","v":""}]
[null,null,null,null,null,null,null,null,null,null,null,null,null,null,null,null,null,null,null,null,null,null,null,{"$f":"IF(LEN(Z28)>0,VLOOKUP(Z28,'TFW Programs'!$A$2:$B$8,2,FALSE),\"\")","v":""},null,null,{"$f":"IF(LEN(A28)>0,VLOOKUP(A28,Subcontractors!$A$2:$B$4,2,FALSE),\"\")","v":""}]
[null,null,null,null,null,null,null,null,null,null,null,null,null,null,null,null,null,null,null,null,null,null,null,{"$f":"IF(LEN(Z29)>0,VLOOKUP(Z29,'TFW Programs'!$A$2:$B$8,2,FALSE),\"\")","v":""},null,null,{"$f":"IF(LEN(A29)>0,VLOOKUP(A29,Subcontractors!$A$2:$B$4,2,FALSE),\"\")","v":""}]
[null,null,null,null,null,null,null,null,null,null,null,null,null,null,null,null,null,null,null,null,null,null,null,{"$f":"IF(LEN(Z30)>0,VLOOKUP(Z30,'TFW Programs'!$A$2:$B$8,2,FALSE),\"\")","v":""},null,null,{"$f":"IF(LEN(A30)>0,VLOOKUP(A30,Subcontractors!$A$2:$B$4,2,FALSE),\"\")","v":""}]
[null,null,null,null,null,null,null,null,null,null,null,null,null,null,null,null,null,null,null,null,null,null,null,{"$f":"IF(LEN(Z31)>0,VLOOKUP(Z31,'TFW Programs'!$A$2:$B$8,2,FALSE),\"\")","v":""},null,null,{"$f":"IF(LEN(A31)>0,VLOOKUP(A31,Subcontractors!$A$2:$B$4,2,FALSE),\"\")","v":""}]
[null,null,null,null,null,null,null,null,null,null,null,null,null,null,null,null,null,null,null,null,null,null,null,{"$f":"IF(LEN(Z32)>0,VLOOKUP(Z32,'TFW Programs'!$A$2:$B$8,2,FALSE),\"\")","v":""},null,null,{"$f":"IF(LEN(A32)>0,VLOOKUP(A32,Subcontractors!$A$2:$B$4,2,FALSE),\"\")","v":""}]
[null,null,null,null,null,null,null,null,null,null,null,null,null,null,null,null,null,null,null,null,null,null,null,{"$f":"IF(LEN(Z33)>0,VLOOKUP(Z33,'TFW Programs'!$A$2:$B$8,2,FALSE),\"\")","v":""},null,null,{"$f":"IF(LEN(A33)>0,VLOOKUP(A33,Subcontractors!$A$2:$B$4,2,FALSE),\"\")","v":""}]
[null,null,null,null,null,null,null,null,null,null,null,null,null,null,null,null,null,null,null,null,null,null,null,{"$f":"IF(LEN(Z34)>0,VLOOKUP(Z34,'TFW Programs'!$A$2:$B$8,2,FALSE),\"\")","v":""},null,null,{"$f":"IF(LEN(A34)>0,VLOOKUP(A34,Subcontractors!$A$2:$B$4,2,FALSE),\"\")","v":""}]
[null,null,null,null,null,null,null,null,null,null,null,null,null,null,null,null,null,null,null,null,null,null,null,{"$f":"IF(LEN(Z35)>0,VLOOKUP(Z35,'TFW Programs'!$A$2:$B$8,2,FALSE),\"\")","v":""},null,null,{"$f":"IF(LEN(A35)>0,VLOOKUP(A35,Subcontractors!$A$2:$B$4,2,FALSE),\"\")","v":""}]
[null,null,null,null,null,null,null,null,null,null,null,null,null,null,null,null,null,null,null,null,null,null,null,{"$f":"IF(LEN(Z36)>0,VLOOKUP(Z36,'TFW Programs'!$A$2:$B$8,2,FALSE),\"\")","v":""},null,null,{"$f":"IF(LEN(A36)>0,VLOOKUP(A36,Subcontractors!$A$2:$B$4,2,FALSE),\"\")","v":""}]
[null,null,null,null,null,null,null,null,null,null,null,null,null,null,null,null,null,null,null,null,null,null,null,{"$f":"IF(LEN(Z37)>0,VLOOKUP(Z37,'TFW Programs'!$A$2:$B$8,2,FALSE),\"\")","v":""},null,null,{"$f":"IF(LEN(A37)>0,VLOOKUP(A37,Subcontractors!$A$2:$B$4,2,FALSE),\"\")","v":""}]
[null,null,null,null,null,null,null,null,null,null,null,null,null,null,null,null,null,null,null,null,null,null,null,{"$f":"IF(LEN(Z38)>0,VLOOKUP(Z38,'TFW Programs'!$A$2:$B$8,2,FALSE),\"\")","v":""},null,null,{"$f":"IF(LEN(A38)>0,VLOOKUP(A38,Subcontractors!$A$2:$B$4,2,FALSE),\"\")","v":""}]
[null,null,null,null,null,null,null,null,null,null,null,null,null,null,null,null,null,null,null,null,null,null,null,{"$f":"IF(LEN(Z39)>0,VLOOKUP(Z39,'TFW Programs'!$A$2:$B$8,2,FALSE),\"\")","v":""},null,null,{"$f":"IF(LEN(A39)>0,VLOOKUP(A39,Subcontractors!$A$2:$B$4,2,FALSE),\"\")","v":""}]
[null,null,null,null,null,null,null,null,null,null,null,null,null,null,null,null,null,null,null,null,null,null,null,{"$f":"IF(LEN(Z40)>0,VLOOKUP(Z40,'TFW Programs'!$A$2:$B$8,2,FALSE),\"\")","v":""},null,null,{"$f":"IF(LEN(A40)>0,VLOOKUP(A40,Subcontractors!$A$2:$B$4,2,FALSE),\"\")","v":""}]
[null,null,null,null,null,null,null,null,null,null,null,null,null,null,null,null,null,null,null,null,null,null,null,{"$f":"IF(LEN(Z41)>0,VLOOKUP(Z41,'TFW Programs'!$A$2:$B$8,2,FALSE),\"\")","v":""},null,null,{"$f":"IF(LEN(A41)>0,VLOOKUP(A41,Subcontractors!$A$2:$B$4,2,FALSE),\"\")","v":""}]
[null,null,null,null,null,null,null,null,null,null,null,null,null,null,null,null,null,null,null,null,null,null,null,{"$f":"IF(LEN(Z42)>0,VLOOKUP(Z42,'TFW Programs'!$A$2:$B$8,2,FALSE),\"\")","v":""},null,null,{"$f":"IF(LEN(A42)>0,VLOOKUP(A42,Subcontractors!$A$2:$B$4,2,FALSE),\"\")","v":""}]
[null,null,null,null,null,null,null,null,null,null,null,null,null,null,null,null,null,null,null,null,null,null,null,{"$f":"IF(LEN(Z43)>0,VLOOKUP(Z43,'TFW Programs'!$A$2:$B$8,2,FALSE),\"\")","v":""},null,null,{"$f":"IF(LEN(A43)>0,VLOOKUP(A43,Subcontractors!$A$2:$B$4,2,FALSE),\"\")","v":""}]
[null,null,null,null,null,null,null,null,null,null,null,null,null,null,null,null,null,null,null,null,null,null,null,{"$f":"IF(LEN(Z44)>0,VLOOKUP(Z44,'TFW Programs'!$A$2:$B$8,2,FALSE),\"\")","v":""},null,null,{"$f":"IF(LEN(A44)>0,VLOOKUP(A44,Subcontractors!$A$2:$B$4,2,FALSE),\"\")","v":""}]
[null,null,null,null,null,null,null,null,null,null,null,null,null,null,null,null,null,null,null,null,null,null,null,{"$f":"IF(LEN(Z45)>0,VLOOKUP(Z45,'TFW Programs'!$A$2:$B$8,2,FALSE),\"\")","v":""},null,null,{"$f":"IF(LEN(A45)>0,VLOOKUP(A45,Subcontractors!$A$2:$B$4,2,FALSE),\"\")","v":""}]
[null,null,null,null,null,null,null,null,null,null,null,null,null,null,null,null,null,null,null,null,null,null,null,{"$f":"IF(LEN(Z46)>0,VLOOKUP(Z46,'TFW Programs'!$A$2:$B$8,2,FALSE),\"\")","v":""},null,null,{"$f":"IF(LEN(A46)>0,VLOOKUP(A46,Subcontractors!$A$2:$B$4,2,FALSE),\"\")","v":""}]
[null,null,null,null,null,null,null,null,null,null,null,null,null,null,null,null,null,null,null,null,null,null,null,{"$f":"IF(LEN(Z47)>0,VLOOKUP(Z47,'TFW Programs'!$A$2:$B$8,2,FALSE),\"\")","v":""},null,null,{"$f":"IF(LEN(A47)>0,VLOOKUP(A47,Subcontractors!$A$2:$B$4,2,FALSE),\"\")","v":""}]
[null,null,null,null,null,null,null,null,null,null,null,null,null,null,null,null,null,null,null,null,null,null,null,{"$f":"IF(LEN(Z48)>0,VLOOKUP(Z48,'TFW Programs'!$A$2:$B$8,2,FALSE),\"\")","v":""},null,null,{"$f":"IF(LEN(A48)>0,VLOOKUP(A48,Subcontractors!$A$2:$B$4,2,FALSE),\"\")","v":""}]
[null,null,null,null,null,null,null,null,null,null,null,null,null,null,null,null,null,null,null,null,null,null,null,{"$f":"IF(LEN(Z49)>0,VLOOKUP(Z49,'TFW Programs'!$A$2:$B$8,2,FALSE),\"\")","v":""},null,null,{"$f":"IF(LEN(A49)>0,VLOOKUP(A49,Subcontractors!$A$2:$B$4,2,FALSE),\"\")","v":""}]
[null,null,null,null,null,null,null,null,null,null,null,null,null,null,null,null,null,null,null,null,null,null,null,{"$f":"IF(LEN(Z50)>0,VLOOKUP(Z50,'TFW Programs'!$A$2:$B$8,2,FALSE),\"\")","v":""},null,null,{"$f":"IF(LEN(A50)>0,VLOOKUP(A50,Subcontractors!$A$2:$B$4,2,FALSE),\"\")","v":""}]
[null,null,null,null,null,null,null,null,null,null,null,null,null,null,null,null,null,null,null,null,null,null,null,{"$f":"IF(LEN(Z51)>0,VLOOKUP(Z51,'TFW Programs'!$A$2:$B$8,2,FALSE),\"\")","v":""},null,null,{"$f":"IF(LEN(A51)>0,VLOOKUP(A51,Subcontractors!$A$2:$B$4,2,FALSE),\"\")","v":""}]
[null,null,null,null,null,null,null,null,null,null,null,null,null,null,null,null,null,null,null,null,null,null,null,{"$f":"IF(LEN(Z52)>0,VLOOKUP(Z52,'TFW Programs'!$A$2:$B$8,2,FALSE),\"\")","v":""},null,null,{"$f":"IF(LEN(A52)>0,VLOOKUP(A52,Subcontractors!$A$2:$B$4,2,FALSE),\"\")","v":""}]
[null,null,null,null,null,null,null,null,null,null,null,null,null,null,null,null,null,null,null,null,null,null,null,{"$f":"IF(LEN(Z53)>0,VLOOKUP(Z53,'TFW Programs'!$A$2:$B$8,2,FALSE),\"\")","v":""},null,null,{"$f":"IF(LEN(A53)>0,VLOOKUP(A53,Subcontractors!$A$2:$B$4,2,FALSE),\"\")","v":""}]
[null,null,null,null,null,null,null,null,null,null,null,null,null,null,null,null,null,null,null,null,null,null,null,{"$f":"IF(LEN(Z54)>0,VLOOKUP(Z54,'TFW Programs'!$A$2:$B$8,2,FALSE),\"\")","v":""},null,null,{"$f":"IF(LEN(A54)>0,VLOOKUP(A54,Subcontractors!$A$2:$B$4,2,FALSE),\"\")","v":""}]
[null,null,null,null,null,null,null,null,null,null,null,null,null,null,null,null,null,null,null,null,null,null,null,{"$f":"IF(LEN(Z55)>0,VLOOKUP(Z55,'TFW Programs'!$A$2:$B$8,2,FALSE),\"\")","v":""},null,null,{"$f":"IF(LEN(A55)>0,VLOOKUP(A55,Subcontractors!$A$2:$B$4,2,FALSE),\"\")","v":""}]
[null,null,null,null,null,null,null,null,null,null,null,null,null,null,null,null,null,null,null,null,null,null,null,{"$f":"IF(LEN(Z56)>0,VLOOKUP(Z56,'TFW Programs'!$A$2:$B$8,2,FALSE),\"\")","v":""},null,null,{"$f":"IF(LEN(A56)>0,VLOOKUP(A56,Subcontractors!$A$2:$B$4,2,FALSE),\"\")","v":""}]
[null,null,null,null,null,null,null,null,null,null,null,null,null,null,null,null,null,null,null,null,null,null,null,{"$f":"IF(LEN(Z57)>0,VLOOKUP(Z57,'TFW Programs'!$A$2:$B$8,2,FALSE),\"\")","v":""},null,null,{"$f":"IF(LEN(A57)>0,VLOOKUP(A57,Subcontractors!$A$2:$B$4,2,FALSE),\"\")","v":""}]
[null,null,null,null,null,null,null,null,null,null,null,null,null,null,null,null,null,null,null,null,null,null,null,{"$f":"IF(LEN(Z58)>0,VLOOKUP(Z58,'TFW Programs'!$A$2:$B$8,2,FALSE),\"\")","v":""},null,null,{"$f":"IF(LEN(A58)>0,VLOOKUP(A58,Subcontractors!$A$2:$B$4,2,FALSE),\"\")","v":""}]
[null,null,null,null,null,null,null,null,null,null,null,null,null,null,null,null,null,null,null,null,null,null,null,{"$f":"IF(LEN(Z59)>0,VLOOKUP(Z59,'TFW Programs'!$A$2:$B$8,2,FALSE),\"\")","v":""},null,null,{"$f":"IF(LEN(A59)>0,VLOOKUP(A59,Subcontractors!$A$2:$B$4,2,FALSE),\"\")","v":""}]
[null,null,null,null,null,null,null,null,null,null,null,null,null,null,null,null,null,null,null,null,null,null,null,{"$f":"IF(LEN(Z60)>0,VLOOKUP(Z60,'TFW Programs'!$A$2:$B$8,2,FALSE),\"\")","v":""},null,null,{"$f":"IF(LEN(A60)>0,VLOOKUP(A60,Subcontractors!$A$2:$B$4,2,FALSE),\"\")","v":""}]
[null,null,null,null,null,null,null,null,null,null,null,null,null,null,null,null,null,null,null,null,null,null,null,{"$f":"IF(LEN(Z61)>0,VLOOKUP(Z61,'TFW Programs'!$A$2:$B$8,2,FALSE),\"\")","v":""},null,null,{"$f":"IF(LEN(A61)>0,VLOOKUP(A61,Subcontractors!$A$2:$B$4,2,FALSE),\"\")","v":""}]
[null,null,null,null,null,null,null,null,null,null,null,null,null,null,null,null,null,null,null,null,null,null,null,{"$f":"IF(LEN(Z62)>0,VLOOKUP(Z62,'TFW Programs'!$A$2:$B$8,2,FALSE),\"\")","v":""},null,null,{"$f":"IF(LEN(A62)>0,VLOOKUP(A62,Subcontractors!$A$2:$B$4,2,FALSE),\"\")","v":""}]
[null,null,null,null,null,null,null,null,null,null,null,null,null,null,null,null,null,null,null,null,null,null,null,{"$f":"IF(LEN(Z63)>0,VLOOKUP(Z63,'TFW Programs'!$A$2:$B$8,2,FALSE),\"\")","v":""},null,null,{"$f":"IF(LEN(A63)>0,VLOOKUP(A63,Subcontractors!$A$2:$B$4,2,FALSE),\"\")","v":""}]
[null,null,null,null,null,null,null,null,null,null,null,null,null,null,null,null,null,null,null,null,null,null,null,{"$f":"IF(LEN(Z64)>0,VLOOKUP(Z64,'TFW Programs'!$A$2:$B$8,2,FALSE),\"\")","v":""},null,null,{"$f":"IF(LEN(A64)>0,VLOOKUP(A64,Subcontractors!$A$2:$B$4,2,FALSE),\"\")","v":""}]
[null,null,null,null,null,null,null,null,null,null,null,null,null,null,null,null,null,null,null,null,null,null,null,{"$f":"IF(LEN(Z65)>0,VLOOKUP(Z65,'TFW Programs'!$A$2:$B$8,2,FALSE),\"\")","v":""},null,null,{"$f":"IF(LEN(A65)>0,VLOOKUP(A65,Subcontractors!$A$2:$B$4,2,FALSE),\"\")","v":""}]
[null,null,null,null,null,null,null,null,null,null,null,null,null,null,null,null,null,null,null,null,null,null,null,{"$f":"IF(LEN(Z66)>0,VLOOKUP(Z66,'TFW Programs'!$A$2:$B$8,2,FALSE),\"\")","v":""},null,null,{"$f":"IF(LEN(A66)>0,VLOOKUP(A66,Subcontractors!$A$2:$B$4,2,FALSE),\"\")","v":""}]
[null,null,null,null,null,null,null,null,null,null,null,null,null,null,null,null,null,null,null,null,null,null,null,{"$f":"IF(LEN(Z67)>0,VLOOKUP(Z67,'TFW Programs'!$A$2:$B$8,2,FALSE),\"\")","v":""},null,null,{"$f":"IF(LEN(A67)>0,VLOOKUP(A67,Subcontractors!$A$2:$B$4,2,FALSE),\"\")","v":""}]
[null,null,null,null,null,null,null,null,null,null,null,null,null,null,null,null,null,null,null,null,null,null,null,{"$f":"IF(LEN(Z68)>0,VLOOKUP(Z68,'TFW Programs'!$A$2:$B$8,2,FALSE),\"\")","v":""},null,null,{"$f":"IF(LEN(A68)>0,VLOOKUP(A68,Subcontractors!$A$2:$B$4,2,FALSE),\"\")","v":""}]
[null,null,null,null,null,null,null,null,null,null,null,null,null,null,null,null,null,null,null,null,null,null,null,{"$f":"IF(LEN(Z69)>0,VLOOKUP(Z69,'TFW Programs'!$A$2:$B$8,2,FALSE),\"\")","v":""},null,null,{"$f":"IF(LEN(A69)>0,VLOOKUP(A69,Subcontractors!$A$2:$B$4,2,FALSE),\"\")","v":""}]
[null,null,null,null,null,null,null,null,null,null,null,null,null,null,null,null,null,null,null,null,null,null,null,{"$f":"IF(LEN(Z70)>0,VLOOKUP(Z70,'TFW Programs'!$A$2:$B$8,2,FALSE),\"\")","v":""},null,null,{"$f":"IF(LEN(A70)>0,VLOOKUP(A70,Subcontractors!$A$2:$B$4,2,FALSE),\"\")","v":""}]
[null,null,null,null,null,null,null,null,null,null,null,null,null,null,null,null,null,null,null,null,null,null,null,{"$f":"IF(LEN(Z71)>0,VLOOKUP(Z71,'TFW Programs'!$A$2:$B$8,2,FALSE),\"\")","v":""},null,null,{"$f":"IF(LEN(A71)>0,VLOOKUP(A71,Subcontractors!$A$2:$B$4,2,FALSE),\"\")","v":""}]
[null,null,null,null,null,null,null,null,null,null,null,null,null,null,null,null,null,null,null,null,null,null,null,{"$f":"IF(LEN(Z72)>0,VLOOKUP(Z72,'TFW Programs'!$A$2:$B$8,2,FALSE),\"\")","v":""},null,null,{"$f":"IF(LEN(A72)>0,VLOOKUP(A72,Subcontractors!$A$2:$B$4,2,FALSE),\"\")","v":""}]
[null,null,null,null,null,null,null,null,null,null,null,null,null,null,null,null,null,null,null,null,null,null,null,{"$f":"IF(LEN(Z73)>0,VLOOKUP(Z73,'TFW Programs'!$A$2:$B$8,2,FALSE),\"\")","v":""},null,null,{"$f":"IF(LEN(A73)>0,VLOOKUP(A73,Subcontractors!$A$2:$B$4,2,FALSE),\"\")","v":""}]
[null,null,null,null,null,null,null,null,null,null,null,null,null,null,null,null,null,null,null,null,null,null,null,{"$f":"IF(LEN(Z74)>0,VLOOKUP(Z74,'TFW Programs'!$A$2:$B$8,2,FALSE),\"\")","v":""},null,null,{"$f":"IF(LEN(A74)>0,VLOOKUP(A74,Subcontractors!$A$2:$B$4,2,FALSE),\"\")","v":""}]
[null,null,null,null,null,null,null,null,null,null,null,null,null,null,null,null,null,null,null,null,null,null,null,{"$f":"IF(LEN(Z75)>0,VLOOKUP(Z75,'TFW Programs'!$A$2:$B$8,2,FALSE),\"\")","v":""},null,null,{"$f":"IF(LEN(A75)>0,VLOOKUP(A75,Subcontractors!$A$2:$B$4,2,FALSE),\"\")","v":""}]
[null,null,null,null,null,null,null,null,null,null,null,null,null,null,null,null,null,null,null,null,null,null,null,{"$f":"IF(LEN(Z76)>0,VLOOKUP(Z76,'TFW Programs'!$A$2:$B$8,2,FALSE),\"\")","v":""},null,null,{"$f":"IF(LEN(A76)>0,VLOOKUP(A76,Subcontractors!$A$2:$B$4,2,FALSE),\"\")","v":""}]
[null,null,null,null,null,null,null,null,null,null,null,null,null,null,null,null,null,null,null,null,null,null,null,{"$f":"IF(LEN(Z77)>0,VLOOKUP(Z77,'TFW Programs'!$A$2:$B$8,2,FALSE),\"\")","v":""},null,null,{"$f":"IF(LEN(A77)>0,VLOOKUP(A77,Subcontractors!$A$2:$B$4,2,FALSE),\"\")","v":""}]
[null,null,null,null,null,null,null,null,null,null,null,null,null,null,null,null,null,null,null,null,null,null,null,{"$f":"IF(LEN(Z78)>0,VLOOKUP(Z78,'TFW Programs'!$A$2:$B$8,2,FALSE),\"\")","v":""},null,null,{"$f":"IF(LEN(A78)>0,VLOOKUP(A78,Subcontractors!$A$2:$B$4,2,FALSE),\"\")","v":""}]
[null,null,null,null,null,null,null,null,null,null,null,null,null,null,null,null,null,null,null,null,null,null,null,{"$f":"IF(LEN(Z79)>0,VLOOKUP(Z79,'TFW Programs'!$A$2:$B$8,2,FALSE),\"\")","v":""},null,null,{"$f":"IF(LEN(A79)>0,VLOOKUP(A79,Subcontractors!$A$2:$B$4,2,FALSE),\"\")","v":""}]
[null,null,null,null,null,null,null,null,null,null,null,null,null,null,null,null,null,null,null,null,null,null,null,{"$f":"IF(LEN(Z80)>0,VLOOKUP(Z80,'TFW Programs'!$A$2:$B$8,2,FALSE),\"\")","v":""},null,null,{"$f":"IF(LEN(A80)>0,VLOOKUP(A80,Subcontractors!$A$2:$B$4,2,FALSE),\"\")","v":""}]
[null,null,null,null,null,null,null,null,null,null,null,null,null,null,null,null,null,null,null,null,null,null,null,{"$f":"IF(LEN(Z81)>0,VLOOKUP(Z81,'TFW Programs'!$A$2:$B$8,2,FALSE),\"\")","v":""},null,null,{"$f":"IF(LEN(A81)>0,VLOOKUP(A81,Subcontractors!$A$2:$B$4,2,FALSE),\"\")","v":""}]
[null,null,null,null,null,null,null,null,null,null,null,null,null,null,null,null,null,null,null,null,null,null,null,{"$f":"IF(LEN(Z82)>0,VLOOKUP(Z82,'TFW Programs'!$A$2:$B$8,2,FALSE),\"\")","v":""},null,null,{"$f":"IF(LEN(A82)>0,VLOOKUP(A82,Subcontractors!$A$2:$B$4,2,FALSE),\"\")","v":""}]
[null,null,null,null,null,null,null,null,null,null,null,null,null,null,null,null,null,null,null,null,null,null,null,{"$f":"IF(LEN(Z83)>0,VLOOKUP(Z83,'TFW Programs'!$A$2:$B$8,2,FALSE),\"\")","v":""},null,null,{"$f":"IF(LEN(A83)>0,VLOOKUP(A83,Subcontractors!$A$2:$B$4,2,FALSE),\"\")","v":""}]
[null,null,null,null,null,null,null,null,null,null,null,null,null,null,null,null,null,null,null,null,null,null,null,{"$f":"IF(LEN(Z84)>0,VLOOKUP(Z84,'TFW Programs'!$A$2:$B$8,2,FALSE),\"\")","v":""},null,null,{"$f":"IF(LEN(A84)>0,VLOOKUP(A84,Subcontractors!$A$2:$B$4,2,FALSE),\"\")","v":""}]
[null,null,null,null,null,null,null,null,null,null,null,null,null,null,null,null,null,null,null,null,null,null,null,{"$f":"IF(LEN(Z85)>0,VLOOKUP(Z85,'TFW Programs'!$A$2:$B$8,2,FALSE),\"\")","v":""},null,null,{"$f":"IF(LEN(A85)>0,VLOOKUP(A85,Subcontractors!$A$2:$B$4,2,FALSE),\"\")","v":""}]
[null,null,null,null,null,null,null,null,null,null,null,null,null,null,null,null,null,null,null,null,null,null,null,{"$f":"IF(LEN(Z86)>0,VLOOKUP(Z86,'TFW Programs'!$A$2:$B$8,2,FALSE),\"\")","v":""},null,null,{"$f":"IF(LEN(A86)>0,VLOOKUP(A86,Subcontractors!$A$2:$B$4,2,FALSE),\"\")","v":""}]
[null,null,null,null,null,null,null,null,null,null,null,null,null,null,null,null,null,null,null,null,null,null,null,{"$f":"IF(LEN(Z87)>0,VLOOKUP(Z87,'TFW Programs'!$A$2:$B$8,2,FALSE),\"\")","v":""},null,null,{"$f":"IF(LEN(A87)>0,VLOOKUP(A87,Subcontractors!$A$2:$B$4,2,FALSE),\"\")","v":""}]
[null,null,null,null,null,null,null,null,null,null,null,null,null,null,null,null,null,null,null,null,null,null,null,{"$f":"IF(LEN(Z88)>0,VLOOKUP(Z88,'TFW Programs'!$A$2:$B$8,2,FALSE),\"\")","v":""},null,null,{"$f":"IF(LEN(A88)>0,VLOOKUP(A88,Subcontractors!$A$2:$B$4,2,FALSE),\"\")","v":""}]
[null,null,null,null,null,null,null,null,null,null,null,null,null,null,null,null,null,null,null,null,null,null,null,{"$f":"IF(LEN(Z89)>0,VLOOKUP(Z89,'TFW Programs'!$A$2:$B$8,2,FALSE),\"\")","v":""},null,null,{"$f":"IF(LEN(A89)>0,VLOOKUP(A89,Subcontractors!$A$2:$B$4,2,FALSE),\"\")","v":""}]
[null,null,null,null,null,null,null,null,null,null,null,null,null,null,null,null,null,null,null,null,null,null,null,{"$f":"IF(LEN(Z90)>0,VLOOKUP(Z90,'TFW Programs'!$A$2:$B$8,2,FALSE),\"\")","v":""},null,null,{"$f":"IF(LEN(A90)>0,VLOOKUP(A90,Subcontractors!$A$2:$B$4,2,FALSE),\"\")","v":""}]
[null,null,null,null,null,null,null,null,null,null,null,null,null,null,null,null,null,null,null,null,null,null,null,{"$f":"IF(LEN(Z91)>0,VLOOKUP(Z91,'TFW Programs'!$A$2:$B$8,2,FALSE),\"\")","v":""},null,null,{"$f":"IF(LEN(A91)>0,VLOOKUP(A91,Subcontractors!$A$2:$B$4,2,FALSE),\"\")","v":""}]
[null,null,null,null,null,null,null,null,null,null,null,null,null,null,null,null,null,null,null,null,null,null,null,{"$f":"IF(LEN(Z92)>0,VLOOKUP(Z92,'TFW Programs'!$A$2:$B$8,2,FALSE),\"\")","v":""},null,null,{"$f":"IF(LEN(A92)>0,VLOOKUP(A92,Subcontractors!$A$2:$B$4,2,FALSE),\"\")","v":""}]
[null,null,null,null,null,null,null,null,null,null,null,null,null,null,null,null,null,null,null,null,null,null,null,{"$f":"IF(LEN(Z93)>0,VLOOKUP(Z93,'TFW Programs'!$A$2:$B$8,2,FALSE),\"\")","v":""},null,null,{"$f":"IF(LEN(A93)>0,VLOOKUP(A93,Subcontractors!$A$2:$B$4,2,FALSE),\"\")","v":""}]
[null,null,null,null,null,null,null,null,null,null,null,null,null,null,null,null,null,null,null,null,null,null,null,{"$f":"IF(LEN(Z94)>0,VLOOKUP(Z94,'TFW Programs'!$A$2:$B$8,2,FALSE),\"\")","v":""},null,null,{"$f":"IF(LEN(A94)>0,VLOOKUP(A94,Subcontractors!$A$2:$B$4,2,FALSE),\"\")","v":""}]
[null,null,null,null,null,null,null,null,null,null,null,null,null,null,null,null,null,null,null,null,null,null,null,{"$f":"IF(LEN(Z95)>0,VLOOKUP(Z95,'TFW Programs'!$A$2:$B$8,2,FALSE),\"\")","v":""},null,null,{"$f":"IF(LEN(A95)>0,VLOOKUP(A95,Subcontractors!$A$2:$B$4,2,FALSE),\"\")","v":""}]
[null,null,null,null,null,null,null,null,null,null,null,null,null,null,null,null,null,null,null,null,null,null,null,{"$f":"IF(LEN(Z96)>0,VLOOKUP(Z96,'TFW Programs'!$A$2:$B$8,2,FALSE),\"\")","v":""},null,null,{"$f":"IF(LEN(A96)>0,VLOOKUP(A96,Subcontractors!$A$2:$B$4,2,FALSE),\"\")","v":""}]
[null,null,null,null,null,null,null,null,null,null,null,null,null,null,null,null,null,null,null,null,null,null,null,{"$f":"IF(LEN(Z97)>0,VLOOKUP(Z97,'TFW Programs'!$A$2:$B$8,2,FALSE),\"\")","v":""},null,null,{"$f":"IF(LEN(A97)>0,VLOOKUP(A97,Subcontractors!$A$2:$B$4,2,FALSE),\"\")","v":""}]
[null,null,null,null,null,null,null,null,null,null,null,null,null,null,null,null,null,null,null,null,null,null,null,{"$f":"IF(LEN(Z98)>0,VLOOKUP(Z98,'TFW Programs'!$A$2:$B$8,2,FALSE),\"\")","v":""},null,null,{"$f":"IF(LEN(A98)>0,VLOOKUP(A98,Subcontractors!$A$2:$B$4,2,FALSE),\"\")","v":""}]
[null,null,null,null,null,null,null,null,null,null,null,null,null,null,null,null,null,null,null,null,null,null,null,{"$f":"IF(LEN(Z99)>0,VLOOKUP(Z99,'TFW Programs'!$A$2:$B$8,2,FALSE),\"\")","v":""},null,null,{"$f":"IF(LEN(A99)>0,VLOOKUP(A99,Subcontractors!$A$2:$B$4,2,FALSE),\"\")","v":""}]
[null,null,null,null,null,null,null,null,null,null,null,null,null,null,null,null,null,null,null,null,null,null,null,{"$f":"IF(LEN(Z100)>0,VLOOKUP(Z100,'TFW Programs'!$A$2:$B$8,2,FALSE),\"\")","v":""},null,null,{"$f":"IF(LEN(A100)>0,VLOOKUP(A100,Subcontractors!$A$2:$B$4,2,FALSE),\"\")","v":""}]
[null,null,null,null,null,null,null,null,null,null,null,null,null,null,null,null,null,null,null,null,null,null,null,{"$f":"IF(LEN(Z101)>0,VLOOKUP(Z101,'TFW Programs'!$A$2:$B$8,2,FALSE),\"\")","v":""},null,null,{"$f":"IF(LEN(A101)>0,VLOOKUP(A101,Subcontractors!$A$2:$B$4,2,FALSE),\"\")","v":""}]
[null,null,null,null,null,null,null,null,null,null,null,null,null,null,null,null,null,null,null,null,null,null,null,{"$f":"IF(LEN(Z102)>0,VLOOKUP(Z102,'TFW Programs'!$A$2:$B$8,2,FALSE),\"\")","v":""},null,null,{"$f":"IF(LEN(A102)>0,VLOOKUP(A102,Subcontractors!$A$2:$B$4,2,FALSE),\"\")","v":""}]
[null,null,null,null,null,null,null,null,null,null,null,null,null,null,null,null,null,null,null,null,null,null,null,{"$f":"IF(LEN(Z103)>0,VLOOKUP(Z103,'TFW Programs'!$A$2:$B$8,2,FALSE),\"\")","v":""},null,null,{"$f":"IF(LEN(A103)>0,VLOOKUP(A103,Subcontractors!$A$2:$B$4,2,FALSE),\"\")","v":""}]
[null,null,null,null,null,null,null,null,null,null,null,null,null,null,null,null,null,null,null,null,null,null,null,{"$f":"IF(LEN(Z104)>0,VLOOKUP(Z104,'TFW Programs'!$A$2:$B$8,2,FALSE),\"\")","v":""},null,null,{"$f":"IF(LEN(A104)>0,VLOOKUP(A104,Subcontractors!$A$2:$B$4,2,FALSE),\"\")","v":""}]
[null,null,null,null,null,null,null,null,null,null,null,null,null,null,null,null,null,null,null,null,null,null,null,{"$f":"IF(LEN(Z105)>0,VLOOKUP(Z105,'TFW Programs'!$A$2:$B$8,2,FALSE),\"\")","v":""},null,null,{"$f":"IF(LEN(A105)>0,VLOOKUP(A105,Subcontractors!$A$2:$B$4,2,FALSE),\"\")","v":""}]
[null,null,null,null,null,null,null,null,null,null,null,null,null,null,null,null,null,null,null,null,null,null,null,{"$f":"IF(LEN(Z106)>0,VLOOKUP(Z106,'TFW Programs'!$A$2:$B$8,2,FALSE),\"\")","v":""},null,null,{"$f":"IF(LEN(A106)>0,VLOOKUP(A106,Subcontractors!$A$2:$B$4,2,FALSE),\"\")","v":""}]
[null,null,null,null,null,null,null,null,null,null,null,null,null,null,null,null,null,null,null,null,null,null,null,{"$f":"IF(LEN(Z107)>0,VLOOKUP(Z107,'TFW Programs'!$A$2:$B$8,2,FALSE),\"\")","v":""},null,null,{"$f":"IF(LEN(A107)>0,VLOOKUP(A107,Subcontractors!$A$2:$B$4,2,FALSE),\"\")","v":""}]
[null,null,null,null,null,null,null,null,null,null,null,null,null,null,null,null,null,null,null,null,null,null,null,{"$f":"IF(LEN(Z108)>0,VLOOKUP(Z108,'TFW Programs'!$A$2:$B$8,2,FALSE),\"\")","v":""},null,null,{"$f":"IF(LEN(A108)>0,VLOOKUP(A108,Subcontractors!$A$2:$B$4,2,FALSE),\"\")","v":""}]
[null,null,null,null,null,null,null,null,null,null,null,null,null,null,null,null,null,null,null,null,null,null,null,{"$f":"IF(LEN(Z109)>0,VLOOKUP(Z109,'TFW Programs'!$A$2:$B$8,2,FALSE),\"\")","v":""},null,null,{"$f":"IF(LEN(A109)>0,VLOOKUP(A109,Subcontractors!$A$2:$B$4,2,FALSE),\"\")","v":""}]
[null,null,null,null,null,null,null,null,null,null,null,null,null,null,null,null,null,null,null,null,null,null,null,{"$f":"IF(LEN(Z110)>0,VLOOKUP(Z110,'TFW Programs'!$A$2:$B$8,2,FALSE),\"\")","v":""},null,null,{"$f":"IF(LEN(A110)>0,VLOOKUP(A110,Subcontractors!$A$2:$B$4,2,FALSE),\"\")","v":""}]
[null,null,null,null,null,null,null,null,null,null,null,null,null,null,null,null,null,null,null,null,null,null,null,{"$f":"IF(LEN(Z111)>0,VLOOKUP(Z111,'TFW Programs'!$A$2:$B$8,2,FALSE),\"\")","v":""},null,null,{"$f":"IF(LEN(A111)>0,VLOOKUP(A111,Subcontractors!$A$2:$B$4,2,FALSE),\"\")","v":""}]
[null,null,null,null,null,null,null,null,null,null,null,null,null,null,null,null,null,null,null,null,null,null,null,{"$f":"IF(LEN(Z112)>0,VLOOKUP(Z112,'TFW Programs'!$A$2:$B$8,2,FALSE),\"\")","v":""},null,null,{"$f":"IF(LEN(A112)>0,VLOOKUP(A112,Subcontractors!$A$2:$B$4,2,FALSE),\"\")","v":""}]
[null,null,null,null,null,null,null,null,null,null,null,null,null,null,null,null,null,null,null,null,null,null,null,{"$f":"IF(LEN(Z113)>0,VLOOKUP(Z113,'TFW Programs'!$A$2:$B$8,2,FALSE),\"\")","v":""},null,null,{"$f":"IF(LEN(A113)>0,VLOOKUP(A113,Subcontractors!$A$2:$B$4,2,FALSE),\"\")","v":""}]
[null,null,null,null,null,null,null,null,null,null,null,null,null,null,null,null,null,null,null,null,null,null,null,{"$f":"IF(LEN(Z114)>0,VLOOKUP(Z114,'TFW Programs'!$A$2:$B$8,2,FALSE),\"\")","v":""},null,null,{"$f":"IF(LEN(A114)>0,VLOOKUP(A114,Subcontractors!$A$2:$B$4,2,FALSE),\"\")","v":""}]
[null,null,null,null,null,null,null,null,null,null,null,null,null,null,null,null,null,null,null,null,null,null,null,{"$f":"IF(LEN(Z115)>0,VLOOKUP(Z115,'TFW Programs'!$A$2:$B$8,2,FALSE),\"\")","v":""},null,null,{"$f":"IF(LEN(A115)>0,VLOOKUP(A115,Subcontractors!$A$2:$B$4,2,FALSE),\"\")","v":""}]
[null,null,null,null,null,null,null,null,null,null,null,null,null,null,null,null,null,null,null,null,null,null,null,{"$f":"IF(LEN(Z116)>0,VLOOKUP(Z116,'TFW Programs'!$A$2:$B$8,2,FALSE),\"\")","v":""},null,null,{"$f":"IF(LEN(A116)>0,VLOOKUP(A116,Subcontractors!$A$2:$B$4,2,FALSE),\"\")","v":""}]
[null,null,null,null,null,null,null,null,null,null,null,null,null,null,null,null,null,null,null,null,null,null,null,{"$f":"IF(LEN(Z117)>0,VLOOKUP(Z117,'TFW Programs'!$A$2:$B$8,2,FALSE),\"\")","v":""},null,null,{"$f":"IF(LEN(A117)>0,VLOOKUP(A117,Subcontractors!$A$2:$B$4,2,FALSE),\"\")","v":""}]
[null,null,null,null,null,null,null,null,null,null,null,null,null,null,null,null,null,null,null,null,null,null,null,{"$f":"IF(LEN(Z118)>0,VLOOKUP(Z118,'TFW Programs'!$A$2:$B$8,2,FALSE),\"\")","v":""},null,null,{"$f":"IF(LEN(A118)>0,VLOOKUP(A118,Subcontractors!$A$2:$B$4,2,FALSE),\"\")","v":""}]
[null,null,null,null,null,null,null,null,null,null,null,null,null,null,null,null,null,null,null,null,null,null,null,{"$f":"IF(LEN(Z119)>0,VLOOKUP(Z119,'TFW Programs'!$A$2:$B$8,2,FALSE),\"\")","v":""},null,null,{"$f":"IF(LEN(A119)>0,VLOOKUP(A119,Subcontractors!$A$2:$B$4,2,FALSE),\"\")","v":""}]
[null,null,null,null,null,null,null,null,null,null,null,null,null,null,null,null,null,null,null,null,null,null,null,{"$f":"IF(LEN(Z120)>0,VLOOKUP(Z120,'TFW Programs'!$A$2:$B$8,2,FALSE),\"\")","v":""},null,null,{"$f":"IF(LEN(A120)>0,VLOOKUP(A120,Subcontractors!$A$2:$B$4,2,FALSE),\"\")","v":""}]
[null,null,null,null,null,null,null,null,null,null,null,null,null,null,null,null,null,null,null,null,null,null,null,{"$f":"IF(LEN(Z121)>0,VLOOKUP(Z121,'TFW Programs'!$A$2:$B$8,2,FALSE),\"\")","v":""},null,null,{"$f":"IF(LEN(A121)>0,VLOOKUP(A121,Subcontractors!$A$2:$B$4,2,FALSE),\"\")","v":""}]
[null,null,null,null,null,null,null,null,null,null,null,null,null,null,null,null,null,null,null,null,null,null,null,{"$f":"IF(LEN(Z122)>0,VLOOKUP(Z122,'TFW Programs'!$A$2:$B$8,2,FALSE),\"\")","v":""},null,null,{"$f":"IF(LEN(A122)>0,VLOOKUP(A122,Subcontractors!$A$2:$B$4,2,FALSE),\"\")","v":""}]
[null,null,null,null,null,null,null,null,null,null,null,null,null,null,null,null,null,null,null,null,null,null,null,{"$f":"IF(LEN(Z123)>0,VLOOKUP(Z123,'TFW Programs'!$A$2:$B$8,2,FALSE),\"\")","v":""},null,null,{"$f":"IF(LEN(A123)>0,VLOOKUP(A123,Subcontractors!$A$2:$B$4,2,FALSE),\"\")","v":""}]
[null,null,null,null,null,null,null,null,null,null,null,null,null,null,null,null,null,null,null,null,null,null,null,{"$f":"IF(LEN(Z124)>0,VLOOKUP(Z124,'TFW Programs'!$A$2:$B$8,2,FALSE),\"\")","v":""},null,null,{"$f":"IF(LEN(A124)>0,VLOOKUP(A124,Subcontractors!$A$2:$B$4,2,FALSE),\"\")","v":""}]
[null,null,null,null,null,null,null,null,null,null,null,null,null,null,null,null,null,null,null,null,null,null,null,{"$f":"IF(LEN(Z125)>0,VLOOKUP(Z125,'TFW Programs'!$A$2:$B$8,2,FALSE),\"\")","v":""},null,null,{"$f":"IF(LEN(A125)>0,VLOOKUP(A125,Subcontractors!$A$2:$B$4,2,FALSE),\"\")","v":""}]
[null,null,null,null,null,null,null,null,null,null,null,null,null,null,null,null,null,null,null,null,null,null,null,{"$f":"IF(LEN(Z126)>0,VLOOKUP(Z126,'TFW Programs'!$A$2:$B$8,2,FALSE),\"\")","v":""},null,null,{"$f":"IF(LEN(A126)>0,VLOOKUP(A126,Subcontractors!$A$2:$B$4,2,FALSE),\"\")","v":""}]
[null,null,null,null,null,null,null,null,null,null,null,null,null,null,null,null,null,null,null,null,null,null,null,{"$f":"IF(LEN(Z127)>0,VLOOKUP(Z127,'TFW Programs'!$A$2:$B$8,2,FALSE),\"\")","v":""},null,null,{"$f":"IF(LEN(A127)>0,VLOOKUP(A127,Subcontractors!$A$2:$B$4,2,FALSE),\"\")","v":""}]
[null,null,null,null,null,null,null,null,null,null,null,null,null,null,null,null,null,null,null,null,null,null,null,{"$f":"IF(LEN(Z128)>0,VLOOKUP(Z128,'TFW Programs'!$A$2:$B$8,2,FALSE),\"\")","v":""},null,null,{"$f":"IF(LEN(A128)>0,VLOOKUP(A128,Subcontractors!$A$2:$B$4,2,FALSE),\"\")","v":""}]
[null,null,null,null,null,null,null,null,null,null,null,null,null,null,null,null,null,null,null,null,null,null,null,{"$f":"IF(LEN(Z129)>0,VLOOKUP(Z129,'TFW Programs'!$A$2:$B$8,2,FALSE),\"\")","v":""},null,null,{"$f":"IF(LEN(A129)>0,VLOOKUP(A129,Subcontractors!$A$2:$B$4,2,FALSE),\"\")","v":""}]
[null,null,null,null,null,null,null,null,null,null,null,null,null,null,null,null,null,null,null,null,null,null,null,{"$f":"IF(LEN(Z130)>0,VLOOKUP(Z130,'TFW Programs'!$A$2:$B$8,2,FALSE),\"\")","v":""},null,null,{"$f":"IF(LEN(A130)>0,VLOOKUP(A130,Subcontractors!$A$2:$B$4,2,FALSE),\"\")","v":""}]
[null,null,null,null,null,null,null,null,null,null,null,null,null,null,null,null,null,null,null,null,null,null,null,{"$f":"IF(LEN(Z131)>0,VLOOKUP(Z131,'TFW Programs'!$A$2:$B$8,2,FALSE),\"\")","v":""},null,null,{"$f":"IF(LEN(A131)>0,VLOOKUP(A131,Subcontractors!$A$2:$B$4,2,FALSE),\"\")","v":""}]
[null,null,null,null,null,null,null,null,null,null,null,null,null,null,null,null,null,null,null,null,null,null,null,{"$f":"IF(LEN(Z132)>0,VLOOKUP(Z132,'TFW Programs'!$A$2:$B$8,2,FALSE),\"\")","v":""},null,null,{"$f":"IF(LEN(A132)>0,VLOOKUP(A132,Subcontractors!$A$2:$B$4,2,FALSE),\"\")","v":""}]
[null,null,null,null,null,null,null,null,null,null,null,null,null,null,null,null,null,null,null,null,null,null,null,{"$f":"IF(LEN(Z133)>0,VLOOKUP(Z133,'TFW Programs'!$A$2:$B$8,2,FALSE),\"\")","v":""},null,null,{"$f":"IF(LEN(A133)>0,VLOOKUP(A133,Subcontractors!$A$2:$B$4,2,FALSE),\"\")","v":""}]
[null,null,null,null,null,null,null,null,null,null,null,null,null,null,null,null,null,null,null,null,null,null,null,{"$f":"IF(LEN(Z134)>0,VLOOKUP(Z134,'TFW Programs'!$A$2:$B$8,2,FALSE),\"\")","v":""},null,null,{"$f":"IF(LEN(A134)>0,VLOOKUP(A134,Subcontractors!$A$2:$B$4,2,FALSE),\"\")","v":""}]
[null,null,null,null,null,null,null,null,null,null,null,null,null,null,null,null,null,null,null,null,null,null,null,{"$f":"IF(LEN(Z135)>0,VLOOKUP(Z135,'TFW Programs'!$A$2:$B$8,2,FALSE),\"\")","v":""},null,null,{"$f":"IF(LEN(A135)>0,VLOOKUP(A135,Subcontractors!$A$2:$B$4,2,FALSE),\"\")","v":""}]
[null,null,null,null,null,null,null,null,null,null,null,null,null,null,null,null,null,null,null,null,null,null,null,{"$f":"IF(LEN(Z136)>0,VLOOKUP(Z136,'TFW Programs'!$A$2:$B$8,2,FALSE),\"\")","v":""},null,null,{"$f":"IF(LEN(A136)>0,VLOOKUP(A136,Subcontractors!$A$2:$B$4,2,FALSE),\"\")","v":""}]
[null,null,null,null,null,null,null,null,null,null,null,null,null,null,null,null,null,null,null,null,null,null,null,{"$f":"IF(LEN(Z137)>0,VLOOKUP(Z137,'TFW Programs'!$A$2:$B$8,2,FALSE),\"\")","v":""},null,null,{"$f":"IF(LEN(A137)>0,VLOOKUP(A137,Subcontractors!$A$2:$B$4,2,FALSE),\"\")","v":""}]
[null,null,null,null,null,null,null,null,null,null,null,null,null,null,null,null,null,null,null,null,null,null,null,{"$f":"IF(LEN(Z138)>0,VLOOKUP(Z138,'TFW Programs'!$A$2:$B$8,2,FALSE),\"\")","v":""},null,null,{"$f":"IF(LEN(A138)>0,VLOOKUP(A138,Subcontractors!$A$2:$B$4,2,FALSE),\"\")","v":""}]
[null,null,null,null,null,null,null,null,null,null,null,null,null,null,null,null,null,null,null,null,null,null,null,{"$f":"IF(LEN(Z139)>0,VLOOKUP(Z139,'TFW Programs'!$A$2:$B$8,2,FALSE),\"\")","v":""},null,null,{"$f":"IF(LEN(A139)>0,VLOOKUP(A139,Subcontractors!$A$2:$B$4,2,FALSE),\"\")","v":""}]
[null,null,null,null,null,null,null,null,null,null,null,null,null,null,null,null,null,null,null,null,null,null,null,{"$f":"IF(LEN(Z140)>0,VLOOKUP(Z140,'TFW Programs'!$A$2:$B$8,2,FALSE),\"\")","v":""},null,null,{"$f":"IF(LEN(A140)>0,VLOOKUP(A140,Subcontractors!$A$2:$B$4,2,FALSE),\"\")","v":""}]
[null,null,null,null,null,null,null,null,null,null,null,null,null,null,null,null,null,null,null,null,null,null,null,{"$f":"IF(LEN(Z141)>0,VLOOKUP(Z141,'TFW Programs'!$A$2:$B$8,2,FALSE),\"\")","v":""},null,null,{"$f":"IF(LEN(A141)>0,VLOOKUP(A141,Subcontractors!$A$2:$B$4,2,FALSE),\"\")","v":""}]
[null,null,null,null,null,null,null,null,null,null,null,null,null,null,null,null,null,null,null,null,null,null,null,{"$f":"IF(LEN(Z142)>0,VLOOKUP(Z142,'TFW Programs'!$A$2:$B$8,2,FALSE),\"\")","v":""},null,null,{"$f":"IF(LEN(A142)>0,VLOOKUP(A142,Subcontractors!$A$2:$B$4,2,FALSE),\"\")","v":""}]
[null,null,null,null,null,null,null,null,null,null,null,null,null,null,null,null,null,null,null,null,null,null,null,{"$f":"IF(LEN(Z143)>0,VLOOKUP(Z143,'TFW Programs'!$A$2:$B$8,2,FALSE),\"\")","v":""},null,null,{"$f":"IF(LEN(A143)>0,VLOOKUP(A143,Subcontractors!$A$2:$B$4,2,FALSE),\"\")","v":""}]
[null,null,null,null,null,null,null,null,null,null,null,null,null,null,null,null,null,null,null,null,null,null,null,{"$f":"IF(LEN(Z144)>0,VLOOKUP(Z144,'TFW Programs'!$A$2:$B$8,2,FALSE),\"\")","v":""},null,null,{"$f":"IF(LEN(A144)>0,VLOOKUP(A144,Subcontractors!$A$2:$B$4,2,FALSE),\"\")","v":""}]
[null,null,null,null,null,null,null,null,null,null,null,null,null,null,null,null,null,null,null,null,null,null,null,{"$f":"IF(LEN(Z145)>0,VLOOKUP(Z145,'TFW Programs'!$A$2:$B$8,2,FALSE),\"\")","v":""},null,null,{"$f":"IF(LEN(A145)>0,VLOOKUP(A145,Subcontractors!$A$2:$B$4,2,FALSE),\"\")","v":""}]
[null,null,null,null,null,null,null,null,null,null,null,null,null,null,null,null,null,null,null,null,null,null,null,{"$f":"IF(LEN(Z146)>0,VLOOKUP(Z146,'TFW Programs'!$A$2:$B$8,2,FALSE),\"\")","v":""},null,null,{"$f":"IF(LEN(A146)>0,VLOOKUP(A146,Subcontractors!$A$2:$B$4,2,FALSE),\"\")","v":""}]
[null,null,null,null,null,null,null,null,null,null,null,null,null,null,null,null,null,null,null,null,null,null,null,{"$f":"IF(LEN(Z147)>0,VLOOKUP(Z147,'TFW Programs'!$A$2:$B$8,2,FALSE),\"\")","v":""},null,null,{"$f":"IF(LEN(A147)>0,VLOOKUP(A147,Subcontractors!$A$2:$B$4,2,FALSE),\"\")","v":""}]
[null,null,null,null,null,null,null,null,null,null,null,null,null,null,null,null,null,null,null,null,null,null,null,{"$f":"IF(LEN(Z148)>0,VLOOKUP(Z148,'TFW Programs'!$A$2:$B$8,2,FALSE),\"\")","v":""},null,null,{"$f":"IF(LEN(A148)>0,VLOOKUP(A148,Subcontractors!$A$2:$B$4,2,FALSE),\"\")","v":""}]
[null,null,null,null,null,null,null,null,null,null,null,null,null,null,null,null,null,null,null,null,null,null,null,{"$f":"IF(LEN(Z149)>0,VLOOKUP(Z149,'TFW Programs'!$A$2:$B$8,2,FALSE),\"\")","v":""},null,null,{"$f":"IF(LEN(A149)>0,VLOOKUP(A149,Subcontractors!$A$2:$B$4,2,FALSE),\"\")","v":""}]
[null,null,null,null,null,null,null,null,null,null,null,null,null,null,null,null,null,null,null,null,null,null,null,{"$f":"IF(LEN(Z150)>0,VLOOKUP(Z150,'TFW Programs'!$A$2:$B$8,2,FALSE),\"\")","v":""},null,null,{"$f":"IF(LEN(A150)>0,VLOOKUP(A150,Subcontractors!$A$2:$B$4,2,FALSE),\"\")","v":""}]
[null,null,null,null,null,null,null,null,null,null,null,null,null,null,null,null,null,null,null,null,null,null,null,{"$f":"IF(LEN(Z151)>0,VLOOKUP(Z151,'TFW Programs'!$A$2:$B$8,2,FALSE),\"\")","v":""},null,null,{"$f":"IF(LEN(A151)>0,VLOOKUP(A151,Subcontractors!$A$2:$B$4,2,FALSE),\"\")","v":""}]
[null,null,null,null,null,null,null,null,null,null,null,null,null,null,null,null,null,null,null,null,null,null,null,{"$f":"IF(LEN(Z152)>0,VLOOKUP(Z152,'TFW Programs'!$A$2:$B$8,2,FALSE),\"\")","v":""},null,null,{"$f":"IF(LEN(A152)>0,VLOOKUP(A152,Subcontractors!$A$2:$B$4,2,FALSE),\"\")","v":""}]
[null,null,null,null,null,null,null,null,null,null,null,null,null,null,null,null,null,null,null,null,null,null,null,{"$f":"IF(LEN(Z153)>0,VLOOKUP(Z153,'TFW Programs'!$A$2:$B$8,2,FALSE),\"\")","v":""},null,null,{"$f":"IF(LEN(A153)>0,VLOOKUP(A153,Subcontractors!$A$2:$B$4,2,FALSE),\"\")","v":""}]
[null,null,null,null,null,null,null,null,null,null,null,null,null,null,null,null,null,null,null,null,null,null,null,{"$f":"IF(LEN(Z154)>0,VLOOKUP(Z154,'TFW Programs'!$A$2:$B$8,2,FALSE),\"\")","v":""},null,null,{"$f":"IF(LEN(A154)>0,VLOOKUP(A154,Subcontractors!$A$2:$B$4,2,FALSE),\"\")","v":""}]
[null,null,null,null,null,null,null,null,null,null,null,null,null,null,null,null,null,null,null,null,null,null,null,{"$f":"IF(LEN(Z155)>0,VLOOKUP(Z155,'TFW Programs'!$A$2:$B$8,2,FALSE),\"\")","v":""},null,null,{"$f":"IF(LEN(A155)>0,VLOOKUP(A155,Subcontractors!$A$2:$B$4,2,FALSE),\"\")","v":""}]
[null,null,null,null,null,null,null,null,null,null,null,null,null,null,null,null,null,null,null,null,null,null,null,{"$f":"IF(LEN(Z156)>0,VLOOKUP(Z156,'TFW Programs'!$A$2:$B$8,2,FALSE),\"\")","v":""},null,null,{"$f":"IF(LEN(A156)>0,VLOOKUP(A156,Subcontractors!$A$2:$B$4,2,FALSE),\"\")","v":""}]
[null,null,null,null,null,null,null,null,null,null,null,null,null,null,null,null,null,null,null,null,null,null,null,{"$f":"IF(LEN(Z157)>0,VLOOKUP(Z157,'TFW Programs'!$A$2:$B$8,2,FALSE),\"\")","v":""},null,null,{"$f":"IF(LEN(A157)>0,VLOOKUP(A157,Subcontractors!$A$2:$B$4,2,FALSE),\"\")","v":""}]
[null,null,null,null,null,null,null,null,null,null,null,null,null,null,null,null,null,null,null,null,null,null,null,{"$f":"IF(LEN(Z158)>0,VLOOKUP(Z158,'TFW Programs'!$A$2:$B$8,2,FALSE),\"\")","v":""},null,null,{"$f":"IF(LEN(A158)>0,VLOOKUP(A158,Subcontractors!$A$2:$B$4,2,FALSE),\"\")","v":""}]
[null,null,null,null,null,null,null,null,null,null,null,null,null,null,null,null,null,null,null,null,null,null,null,{"$f":"IF(LEN(Z159)>0,VLOOKUP(Z159,'TFW Programs'!$A$2:$B$8,2,FALSE),\"\")","v":""},null,null,{"$f":"IF(LEN(A159)>0,VLOOKUP(A159,Subcontractors!$A$2:$B$4,2,FALSE),\"\")","v":""}]
[null,null,null,null,null,null,null,null,null,null,null,null,null,null,null,null,null,null,null,null,null,null,null,{"$f":"IF(LEN(Z160)>0,VLOOKUP(Z160,'TFW Programs'!$A$2:$B$8,2,FALSE),\"\")","v":""},null,null,{"$f":"IF(LEN(A160)>0,VLOOKUP(A160,Subcontractors!$A$2:$B$4,2,FALSE),\"\")","v":""}]
[null,null,null,null,null,null,null,null,null,null,null,null,null,null,null,null,null,null,null,null,null,null,null,{"$f":"IF(LEN(Z161)>0,VLOOKUP(Z161,'TFW Programs'!$A$2:$B$8,2,FALSE),\"\")","v":""},null,null,{"$f":"IF(LEN(A161)>0,VLOOKUP(A161,Subcontractors!$A$2:$B$4,2,FALSE),\"\")","v":""}]
[null,null,null,null,null,null,null,null,null,null,null,null,null,null,null,null,null,null,null,null,null,null,null,{"$f":"IF(LEN(Z162)>0,VLOOKUP(Z162,'TFW Programs'!$A$2:$B$8,2,FALSE),\"\")","v":""},null,null,{"$f":"IF(LEN(A162)>0,VLOOKUP(A162,Subcontractors!$A$2:$B$4,2,FALSE),\"\")","v":""}]
[null,null,null,null,null,null,null,null,null,null,null,null,null,null,null,null,null,null,null,null,null,null,null,{"$f":"IF(LEN(Z163)>0,VLOOKUP(Z163,'TFW Programs'!$A$2:$B$8,2,FALSE),\"\")","v":""},null,null,{"$f":"IF(LEN(A163)>0,VLOOKUP(A163,Subcontractors!$A$2:$B$4,2,FALSE),\"\")","v":""}]
[null,null,null,null,null,null,null,null,null,null,null,null,null,null,null,null,null,null,null,null,null,null,null,{"$f":"IF(LEN(Z164)>0,VLOOKUP(Z164,'TFW Programs'!$A$2:$B$8,2,FALSE),\"\")","v":""},null,null,{"$f":"IF(LEN(A164)>0,VLOOKUP(A164,Subcontractors!$A$2:$B$4,2,FALSE),\"\")","v":""}]
[null,null,null,null,null,null,null,null,null,null,null,null,null,null,null,null,null,null,null,null,null,null,null,{"$f":"IF(LEN(Z165)>0,VLOOKUP(Z165,'TFW Programs'!$A$2:$B$8,2,FALSE),\"\")","v":""},null,null,{"$f":"IF(LEN(A165)>0,VLOOKUP(A165,Subcontractors!$A$2:$B$4,2,FALSE),\"\")","v":""}]
[null,null,null,null,null,null,null,null,null,null,null,null,null,null,null,null,null,null,null,null,null,null,null,{"$f":"IF(LEN(Z166)>0,VLOOKUP(Z166,'TFW Programs'!$A$2:$B$8,2,FALSE),\"\")","v":""},null,null,{"$f":"IF(LEN(A166)>0,VLOOKUP(A166,Subcontractors!$A$2:$B$4,2,FALSE),\"\")","v":""}]
[null,null,null,null,null,null,null,null,null,null,null,null,null,null,null,null,null,null,null,null,null,null,null,{"$f":"IF(LEN(Z167)>0,VLOOKUP(Z167,'TFW Programs'!$A$2:$B$8,2,FALSE),\"\")","v":""},null,null,{"$f":"IF(LEN(A167)>0,VLOOKUP(A167,Subcontractors!$A$2:$B$4,2,FALSE),\"\")","v":""}]
[null,null,null,null,null,null,null,null,null,null,null,null,null,null,null,null,null,null,null,null,null,null,null,{"$f":"IF(LEN(Z168)>0,VLOOKUP(Z168,'TFW Programs'!$A$2:$B$8,2,FALSE),\"\")","v":""},null,null,{"$f":"IF(LEN(A168)>0,VLOOKUP(A168,Subcontractors!$A$2:$B$4,2,FALSE),\"\")","v":""}]
[null,null,null,null,null,null,null,null,null,null,null,null,null,null,null,null,null,null,null,null,null,null,null,{"$f":"IF(LEN(Z169)>0,VLOOKUP(Z169,'TFW Programs'!$A$2:$B$8,2,FALSE),\"\")","v":""},null,null,{"$f":"IF(LEN(A169)>0,VLOOKUP(A169,Subcontractors!$A$2:$B$4,2,FALSE),\"\")","v":""}]
[null,null,null,null,null,null,null,null,null,null,null,null,null,null,null,null,null,null,null,null,null,null,null,{"$f":"IF(LEN(Z170)>0,VLOOKUP(Z170,'TFW Programs'!$A$2:$B$8,2,FALSE),\"\")","v":""},null,null,{"$f":"IF(LEN(A170)>0,VLOOKUP(A170,Subcontractors!$A$2:$B$4,2,FALSE),\"\")","v":""}]
[null,null,null,null,null,null,null,null,null,null,null,null,null,null,null,null,null,null,null,null,null,null,null,{"$f":"IF(LEN(Z171)>0,VLOOKUP(Z171,'TFW Programs'!$A$2:$B$8,2,FALSE),\"\")","v":""},null,null,{"$f":"IF(LEN(A171)>0,VLOOKUP(A171,Subcontractors!$A$2:$B$4,2,FALSE),\"\")","v":""}]
[null,null,null,null,null,null,null,null,null,null,null,null,null,null,null,null,null,null,null,null,null,null,null,{"$f":"IF(LEN(Z172)>0,VLOOKUP(Z172,'TFW Programs'!$A$2:$B$8,2,FALSE),\"\")","v":""},null,null,{"$f":"IF(LEN(A172)>0,VLOOKUP(A172,Subcontractors!$A$2:$B$4,2,FALSE),\"\")","v":""}]
[null,null,null,null,null,null,null,null,null,null,null,null,null,null,null,null,null,null,null,null,null,null,null,{"$f":"IF(LEN(Z173)>0,VLOOKUP(Z173,'TFW Programs'!$A$2:$B$8,2,FALSE),\"\")","v":""},null,null,{"$f":"IF(LEN(A173)>0,VLOOKUP(A173,Subcontractors!$A$2:$B$4,2,FALSE),\"\")","v":""}]
[null,null,null,null,null,null,null,null,null,null,null,null,null,null,null,null,null,null,null,null,null,null,null,{"$f":"IF(LEN(Z174)>0,VLOOKUP(Z174,'TFW Programs'!$A$2:$B$8,2,FALSE),\"\")","v":""},null,null,{"$f":"IF(LEN(A174)>0,VLOOKUP(A174,Subcontractors!$A$2:$B$4,2,FALSE),\"\")","v":""}]
[null,null,null,null,null,null,null,null,null,null,null,null,null,null,null,null,null,null,null,null,null,null,null,{"$f":"IF(LEN(Z175)>0,VLOOKUP(Z175,'TFW Programs'!$A$2:$B$8,2,FALSE),\"\")","v":""},null,null,{"$f":"IF(LEN(A175)>0,VLOOKUP(A175,Subcontractors!$A$2:$B$4,2,FALSE),\"\")","v":""}]
[null,null,null,null,null,null,null,null,null,null,null,null,null,null,null,null,null,null,null,null,null,null,null,{"$f":"IF(LEN(Z176)>0,VLOOKUP(Z176,'TFW Programs'!$A$2:$B$8,2,FALSE),\"\")","v":""},null,null,{"$f":"IF(LEN(A176)>0,VLOOKUP(A176,Subcontractors!$A$2:$B$4,2,FALSE),\"\")","v":""}]
[null,null,null,null,null,null,null,null,null,null,null,null,null,null,null,null,null,null,null,null,null,null,null,{"$f":"IF(LEN(Z177)>0,VLOOKUP(Z177,'TFW Programs'!$A$2:$B$8,2,FALSE),\"\")","v":""},null,null,{"$f":"IF(LEN(A177)>0,VLOOKUP(A177,Subcontractors!$A$2:$B$4,2,FALSE),\"\")","v":""}]
[null,null,null,null,null,null,null,null,null,null,null,null,null,null,null,null,null,null,null,null,null,null,null,{"$f":"IF(LEN(Z178)>0,VLOOKUP(Z178,'TFW Programs'!$A$2:$B$8,2,FALSE),\"\")","v":""},null,null,{"$f":"IF(LEN(A178)>0,VLOOKUP(A178,Subcontractors!$A$2:$B$4,2,FALSE),\"\")","v":""}]
[null,null,null,null,null,null,null,null,null,null,null,null,null,null,null,null,null,null,null,null,null,null,null,{"$f":"IF(LEN(Z179)>0,VLOOKUP(Z179,'TFW Programs'!$A$2:$B$8,2,FALSE),\"\")","v":""},null,null,{"$f":"IF(LEN(A179)>0,VLOOKUP(A179,Subcontractors!$A$2:$B$4,2,FALSE),\"\")","v":""}]
[null,null,null,null,null,null,null,null,null,null,null,null,null,null,null,null,null,null,null,null,null,null,null,{"$f":"IF(LEN(Z180)>0,VLOOKUP(Z180,'TFW Programs'!$A$2:$B$8,2,FALSE),\"\")","v":""},null,null,{"$f":"IF(LEN(A180)>0,VLOOKUP(A180,Subcontractors!$A$2:$B$4,2,FALSE),\"\")","v":""}]
[null,null,null,null,null,null,null,null,null,null,null,null,null,null,null,null,null,null,null,null,null,null,null,{"$f":"IF(LEN(Z181)>0,VLOOKUP(Z181,'TFW Programs'!$A$2:$B$8,2,FALSE),\"\")","v":""},null,null,{"$f":"IF(LEN(A181)>0,VLOOKUP(A181,Subcontractors!$A$2:$B$4,2,FALSE),\"\")","v":""}]
[null,null,null,null,null,null,null,null,null,null,null,null,null,null,null,null,null,null,null,null,null,null,null,{"$f":"IF(LEN(Z182)>0,VLOOKUP(Z182,'TFW Programs'!$A$2:$B$8,2,FALSE),\"\")","v":""},null,null,{"$f":"IF(LEN(A182)>0,VLOOKUP(A182,Subcontractors!$A$2:$B$4,2,FALSE),\"\")","v":""}]
[null,null,null,null,null,null,null,null,null,null,null,null,null,null,null,null,null,null,null,null,null,null,null,{"$f":"IF(LEN(Z183)>0,VLOOKUP(Z183,'TFW Programs'!$A$2:$B$8,2,FALSE),\"\")","v":""},null,null,{"$f":"IF(LEN(A183)>0,VLOOKUP(A183,Subcontractors!$A$2:$B$4,2,FALSE),\"\")","v":""}]
[null,null,null,null,null,null,null,null,null,null,null,null,null,null,null,null,null,null,null,null,null,null,null,{"$f":"IF(LEN(Z184)>0,VLOOKUP(Z184,'TFW Programs'!$A$2:$B$8,2,FALSE),\"\")","v":""},null,null,{"$f":"IF(LEN(A184)>0,VLOOKUP(A184,Subcontractors!$A$2:$B$4,2,FALSE),\"\")","v":""}]
[null,null,null,null,null,null,null,null,null,null,null,null,null,null,null,null,null,null,null,null,null,null,null,{"$f":"IF(LEN(Z185)>0,VLOOKUP(Z185,'TFW Programs'!$A$2:$B$8,2,FALSE),\"\")","v":""},null,null,{"$f":"IF(LEN(A185)>0,VLOOKUP(A185,Subcontractors!$A$2:$B$4,2,FALSE),\"\")","v":""}]
[null,null,null,null,null,null,null,null,null,null,null,null,null,null,null,null,null,null,null,null,null,null,null,{"$f":"IF(LEN(Z186)>0,VLOOKUP(Z186,'TFW Programs'!$A$2:$B$8,2,FALSE),\"\")","v":""},null,null,{"$f":"IF(LEN(A186)>0,VLOOKUP(A186,Subcontractors!$A$2:$B$4,2,FALSE),\"\")","v":""}]
[null,null,null,null,null,null,null,null,null,null,null,null,null,null,null,null,null,null,null,null,null,null,null,{"$f":"IF(LEN(Z187)>0,VLOOKUP(Z187,'TFW Programs'!$A$2:$B$8,2,FALSE),\"\")","v":""},null,null,{"$f":"IF(LEN(A187)>0,VLOOKUP(A187,Subcontractors!$A$2:$B$4,2,FALSE),\"\")","v":""}]
[null,null,null,null,null,null,null,null,null,null,null,null,null,null,null,null,null,null,null,null,null,null,null,{"$f":"IF(LEN(Z188)>0,VLOOKUP(Z188,'TFW Programs'!$A$2:$B$8,2,FALSE),\"\")","v":""},null,null,{"$f":"IF(LEN(A188)>0,VLOOKUP(A188,Subcontractors!$A$2:$B$4,2,FALSE),\"\")","v":""}]
[null,null,null,null,null,null,null,null,null,null,null,null,null,null,null,null,null,null,null,null,null,null,null,{"$f":"IF(LEN(Z189)>0,VLOOKUP(Z189,'TFW Programs'!$A$2:$B$8,2,FALSE),\"\")","v":""},null,null,{"$f":"IF(LEN(A189)>0,VLOOKUP(A189,Subcontractors!$A$2:$B$4,2,FALSE),\"\")","v":""}]
[null,null,null,null,null,null,null,null,null,null,null,null,null,null,null,null,null,null,null,null,null,null,null,{"$f":"IF(LEN(Z190)>0,VLOOKUP(Z190,'TFW Programs'!$A$2:$B$8,2,FALSE),\"\")","v":""},null,null,{"$f":"IF(LEN(A190)>0,VLOOKUP(A190,Subcontractors!$A$2:$B$4,2,FALSE),\"\")","v":""}]
[null,null,null,null,null,null,null,null,null,null,null,null,null,null,null,null,null,null,null,null,null,null,null,{"$f":"IF(LEN(Z191)>0,VLOOKUP(Z191,'TFW Programs'!$A$2:$B$8,2,FALSE),\"\")","v":""},null,null,{"$f":"IF(LEN(A191)>0,VLOOKUP(A191,Subcontractors!$A$2:$B$4,2,FALSE),\"\")","v":""}]
[null,null,null,null,null,null,null,null,null,null,null,null,null,null,null,null,null,null,null,null,null,null,null,{"$f":"IF(LEN(Z192)>0,VLOOKUP(Z192,'TFW Programs'!$A$2:$B$8,2,FALSE),\"\")","v":""},null,null,{"$f":"IF(LEN(A192)>0,VLOOKUP(A192,Subcontractors!$A$2:$B$4,2,FALSE),\"\")","v":""}]
[null,null,null,null,null,null,null,null,null,null,null,null,null,null,null,null,null,null,null,null,null,null,null,{"$f":"IF(LEN(Z193)>0,VLOOKUP(Z193,'TFW Programs'!$A$2:$B$8,2,FALSE),\"\")","v":""},null,null,{"$f":"IF(LEN(A193)>0,VLOOKUP(A193,Subcontractors!$A$2:$B$4,2,FALSE),\"\")","v":""}]
[null,null,null,null,null,null,null,null,null,null,null,null,null,null,null,null,null,null,null,null,null,null,null,{"$f":"IF(LEN(Z194)>0,VLOOKUP(Z194,'TFW Programs'!$A$2:$B$8,2,FALSE),\"\")","v":""},null,null,{"$f":"IF(LEN(A194)>0,VLOOKUP(A194,Subcontractors!$A$2:$B$4,2,FALSE),\"\")","v":""}]
[null,null,null,null,null,null,null,null,null,null,null,null,null,null,null,null,null,null,null,null,null,null,null,{"$f":"IF(LEN(Z195)>0,VLOOKUP(Z195,'TFW Programs'!$A$2:$B$8,2,FALSE),\"\")","v":""},null,null,{"$f":"IF(LEN(A195)>0,VLOOKUP(A195,Subcontractors!$A$2:$B$4,2,FALSE),\"\")","v":""}]
[null,null,null,null,null,null,null,null,null,null,null,null,null,null,null,null,null,null,null,null,null,null,null,{"$f":"IF(LEN(Z196)>0,VLOOKUP(Z196,'TFW Programs'!$A$2:$B$8,2,FALSE),\"\")","v":""},null,null,{"$f":"IF(LEN(A196)>0,VLOOKUP(A196,Subcontractors!$A$2:$B$4,2,FALSE),\"\")","v":""}]
[null,null,null,null,null,null,null,null,null,null,null,null,null,null,null,null,null,null,null,null,null,null,null,{"$f":"IF(LEN(Z197)>0,VLOOKUP(Z197,'TFW Programs'!$A$2:$B$8,2,FALSE),\"\")","v":""},null,null,{"$f":"IF(LEN(A197)>0,VLOOKUP(A197,Subcontractors!$A$2:$B$4,2,FALSE),\"\")","v":""}]
[null,null,null,null,null,null,null,null,null,null,null,null,null,null,null,null,null,null,null,null,null,null,null,{"$f":"IF(LEN(Z198)>0,VLOOKUP(Z198,'TFW Programs'!$A$2:$B$8,2,FALSE),\"\")","v":""},null,null,{"$f":"IF(LEN(A198)>0,VLOOKUP(A198,Subcontractors!$A$2:$B$4,2,FALSE),\"\")","v":""}]
[null,null,null,null,null,null,null,null,null,null,null,null,null,null,null,null,null,null,null,null,null,null,null,{"$f":"IF(LEN(Z199)>0,VLOOKUP(Z199,'TFW Programs'!$A$2:$B$8,2,FALSE),\"\")","v":""},null,null,{"$f":"IF(LEN(A199)>0,VLOOKUP(A199,Subcontractors!$A$2:$B$4,2,FALSE),\"\")","v":""}]
[null,null,null,null,null,null,null,null,null,null,null,null,null,null,null,null,null,null,null,null,null,null,null,{"$f":"IF(LEN(Z200)>0,VLOOKUP(Z200,'TFW Programs'!$A$2:$B$8,2,FALSE),\"\")","v":""},null,null,{"$f":"IF(LEN(A200)>0,VLOOKUP(A200,Subcontractors!$A$2:$B$4,2,FALSE),\"\")","v":""}]
[null,null,null,null,null,null,null,null,null,null,null,null,null,null,null,null,null,null,null,null,null,null,null,{"$f":"IF(LEN(Z201)>0,VLOOKUP(Z201,'TFW Programs'!$A$2:$B$8,2,FALSE),\"\")","v":""},null,null,{"$f":"IF(LEN(A201)>0,VLOOKUP(A201,Subcontractors!$A$2:$B$4,2,FALSE),\"\")","v":""}]
[null,null,null,null,null,null,null,null,null,null,null,null,null,null,null,null,null,null,null,null,null,null,null,{"$f":"IF(LEN(Z202)>0,VLOOKUP(Z202,'TFW Programs'!$A$2:$B$8,2,FALSE),\"\")","v":""},null,null,{"$f":"IF(LEN(A202)>0,VLOOKUP(A202,Subcontractors!$A$2:$B$4,2,FALSE),\"\")","v":""}]
[null,null,null,null,null,null,null,null,null,null,null,null,null,null,null,null,null,null,null,null,null,null,null,{"$f":"IF(LEN(Z203)>0,VLOOKUP(Z203,'TFW Programs'!$A$2:$B$8,2,FALSE),\"\")","v":""},null,null,{"$f":"IF(LEN(A203)>0,VLOOKUP(A203,Subcontractors!$A$2:$B$4,2,FALSE),\"\")","v":""}]
[null,null,null,null,null,null,null,null,null,null,null,null,null,null,null,null,null,null,null,null,null,null,null,{"$f":"IF(LEN(Z204)>0,VLOOKUP(Z204,'TFW Programs'!$A$2:$B$8,2,FALSE),\"\")","v":""},null,null,{"$f":"IF(LEN(A204)>0,VLOOKUP(A204,Subcontractors!$A$2:$B$4,2,FALSE),\"\")","v":""}]
[null,null,null,null,null,null,null,null,null,null,null,null,null,null,null,null,null,null,null,null,null,null,null,{"$f":"IF(LEN(Z205)>0,VLOOKUP(Z205,'TFW Programs'!$A$2:$B$8,2,FALSE),\"\")","v":""},null,null,{"$f":"IF(LEN(A205)>0,VLOOKUP(A205,Subcontractors!$A$2:$B$4,2,FALSE),\"\")","v":""}]
[null,null,null,null,null,null,null,null,null,null,null,null,null,null,null,null,null,null,null,null,null,null,null,{"$f":"IF(LEN(Z206)>0,VLOOKUP(Z206,'TFW Programs'!$A$2:$B$8,2,FALSE),\"\")","v":""},null,null,{"$f":"IF(LEN(A206)>0,VLOOKUP(A206,Subcontractors!$A$2:$B$4,2,FALSE),\"\")","v":""}]
[null,null,null,null,null,null,null,null,null,null,null,null,null,null,null,null,null,null,null,null,null,null,null,{"$f":"IF(LEN(Z207)>0,VLOOKUP(Z207,'TFW Programs'!$A$2:$B$8,2,FALSE),\"\")","v":""},null,null,{"$f":"IF(LEN(A207)>0,VLOOKUP(A207,Subcontractors!$A$2:$B$4,2,FALSE),\"\")","v":""}]
[null,null,null,null,null,null,null,null,null,null,null,null,null,null,null,null,null,null,null,null,null,null,null,{"$f":"IF(LEN(Z208)>0,VLOOKUP(Z208,'TFW Programs'!$A$2:$B$8,2,FALSE),\"\")","v":""},null,null,{"$f":"IF(LEN(A208)>0,VLOOKUP(A208,Subcontractors!$A$2:$B$4,2,FALSE),\"\")","v":""}]
[null,null,null,null,null,null,null,null,null,null,null,null,null,null,null,null,null,null,null,null,null,null,null,{"$f":"IF(LEN(Z209)>0,VLOOKUP(Z209,'TFW Programs'!$A$2:$B$8,2,FALSE),\"\")","v":""},null,null,{"$f":"IF(LEN(A209)>0,VLOOKUP(A209,Subcontractors!$A$2:$B$4,2,FALSE),\"\")","v":""}]
[null,null,null,null,null,null,null,null,null,null,null,null,null,null,null,null,null,null,null,null,null,null,null,{"$f":"IF(LEN(Z210)>0,VLOOKUP(Z210,'TFW Programs'!$A$2:$B$8,2,FALSE),\"\")","v":""},null,null,{"$f":"IF(LEN(A210)>0,VLOOKUP(A210,Subcontractors!$A$2:$B$4,2,FALSE),\"\")","v":""}]
[null,null,null,null,null,null,null,null,null,null,null,null,null,null,null,null,null,null,null,null,null,null,null,{"$f":"IF(LEN(Z211)>0,VLOOKUP(Z211,'TFW Programs'!$A$2:$B$8,2,FALSE),\"\")","v":""},null,null,{"$f":"IF(LEN(A211)>0,VLOOKUP(A211,Subcontractors!$A$2:$B$4,2,FALSE),\"\")","v":""}]
[null,null,null,null,null,null,null,null,null,null,null,null,null,null,null,null,null,null,null,null,null,null,null,{"$f":"IF(LEN(Z212)>0,VLOOKUP(Z212,'TFW Programs'!$A$2:$B$8,2,FALSE),\"\")","v":""},null,null,{"$f":"IF(LEN(A212)>0,VLOOKUP(A212,Subcontractors!$A$2:$B$4,2,FALSE),\"\")","v":""}]
[null,null,null,null,null,null,null,null,null,null,null,null,null,null,null,null,null,null,null,null,null,null,null,{"$f":"IF(LEN(Z213)>0,VLOOKUP(Z213,'TFW Programs'!$A$2:$B$8,2,FALSE),\"\")","v":""},null,null,{"$f":"IF(LEN(A213)>0,VLOOKUP(A213,Subcontractors!$A$2:$B$4,2,FALSE),\"\")","v":""}]
[null,null,null,null,null,null,null,null,null,null,null,null,null,null,null,null,null,null,null,null,null,null,null,{"$f":"IF(LEN(Z214)>0,VLOOKUP(Z214,'TFW Programs'!$A$2:$B$8,2,FALSE),\"\")","v":""},null,null,{"$f":"IF(LEN(A214)>0,VLOOKUP(A214,Subcontractors!$A$2:$B$4,2,FALSE),\"\")","v":""}]
[null,null,null,null,null,null,null,null,null,null,null,null,null,null,null,null,null,null,null,null,null,null,null,{"$f":"IF(LEN(Z215)>0,VLOOKUP(Z215,'TFW Programs'!$A$2:$B$8,2,FALSE),\"\")","v":""},null,null,{"$f":"IF(LEN(A215)>0,VLOOKUP(A215,Subcontractors!$A$2:$B$4,2,FALSE),\"\")","v":""}]
[null,null,null,null,null,null,null,null,null,null,null,null,null,null,null,null,null,null,null,null,null,null,null,{"$f":"IF(LEN(Z216)>0,VLOOKUP(Z216,'TFW Programs'!$A$2:$B$8,2,FALSE),\"\")","v":""},null,null,{"$f":"IF(LEN(A216)>0,VLOOKUP(A216,Subcontractors!$A$2:$B$4,2,FALSE),\"\")","v":""}]
[null,null,null,null,null,null,null,null,null,null,null,null,null,null,null,null,null,null,null,null,null,null,null,{"$f":"IF(LEN(Z217)>0,VLOOKUP(Z217,'TFW Programs'!$A$2:$B$8,2,FALSE),\"\")","v":""},null,null,{"$f":"IF(LEN(A217)>0,VLOOKUP(A217,Subcontractors!$A$2:$B$4,2,FALSE),\"\")","v":""}]
[null,null,null,null,null,null,null,null,null,null,null,null,null,null,null,null,null,null,null,null,null,null,null,{"$f":"IF(LEN(Z218)>0,VLOOKUP(Z218,'TFW Programs'!$A$2:$B$8,2,FALSE),\"\")","v":""},null,null,{"$f":"IF(LEN(A218)>0,VLOOKUP(A218,Subcontractors!$A$2:$B$4,2,FALSE),\"\")","v":""}]
[null,null,null,null,null,null,null,null,null,null,null,null,null,null,null,null,null,null,null,null,null,null,null,{"$f":"IF(LEN(Z219)>0,VLOOKUP(Z219,'TFW Programs'!$A$2:$B$8,2,FALSE),\"\")","v":""},null,null,{"$f":"IF(LEN(A219)>0,VLOOKUP(A219,Subcontractors!$A$2:$B$4,2,FALSE),\"\")","v":""}]
[null,null,null,null,null,null,null,null,null,null,null,null,null,null,null,null,null,null,null,null,null,null,null,{"$f":"IF(LEN(Z220)>0,VLOOKUP(Z220,'TFW Programs'!$A$2:$B$8,2,FALSE),\"\")","v":""},null,null,{"$f":"IF(LEN(A220)>0,VLOOKUP(A220,Subcontractors!$A$2:$B$4,2,FALSE),\"\")","v":""}]
[null,null,null,null,null,null,null,null,null,null,null,null,null,null,null,null,null,null,null,null,null,null,null,{"$f":"IF(LEN(Z221)>0,VLOOKUP(Z221,'TFW Programs'!$A$2:$B$8,2,FALSE),\"\")","v":""},null,null,{"$f":"IF(LEN(A221)>0,VLOOKUP(A221,Subcontractors!$A$2:$B$4,2,FALSE),\"\")","v":""}]
[null,null,null,null,null,null,null,null,null,null,null,null,null,null,null,null,null,null,null,null,null,null,null,{"$f":"IF(LEN(Z222)>0,VLOOKUP(Z222,'TFW Programs'!$A$2:$B$8,2,FALSE),\"\")","v":""},null,null,{"$f":"IF(LEN(A222)>0,VLOOKUP(A222,Subcontractors!$A$2:$B$4,2,FALSE),\"\")","v":""}]
[null,null,null,null,null,null,null,null,null,null,null,null,null,null,null,null,null,null,null,null,null,null,null,{"$f":"IF(LEN(Z223)>0,VLOOKUP(Z223,'TFW Programs'!$A$2:$B$8,2,FALSE),\"\")","v":""},null,null,{"$f":"IF(LEN(A223)>0,VLOOKUP(A223,Subcontractors!$A$2:$B$4,2,FALSE),\"\")","v":""}]
[null,null,null,null,null,null,null,null,null,null,null,null,null,null,null,null,null,null,null,null,null,null,null,{"$f":"IF(LEN(Z224)>0,VLOOKUP(Z224,'TFW Programs'!$A$2:$B$8,2,FALSE),\"\")","v":""},null,null,{"$f":"IF(LEN(A224)>0,VLOOKUP(A224,Subcontractors!$A$2:$B$4,2,FALSE),\"\")","v":""}]
[null,null,null,null,null,null,null,null,null,null,null,null,null,null,null,null,null,null,null,null,null,null,null,{"$f":"IF(LEN(Z225)>0,VLOOKUP(Z225,'TFW Programs'!$A$2:$B$8,2,FALSE),\"\")","v":""},null,null,{"$f":"IF(LEN(A225)>0,VLOOKUP(A225,Subcontractors!$A$2:$B$4,2,FALSE),\"\")","v":""}]
[null,null,null,null,null,null,null,null,null,null,null,null,null,null,null,null,null,null,null,null,null,null,null,{"$f":"IF(LEN(Z226)>0,VLOOKUP(Z226,'TFW Programs'!$A$2:$B$8,2,FALSE),\"\")","v":""},null,null,{"$f":"IF(LEN(A226)>0,VLOOKUP(A226,Subcontractors!$A$2:$B$4,2,FALSE),\"\")","v":""}]
[null,null,null,null,null,null,null,null,null,null,null,null,null,null,null,null,null,null,null,null,null,null,null,{"$f":"IF(LEN(Z227)>0,VLOOKUP(Z227,'TFW Programs'!$A$2:$B$8,2,FALSE),\"\")","v":""},null,null,{"$f":"IF(LEN(A227)>0,VLOOKUP(A227,Subcontractors!$A$2:$B$4,2,FALSE),\"\")","v":""}]
[null,null,null,null,null,null,null,null,null,null,null,null,null,null,null,null,null,null,null,null,null,null,null,{"$f":"IF(LEN(Z228)>0,VLOOKUP(Z228,'TFW Programs'!$A$2:$B$8,2,FALSE),\"\")","v":""},null,null,{"$f":"IF(LEN(A228)>0,VLOOKUP(A228,Subcontractors!$A$2:$B$4,2,FALSE),\"\")","v":""}]
[null,null,null,null,null,null,null,null,null,null,null,null,null,null,null,null,null,null,null,null,null,null,null,{"$f":"IF(LEN(Z229)>0,VLOOKUP(Z229,'TFW Programs'!$A$2:$B$8,2,FALSE),\"\")","v":""},null,null,{"$f":"IF(LEN(A229)>0,VLOOKUP(A229,Subcontractors!$A$2:$B$4,2,FALSE),\"\")","v":""}]
[null,null,null,null,null,null,null,null,null,null,null,null,null,null,null,null,null,null,null,null,null,null,null,{"$f":"IF(LEN(Z230)>0,VLOOKUP(Z230,'TFW Programs'!$A$2:$B$8,2,FALSE),\"\")","v":""},null,null,{"$f":"IF(LEN(A230)>0,VLOOKUP(A230,Subcontractors!$A$2:$B$4,2,FALSE),\"\")","v":""}]
[null,null,null,null,null,null,null,null,null,null,null,null,null,null,null,null,null,null,null,null,null,null,null,{"$f":"IF(LEN(Z231)>0,VLOOKUP(Z231,'TFW Programs'!$A$2:$B$8,2,FALSE),\"\")","v":""},null,null,{"$f":"IF(LEN(A231)>0,VLOOKUP(A231,Subcontractors!$A$2:$B$4,2,FALSE),\"\")","v":""}]
[null,null,null,null,null,null,null,null,null,null,null,null,null,null,null,null,null,null,null,null,null,null,null,{"$f":"IF(LEN(Z232)>0,VLOOKUP(Z232,'TFW Programs'!$A$2:$B$8,2,FALSE),\"\")","v":""},null,null,{"$f":"IF(LEN(A232)>0,VLOOKUP(A232,Subcontractors!$A$2:$B$4,2,FALSE),\"\")","v":""}]
[null,null,null,null,null,null,null,null,null,null,null,null,null,null,null,null,null,null,null,null,null,null,null,{"$f":"IF(LEN(Z233)>0,VLOOKUP(Z233,'TFW Programs'!$A$2:$B$8,2,FALSE),\"\")","v":""},null,null,{"$f":"IF(LEN(A233)>0,VLOOKUP(A233,Subcontractors!$A$2:$B$4,2,FALSE),\"\")","v":""}]
[null,null,null,null,null,null,null,null,null,null,null,null,null,null,null,null,null,null,null,null,null,null,null,{"$f":"IF(LEN(Z234)>0,VLOOKUP(Z234,'TFW Programs'!$A$2:$B$8,2,FALSE),\"\")","v":""},null,null,{"$f":"IF(LEN(A234)>0,VLOOKUP(A234,Subcontractors!$A$2:$B$4,2,FALSE),\"\")","v":""}]
[null,null,null,null,null,null,null,null,null,null,null,null,null,null,null,null,null,null,null,null,null,null,null,{"$f":"IF(LEN(Z235)>0,VLOOKUP(Z235,'TFW Programs'!$A$2:$B$8,2,FALSE),\"\")","v":""},null,null,{"$f":"IF(LEN(A235)>0,VLOOKUP(A235,Subcontractors!$A$2:$B$4,2,FALSE),\"\")","v":""}]
[null,null,null,null,null,null,null,null,null,null,null,null,null,null,null,null,null,null,null,null,null,null,null,{"$f":"IF(LEN(Z236)>0,VLOOKUP(Z236,'TFW Programs'!$A$2:$B$8,2,FALSE),\"\")","v":""},null,null,{"$f":"IF(LEN(A236)>0,VLOOKUP(A236,Subcontractors!$A$2:$B$4,2,FALSE),\"\")","v":""}]
[null,null,null,null,null,null,null,null,null,null,null,null,null,null,null,null,null,null,null,null,null,null,null,{"$f":"IF(LEN(Z237)>0,VLOOKUP(Z237,'TFW Programs'!$A$2:$B$8,2,FALSE),\"\")","v":""},null,null,{"$f":"IF(LEN(A237)>0,VLOOKUP(A237,Subcontractors!$A$2:$B$4,2,FALSE),\"\")","v":""}]
[null,null,null,null,null,null,null,null,null,null,null,null,null,null,null,null,null,null,null,null,null,null,null,{"$f":"IF(LEN(Z238)>0,VLOOKUP(Z238,'TFW Programs'!$A$2:$B$8,2,FALSE),\"\")","v":""},null,null,{"$f":"IF(LEN(A238)>0,VLOOKUP(A238,Subcontractors!$A$2:$B$4,2,FALSE),\"\")","v":""}]
[null,null,null,null,null,null,null,null,null,null,null,null,null,null,null,null,null,null,null,null,null,null,null,{"$f":"IF(LEN(Z239)>0,VLOOKUP(Z239,'TFW Programs'!$A$2:$B$8,2,FALSE),\"\")","v":""},null,null,{"$f":"IF(LEN(A239)>0,VLOOKUP(A239,Subcontractors!$A$2:$B$4,2,FALSE),\"\")","v":""}]
[null,null,null,null,null,null,null,null,null,null,null,null,null,null,null,null,null,null,null,null,null,null,null,{"$f":"IF(LEN(Z240)>0,VLOOKUP(Z240,'TFW Programs'!$A$2:$B$8,2,FALSE),\"\")","v":""},null,null,{"$f":"IF(LEN(A240)>0,VLOOKUP(A240,Subcontractors!$A$2:$B$4,2,FALSE),\"\")","v":""}]
[null,null,null,null,null,null,null,null,null,null,null,null,null,null,null,null,null,null,null,null,null,null,null,{"$f":"IF(LEN(Z241)>0,VLOOKUP(Z241,'TFW Programs'!$A$2:$B$8,2,FALSE),\"\")","v":""},null,null,{"$f":"IF(LEN(A241)>0,VLOOKUP(A241,Subcontractors!$A$2:$B$4,2,FALSE),\"\")","v":""}]
[null,null,null,null,null,null,null,null,null,null,null,null,null,null,null,null,null,null,null,null,null,null,null,{"$f":"IF(LEN(Z242)>0,VLOOKUP(Z242,'TFW Programs'!$A$2:$B$8,2,FALSE),\"\")","v":""},null,null,{"$f":"IF(LEN(A242)>0,VLOOKUP(A242,Subcontractors!$A$2:$B$4,2,FALSE),\"\")","v":""}]
[null,null,null,null,null,null,null,null,null,null,null,null,null,null,null,null,null,null,null,null,null,null,null,{"$f":"IF(LEN(Z243)>0,VLOOKUP(Z243,'TFW Programs'!$A$2:$B$8,2,FALSE),\"\")","v":""},null,null,{"$f":"IF(LEN(A243)>0,VLOOKUP(A243,Subcontractors!$A$2:$B$4,2,FALSE),\"\")","v":""}]
[null,null,null,null,null,null,null,null,null,null,null,null,null,null,null,null,null,null,null,null,null,null,null,{"$f":"IF(LEN(Z244)>0,VLOOKUP(Z244,'TFW Programs'!$A$2:$B$8,2,FALSE),\"\")","v":""},null,null,{"$f":"IF(LEN(A244)>0,VLOOKUP(A244,Subcontractors!$A$2:$B$4,2,FALSE),\"\")","v":""}]
[null,null,null,null,null,null,null,null,null,null,null,null,null,null,null,null,null,null,null,null,null,null,null,{"$f":"IF(LEN(Z245)>0,VLOOKUP(Z245,'TFW Programs'!$A$2:$B$8,2,FALSE),\"\")","v":""},null,null,{"$f":"IF(LEN(A245)>0,VLOOKUP(A245,Subcontractors!$A$2:$B$4,2,FALSE),\"\")","v":""}]
[null,null,null,null,null,null,null,null,null,null,null,null,null,null,null,null,null,null,null,null,null,null,null,{"$f":"IF(LEN(Z246)>0,VLOOKUP(Z246,'TFW Programs'!$A$2:$B$8,2,FALSE),\"\")","v":""},null,null,{"$f":"IF(LEN(A246)>0,VLOOKUP(A246,Subcontractors!$A$2:$B$4,2,FALSE),\"\")","v":""}]
[null,null,null,null,null,null,null,null,null,null,null,null,null,null,null,null,null,null,null,null,null,null,null,{"$f":"IF(LEN(Z247)>0,VLOOKUP(Z247,'TFW Programs'!$A$2:$B$8,2,FALSE),\"\")","v":""},null,null,{"$f":"IF(LEN(A247)>0,VLOOKUP(A247,Subcontractors!$A$2:$B$4,2,FALSE),\"\")","v":""}]
[null,null,null,null,null,null,null,null,null,null,null,null,null,null,null,null,null,null,null,null,null,null,null,{"$f":"IF(LEN(Z248)>0,VLOOKUP(Z248,'TFW Programs'!$A$2:$B$8,2,FALSE),\"\")","v":""},null,null,{"$f":"IF(LEN(A248)>0,VLOOKUP(A248,Subcontractors!$A$2:$B$4,2,FALSE),\"\")","v":""}]
[null,null,null,null,null,null,null,null,null,null,null,null,null,null,null,null,null,null,null,null,null,null,null,{"$f":"IF(LEN(Z249)>0,VLOOKUP(Z249,'TFW Programs'!$A$2:$B$8,2,FALSE),\"\")","v":""},null,null,{"$f":"IF(LEN(A249)>0,VLOOKUP(A249,Subcontractors!$A$2:$B$4,2,FALSE),\"\")","v":""}]
[null,null,null,null,null,null,null,null,null,null,null,null,null,null,null,null,null,null,null,null,null,null,null,{"$f":"IF(LEN(Z250)>0,VLOOKUP(Z250,'TFW Programs'!$A$2:$B$8,2,FALSE),\"\")","v":""},null,null,{"$f":"IF(LEN(A250)>0,VLOOKUP(A250,Subcontractors!$A$2:$B$4,2,FALSE),\"\")","v":""}]
[null,null,null,null,null,null,null,null,null,null,null,null,null,null,null,null,null,null,null,null,null,null,null,{"$f":"IF(LEN(Z251)>0,VLOOKUP(Z251,'TFW Programs'!$A$2:$B$8,2,FALSE),\"\")","v":""},null,null,{"$f":"IF(LEN(A251)>0,VLOOKUP(A251,Subcontractors!$A$2:$B$4,2,FALSE),\"\")","v":""}]
[null,null,null,null,null,null,null,null,null,null,null,null,null,null,null,null,null,null,null,null,null,null,null,{"$f":"IF(LEN(Z252)>0,VLOOKUP(Z252,'TFW Programs'!$A$2:$B$8,2,FALSE),\"\")","v":""},null,null,{"$f":"IF(LEN(A252)>0,VLOOKUP(A252,Subcontractors!$A$2:$B$4,2,FALSE),\"\")","v":""}]
[null,null,null,null,null,null,null,null,null,null,null,null,null,null,null,null,null,null,null,null,null,null,null,{"$f":"IF(LEN(Z253)>0,VLOOKUP(Z253,'TFW Programs'!$A$2:$B$8,2,FALSE),\"\")","v":""},null,null,{"$f":"IF(LEN(A253)>0,VLOOKUP(A253,Subcontractors!$A$2:$B$4,2,FALSE),\"\")","v":""}]
[null,null,null,null,null,null,null,null,null,null,null,null,null,null,null,null,null,null,null,null,null,null,null,{"$f":"IF(LEN(Z254)>0,VLOOKUP(Z254,'TFW Programs'!$A$2:$B$8,2,FALSE),\"\")","v":""},null,null,{"$f":"IF(LEN(A254)>0,VLOOKUP(A254,Subcontractors!$A$2:$B$4,2,FALSE),\"\")","v":""}]
[null,null,null,null,null,null,null,null,null,null,null,null,null,null,null,null,null,null,null,null,null,null,null,{"$f":"IF(LEN(Z255)>0,VLOOKUP(Z255,'TFW Programs'!$A$2:$B$8,2,FALSE),\"\")","v":""},null,null,{"$f":"IF(LEN(A255)>0,VLOOKUP(A255,Subcontractors!$A$2:$B$4,2,FALSE),\"\")","v":""}]
[null,null,null,null,null,null,null,null,null,null,null,null,null,null,null,null,null,null,null,null,null,null,null,{"$f":"IF(LEN(Z256)>0,VLOOKUP(Z256,'TFW Programs'!$A$2:$B$8,2,FALSE),\"\")","v":""},null,null,{"$f":"IF(LEN(A256)>0,VLOOKUP(A256,Subcontractors!$A$2:$B$4,2,FALSE),\"\")","v":""}]
[null,null,null,null,null,null,null,null,null,null,null,null,null,null,null,null,null,null,null,null,null,null,null,{"$f":"IF(LEN(Z257)>0,VLOOKUP(Z257,'TFW Programs'!$A$2:$B$8,2,FALSE),\"\")","v":""},null,null,{"$f":"IF(LEN(A257)>0,VLOOKUP(A257,Subcontractors!$A$2:$B$4,2,FALSE),\"\")","v":""}]
[null,null,null,null,null,null,null,null,null,null,null,null,null,null,null,null,null,null,null,null,null,null,null,{"$f":"IF(LEN(Z258)>0,VLOOKUP(Z258,'TFW Programs'!$A$2:$B$8,2,FALSE),\"\")","v":""},null,null,{"$f":"IF(LEN(A258)>0,VLOOKUP(A258,Subcontractors!$A$2:$B$4,2,FALSE),\"\")","v":""}]
[null,null,null,null,null,null,null,null,null,null,null,null,null,null,null,null,null,null,null,null,null,null,null,{"$f":"IF(LEN(Z259)>0,VLOOKUP(Z259,'TFW Programs'!$A$2:$B$8,2,FALSE),\"\")","v":""},null,null,{"$f":"IF(LEN(A259)>0,VLOOKUP(A259,Subcontractors!$A$2:$B$4,2,FALSE),\"\")","v":""}]
[null,null,null,null,null,null,null,null,null,null,null,null,null,null,null,null,null,null,null,null,null,null,null,{"$f":"IF(LEN(Z260)>0,VLOOKUP(Z260,'TFW Programs'!$A$2:$B$8,2,FALSE),\"\")","v":""},null,null,{"$f":"IF(LEN(A260)>0,VLOOKUP(A260,Subcontractors!$A$2:$B$4,2,FALSE),\"\")","v":""}]
[null,null,null,null,null,null,null,null,null,null,null,null,null,null,null,null,null,null,null,null,null,null,null,{"$f":"IF(LEN(Z261)>0,VLOOKUP(Z261,'TFW Programs'!$A$2:$B$8,2,FALSE),\"\")","v":""},null,null,{"$f":"IF(LEN(A261)>0,VLOOKUP(A261,Subcontractors!$A$2:$B$4,2,FALSE),\"\")","v":""}]
[null,null,null,null,null,null,null,null,null,null,null,null,null,null,null,null,null,null,null,null,null,null,null,{"$f":"IF(LEN(Z262)>0,VLOOKUP(Z262,'TFW Programs'!$A$2:$B$8,2,FALSE),\"\")","v":""},null,null,{"$f":"IF(LEN(A262)>0,VLOOKUP(A262,Subcontractors!$A$2:$B$4,2,FALSE),\"\")","v":""}]
[null,null,null,null,null,null,null,null,null,null,null,null,null,null,null,null,null,null,null,null,null,null,null,{"$f":"IF(LEN(Z263)>0,VLOOKUP(Z263,'TFW Programs'!$A$2:$B$8,2,FALSE),\"\")","v":""},null,null,{"$f":"IF(LEN(A263)>0,VLOOKUP(A263,Subcontractors!$A$2:$B$4,2,FALSE),\"\")","v":""}]
[null,null,null,null,null,null,null,null,null,null,null,null,null,null,null,null,null,null,null,null,null,null,null,{"$f":"IF(LEN(Z264)>0,VLOOKUP(Z264,'TFW Programs'!$A$2:$B$8,2,FALSE),\"\")","v":""},null,null,{"$f":"IF(LEN(A264)>0,VLOOKUP(A264,Subcontractors!$A$2:$B$4,2,FALSE),\"\")","v":""}]
[null,null,null,null,null,null,null,null,null,null,null,null,null,null,null,null,null,null,null,null,null,null,null,{"$f":"IF(LEN(Z265)>0,VLOOKUP(Z265,'TFW Programs'!$A$2:$B$8,2,FALSE),\"\")","v":""},null,null,{"$f":"IF(LEN(A265)>0,VLOOKUP(A265,Subcontractors!$A$2:$B$4,2,FALSE),\"\")","v":""}]
[null,null,null,null,null,null,null,null,null,null,null,null,null,null,null,null,null,null,null,null,null,null,null,{"$f":"IF(LEN(Z266)>0,VLOOKUP(Z266,'TFW Programs'!$A$2:$B$8,2,FALSE),\"\")","v":""},null,null,{"$f":"IF(LEN(A266)>0,VLOOKUP(A266,Subcontractors!$A$2:$B$4,2,FALSE),\"\")","v":""}]
[null,null,null,null,null,null,null,null,null,null,null,null,null,null,null,null,null,null,null,null,null,null,null,{"$f":"IF(LEN(Z267)>0,VLOOKUP(Z267,'TFW Programs'!$A$2:$B$8,2,FALSE),\"\")","v":""},null,null,{"$f":"IF(LEN(A267)>0,VLOOKUP(A267,Subcontractors!$A$2:$B$4,2,FALSE),\"\")","v":""}]
[null,null,null,null,null,null,null,null,null,null,null,null,null,null,null,null,null,null,null,null,null,null,null,{"$f":"IF(LEN(Z268)>0,VLOOKUP(Z268,'TFW Programs'!$A$2:$B$8,2,FALSE),\"\")","v":""},null,null,{"$f":"IF(LEN(A268)>0,VLOOKUP(A268,Subcontractors!$A$2:$B$4,2,FALSE),\"\")","v":""}]
[null,null,null,null,null,null,null,null,null,null,null,null,null,null,null,null,null,null,null,null,null,null,null,{"$f":"IF(LEN(Z269)>0,VLOOKUP(Z269,'TFW Programs'!$A$2:$B$8,2,FALSE),\"\")","v":""},null,null,{"$f":"IF(LEN(A269)>0,VLOOKUP(A269,Subcontractors!$A$2:$B$4,2,FALSE),\"\")","v":""}]
[null,null,null,null,null,null,null,null,null,null,null,null,null,null,null,null,null,null,null,null,null,null,null,{"$f":"IF(LEN(Z270)>0,VLOOKUP(Z270,'TFW Programs'!$A$2:$B$8,2,FALSE),\"\")","v":""},null,null,{"$f":"IF(LEN(A270)>0,VLOOKUP(A270,Subcontractors!$A$2:$B$4,2,FALSE),\"\")","v":""}]
[null,null,null,null,null,null,null,null,null,null,null,null,null,null,null,null,null,null,null,null,null,null,null,{"$f":"IF(LEN(Z271)>0,VLOOKUP(Z271,'TFW Programs'!$A$2:$B$8,2,FALSE),\"\")","v":""},null,null,{"$f":"IF(LEN(A271)>0,VLOOKUP(A271,Subcontractors!$A$2:$B$4,2,FALSE),\"\")","v":""}]
[null,null,null,null,null,null,null,null,null,null,null,null,null,null,null,null,null,null,null,null,null,null,null,{"$f":"IF(LEN(Z272)>0,VLOOKUP(Z272,'TFW Programs'!$A$2:$B$8,2,FALSE),\"\")","v":""},null,null,{"$f":"IF(LEN(A272)>0,VLOOKUP(A272,Subcontractors!$A$2:$B$4,2,FALSE),\"\")","v":""}]
[null,null,null,null,null,null,null,null,null,null,null,null,null,null,null,null,null,null,null,null,null,null,null,{"$f":"IF(LEN(Z273)>0,VLOOKUP(Z273,'TFW Programs'!$A$2:$B$8,2,FALSE),\"\")","v":""},null,null,{"$f":"IF(LEN(A273)>0,VLOOKUP(A273,Subcontractors!$A$2:$B$4,2,FALSE),\"\")","v":""}]
[null,null,null,null,null,null,null,null,null,null,null,null,null,null,null,null,null,null,null,null,null,null,null,{"$f":"IF(LEN(Z274)>0,VLOOKUP(Z274,'TFW Programs'!$A$2:$B$8,2,FALSE),\"\")","v":""},null,null,{"$f":"IF(LEN(A274)>0,VLOOKUP(A274,Subcontractors!$A$2:$B$4,2,FALSE),\"\")","v":""}]
[null,null,null,null,null,null,null,null,null,null,null,null,null,null,null,null,null,null,null,null,null,null,null,{"$f":"IF(LEN(Z275)>0,VLOOKUP(Z275,'TFW Programs'!$A$2:$B$8,2,FALSE),\"\")","v":""},null,null,{"$f":"IF(LEN(A275)>0,VLOOKUP(A275,Subcontractors!$A$2:$B$4,2,FALSE),\"\")","v":""}]
[null,null,null,null,null,null,null,null,null,null,null,null,null,null,null,null,null,null,null,null,null,null,null,{"$f":"IF(LEN(Z276)>0,VLOOKUP(Z276,'TFW Programs'!$A$2:$B$8,2,FALSE),\"\")","v":""},null,null,{"$f":"IF(LEN(A276)>0,VLOOKUP(A276,Subcontractors!$A$2:$B$4,2,FALSE),\"\")","v":""}]
[null,null,null,null,null,null,null,null,null,null,null,null,null,null,null,null,null,null,null,null,null,null,null,{"$f":"IF(LEN(Z277)>0,VLOOKUP(Z277,'TFW Programs'!$A$2:$B$8,2,FALSE),\"\")","v":""},null,null,{"$f":"IF(LEN(A277)>0,VLOOKUP(A277,Subcontractors!$A$2:$B$4,2,FALSE),\"\")","v":""}]
[null,null,null,null,null,null,null,null,null,null,null,null,null,null,null,null,null,null,null,null,null,null,null,{"$f":"IF(LEN(Z278)>0,VLOOKUP(Z278,'TFW Programs'!$A$2:$B$8,2,FALSE),\"\")","v":""},null,null,{"$f":"IF(LEN(A278)>0,VLOOKUP(A278,Subcontractors!$A$2:$B$4,2,FALSE),\"\")","v":""}]
[null,null,null,null,null,null,null,null,null,null,null,null,null,null,null,null,null,null,null,null,null,null,null,{"$f":"IF(LEN(Z279)>0,VLOOKUP(Z279,'TFW Programs'!$A$2:$B$8,2,FALSE),\"\")","v":""},null,null,{"$f":"IF(LEN(A279)>0,VLOOKUP(A279,Subcontractors!$A$2:$B$4,2,FALSE),\"\")","v":""}]
[null,null,null,null,null,null,null,null,null,null,null,null,null,null,null,null,null,null,null,null,null,null,null,{"$f":"IF(LEN(Z280)>0,VLOOKUP(Z280,'TFW Programs'!$A$2:$B$8,2,FALSE),\"\")","v":""},null,null,{"$f":"IF(LEN(A280)>0,VLOOKUP(A280,Subcontractors!$A$2:$B$4,2,FALSE),\"\")","v":""}]
[null,null,null,null,null,null,null,null,null,null,null,null,null,null,null,null,null,null,null,null,null,null,null,{"$f":"IF(LEN(Z281)>0,VLOOKUP(Z281,'TFW Programs'!$A$2:$B$8,2,FALSE),\"\")","v":""},null,null,{"$f":"IF(LEN(A281)>0,VLOOKUP(A281,Subcontractors!$A$2:$B$4,2,FALSE),\"\")","v":""}]
[null,null,null,null,null,null,null,null,null,null,null,null,null,null,null,null,null,null,null,null,null,null,null,{"$f":"IF(LEN(Z282)>0,VLOOKUP(Z282,'TFW Programs'!$A$2:$B$8,2,FALSE),\"\")","v":""},null,null,{"$f":"IF(LEN(A282)>0,VLOOKUP(A282,Subcontractors!$A$2:$B$4,2,FALSE),\"\")","v":""}]
[null,null,null,null,null,null,null,null,null,null,null,null,null,null,null,null,null,null,null,null,null,null,null,{"$f":"IF(LEN(Z283)>0,VLOOKUP(Z283,'TFW Programs'!$A$2:$B$8,2,FALSE),\"\")","v":""},null,null,{"$f":"IF(LEN(A283)>0,VLOOKUP(A283,Subcontractors!$A$2:$B$4,2,FALSE),\"\")","v":""}]
[null,null,null,null,null,null,null,null,null,null,null,null,null,null,null,null,null,null,null,null,null,null,null,{"$f":"IF(LEN(Z284)>0,VLOOKUP(Z284,'TFW Programs'!$A$2:$B$8,2,FALSE),\"\")","v":""},null,null,{"$f":"IF(LEN(A284)>0,VLOOKUP(A284,Subcontractors!$A$2:$B$4,2,FALSE),\"\")","v":""}]
[null,null,null,null,null,null,null,null,null,null,null,null,null,null,null,null,null,null,null,null,null,null,null,{"$f":"IF(LEN(Z285)>0,VLOOKUP(Z285,'TFW Programs'!$A$2:$B$8,2,FALSE),\"\")","v":""},null,null,{"$f":"IF(LEN(A285)>0,VLOOKUP(A285,Subcontractors!$A$2:$B$4,2,FALSE),\"\")","v":""}]
[null,null,null,null,null,null,null,null,null,null,null,null,null,null,null,null,null,null,null,null,null,null,null,{"$f":"IF(LEN(Z286)>0,VLOOKUP(Z286,'TFW Programs'!$A$2:$B$8,2,FALSE),\"\")","v":""},null,null,{"$f":"IF(LEN(A286)>0,VLOOKUP(A286,Subcontractors!$A$2:$B$4,2,FALSE),\"\")","v":""}]
[null,null,null,null,null,null,null,null,null,null,null,null,null,null,null,null,null,null,null,null,null,null,null,{"$f":"IF(LEN(Z287)>0,VLOOKUP(Z287,'TFW Programs'!$A$2:$B$8,2,FALSE),\"\")","v":""},null,null,{"$f":"IF(LEN(A287)>0,VLOOKUP(A287,Subcontractors!$A$2:$B$4,2,FALSE),\"\")","v":""}]
[null,null,null,null,null,null,null,null,null,null,null,null,null,null,null,null,null,null,null,null,null,null,null,{"$f":"IF(LEN(Z288)>0,VLOOKUP(Z288,'TFW Programs'!$A$2:$B$8,2,FALSE),\"\")","v":""},null,null,{"$f":"IF(LEN(A288)>0,VLOOKUP(A288,Subcontractors!$A$2:$B$4,2,FALSE),\"\")","v":""}]
[null,null,null,null,null,null,null,null,null,null,null,null,null,null,null,null,null,null,null,null,null,null,null,{"$f":"IF(LEN(Z289)>0,VLOOKUP(Z289,'TFW Programs'!$A$2:$B$8,2,FALSE),\"\")","v":""},null,null,{"$f":"IF(LEN(A289)>0,VLOOKUP(A289,Subcontractors!$A$2:$B$4,2,FALSE),\"\")","v":""}]
[null,null,null,null,null,null,null,null,null,null,null,null,null,null,null,null,null,null,null,null,null,null,null,{"$f":"IF(LEN(Z290)>0,VLOOKUP(Z290,'TFW Programs'!$A$2:$B$8,2,FALSE),\"\")","v":""},null,null,{"$f":"IF(LEN(A290)>0,VLOOKUP(A290,Subcontractors!$A$2:$B$4,2,FALSE),\"\")","v":""}]
[null,null,null,null,null,null,null,null,null,null,null,null,null,null,null,null,null,null,null,null,null,null,null,{"$f":"IF(LEN(Z291)>0,VLOOKUP(Z291,'TFW Programs'!$A$2:$B$8,2,FALSE),\"\")","v":""},null,null,{"$f":"IF(LEN(A291)>0,VLOOKUP(A291,Subcontractors!$A$2:$B$4,2,FALSE),\"\")","v":""}]
[null,null,null,null,null,null,null,null,null,null,null,null,null,null,null,null,null,null,null,null,null,null,null,{"$f":"IF(LEN(Z292)>0,VLOOKUP(Z292,'TFW Programs'!$A$2:$B$8,2,FALSE),\"\")","v":""},null,null,{"$f":"IF(LEN(A292)>0,VLOOKUP(A292,Subcontractors!$A$2:$B$4,2,FALSE),\"\")","v":""}]
[null,null,null,null,null,null,null,null,null,null,null,null,null,null,null,null,null,null,null,null,null,null,null,{"$f":"IF(LEN(Z293)>0,VLOOKUP(Z293,'TFW Programs'!$A$2:$B$8,2,FALSE),\"\")","v":""},null,null,{"$f":"IF(LEN(A293)>0,VLOOKUP(A293,Subcontractors!$A$2:$B$4,2,FALSE),\"\")","v":""}]
[null,null,null,null,null,null,null,null,null,null,null,null,null,null,null,null,null,null,null,null,null,null,null,{"$f":"IF(LEN(Z294)>0,VLOOKUP(Z294,'TFW Programs'!$A$2:$B$8,2,FALSE),\"\")","v":""},null,null,{"$f":"IF(LEN(A294)>0,VLOOKUP(A294,Subcontractors!$A$2:$B$4,2,FALSE),\"\")","v":""}]
[null,null,null,null,null,null,null,null,null,null,null,null,null,null,null,null,null,null,null,null,null,null,null,{"$f":"IF(LEN(Z295)>0,VLOOKUP(Z295,'TFW Programs'!$A$2:$B$8,2,FALSE),\"\")","v":""},null,null,{"$f":"IF(LEN(A295)>0,VLOOKUP(A295,Subcontractors!$A$2:$B$4,2,FALSE),\"\")","v":""}]
[null,null,null,null,null,null,null,null,null,null,null,null,null,null,null,null,null,null,null,null,null,null,null,{"$f":"IF(LEN(Z296)>0,VLOOKUP(Z296,'TFW Programs'!$A$2:$B$8,2,FALSE),\"\")","v":""},null,null,{"$f":"IF(LEN(A296)>0,VLOOKUP(A296,Subcontractors!$A$2:$B$4,2,FALSE),\"\")","v":""}]
[null,null,null,null,null,null,null,null,null,null,null,null,null,null,null,null,null,null,null,null,null,null,null,{"$f":"IF(LEN(Z297)>0,VLOOKUP(Z297,'TFW Programs'!$A$2:$B$8,2,FALSE),\"\")","v":""},null,null,{"$f":"IF(LEN(A297)>0,VLOOKUP(A297,Subcontractors!$A$2:$B$4,2,FALSE),\"\")","v":""}]
[null,null,null,null,null,null,null,null,null,null,null,null,null,null,null,null,null,null,null,null,null,null,null,{"$f":"IF(LEN(Z298)>0,VLOOKUP(Z298,'TFW Programs'!$A$2:$B$8,2,FALSE),\"\")","v":""},null,null,{"$f":"IF(LEN(A298)>0,VLOOKUP(A298,Subcontractors!$A$2:$B$4,2,FALSE),\"\")","v":""}]
[null,null,null,null,null,null,null,null,null,null,null,null,null,null,null,null,null,null,null,null,null,null,null,{"$f":"IF(LEN(Z299)>0,VLOOKUP(Z299,'TFW Programs'!$A$2:$B$8,2,FALSE),\"\")","v":""},null,null,{"$f":"IF(LEN(A299)>0,VLOOKUP(A299,Subcontractors!$A$2:$B$4,2,FALSE),\"\")","v":""}]
[null,null,null,null,null,null,null,null,null,null,null,null,null,null,null,null,null,null,null,null,null,null,null,{"$f":"IF(LEN(Z300)>0,VLOOKUP(Z300,'TFW Programs'!$A$2:$B$8,2,FALSE),\"\")","v":""},null,null,{"$f":"IF(LEN(A300)>0,VLOOKUP(A300,Subcontractors!$A$2:$B$4,2,FALSE),\"\")","v":""}]
[null,null,null,null,null,null,null,null,null,null,null,null,null,null,null,null,null,null,null,null,null,null,null,{"$f":"IF(LEN(Z301)>0,VLOOKUP(Z301,'TFW Programs'!$A$2:$B$8,2,FALSE),\"\")","v":""},null,null,{"$f":"IF(LEN(A301)>0,VLOOKUP(A301,Subcontractors!$A$2:$B$4,2,FALSE),\"\")","v":""}]
[null,null,null,null,null,null,null,null,null,null,null,null,null,null,null,null,null,null,null,null,null,null,null,{"$f":"IF(LEN(Z302)>0,VLOOKUP(Z302,'TFW Programs'!$A$2:$B$8,2,FALSE),\"\")","v":""},null,null,{"$f":"IF(LEN(A302)>0,VLOOKUP(A302,Subcontractors!$A$2:$B$4,2,FALSE),\"\")","v":""}]
[null,null,null,null,null,null,null,null,null,null,null,null,null,null,null,null,null,null,null,null,null,null,null,{"$f":"IF(LEN(Z303)>0,VLOOKUP(Z303,'TFW Programs'!$A$2:$B$8,2,FALSE),\"\")","v":""},null,null,{"$f":"IF(LEN(A303)>0,VLOOKUP(A303,Subcontractors!$A$2:$B$4,2,FALSE),\"\")","v":""}]
[null,null,null,null,null,null,null,null,null,null,null,null,null,null,null,null,null,null,null,null,null,null,null,{"$f":"IF(LEN(Z304)>0,VLOOKUP(Z304,'TFW Programs'!$A$2:$B$8,2,FALSE),\"\")","v":""},null,null,{"$f":"IF(LEN(A304)>0,VLOOKUP(A304,Subcontractors!$A$2:$B$4,2,FALSE),\"\")","v":""}]
[null,null,null,null,null,null,null,null,null,null,null,null,null,null,null,null,null,null,null,null,null,null,null,{"$f":"IF(LEN(Z305)>0,VLOOKUP(Z305,'TFW Programs'!$A$2:$B$8,2,FALSE),\"\")","v":""},null,null,{"$f":"IF(LEN(A305)>0,VLOOKUP(A305,Subcontractors!$A$2:$B$4,2,FALSE),\"\")","v":""}]
[null,null,null,null,null,null,null,null,null,null,null,null,null,null,null,null,null,null,null,null,null,null,null,{"$f":"IF(LEN(Z306)>0,VLOOKUP(Z306,'TFW Programs'!$A$2:$B$8,2,FALSE),\"\")","v":""},null,null,{"$f":"IF(LEN(A306)>0,VLOOKUP(A306,Subcontractors!$A$2:$B$4,2,FALSE),\"\")","v":""}]
[null,null,null,null,null,null,null,null,null,null,null,null,null,null,null,null,null,null,null,null,null,null,null,{"$f":"IF(LEN(Z307)>0,VLOOKUP(Z307,'TFW Programs'!$A$2:$B$8,2,FALSE),\"\")","v":""},null,null,{"$f":"IF(LEN(A307)>0,VLOOKUP(A307,Subcontractors!$A$2:$B$4,2,FALSE),\"\")","v":""}]
[null,null,null,null,null,null,null,null,null,null,null,null,null,null,null,null,null,null,null,null,null,null,null,{"$f":"IF(LEN(Z308)>0,VLOOKUP(Z308,'TFW Programs'!$A$2:$B$8,2,FALSE),\"\")","v":""},null,null,{"$f":"IF(LEN(A308)>0,VLOOKUP(A308,Subcontractors!$A$2:$B$4,2,FALSE),\"\")","v":""}]
[null,null,null,null,null,null,null,null,null,null,null,null,null,null,null,null,null,null,null,null,null,null,null,{"$f":"IF(LEN(Z309)>0,VLOOKUP(Z309,'TFW Programs'!$A$2:$B$8,2,FALSE),\"\")","v":""},null,null,{"$f":"IF(LEN(A309)>0,VLOOKUP(A309,Subcontractors!$A$2:$B$4,2,FALSE),\"\")","v":""}]
[null,null,null,null,null,null,null,null,null,null,null,null,null,null,null,null,null,null,null,null,null,null,null,{"$f":"IF(LEN(Z310)>0,VLOOKUP(Z310,'TFW Programs'!$A$2:$B$8,2,FALSE),\"\")","v":""},null,null,{"$f":"IF(LEN(A310)>0,VLOOKUP(A310,Subcontractors!$A$2:$B$4,2,FALSE),\"\")","v":""}]
[null,null,null,null,null,null,null,null,null,null,null,null,null,null,null,null,null,null,null,null,null,null,null,{"$f":"IF(LEN(Z311)>0,VLOOKUP(Z311,'TFW Programs'!$A$2:$B$8,2,FALSE),\"\")","v":""},null,null,{"$f":"IF(LEN(A311)>0,VLOOKUP(A311,Subcontractors!$A$2:$B$4,2,FALSE),\"\")","v":""}]
[null,null,null,null,null,null,null,null,null,null,null,null,null,null,null,null,null,null,null,null,null,null,null,{"$f":"IF(LEN(Z312)>0,VLOOKUP(Z312,'TFW Programs'!$A$2:$B$8,2,FALSE),\"\")","v":""},null,null,{"$f":"IF(LEN(A312)>0,VLOOKUP(A312,Subcontractors!$A$2:$B$4,2,FALSE),\"\")","v":""}]
[null,null,null,null,null,null,null,null,null,null,null,null,null,null,null,null,null,null,null,null,null,null,null,{"$f":"IF(LEN(Z313)>0,VLOOKUP(Z313,'TFW Programs'!$A$2:$B$8,2,FALSE),\"\")","v":""},null,null,{"$f":"IF(LEN(A313)>0,VLOOKUP(A313,Subcontractors!$A$2:$B$4,2,FALSE),\"\")","v":""}]
[null,null,null,null,null,null,null,null,null,null,null,null,null,null,null,null,null,null,null,null,null,null,null,{"$f":"IF(LEN(Z314)>0,VLOOKUP(Z314,'TFW Programs'!$A$2:$B$8,2,FALSE),\"\")","v":""},null,null,{"$f":"IF(LEN(A314)>0,VLOOKUP(A314,Subcontractors!$A$2:$B$4,2,FALSE),\"\")","v":""}]
[null,null,null,null,null,null,null,null,null,null,null,null,null,null,null,null,null,null,null,null,null,null,null,{"$f":"IF(LEN(Z315)>0,VLOOKUP(Z315,'TFW Programs'!$A$2:$B$8,2,FALSE),\"\")","v":""},null,null,{"$f":"IF(LEN(A315)>0,VLOOKUP(A315,Subcontractors!$A$2:$B$4,2,FALSE),\"\")","v":""}]
[null,null,null,null,null,null,null,null,null,null,null,null,null,null,null,null,null,null,null,null,null,null,null,{"$f":"IF(LEN(Z316)>0,VLOOKUP(Z316,'TFW Programs'!$A$2:$B$8,2,FALSE),\"\")","v":""},null,null,{"$f":"IF(LEN(A316)>0,VLOOKUP(A316,Subcontractors!$A$2:$B$4,2,FALSE),\"\")","v":""}]
[null,null,null,null,null,null,null,null,null,null,null,null,null,null,null,null,null,null,null,null,null,null,null,{"$f":"IF(LEN(Z317)>0,VLOOKUP(Z317,'TFW Programs'!$A$2:$B$8,2,FALSE),\"\")","v":""},null,null,{"$f":"IF(LEN(A317)>0,VLOOKUP(A317,Subcontractors!$A$2:$B$4,2,FALSE),\"\")","v":""}]
[null,null,null,null,null,null,null,null,null,null,null,null,null,null,null,null,null,null,null,null,null,null,null,{"$f":"IF(LEN(Z318)>0,VLOOKUP(Z318,'TFW Programs'!$A$2:$B$8,2,FALSE),\"\")","v":""},null,null,{"$f":"IF(LEN(A318)>0,VLOOKUP(A318,Subcontractors!$A$2:$B$4,2,FALSE),\"\")","v":""}]
[null,null,null,null,null,null,null,null,null,null,null,null,null,null,null,null,null,null,null,null,null,null,null,{"$f":"IF(LEN(Z319)>0,VLOOKUP(Z319,'TFW Programs'!$A$2:$B$8,2,FALSE),\"\")","v":""},null,null,{"$f":"IF(LEN(A319)>0,VLOOKUP(A319,Subcontractors!$A$2:$B$4,2,FALSE),\"\")","v":""}]
[null,null,null,null,null,null,null,null,null,null,null,null,null,null,null,null,null,null,null,null,null,null,null,{"$f":"IF(LEN(Z320)>0,VLOOKUP(Z320,'TFW Programs'!$A$2:$B$8,2,FALSE),\"\")","v":""},null,null,{"$f":"IF(LEN(A320)>0,VLOOKUP(A320,Subcontractors!$A$2:$B$4,2,FALSE),\"\")","v":""}]
[null,null,null,null,null,null,null,null,null,null,null,null,null,null,null,null,null,null,null,null,null,null,null,{"$f":"IF(LEN(Z321)>0,VLOOKUP(Z321,'TFW Programs'!$A$2:$B$8,2,FALSE),\"\")","v":""},null,null,{"$f":"IF(LEN(A321)>0,VLOOKUP(A321,Subcontractors!$A$2:$B$4,2,FALSE),\"\")","v":""}]
[null,null,null,null,null,null,null,null,null,null,null,null,null,null,null,null,null,null,null,null,null,null,null,{"$f":"IF(LEN(Z322)>0,VLOOKUP(Z322,'TFW Programs'!$A$2:$B$8,2,FALSE),\"\")","v":""},null,null,{"$f":"IF(LEN(A322)>0,VLOOKUP(A322,Subcontractors!$A$2:$B$4,2,FALSE),\"\")","v":""}]
[null,null,null,null,null,null,null,null,null,null,null,null,null,null,null,null,null,null,null,null,null,null,null,{"$f":"IF(LEN(Z323)>0,VLOOKUP(Z323,'TFW Programs'!$A$2:$B$8,2,FALSE),\"\")","v":""},null,null,{"$f":"IF(LEN(A323)>0,VLOOKUP(A323,Subcontractors!$A$2:$B$4,2,FALSE),\"\")","v":""}]
[null,null,null,null,null,null,null,null,null,null,null,null,null,null,null,null,null,null,null,null,null,null,null,{"$f":"IF(LEN(Z324)>0,VLOOKUP(Z324,'TFW Programs'!$A$2:$B$8,2,FALSE),\"\")","v":""},null,null,{"$f":"IF(LEN(A324)>0,VLOOKUP(A324,Subcontractors!$A$2:$B$4,2,FALSE),\"\")","v":""}]
[null,null,null,null,null,null,null,null,null,null,null,null,null,null,null,null,null,null,null,null,null,null,null,{"$f":"IF(LEN(Z325)>0,VLOOKUP(Z325,'TFW Programs'!$A$2:$B$8,2,FALSE),\"\")","v":""},null,null,{"$f":"IF(LEN(A325)>0,VLOOKUP(A325,Subcontractors!$A$2:$B$4,2,FALSE),\"\")","v":""}]
[null,null,null,null,null,null,null,null,null,null,null,null,null,null,null,null,null,null,null,null,null,null,null,{"$f":"IF(LEN(Z326)>0,VLOOKUP(Z326,'TFW Programs'!$A$2:$B$8,2,FALSE),\"\")","v":""},null,null,{"$f":"IF(LEN(A326)>0,VLOOKUP(A326,Subcontractors!$A$2:$B$4,2,FALSE),\"\")","v":""}]
[null,null,null,null,null,null,null,null,null,null,null,null,null,null,null,null,null,null,null,null,null,null,null,{"$f":"IF(LEN(Z327)>0,VLOOKUP(Z327,'TFW Programs'!$A$2:$B$8,2,FALSE),\"\")","v":""},null,null,{"$f":"IF(LEN(A327)>0,VLOOKUP(A327,Subcontractors!$A$2:$B$4,2,FALSE),\"\")","v":""}]
[null,null,null,null,null,null,null,null,null,null,null,null,null,null,null,null,null,null,null,null,null,null,null,{"$f":"IF(LEN(Z328)>0,VLOOKUP(Z328,'TFW Programs'!$A$2:$B$8,2,FALSE),\"\")","v":""},null,null,{"$f":"IF(LEN(A328)>0,VLOOKUP(A328,Subcontractors!$A$2:$B$4,2,FALSE),\"\")","v":""}]
[null,null,null,null,null,null,null,null,null,null,null,null,null,null,null,null,null,null,null,null,null,null,null,{"$f":"IF(LEN(Z329)>0,VLOOKUP(Z329,'TFW Programs'!$A$2:$B$8,2,FALSE),\"\")","v":""},null,null,{"$f":"IF(LEN(A329)>0,VLOOKUP(A329,Subcontractors!$A$2:$B$4,2,FALSE),\"\")","v":""}]
[null,null,null,null,null,null,null,null,null,null,null,null,null,null,null,null,null,null,null,null,null,null,null,{"$f":"IF(LEN(Z330)>0,VLOOKUP(Z330,'TFW Programs'!$A$2:$B$8,2,FALSE),\"\")","v":""},null,null,{"$f":"IF(LEN(A330)>0,VLOOKUP(A330,Subcontractors!$A$2:$B$4,2,FALSE),\"\")","v":""}]
[null,null,null,null,null,null,null,null,null,null,null,null,null,null,null,null,null,null,null,null,null,null,null,{"$f":"IF(LEN(Z331)>0,VLOOKUP(Z331,'TFW Programs'!$A$2:$B$8,2,FALSE),\"\")","v":""},null,null,{"$f":"IF(LEN(A331)>0,VLOOKUP(A331,Subcontractors!$A$2:$B$4,2,FALSE),\"\")","v":""}]
[null,null,null,null,null,null,null,null,null,null,null,null,null,null,null,null,null,null,null,null,null,null,null,{"$f":"IF(LEN(Z332)>0,VLOOKUP(Z332,'TFW Programs'!$A$2:$B$8,2,FALSE),\"\")","v":""},null,null,{"$f":"IF(LEN(A332)>0,VLOOKUP(A332,Subcontractors!$A$2:$B$4,2,FALSE),\"\")","v":""}]
[null,null,null,null,null,null,null,null,null,null,null,null,null,null,null,null,null,null,null,null,null,null,null,{"$f":"IF(LEN(Z333)>0,VLOOKUP(Z333,'TFW Programs'!$A$2:$B$8,2,FALSE),\"\")","v":""},null,null,{"$f":"IF(LEN(A333)>0,VLOOKUP(A333,Subcontractors!$A$2:$B$4,2,FALSE),\"\")","v":""}]
[null,null,null,null,null,null,null,null,null,null,null,null,null,null,null,null,null,null,null,null,null,null,null,{"$f":"IF(LEN(Z334)>0,VLOOKUP(Z334,'TFW Programs'!$A$2:$B$8,2,FALSE),\"\")","v":""},null,null,{"$f":"IF(LEN(A334)>0,VLOOKUP(A334,Subcontractors!$A$2:$B$4,2,FALSE),\"\")","v":""}]
[null,null,null,null,null,null,null,null,null,null,null,null,null,null,null,null,null,null,null,null,null,null,null,{"$f":"IF(LEN(Z335)>0,VLOOKUP(Z335,'TFW Programs'!$A$2:$B$8,2,FALSE),\"\")","v":""},null,null,{"$f":"IF(LEN(A335)>0,VLOOKUP(A335,Subcontractors!$A$2:$B$4,2,FALSE),\"\")","v":""}]
[null,null,null,null,null,null,null,null,null,null,null,null,null,null,null,null,null,null,null,null,null,null,null,{"$f":"IF(LEN(Z336)>0,VLOOKUP(Z336,'TFW Programs'!$A$2:$B$8,2,FALSE),\"\")","v":""},null,null,{"$f":"IF(LEN(A336)>0,VLOOKUP(A336,Subcontractors!$A$2:$B$4,2,FALSE),\"\")","v":""}]
[null,null,null,null,null,null,null,null,null,null,null,null,null,null,null,null,null,null,null,null,null,null,null,{"$f":"IF(LEN(Z337)>0,VLOOKUP(Z337,'TFW Programs'!$A$2:$B$8,2,FALSE),\"\")","v":""},null,null,{"$f":"IF(LEN(A337)>0,VLOOKUP(A337,Subcontractors!$A$2:$B$4,2,FALSE),\"\")","v":""}]
[null,null,null,null,null,null,null,null,null,null,null,null,null,null,null,null,null,null,null,null,null,null,null,{"$f":"IF(LEN(Z338)>0,VLOOKUP(Z338,'TFW Programs'!$A$2:$B$8,2,FALSE),\"\")","v":""},null,null,{"$f":"IF(LEN(A338)>0,VLOOKUP(A338,Subcontractors!$A$2:$B$4,2,FALSE),\"\")","v":""}]
[null,null,null,null,null,null,null,null,null,null,null,null,null,null,null,null,null,null,null,null,null,null,null,{"$f":"IF(LEN(Z339)>0,VLOOKUP(Z339,'TFW Programs'!$A$2:$B$8,2,FALSE),\"\")","v":""},null,null,{"$f":"IF(LEN(A339)>0,VLOOKUP(A339,Subcontractors!$A$2:$B$4,2,FALSE),\"\")","v":""}]
[null,null,null,null,null,null,null,null,null,null,null,null,null,null,null,null,null,null,null,null,null,null,null,{"$f":"IF(LEN(Z340)>0,VLOOKUP(Z340,'TFW Programs'!$A$2:$B$8,2,FALSE),\"\")","v":""},null,null,{"$f":"IF(LEN(A340)>0,VLOOKUP(A340,Subcontractors!$A$2:$B$4,2,FALSE),\"\")","v":""}]
[null,null,null,null,null,null,null,null,null,null,null,null,null,null,null,null,null,null,null,null,null,null,null,{"$f":"IF(LEN(Z341)>0,VLOOKUP(Z341,'TFW Programs'!$A$2:$B$8,2,FALSE),\"\")","v":""},null,null,{"$f":"IF(LEN(A341)>0,VLOOKUP(A341,Subcontractors!$A$2:$B$4,2,FALSE),\"\")","v":""}]
[null,null,null,null,null,null,null,null,null,null,null,null,null,null,null,null,null,null,null,null,null,null,null,{"$f":"IF(LEN(Z342)>0,VLOOKUP(Z342,'TFW Programs'!$A$2:$B$8,2,FALSE),\"\")","v":""},null,null,{"$f":"IF(LEN(A342)>0,VLOOKUP(A342,Subcontractors!$A$2:$B$4,2,FALSE),\"\")","v":""}]
[null,null,null,null,null,null,null,null,null,null,null,null,null,null,null,null,null,null,null,null,null,null,null,{"$f":"IF(LEN(Z343)>0,VLOOKUP(Z343,'TFW Programs'!$A$2:$B$8,2,FALSE),\"\")","v":""},null,null,{"$f":"IF(LEN(A343)>0,VLOOKUP(A343,Subcontractors!$A$2:$B$4,2,FALSE),\"\")","v":""}]
[null,null,null,null,null,null,null,null,null,null,null,null,null,null,null,null,null,null,null,null,null,null,null,{"$f":"IF(LEN(Z344)>0,VLOOKUP(Z344,'TFW Programs'!$A$2:$B$8,2,FALSE),\"\")","v":""},null,null,{"$f":"IF(LEN(A344)>0,VLOOKUP(A344,Subcontractors!$A$2:$B$4,2,FALSE),\"\")","v":""}]
[null,null,null,null,null,null,null,null,null,null,null,null,null,null,null,null,null,null,null,null,null,null,null,{"$f":"IF(LEN(Z345)>0,VLOOKUP(Z345,'TFW Programs'!$A$2:$B$8,2,FALSE),\"\")","v":""},null,null,{"$f":"IF(LEN(A345)>0,VLOOKUP(A345,Subcontractors!$A$2:$B$4,2,FALSE),\"\")","v":""}]
[null,null,null,null,null,null,null,null,null,null,null,null,null,null,null,null,null,null,null,null,null,null,null,{"$f":"IF(LEN(Z346)>0,VLOOKUP(Z346,'TFW Programs'!$A$2:$B$8,2,FALSE),\"\")","v":""},null,null,{"$f":"IF(LEN(A346)>0,VLOOKUP(A346,Subcontractors!$A$2:$B$4,2,FALSE),\"\")","v":""}]
[null,null,null,null,null,null,null,null,null,null,null,null,null,null,null,null,null,null,null,null,null,null,null,{"$f":"IF(LEN(Z347)>0,VLOOKUP(Z347,'TFW Programs'!$A$2:$B$8,2,FALSE),\"\")","v":""},null,null,{"$f":"IF(LEN(A347)>0,VLOOKUP(A347,Subcontractors!$A$2:$B$4,2,FALSE),\"\")","v":""}]
[null,null,null,null,null,null,null,null,null,null,null,null,null,null,null,null,null,null,null,null,null,null,null,{"$f":"IF(LEN(Z348)>0,VLOOKUP(Z348,'TFW Programs'!$A$2:$B$8,2,FALSE),\"\")","v":""},null,null,{"$f":"IF(LEN(A348)>0,VLOOKUP(A348,Subcontractors!$A$2:$B$4,2,FALSE),\"\")","v":""}]
[null,null,null,null,null,null,null,null,null,null,null,null,null,null,null,null,null,null,null,null,null,null,null,{"$f":"IF(LEN(Z349)>0,VLOOKUP(Z349,'TFW Programs'!$A$2:$B$8,2,FALSE),\"\")","v":""},null,null,{"$f":"IF(LEN(A349)>0,VLOOKUP(A349,Subcontractors!$A$2:$B$4,2,FALSE),\"\")","v":""}]
[null,null,null,null,null,null,null,null,null,null,null,null,null,null,null,null,null,null,null,null,null,null,null,{"$f":"IF(LEN(Z350)>0,VLOOKUP(Z350,'TFW Programs'!$A$2:$B$8,2,FALSE),\"\")","v":""},null,null,{"$f":"IF(LEN(A350)>0,VLOOKUP(A350,Subcontractors!$A$2:$B$4,2,FALSE),\"\")","v":""}]
[null,null,null,null,null,null,null,null,null,null,null,null,null,null,null,null,null,null,null,null,null,null,null,{"$f":"IF(LEN(Z351)>0,VLOOKUP(Z351,'TFW Programs'!$A$2:$B$8,2,FALSE),\"\")","v":""},null,null,{"$f":"IF(LEN(A351)>0,VLOOKUP(A351,Subcontractors!$A$2:$B$4,2,FALSE),\"\")","v":""}]
[null,null,null,null,null,null,null,null,null,null,null,null,null,null,null,null,null,null,null,null,null,null,null,{"$f":"IF(LEN(Z352)>0,VLOOKUP(Z352,'TFW Programs'!$A$2:$B$8,2,FALSE),\"\")","v":""},null,null,{"$f":"IF(LEN(A352)>0,VLOOKUP(A352,Subcontractors!$A$2:$B$4,2,FALSE),\"\")","v":""}]
[null,null,null,null,null,null,null,null,null,null,null,null,null,null,null,null,null,null,null,null,null,null,null,{"$f":"IF(LEN(Z353)>0,VLOOKUP(Z353,'TFW Programs'!$A$2:$B$8,2,FALSE),\"\")","v":""},null,null,{"$f":"IF(LEN(A353)>0,VLOOKUP(A353,Subcontractors!$A$2:$B$4,2,FALSE),\"\")","v":""}]
[null,null,null,null,null,null,null,null,null,null,null,null,null,null,null,null,null,null,null,null,null,null,null,{"$f":"IF(LEN(Z354)>0,VLOOKUP(Z354,'TFW Programs'!$A$2:$B$8,2,FALSE),\"\")","v":""},null,null,{"$f":"IF(LEN(A354)>0,VLOOKUP(A354,Subcontractors!$A$2:$B$4,2,FALSE),\"\")","v":""}]
[null,null,null,null,null,null,null,null,null,null,null,null,null,null,null,null,null,null,null,null,null,null,null,{"$f":"IF(LEN(Z355)>0,VLOOKUP(Z355,'TFW Programs'!$A$2:$B$8,2,FALSE),\"\")","v":""},null,null,{"$f":"IF(LEN(A355)>0,VLOOKUP(A355,Subcontractors!$A$2:$B$4,2,FALSE),\"\")","v":""}]
[null,null,null,null,null,null,null,null,null,null,null,null,null,null,null,null,null,null,null,null,null,null,null,{"$f":"IF(LEN(Z356)>0,VLOOKUP(Z356,'TFW Programs'!$A$2:$B$8,2,FALSE),\"\")","v":""},null,null,{"$f":"IF(LEN(A356)>0,VLOOKUP(A356,Subcontractors!$A$2:$B$4,2,FALSE),\"\")","v":""}]
[null,null,null,null,null,null,null,null,null,null,null,null,null,null,null,null,null,null,null,null,null,null,null,{"$f":"IF(LEN(Z357)>0,VLOOKUP(Z357,'TFW Programs'!$A$2:$B$8,2,FALSE),\"\")","v":""},null,null,{"$f":"IF(LEN(A357)>0,VLOOKUP(A357,Subcontractors!$A$2:$B$4,2,FALSE),\"\")","v":""}]
[null,null,null,null,null,null,null,null,null,null,null,null,null,null,null,null,null,null,null,null,null,null,null,{"$f":"IF(LEN(Z358)>0,VLOOKUP(Z358,'TFW Programs'!$A$2:$B$8,2,FALSE),\"\")","v":""},null,null,{"$f":"IF(LEN(A358)>0,VLOOKUP(A358,Subcontractors!$A$2:$B$4,2,FALSE),\"\")","v":""}]
[null,null,null,null,null,null,null,null,null,null,null,null,null,null,null,null,null,null,null,null,null,null,null,{"$f":"IF(LEN(Z359)>0,VLOOKUP(Z359,'TFW Programs'!$A$2:$B$8,2,FALSE),\"\")","v":""},null,null,{"$f":"IF(LEN(A359)>0,VLOOKUP(A359,Subcontractors!$A$2:$B$4,2,FALSE),\"\")","v":""}]
[null,null,null,null,null,null,null,null,null,null,null,null,null,null,null,null,null,null,null,null,null,null,null,{"$f":"IF(LEN(Z360)>0,VLOOKUP(Z360,'TFW Programs'!$A$2:$B$8,2,FALSE),\"\")","v":""},null,null,{"$f":"IF(LEN(A360)>0,VLOOKUP(A360,Subcontractors!$A$2:$B$4,2,FALSE),\"\")","v":""}]
[null,null,null,null,null,null,null,null,null,null,null,null,null,null,null,null,null,null,null,null,null,null,null,{"$f":"IF(LEN(Z361)>0,VLOOKUP(Z361,'TFW Programs'!$A$2:$B$8,2,FALSE),\"\")","v":""},null,null,{"$f":"IF(LEN(A361)>0,VLOOKUP(A361,Subcontractors!$A$2:$B$4,2,FALSE),\"\")","v":""}]
[null,null,null,null,null,null,null,null,null,null,null,null,null,null,null,null,null,null,null,null,null,null,null,{"$f":"IF(LEN(Z362)>0,VLOOKUP(Z362,'TFW Programs'!$A$2:$B$8,2,FALSE),\"\")","v":""},null,null,{"$f":"IF(LEN(A362)>0,VLOOKUP(A362,Subcontractors!$A$2:$B$4,2,FALSE),\"\")","v":""}]
[null,null,null,null,null,null,null,null,null,null,null,null,null,null,null,null,null,null,null,null,null,null,null,{"$f":"IF(LEN(Z363)>0,VLOOKUP(Z363,'TFW Programs'!$A$2:$B$8,2,FALSE),\"\")","v":""},null,null,{"$f":"IF(LEN(A363)>0,VLOOKUP(A363,Subcontractors!$A$2:$B$4,2,FALSE),\"\")","v":""}]
[null,null,null,null,null,null,null,null,null,null,null,null,null,null,null,null,null,null,null,null,null,null,null,{"$f":"IF(LEN(Z364)>0,VLOOKUP(Z364,'TFW Programs'!$A$2:$B$8,2,FALSE),\"\")","v":""},null,null,{"$f":"IF(LEN(A364)>0,VLOOKUP(A364,Subcontractors!$A$2:$B$4,2,FALSE),\"\")","v":""}]
[null,null,null,null,null,null,null,null,null,null,null,null,null,null,null,null,null,null,null,null,null,null,null,{"$f":"IF(LEN(Z365)>0,VLOOKUP(Z365,'TFW Programs'!$A$2:$B$8,2,FALSE),\"\")","v":""},null,null,{"$f":"IF(LEN(A365)>0,VLOOKUP(A365,Subcontractors!$A$2:$B$4,2,FALSE),\"\")","v":""}]
[null,null,null,null,null,null,null,null,null,null,null,null,null,null,null,null,null,null,null,null,null,null,null,{"$f":"IF(LEN(Z366)>0,VLOOKUP(Z366,'TFW Programs'!$A$2:$B$8,2,FALSE),\"\")","v":""},null,null,{"$f":"IF(LEN(A366)>0,VLOOKUP(A366,Subcontractors!$A$2:$B$4,2,FALSE),\"\")","v":""}]
[null,null,null,null,null,null,null,null,null,null,null,null,null,null,null,null,null,null,null,null,null,null,null,{"$f":"IF(LEN(Z367)>0,VLOOKUP(Z367,'TFW Programs'!$A$2:$B$8,2,FALSE),\"\")","v":""},null,null,{"$f":"IF(LEN(A367)>0,VLOOKUP(A367,Subcontractors!$A$2:$B$4,2,FALSE),\"\")","v":""}]
[null,null,null,null,null,null,null,null,null,null,null,null,null,null,null,null,null,null,null,null,null,null,null,{"$f":"IF(LEN(Z368)>0,VLOOKUP(Z368,'TFW Programs'!$A$2:$B$8,2,FALSE),\"\")","v":""},null,null,{"$f":"IF(LEN(A368)>0,VLOOKUP(A368,Subcontractors!$A$2:$B$4,2,FALSE),\"\")","v":""}]
[null,null,null,null,null,null,null,null,null,null,null,null,null,null,null,null,null,null,null,null,null,null,null,{"$f":"IF(LEN(Z369)>0,VLOOKUP(Z369,'TFW Programs'!$A$2:$B$8,2,FALSE),\"\")","v":""},null,null,{"$f":"IF(LEN(A369)>0,VLOOKUP(A369,Subcontractors!$A$2:$B$4,2,FALSE),\"\")","v":""}]
[null,null,null,null,null,null,null,null,null,null,null,null,null,null,null,null,null,null,null,null,null,null,null,{"$f":"IF(LEN(Z370)>0,VLOOKUP(Z370,'TFW Programs'!$A$2:$B$8,2,FALSE),\"\")","v":""},null,null,{"$f":"IF(LEN(A370)>0,VLOOKUP(A370,Subcontractors!$A$2:$B$4,2,FALSE),\"\")","v":""}]
[null,null,null,null,null,null,null,null,null,null,null,null,null,null,null,null,null,null,null,null,null,null,null,{"$f":"IF(LEN(Z371)>0,VLOOKUP(Z371,'TFW Programs'!$A$2:$B$8,2,FALSE),\"\")","v":""},null,null,{"$f":"IF(LEN(A371)>0,VLOOKUP(A371,Subcontractors!$A$2:$B$4,2,FALSE),\"\")","v":""}]
[null,null,null,null,null,null,null,null,null,null,null,null,null,null,null,null,null,null,null,null,null,null,null,{"$f":"IF(LEN(Z372)>0,VLOOKUP(Z372,'TFW Programs'!$A$2:$B$8,2,FALSE),\"\")","v":""},null,null,{"$f":"IF(LEN(A372)>0,VLOOKUP(A372,Subcontractors!$A$2:$B$4,2,FALSE),\"\")","v":""}]
[null,null,null,null,null,null,null,null,null,null,null,null,null,null,null,null,null,null,null,null,null,null,null,{"$f":"IF(LEN(Z373)>0,VLOOKUP(Z373,'TFW Programs'!$A$2:$B$8,2,FALSE),\"\")","v":""},null,null,{"$f":"IF(LEN(A373)>0,VLOOKUP(A373,Subcontractors!$A$2:$B$4,2,FALSE),\"\")","v":""}]
[null,null,null,null,null,null,null,null,null,null,null,null,null,null,null,null,null,null,null,null,null,null,null,{"$f":"IF(LEN(Z374)>0,VLOOKUP(Z374,'TFW Programs'!$A$2:$B$8,2,FALSE),\"\")","v":""},null,null,{"$f":"IF(LEN(A374)>0,VLOOKUP(A374,Subcontractors!$A$2:$B$4,2,FALSE),\"\")","v":""}]
[null,null,null,null,null,null,null,null,null,null,null,null,null,null,null,null,null,null,null,null,null,null,null,{"$f":"IF(LEN(Z375)>0,VLOOKUP(Z375,'TFW Programs'!$A$2:$B$8,2,FALSE),\"\")","v":""},null,null,{"$f":"IF(LEN(A375)>0,VLOOKUP(A375,Subcontractors!$A$2:$B$4,2,FALSE),\"\")","v":""}]
[null,null,null,null,null,null,null,null,null,null,null,null,null,null,null,null,null,null,null,null,null,null,null,{"$f":"IF(LEN(Z376)>0,VLOOKUP(Z376,'TFW Programs'!$A$2:$B$8,2,FALSE),\"\")","v":""},null,null,{"$f":"IF(LEN(A376)>0,VLOOKUP(A376,Subcontractors!$A$2:$B$4,2,FALSE),\"\")","v":""}]
[null,null,null,null,null,null,null,null,null,null,null,null,null,null,null,null,null,null,null,null,null,null,null,{"$f":"IF(LEN(Z377)>0,VLOOKUP(Z377,'TFW Programs'!$A$2:$B$8,2,FALSE),\"\")","v":""},null,null,{"$f":"IF(LEN(A377)>0,VLOOKUP(A377,Subcontractors!$A$2:$B$4,2,FALSE),\"\")","v":""}]
[null,null,null,null,null,null,null,null,null,null,null,null,null,null,null,null,null,null,null,null,null,null,null,{"$f":"IF(LEN(Z378)>0,VLOOKUP(Z378,'TFW Programs'!$A$2:$B$8,2,FALSE),\"\")","v":""},null,null,{"$f":"IF(LEN(A378)>0,VLOOKUP(A378,Subcontractors!$A$2:$B$4,2,FALSE),\"\")","v":""}]
[null,null,null,null,null,null,null,null,null,null,null,null,null,null,null,null,null,null,null,null,null,null,null,{"$f":"IF(LEN(Z379)>0,VLOOKUP(Z379,'TFW Programs'!$A$2:$B$8,2,FALSE),\"\")","v":""},null,null,{"$f":"IF(LEN(A379)>0,VLOOKUP(A379,Subcontractors!$A$2:$B$4,2,FALSE),\"\")","v":""}]
[null,null,null,null,null,null,null,null,null,null,null,null,null,null,null,null,null,null,null,null,null,null,null,{"$f":"IF(LEN(Z380)>0,VLOOKUP(Z380,'TFW Programs'!$A$2:$B$8,2,FALSE),\"\")","v":""},null,null,{"$f":"IF(LEN(A380)>0,VLOOKUP(A380,Subcontractors!$A$2:$B$4,2,FALSE),\"\")","v":""}]
[null,null,null,null,null,null,null,null,null,null,null,null,null,null,null,null,null,null,null,null,null,null,null,{"$f":"IF(LEN(Z381)>0,VLOOKUP(Z381,'TFW Programs'!$A$2:$B$8,2,FALSE),\"\")","v":""},null,null,{"$f":"IF(LEN(A381)>0,VLOOKUP(A381,Subcontractors!$A$2:$B$4,2,FALSE),\"\")","v":""}]
[null,null,null,null,null,null,null,null,null,null,null,null,null,null,null,null,null,null,null,null,null,null,null,{"$f":"IF(LEN(Z382)>0,VLOOKUP(Z382,'TFW Programs'!$A$2:$B$8,2,FALSE),\"\")","v":""},null,null,{"$f":"IF(LEN(A382)>0,VLOOKUP(A382,Subcontractors!$A$2:$B$4,2,FALSE),\"\")","v":""}]
[null,null,null,null,null,null,null,null,null,null,null,null,null,null,null,null,null,null,null,null,null,null,null,{"$f":"IF(LEN(Z383)>0,VLOOKUP(Z383,'TFW Programs'!$A$2:$B$8,2,FALSE),\"\")","v":""},null,null,{"$f":"IF(LEN(A383)>0,VLOOKUP(A383,Subcontractors!$A$2:$B$4,2,FALSE),\"\")","v":""}]
[null,null,null,null,null,null,null,null,null,null,null,null,null,null,null,null,null,null,null,null,null,null,null,{"$f":"IF(LEN(Z384)>0,VLOOKUP(Z384,'TFW Programs'!$A$2:$B$8,2,FALSE),\"\")","v":""},null,null,{"$f":"IF(LEN(A384)>0,VLOOKUP(A384,Subcontractors!$A$2:$B$4,2,FALSE),\"\")","v":""}]
[null,null,null,null,null,null,null,null,null,null,null,null,null,null,null,null,null,null,null,null,null,null,null,{"$f":"IF(LEN(Z385)>0,VLOOKUP(Z385,'TFW Programs'!$A$2:$B$8,2,FALSE),\"\")","v":""},null,null,{"$f":"IF(LEN(A385)>0,VLOOKUP(A385,Subcontractors!$A$2:$B$4,2,FALSE),\"\")","v":""}]
[null,null,null,null,null,null,null,null,null,null,null,null,null,null,null,null,null,null,null,null,null,null,null,{"$f":"IF(LEN(Z386)>0,VLOOKUP(Z386,'TFW Programs'!$A$2:$B$8,2,FALSE),\"\")","v":""},null,null,{"$f":"IF(LEN(A386)>0,VLOOKUP(A386,Subcontractors!$A$2:$B$4,2,FALSE),\"\")","v":""}]
[null,null,null,null,null,null,null,null,null,null,null,null,null,null,null,null,null,null,null,null,null,null,null,{"$f":"IF(LEN(Z387)>0,VLOOKUP(Z387,'TFW Programs'!$A$2:$B$8,2,FALSE),\"\")","v":""},null,null,{"$f":"IF(LEN(A387)>0,VLOOKUP(A387,Subcontractors!$A$2:$B$4,2,FALSE),\"\")","v":""}]
[null,null,null,null,null,null,null,null,null,null,null,null,null,null,null,null,null,null,null,null,null,null,null,{"$f":"IF(LEN(Z388)>0,VLOOKUP(Z388,'TFW Programs'!$A$2:$B$8,2,FALSE),\"\")","v":""},null,null,{"$f":"IF(LEN(A388)>0,VLOOKUP(A388,Subcontractors!$A$2:$B$4,2,FALSE),\"\")","v":""}]
[null,null,null,null,null,null,null,null,null,null,null,null,null,null,null,null,null,null,null,null,null,null,null,{"$f":"IF(LEN(Z389)>0,VLOOKUP(Z389,'TFW Programs'!$A$2:$B$8,2,FALSE),\"\")","v":""},null,null,{"$f":"IF(LEN(A389)>0,VLOOKUP(A389,Subcontractors!$A$2:$B$4,2,FALSE),\"\")","v":""}]
[null,null,null,null,null,null,null,null,null,null,null,null,null,null,null,null,null,null,null,null,null,null,null,{"$f":"IF(LEN(Z390)>0,VLOOKUP(Z390,'TFW Programs'!$A$2:$B$8,2,FALSE),\"\")","v":""},null,null,{"$f":"IF(LEN(A390)>0,VLOOKUP(A390,Subcontractors!$A$2:$B$4,2,FALSE),\"\")","v":""}]
[null,null,null,null,null,null,null,null,null,null,null,null,null,null,null,null,null,null,null,null,null,null,null,{"$f":"IF(LEN(Z391)>0,VLOOKUP(Z391,'TFW Programs'!$A$2:$B$8,2,FALSE),\"\")","v":""},null,null,{"$f":"IF(LEN(A391)>0,VLOOKUP(A391,Subcontractors!$A$2:$B$4,2,FALSE),\"\")","v":""}]
[null,null,null,null,null,null,null,null,null,null,null,null,null,null,null,null,null,null,null,null,null,null,null,{"$f":"IF(LEN(Z392)>0,VLOOKUP(Z392,'TFW Programs'!$A$2:$B$8,2,FALSE),\"\")","v":""},null,null,{"$f":"IF(LEN(A392)>0,VLOOKUP(A392,Subcontractors!$A$2:$B$4,2,FALSE),\"\")","v":""}]
[null,null,null,null,null,null,null,null,null,null,null,null,null,null,null,null,null,null,null,null,null,null,null,{"$f":"IF(LEN(Z393)>0,VLOOKUP(Z393,'TFW Programs'!$A$2:$B$8,2,FALSE),\"\")","v":""},null,null,{"$f":"IF(LEN(A393)>0,VLOOKUP(A393,Subcontractors!$A$2:$B$4,2,FALSE),\"\")","v":""}]
[null,null,null,null,null,null,null,null,null,null,null,null,null,null,null,null,null,null,null,null,null,null,null,{"$f":"IF(LEN(Z394)>0,VLOOKUP(Z394,'TFW Programs'!$A$2:$B$8,2,FALSE),\"\")","v":""},null,null,{"$f":"IF(LEN(A394)>0,VLOOKUP(A394,Subcontractors!$A$2:$B$4,2,FALSE),\"\")","v":""}]
[null,null,null,null,null,null,null,null,null,null,null,null,null,null,null,null,null,null,null,null,null,null,null,{"$f":"IF(LEN(Z395)>0,VLOOKUP(Z395,'TFW Programs'!$A$2:$B$8,2,FALSE),\"\")","v":""},null,null,{"$f":"IF(LEN(A395)>0,VLOOKUP(A395,Subcontractors!$A$2:$B$4,2,FALSE),\"\")","v":""}]
[null,null,null,null,null,null,null,null,null,null,null,null,null,null,null,null,null,null,null,null,null,null,null,{"$f":"IF(LEN(Z396)>0,VLOOKUP(Z396,'TFW Programs'!$A$2:$B$8,2,FALSE),\"\")","v":""},null,null,{"$f":"IF(LEN(A396)>0,VLOOKUP(A396,Subcontractors!$A$2:$B$4,2,FALSE),\"\")","v":""}]
[null,null,null,null,null,null,null,null,null,null,null,null,null,null,null,null,null,null,null,null,null,null,null,{"$f":"IF(LEN(Z397)>0,VLOOKUP(Z397,'TFW Programs'!$A$2:$B$8,2,FALSE),\"\")","v":""},null,null,{"$f":"IF(LEN(A397)>0,VLOOKUP(A397,Subcontractors!$A$2:$B$4,2,FALSE),\"\")","v":""}]
[null,null,null,null,null,null,null,null,null,null,null,null,null,null,null,null,null,null,null,null,null,null,null,{"$f":"IF(LEN(Z398)>0,VLOOKUP(Z398,'TFW Programs'!$A$2:$B$8,2,FALSE),\"\")","v":""},null,null,{"$f":"IF(LEN(A398)>0,VLOOKUP(A398,Subcontractors!$A$2:$B$4,2,FALSE),\"\")","v":""}]
[null,null,null,null,null,null,null,null,null,null,null,null,null,null,null,null,null,null,null,null,null,null,null,{"$f":"IF(LEN(Z399)>0,VLOOKUP(Z399,'TFW Programs'!$A$2:$B$8,2,FALSE),\"\")","v":""},null,null,{"$f":"IF(LEN(A399)>0,VLOOKUP(A399,Subcontractors!$A$2:$B$4,2,FALSE),\"\")","v":""}]
[null,null,null,null,null,null,null,null,null,null,null,null,null,null,null,null,null,null,null,null,null,null,null,{"$f":"IF(LEN(Z400)>0,VLOOKUP(Z400,'TFW Programs'!$A$2:$B$8,2,FALSE),\"\")","v":""},null,null,{"$f":"IF(LEN(A400)>0,VLOOKUP(A400,Subcontractors!$A$2:$B$4,2,FALSE),\"\")","v":""}]
[null,null,null,null,null,null,null,null,null,null,null,null,null,null,null,null,null,null,null,null,null,null,null,{"$f":"IF(LEN(Z401)>0,VLOOKUP(Z401,'TFW Programs'!$A$2:$B$8,2,FALSE),\"\")","v":""},null,null,{"$f":"IF(LEN(A401)>0,VLOOKUP(A401,Subcontractors!$A$2:$B$4,2,FALSE),\"\")","v":""}]
[null,null,null,null,null,null,null,null,null,null,null,null,null,null,null,null,null,null,null,null,null,null,null,{"$f":"IF(LEN(Z402)>0,VLOOKUP(Z402,'TFW Programs'!$A$2:$B$8,2,FALSE),\"\")","v":""},null,null,{"$f":"IF(LEN(A402)>0,VLOOKUP(A402,Subcontractors!$A$2:$B$4,2,FALSE),\"\")","v":""}]
[null,null,null,null,null,null,null,null,null,null,null,null,null,null,null,null,null,null,null,null,null,null,null,{"$f":"IF(LEN(Z403)>0,VLOOKUP(Z403,'TFW Programs'!$A$2:$B$8,2,FALSE),\"\")","v":""},null,null,{"$f":"IF(LEN(A403)>0,VLOOKUP(A403,Subcontractors!$A$2:$B$4,2,FALSE),\"\")","v":""}]
[null,null,null,null,null,null,null,null,null,null,null,null,null,null,null,null,null,null,null,null,null,null,null,{"$f":"IF(LEN(Z404)>0,VLOOKUP(Z404,'TFW Programs'!$A$2:$B$8,2,FALSE),\"\")","v":""},null,null,{"$f":"IF(LEN(A404)>0,VLOOKUP(A404,Subcontractors!$A$2:$B$4,2,FALSE),\"\")","v":""}]
[null,null,null,null,null,null,null,null,null,null,null,null,null,null,null,null,null,null,null,null,null,null,null,{"$f":"IF(LEN(Z405)>0,VLOOKUP(Z405,'TFW Programs'!$A$2:$B$8,2,FALSE),\"\")","v":""},null,null,{"$f":"IF(LEN(A405)>0,VLOOKUP(A405,Subcontractors!$A$2:$B$4,2,FALSE),\"\")","v":""}]
[null,null,null,null,null,null,null,null,null,null,null,null,null,null,null,null,null,null,null,null,null,null,null,{"$f":"IF(LEN(Z406)>0,VLOOKUP(Z406,'TFW Programs'!$A$2:$B$8,2,FALSE),\"\")","v":""},null,null,{"$f":"IF(LEN(A406)>0,VLOOKUP(A406,Subcontractors!$A$2:$B$4,2,FALSE),\"\")","v":""}]
[null,null,null,null,null,null,null,null,null,null,null,null,null,null,null,null,null,null,null,null,null,null,null,{"$f":"IF(LEN(Z407)>0,VLOOKUP(Z407,'TFW Programs'!$A$2:$B$8,2,FALSE),\"\")","v":""},null,null,{"$f":"IF(LEN(A407)>0,VLOOKUP(A407,Subcontractors!$A$2:$B$4,2,FALSE),\"\")","v":""}]
[null,null,null,null,null,null,null,null,null,null,null,null,null,null,null,null,null,null,null,null,null,null,null,{"$f":"IF(LEN(Z408)>0,VLOOKUP(Z408,'TFW Programs'!$A$2:$B$8,2,FALSE),\"\")","v":""},null,null,{"$f":"IF(LEN(A408)>0,VLOOKUP(A408,Subcontractors!$A$2:$B$4,2,FALSE),\"\")","v":""}]
[null,null,null,null,null,null,null,null,null,null,null,null,null,null,null,null,null,null,null,null,null,null,null,{"$f":"IF(LEN(Z409)>0,VLOOKUP(Z409,'TFW Programs'!$A$2:$B$8,2,FALSE),\"\")","v":""},null,null,{"$f":"IF(LEN(A409)>0,VLOOKUP(A409,Subcontractors!$A$2:$B$4,2,FALSE),\"\")","v":""}]
[null,null,null,null,null,null,null,null,null,null,null,null,null,null,null,null,null,null,null,null,null,null,null,{"$f":"IF(LEN(Z410)>0,VLOOKUP(Z410,'TFW Programs'!$A$2:$B$8,2,FALSE),\"\")","v":""},null,null,{"$f":"IF(LEN(A410)>0,VLOOKUP(A410,Subcontractors!$A$2:$B$4,2,FALSE),\"\")","v":""}]
[null,null,null,null,null,null,null,null,null,null,null,null,null,null,null,null,null,null,null,null,null,null,null,{"$f":"IF(LEN(Z411)>0,VLOOKUP(Z411,'TFW Programs'!$A$2:$B$8,2,FALSE),\"\")","v":""},null,null,{"$f":"IF(LEN(A411)>0,VLOOKUP(A411,Subcontractors!$A$2:$B$4,2,FALSE),\"\")","v":""}]
[null,null,null,null,null,null,null,null,null,null,null,null,null,null,null,null,null,null,null,null,null,null,null,{"$f":"IF(LEN(Z412)>0,VLOOKUP(Z412,'TFW Programs'!$A$2:$B$8,2,FALSE),\"\")","v":""},null,null,{"$f":"IF(LEN(A412)>0,VLOOKUP(A412,Subcontractors!$A$2:$B$4,2,FALSE),\"\")","v":""}]
[null,null,null,null,null,null,null,null,null,null,null,null,null,null,null,null,null,null,null,null,null,null,null,{"$f":"IF(LEN(Z413)>0,VLOOKUP(Z413,'TFW Programs'!$A$2:$B$8,2,FALSE),\"\")","v":""},null,null,{"$f":"IF(LEN(A413)>0,VLOOKUP(A413,Subcontractors!$A$2:$B$4,2,FALSE),\"\")","v":""}]
[null,null,null,null,null,null,null,null,null,null,null,null,null,null,null,null,null,null,null,null,null,null,null,{"$f":"IF(LEN(Z414)>0,VLOOKUP(Z414,'TFW Programs'!$A$2:$B$8,2,FALSE),\"\")","v":""},null,null,{"$f":"IF(LEN(A414)>0,VLOOKUP(A414,Subcontractors!$A$2:$B$4,2,FALSE),\"\")","v":""}]
[null,null,null,null,null,null,null,null,null,null,null,null,null,null,null,null,null,null,null,null,null,null,null,{"$f":"IF(LEN(Z415)>0,VLOOKUP(Z415,'TFW Programs'!$A$2:$B$8,2,FALSE),\"\")","v":""},null,null,{"$f":"IF(LEN(A415)>0,VLOOKUP(A415,Subcontractors!$A$2:$B$4,2,FALSE),\"\")","v":""}]
[null,null,null,null,null,null,null,null,null,null,null,null,null,null,null,null,null,null,null,null,null,null,null,{"$f":"IF(LEN(Z416)>0,VLOOKUP(Z416,'TFW Programs'!$A$2:$B$8,2,FALSE),\"\")","v":""},null,null,{"$f":"IF(LEN(A416)>0,VLOOKUP(A416,Subcontractors!$A$2:$B$4,2,FALSE),\"\")","v":""}]
[null,null,null,null,null,null,null,null,null,null,null,null,null,null,null,null,null,null,null,null,null,null,null,{"$f":"IF(LEN(Z417)>0,VLOOKUP(Z417,'TFW Programs'!$A$2:$B$8,2,FALSE),\"\")","v":""},null,null,{"$f":"IF(LEN(A417)>0,VLOOKUP(A417,Subcontractors!$A$2:$B$4,2,FALSE),\"\")","v":""}]
[null,null,null,null,null,null,null,null,null,null,null,null,null,null,null,null,null,null,null,null,null,null,null,{"$f":"IF(LEN(Z418)>0,VLOOKUP(Z418,'TFW Programs'!$A$2:$B$8,2,FALSE),\"\")","v":""},null,null,{"$f":"IF(LEN(A418)>0,VLOOKUP(A418,Subcontractors!$A$2:$B$4,2,FALSE),\"\")","v":""}]
[null,null,null,null,null,null,null,null,null,null,null,null,null,null,null,null,null,null,null,null,null,null,null,{"$f":"IF(LEN(Z419)>0,VLOOKUP(Z419,'TFW Programs'!$A$2:$B$8,2,FALSE),\"\")","v":""},null,null,{"$f":"IF(LEN(A419)>0,VLOOKUP(A419,Subcontractors!$A$2:$B$4,2,FALSE),\"\")","v":""}]
[null,null,null,null,null,null,null,null,null,null,null,null,null,null,null,null,null,null,null,null,null,null,null,{"$f":"IF(LEN(Z420)>0,VLOOKUP(Z420,'TFW Programs'!$A$2:$B$8,2,FALSE),\"\")","v":""},null,null,{"$f":"IF(LEN(A420)>0,VLOOKUP(A420,Subcontractors!$A$2:$B$4,2,FALSE),\"\")","v":""}]
[null,null,null,null,null,null,null,null,null,null,null,null,null,null,null,null,null,null,null,null,null,null,null,{"$f":"IF(LEN(Z421)>0,VLOOKUP(Z421,'TFW Programs'!$A$2:$B$8,2,FALSE),\"\")","v":""},null,null,{"$f":"IF(LEN(A421)>0,VLOOKUP(A421,Subcontractors!$A$2:$B$4,2,FALSE),\"\")","v":""}]
[null,null,null,null,null,null,null,null,null,null,null,null,null,null,null,null,null,null,null,null,null,null,null,{"$f":"IF(LEN(Z422)>0,VLOOKUP(Z422,'TFW Programs'!$A$2:$B$8,2,FALSE),\"\")","v":""},null,null,{"$f":"IF(LEN(A422)>0,VLOOKUP(A422,Subcontractors!$A$2:$B$4,2,FALSE),\"\")","v":""}]
[null,null,null,null,null,null,null,null,null,null,null,null,null,null,null,null,null,null,null,null,null,null,null,{"$f":"IF(LEN(Z423)>0,VLOOKUP(Z423,'TFW Programs'!$A$2:$B$8,2,FALSE),\"\")","v":""},null,null,{"$f":"IF(LEN(A423)>0,VLOOKUP(A423,Subcontractors!$A$2:$B$4,2,FALSE),\"\")","v":""}]
[null,null,null,null,null,null,null,null,null,null,null,null,null,null,null,null,null,null,null,null,null,null,null,{"$f":"IF(LEN(Z424)>0,VLOOKUP(Z424,'TFW Programs'!$A$2:$B$8,2,FALSE),\"\")","v":""},null,null,{"$f":"IF(LEN(A424)>0,VLOOKUP(A424,Subcontractors!$A$2:$B$4,2,FALSE),\"\")","v":""}]
[null,null,null,null,null,null,null,null,null,null,null,null,null,null,null,null,null,null,null,null,null,null,null,{"$f":"IF(LEN(Z425)>0,VLOOKUP(Z425,'TFW Programs'!$A$2:$B$8,2,FALSE),\"\")","v":""},null,null,{"$f":"IF(LEN(A425)>0,VLOOKUP(A425,Subcontractors!$A$2:$B$4,2,FALSE),\"\")","v":""}]
[null,null,null,null,null,null,null,null,null,null,null,null,null,null,null,null,null,null,null,null,null,null,null,{"$f":"IF(LEN(Z426)>0,VLOOKUP(Z426,'TFW Programs'!$A$2:$B$8,2,FALSE),\"\")","v":""},null,null,{"$f":"IF(LEN(A426)>0,VLOOKUP(A426,Subcontractors!$A$2:$B$4,2,FALSE),\"\")","v":""}]
[null,null,null,null,null,null,null,null,null,null,null,null,null,null,null,null,null,null,null,null,null,null,null,{"$f":"IF(LEN(Z427)>0,VLOOKUP(Z427,'TFW Programs'!$A$2:$B$8,2,FALSE),\"\")","v":""},null,null,{"$f":"IF(LEN(A427)>0,VLOOKUP(A427,Subcontractors!$A$2:$B$4,2,FALSE),\"\")","v":""}]
[null,null,null,null,null,null,null,null,null,null,null,null,null,null,null,null,null,null,null,null,null,null,null,{"$f":"IF(LEN(Z428)>0,VLOOKUP(Z428,'TFW Programs'!$A$2:$B$8,2,FALSE),\"\")","v":""},null,null,{"$f":"IF(LEN(A428)>0,VLOOKUP(A428,Subcontractors!$A$2:$B$4,2,FALSE),\"\")","v":""}]
[null,null,null,null,null,null,null,null,null,null,null,null,null,null,null,null,null,null,null,null,null,null,null,{"$f":"IF(LEN(Z429)>0,VLOOKUP(Z429,'TFW Programs'!$A$2:$B$8,2,FALSE),\"\")","v":""},null,null,{"$f":"IF(LEN(A429)>0,VLOOKUP(A429,Subcontractors!$A$2:$B$4,2,FALSE),\"\")","v":""}]
[null,null,null,null,null,null,null,null,null,null,null,null,null,null,null,null,null,null,null,null,null,null,null,{"$f":"IF(LEN(Z430)>0,VLOOKUP(Z430,'TFW Programs'!$A$2:$B$8,2,FALSE),\"\")","v":""},null,null,{"$f":"IF(LEN(A430)>0,VLOOKUP(A430,Subcontractors!$A$2:$B$4,2,FALSE),\"\")","v":""}]
[null,null,null,null,null,null,null,null,null,null,null,null,null,null,null,null,null,null,null,null,null,null,null,{"$f":"IF(LEN(Z431)>0,VLOOKUP(Z431,'TFW Programs'!$A$2:$B$8,2,FALSE),\"\")","v":""},null,null,{"$f":"IF(LEN(A431)>0,VLOOKUP(A431,Subcontractors!$A$2:$B$4,2,FALSE),\"\")","v":""}]
[null,null,null,null,null,null,null,null,null,null,null,null,null,null,null,null,null,null,null,null,null,null,null,{"$f":"IF(LEN(Z432)>0,VLOOKUP(Z432,'TFW Programs'!$A$2:$B$8,2,FALSE),\"\")","v":""},null,null,{"$f":"IF(LEN(A432)>0,VLOOKUP(A432,Subcontractors!$A$2:$B$4,2,FALSE),\"\")","v":""}]
[null,null,null,null,null,null,null,null,null,null,null,null,null,null,null,null,null,null,null,null,null,null,null,{"$f":"IF(LEN(Z433)>0,VLOOKUP(Z433,'TFW Programs'!$A$2:$B$8,2,FALSE),\"\")","v":""},null,null,{"$f":"IF(LEN(A433)>0,VLOOKUP(A433,Subcontractors!$A$2:$B$4,2,FALSE),\"\")","v":""}]
[null,null,null,null,null,null,null,null,null,null,null,null,null,null,null,null,null,null,null,null,null,null,null,{"$f":"IF(LEN(Z434)>0,VLOOKUP(Z434,'TFW Programs'!$A$2:$B$8,2,FALSE),\"\")","v":""},null,null,{"$f":"IF(LEN(A434)>0,VLOOKUP(A434,Subcontractors!$A$2:$B$4,2,FALSE),\"\")","v":""}]
[null,null,null,null,null,null,null,null,null,null,null,null,null,null,null,null,null,null,null,null,null,null,null,{"$f":"IF(LEN(Z435)>0,VLOOKUP(Z435,'TFW Programs'!$A$2:$B$8,2,FALSE),\"\")","v":""},null,null,{"$f":"IF(LEN(A435)>0,VLOOKUP(A435,Subcontractors!$A$2:$B$4,2,FALSE),\"\")","v":""}]
[null,null,null,null,null,null,null,null,null,null,null,null,null,null,null,null,null,null,null,null,null,null,null,{"$f":"IF(LEN(Z436)>0,VLOOKUP(Z436,'TFW Programs'!$A$2:$B$8,2,FALSE),\"\")","v":""},null,null,{"$f":"IF(LEN(A436)>0,VLOOKUP(A436,Subcontractors!$A$2:$B$4,2,FALSE),\"\")","v":""}]
[null,null,null,null,null,null,null,null,null,null,null,null,null,null,null,null,null,null,null,null,null,null,null,{"$f":"IF(LEN(Z437)>0,VLOOKUP(Z437,'TFW Programs'!$A$2:$B$8,2,FALSE),\"\")","v":""},null,null,{"$f":"IF(LEN(A437)>0,VLOOKUP(A437,Subcontractors!$A$2:$B$4,2,FALSE),\"\")","v":""}]
[null,null,null,null,null,null,null,null,null,null,null,null,null,null,null,null,null,null,null,null,null,null,null,{"$f":"IF(LEN(Z438)>0,VLOOKUP(Z438,'TFW Programs'!$A$2:$B$8,2,FALSE),\"\")","v":""},null,null,{"$f":"IF(LEN(A438)>0,VLOOKUP(A438,Subcontractors!$A$2:$B$4,2,FALSE),\"\")","v":""}]
[null,null,null,null,null,null,null,null,null,null,null,null,null,null,null,null,null,null,null,null,null,null,null,{"$f":"IF(LEN(Z439)>0,VLOOKUP(Z439,'TFW Programs'!$A$2:$B$8,2,FALSE),\"\")","v":""},null,null,{"$f":"IF(LEN(A439)>0,VLOOKUP(A439,Subcontractors!$A$2:$B$4,2,FALSE),\"\")","v":""}]
[null,null,null,null,null,null,null,null,null,null,null,null,null,null,null,null,null,null,null,null,null,null,null,{"$f":"IF(LEN(Z440)>0,VLOOKUP(Z440,'TFW Programs'!$A$2:$B$8,2,FALSE),\"\")","v":""},null,null,{"$f":"IF(LEN(A440)>0,VLOOKUP(A440,Subcontractors!$A$2:$B$4,2,FALSE),\"\")","v":""}]
[null,null,null,null,null,null,null,null,null,null,null,null,null,null,null,null,null,null,null,null,null,null,null,{"$f":"IF(LEN(Z441)>0,VLOOKUP(Z441,'TFW Programs'!$A$2:$B$8,2,FALSE),\"\")","v":""},null,null,{"$f":"IF(LEN(A441)>0,VLOOKUP(A441,Subcontractors!$A$2:$B$4,2,FALSE),\"\")","v":""}]
[null,null,null,null,null,null,null,null,null,null,null,null,null,null,null,null,null,null,null,null,null,null,null,{"$f":"IF(LEN(Z442)>0,VLOOKUP(Z442,'TFW Programs'!$A$2:$B$8,2,FALSE),\"\")","v":""},null,null,{"$f":"IF(LEN(A442)>0,VLOOKUP(A442,Subcontractors!$A$2:$B$4,2,FALSE),\"\")","v":""}]
[null,null,null,null,null,null,null,null,null,null,null,null,null,null,null,null,null,null,null,null,null,null,null,{"$f":"IF(LEN(Z443)>0,VLOOKUP(Z443,'TFW Programs'!$A$2:$B$8,2,FALSE),\"\")","v":""},null,null,{"$f":"IF(LEN(A443)>0,VLOOKUP(A443,Subcontractors!$A$2:$B$4,2,FALSE),\"\")","v":""}]
[null,null,null,null,null,null,null,null,null,null,null,null,null,null,null,null,null,null,null,null,null,null,null,{"$f":"IF(LEN(Z444)>0,VLOOKUP(Z444,'TFW Programs'!$A$2:$B$8,2,FALSE),\"\")","v":""},null,null,{"$f":"IF(LEN(A444)>0,VLOOKUP(A444,Subcontractors!$A$2:$B$4,2,FALSE),\"\")","v":""}]
[null,null,null,null,null,null,null,null,null,null,null,null,null,null,null,null,null,null,null,null,null,null,null,{"$f":"IF(LEN(Z445)>0,VLOOKUP(Z445,'TFW Programs'!$A$2:$B$8,2,FALSE),\"\")","v":""},null,null,{"$f":"IF(LEN(A445)>0,VLOOKUP(A445,Subcontractors!$A$2:$B$4,2,FALSE),\"\")","v":""}]
[null,null,null,null,null,null,null,null,null,null,null,null,null,null,null,null,null,null,null,null,null,null,null,{"$f":"IF(LEN(Z446)>0,VLOOKUP(Z446,'TFW Programs'!$A$2:$B$8,2,FALSE),\"\")","v":""},null,null,{"$f":"IF(LEN(A446)>0,VLOOKUP(A446,Subcontractors!$A$2:$B$4,2,FALSE),\"\")","v":""}]
[null,null,null,null,null,null,null,null,null,null,null,null,null,null,null,null,null,null,null,null,null,null,null,{"$f":"IF(LEN(Z447)>0,VLOOKUP(Z447,'TFW Programs'!$A$2:$B$8,2,FALSE),\"\")","v":""},null,null,{"$f":"IF(LEN(A447)>0,VLOOKUP(A447,Subcontractors!$A$2:$B$4,2,FALSE),\"\")","v":""}]
[null,null,null,null,null,null,null,null,null,null,null,null,null,null,null,null,null,null,null,null,null,null,null,{"$f":"IF(LEN(Z448)>0,VLOOKUP(Z448,'TFW Programs'!$A$2:$B$8,2,FALSE),\"\")","v":""},null,null,{"$f":"IF(LEN(A448)>0,VLOOKUP(A448,Subcontractors!$A$2:$B$4,2,FALSE),\"\")","v":""}]
[null,null,null,null,null,null,null,null,null,null,null,null,null,null,null,null,null,null,null,null,null,null,null,{"$f":"IF(LEN(Z449)>0,VLOOKUP(Z449,'TFW Programs'!$A$2:$B$8,2,FALSE),\"\")","v":""},null,null,{"$f":"IF(LEN(A449)>0,VLOOKUP(A449,Subcontractors!$A$2:$B$4,2,FALSE),\"\")","v":""}]
[null,null,null,null,null,null,null,null,null,null,null,null,null,null,null,null,null,null,null,null,null,null,null,{"$f":"IF(LEN(Z450)>0,VLOOKUP(Z450,'TFW Programs'!$A$2:$B$8,2,FALSE),\"\")","v":""},null,null,{"$f":"IF(LEN(A450)>0,VLOOKUP(A450,Subcontractors!$A$2:$B$4,2,FALSE),\"\")","v":""}]
[null,null,null,null,null,null,null,null,null,null,null,null,null,null,null,null,null,null,null,null,null,null,null,{"$f":"IF(LEN(Z451)>0,VLOOKUP(Z451,'TFW Programs'!$A$2:$B$8,2,FALSE),\"\")","v":""},null,null,{"$f":"IF(LEN(A451)>0,VLOOKUP(A451,Subcontractors!$A$2:$B$4,2,FALSE),\"\")","v":""}]
[null,null,null,null,null,null,null,null,null,null,null,null,null,null,null,null,null,null,null,null,null,null,null,{"$f":"IF(LEN(Z452)>0,VLOOKUP(Z452,'TFW Programs'!$A$2:$B$8,2,FALSE),\"\")","v":""},null,null,{"$f":"IF(LEN(A452)>0,VLOOKUP(A452,Subcontractors!$A$2:$B$4,2,FALSE),\"\")","v":""}]
[null,null,null,null,null,null,null,null,null,null,null,null,null,null,null,null,null,null,null,null,null,null,null,{"$f":"IF(LEN(Z453)>0,VLOOKUP(Z453,'TFW Programs'!$A$2:$B$8,2,FALSE),\"\")","v":""},null,null,{"$f":"IF(LEN(A453)>0,VLOOKUP(A453,Subcontractors!$A$2:$B$4,2,FALSE),\"\")","v":""}]
[null,null,null,null,null,null,null,null,null,null,null,null,null,null,null,null,null,null,null,null,null,null,null,{"$f":"IF(LEN(Z454)>0,VLOOKUP(Z454,'TFW Programs'!$A$2:$B$8,2,FALSE),\"\")","v":""},null,null,{"$f":"IF(LEN(A454)>0,VLOOKUP(A454,Subcontractors!$A$2:$B$4,2,FALSE),\"\")","v":""}]
[null,null,null,null,null,null,null,null,null,null,null,null,null,null,null,null,null,null,null,null,null,null,null,{"$f":"IF(LEN(Z455)>0,VLOOKUP(Z455,'TFW Programs'!$A$2:$B$8,2,FALSE),\"\")","v":""},null,null,{"$f":"IF(LEN(A455)>0,VLOOKUP(A455,Subcontractors!$A$2:$B$4,2,FALSE),\"\")","v":""}]
[null,null,null,null,null,null,null,null,null,null,null,null,null,null,null,null,null,null,null,null,null,null,null,{"$f":"IF(LEN(Z456)>0,VLOOKUP(Z456,'TFW Programs'!$A$2:$B$8,2,FALSE),\"\")","v":""},null,null,{"$f":"IF(LEN(A456)>0,VLOOKUP(A456,Subcontractors!$A$2:$B$4,2,FALSE),\"\")","v":""}]
[null,null,null,null,null,null,null,null,null,null,null,null,null,null,null,null,null,null,null,null,null,null,null,{"$f":"IF(LEN(Z457)>0,VLOOKUP(Z457,'TFW Programs'!$A$2:$B$8,2,FALSE),\"\")","v":""},null,null,{"$f":"IF(LEN(A457)>0,VLOOKUP(A457,Subcontractors!$A$2:$B$4,2,FALSE),\"\")","v":""}]
[null,null,null,null,null,null,null,null,null,null,null,null,null,null,null,null,null,null,null,null,null,null,null,{"$f":"IF(LEN(Z458)>0,VLOOKUP(Z458,'TFW Programs'!$A$2:$B$8,2,FALSE),\"\")","v":""},null,null,{"$f":"IF(LEN(A458)>0,VLOOKUP(A458,Subcontractors!$A$2:$B$4,2,FALSE),\"\")","v":""}]
[null,null,null,null,null,null,null,null,null,null,null,null,null,null,null,null,null,null,null,null,null,null,null,{"$f":"IF(LEN(Z459)>0,VLOOKUP(Z459,'TFW Programs'!$A$2:$B$8,2,FALSE),\"\")","v":""},null,null,{"$f":"IF(LEN(A459)>0,VLOOKUP(A459,Subcontractors!$A$2:$B$4,2,FALSE),\"\")","v":""}]
[null,null,null,null,null,null,null,null,null,null,null,null,null,null,null,null,null,null,null,null,null,null,null,{"$f":"IF(LEN(Z460)>0,VLOOKUP(Z460,'TFW Programs'!$A$2:$B$8,2,FALSE),\"\")","v":""},null,null,{"$f":"IF(LEN(A460)>0,VLOOKUP(A460,Subcontractors!$A$2:$B$4,2,FALSE),\"\")","v":""}]
[null,null,null,null,null,null,null,null,null,null,null,null,null,null,null,null,null,null,null,null,null,null,null,{"$f":"IF(LEN(Z461)>0,VLOOKUP(Z461,'TFW Programs'!$A$2:$B$8,2,FALSE),\"\")","v":""},null,null,{"$f":"IF(LEN(A461)>0,VLOOKUP(A461,Subcontractors!$A$2:$B$4,2,FALSE),\"\")","v":""}]
[null,null,null,null,null,null,null,null,null,null,null,null,null,null,null,null,null,null,null,null,null,null,null,{"$f":"IF(LEN(Z462)>0,VLOOKUP(Z462,'TFW Programs'!$A$2:$B$8,2,FALSE),\"\")","v":""},null,null,{"$f":"IF(LEN(A462)>0,VLOOKUP(A462,Subcontractors!$A$2:$B$4,2,FALSE),\"\")","v":""}]
[null,null,null,null,null,null,null,null,null,null,null,null,null,null,null,null,null,null,null,null,null,null,null,{"$f":"IF(LEN(Z463)>0,VLOOKUP(Z463,'TFW Programs'!$A$2:$B$8,2,FALSE),\"\")","v":""},null,null,{"$f":"IF(LEN(A463)>0,VLOOKUP(A463,Subcontractors!$A$2:$B$4,2,FALSE),\"\")","v":""}]
[null,null,null,null,null,null,null,null,null,null,null,null,null,null,null,null,null,null,null,null,null,null,null,{"$f":"IF(LEN(Z464)>0,VLOOKUP(Z464,'TFW Programs'!$A$2:$B$8,2,FALSE),\"\")","v":""},null,null,{"$f":"IF(LEN(A464)>0,VLOOKUP(A464,Subcontractors!$A$2:$B$4,2,FALSE),\"\")","v":""}]
[null,null,null,null,null,null,null,null,null,null,null,null,null,null,null,null,null,null,null,null,null,null,null,{"$f":"IF(LEN(Z465)>0,VLOOKUP(Z465,'TFW Programs'!$A$2:$B$8,2,FALSE),\"\")","v":""},null,null,{"$f":"IF(LEN(A465)>0,VLOOKUP(A465,Subcontractors!$A$2:$B$4,2,FALSE),\"\")","v":""}]
[null,null,null,null,null,null,null,null,null,null,null,null,null,null,null,null,null,null,null,null,null,null,null,{"$f":"IF(LEN(Z466)>0,VLOOKUP(Z466,'TFW Programs'!$A$2:$B$8,2,FALSE),\"\")","v":""},null,null,{"$f":"IF(LEN(A466)>0,VLOOKUP(A466,Subcontractors!$A$2:$B$4,2,FALSE),\"\")","v":""}]
[null,null,null,null,null,null,null,null,null,null,null,null,null,null,null,null,null,null,null,null,null,null,null,{"$f":"IF(LEN(Z467)>0,VLOOKUP(Z467,'TFW Programs'!$A$2:$B$8,2,FALSE),\"\")","v":""},null,null,{"$f":"IF(LEN(A467)>0,VLOOKUP(A467,Subcontractors!$A$2:$B$4,2,FALSE),\"\")","v":""}]
[null,null,null,null,null,null,null,null,null,null,null,null,null,null,null,null,null,null,null,null,null,null,null,{"$f":"IF(LEN(Z468)>0,VLOOKUP(Z468,'TFW Programs'!$A$2:$B$8,2,FALSE),\"\")","v":""},null,null,{"$f":"IF(LEN(A468)>0,VLOOKUP(A468,Subcontractors!$A$2:$B$4,2,FALSE),\"\")","v":""}]
[null,null,null,null,null,null,null,null,null,null,null,null,null,null,null,null,null,null,null,null,null,null,null,{"$f":"IF(LEN(Z469)>0,VLOOKUP(Z469,'TFW Programs'!$A$2:$B$8,2,FALSE),\"\")","v":""},null,null,{"$f":"IF(LEN(A469)>0,VLOOKUP(A469,Subcontractors!$A$2:$B$4,2,FALSE),\"\")","v":""}]
[null,null,null,null,null,null,null,null,null,null,null,null,null,null,null,null,null,null,null,null,null,null,null,{"$f":"IF(LEN(Z470)>0,VLOOKUP(Z470,'TFW Programs'!$A$2:$B$8,2,FALSE),\"\")","v":""},null,null,{"$f":"IF(LEN(A470)>0,VLOOKUP(A470,Subcontractors!$A$2:$B$4,2,FALSE),\"\")","v":""}]
[null,null,null,null,null,null,null,null,null,null,null,null,null,null,null,null,null,null,null,null,null,null,null,{"$f":"IF(LEN(Z471)>0,VLOOKUP(Z471,'TFW Programs'!$A$2:$B$8,2,FALSE),\"\")","v":""},null,null,{"$f":"IF(LEN(A471)>0,VLOOKUP(A471,Subcontractors!$A$2:$B$4,2,FALSE),\"\")","v":""}]
[null,null,null,null,null,null,null,null,null,null,null,null,null,null,null,null,null,null,null,null,null,null,null,{"$f":"IF(LEN(Z472)>0,VLOOKUP(Z472,'TFW Programs'!$A$2:$B$8,2,FALSE),\"\")","v":""},null,null,{"$f":"IF(LEN(A472)>0,VLOOKUP(A472,Subcontractors!$A$2:$B$4,2,FALSE),\"\")","v":""}]
[null,null,null,null,null,null,null,null,null,null,null,null,null,null,null,null,null,null,null,null,null,null,null,{"$f":"IF(LEN(Z473)>0,VLOOKUP(Z473,'TFW Programs'!$A$2:$B$8,2,FALSE),\"\")","v":""},null,null,{"$f":"IF(LEN(A473)>0,VLOOKUP(A473,Subcontractors!$A$2:$B$4,2,FALSE),\"\")","v":""}]
[null,null,null,null,null,null,null,null,null,null,null,null,null,null,null,null,null,null,null,null,null,null,null,{"$f":"IF(LEN(Z474)>0,VLOOKUP(Z474,'TFW Programs'!$A$2:$B$8,2,FALSE),\"\")","v":""},null,null,{"$f":"IF(LEN(A474)>0,VLOOKUP(A474,Subcontractors!$A$2:$B$4,2,FALSE),\"\")","v":""}]
[null,null,null,null,null,null,null,null,null,null,null,null,null,null,null,null,null,null,null,null,null,null,null,{"$f":"IF(LEN(Z475)>0,VLOOKUP(Z475,'TFW Programs'!$A$2:$B$8,2,FALSE),\"\")","v":""},null,null,{"$f":"IF(LEN(A475)>0,VLOOKUP(A475,Subcontractors!$A$2:$B$4,2,FALSE),\"\")","v":""}]
[null,null,null,null,null,null,null,null,null,null,null,null,null,null,null,null,null,null,null,null,null,null,null,{"$f":"IF(LEN(Z476)>0,VLOOKUP(Z476,'TFW Programs'!$A$2:$B$8,2,FALSE),\"\")","v":""},null,null,{"$f":"IF(LEN(A476)>0,VLOOKUP(A476,Subcontractors!$A$2:$B$4,2,FALSE),\"\")","v":""}]
[null,null,null,null,null,null,null,null,null,null,null,null,null,null,null,null,null,null,null,null,null,null,null,{"$f":"IF(LEN(Z477)>0,VLOOKUP(Z477,'TFW Programs'!$A$2:$B$8,2,FALSE),\"\")","v":""},null,null,{"$f":"IF(LEN(A477)>0,VLOOKUP(A477,Subcontractors!$A$2:$B$4,2,FALSE),\"\")","v":""}]
[null,null,null,null,null,null,null,null,null,null,null,null,null,null,null,null,null,null,null,null,null,null,null,{"$f":"IF(LEN(Z478)>0,VLOOKUP(Z478,'TFW Programs'!$A$2:$B$8,2,FALSE),\"\")","v":""},null,null,{"$f":"IF(LEN(A478)>0,VLOOKUP(A478,Subcontractors!$A$2:$B$4,2,FALSE),\"\")","v":""}]
[null,null,null,null,null,null,null,null,null,null,null,null,null,null,null,null,null,null,null,null,null,null,null,{"$f":"IF(LEN(Z479)>0,VLOOKUP(Z479,'TFW Programs'!$A$2:$B$8,2,FALSE),\"\")","v":""},null,null,{"$f":"IF(LEN(A479)>0,VLOOKUP(A479,Subcontractors!$A$2:$B$4,2,FALSE),\"\")","v":""}]
[null,null,null,null,null,null,null,null,null,null,null,null,null,null,null,null,null,null,null,null,null,null,null,{"$f":"IF(LEN(Z480)>0,VLOOKUP(Z480,'TFW Programs'!$A$2:$B$8,2,FALSE),\"\")","v":""},null,null,{"$f":"IF(LEN(A480)>0,VLOOKUP(A480,Subcontractors!$A$2:$B$4,2,FALSE),\"\")","v":""}]
[null,null,null,null,null,null,null,null,null,null,null,null,null,null,null,null,null,null,null,null,null,null,null,{"$f":"IF(LEN(Z481)>0,VLOOKUP(Z481,'TFW Programs'!$A$2:$B$8,2,FALSE),\"\")","v":""},null,null,{"$f":"IF(LEN(A481)>0,VLOOKUP(A481,Subcontractors!$A$2:$B$4,2,FALSE),\"\")","v":""}]
[null,null,null,null,null,null,null,null,null,null,null,null,null,null,null,null,null,null,null,null,null,null,null,{"$f":"IF(LEN(Z482)>0,VLOOKUP(Z482,'TFW Programs'!$A$2:$B$8,2,FALSE),\"\")","v":""},null,null,{"$f":"IF(LEN(A482)>0,VLOOKUP(A482,Subcontractors!$A$2:$B$4,2,FALSE),\"\")","v":""}]
[null,null,null,null,null,null,null,null,null,null,null,null,null,null,null,null,null,null,null,null,null,null,null,{"$f":"IF(LEN(Z483)>0,VLOOKUP(Z483,'TFW Programs'!$A$2:$B$8,2,FALSE),\"\")","v":""},null,null,{"$f":"IF(LEN(A483)>0,VLOOKUP(A483,Subcontractors!$A$2:$B$4,2,FALSE),\"\")","v":""}]
[null,null,null,null,null,null,null,null,null,null,null,null,null,null,null,null,null,null,null,null,null,null,null,{"$f":"IF(LEN(Z484)>0,VLOOKUP(Z484,'TFW Programs'!$A$2:$B$8,2,FALSE),\"\")","v":""},null,null,{"$f":"IF(LEN(A484)>0,VLOOKUP(A484,Subcontractors!$A$2:$B$4,2,FALSE),\"\")","v":""}]
[null,null,null,null,null,null,null,null,null,null,null,null,null,null,null,null,null,null,null,null,null,null,null,{"$f":"IF(LEN(Z485)>0,VLOOKUP(Z485,'TFW Programs'!$A$2:$B$8,2,FALSE),\"\")","v":""},null,null,{"$f":"IF(LEN(A485)>0,VLOOKUP(A485,Subcontractors!$A$2:$B$4,2,FALSE),\"\")","v":""}]
[null,null,null,null,null,null,null,null,null,null,null,null,null,null,null,null,null,null,null,null,null,null,null,{"$f":"IF(LEN(Z486)>0,VLOOKUP(Z486,'TFW Programs'!$A$2:$B$8,2,FALSE),\"\")","v":""},null,null,{"$f":"IF(LEN(A486)>0,VLOOKUP(A486,Subcontractors!$A$2:$B$4,2,FALSE),\"\")","v":""}]
[null,null,null,null,null,null,null,null,null,null,null,null,null,null,null,null,null,null,null,null,null,null,null,{"$f":"IF(LEN(Z487)>0,VLOOKUP(Z487,'TFW Programs'!$A$2:$B$8,2,FALSE),\"\")","v":""},null,null,{"$f":"IF(LEN(A487)>0,VLOOKUP(A487,Subcontractors!$A$2:$B$4,2,FALSE),\"\")","v":""}]
[null,null,null,null,null,null,null,null,null,null,null,null,null,null,null,null,null,null,null,null,null,null,null,{"$f":"IF(LEN(Z488)>0,VLOOKUP(Z488,'TFW Programs'!$A$2:$B$8,2,FALSE),\"\")","v":""},null,null,{"$f":"IF(LEN(A488)>0,VLOOKUP(A488,Subcontractors!$A$2:$B$4,2,FALSE),\"\")","v":""}]
[null,null,null,null,null,null,null,null,null,null,null,null,null,null,null,null,null,null,null,null,null,null,null,{"$f":"IF(LEN(Z489)>0,VLOOKUP(Z489,'TFW Programs'!$A$2:$B$8,2,FALSE),\"\")","v":""},null,null,{"$f":"IF(LEN(A489)>0,VLOOKUP(A489,Subcontractors!$A$2:$B$4,2,FALSE),\"\")","v":""}]
[null,null,null,null,null,null,null,null,null,null,null,null,null,null,null,null,null,null,null,null,null,null,null,{"$f":"IF(LEN(Z490)>0,VLOOKUP(Z490,'TFW Programs'!$A$2:$B$8,2,FALSE),\"\")","v":""},null,null,{"$f":"IF(LEN(A490)>0,VLOOKUP(A490,Subcontractors!$A$2:$B$4,2,FALSE),\"\")","v":""}]
[null,null,null,null,null,null,null,null,null,null,null,null,null,null,null,null,null,null,null,null,null,null,null,{"$f":"IF(LEN(Z491)>0,VLOOKUP(Z491,'TFW Programs'!$A$2:$B$8,2,FALSE),\"\")","v":""},null,null,{"$f":"IF(LEN(A491)>0,VLOOKUP(A491,Subcontractors!$A$2:$B$4,2,FALSE),\"\")","v":""}]
[null,null,null,null,null,null,null,null,null,null,null,null,null,null,null,null,null,null,null,null,null,null,null,{"$f":"IF(LEN(Z492)>0,VLOOKUP(Z492,'TFW Programs'!$A$2:$B$8,2,FALSE),\"\")","v":""},null,null,{"$f":"IF(LEN(A492)>0,VLOOKUP(A492,Subcontractors!$A$2:$B$4,2,FALSE),\"\")","v":""}]
[null,null,null,null,null,null,null,null,null,null,null,null,null,null,null,null,null,null,null,null,null,null,null,{"$f":"IF(LEN(Z493)>0,VLOOKUP(Z493,'TFW Programs'!$A$2:$B$8,2,FALSE),\"\")","v":""},null,null,{"$f":"IF(LEN(A493)>0,VLOOKUP(A493,Subcontractors!$A$2:$B$4,2,FALSE),\"\")","v":""}]
[null,null,null,null,null,null,null,null,null,null,null,null,null,null,null,null,null,null,null,null,null,null,null,{"$f":"IF(LEN(Z494)>0,VLOOKUP(Z494,'TFW Programs'!$A$2:$B$8,2,FALSE),\"\")","v":""},null,null,{"$f":"IF(LEN(A494)>0,VLOOKUP(A494,Subcontractors!$A$2:$B$4,2,FALSE),\"\")","v":""}]
[null,null,null,null,null,null,null,null,null,null,null,null,null,null,null,null,null,null,null,null,null,null,null,{"$f":"IF(LEN(Z495)>0,VLOOKUP(Z495,'TFW Programs'!$A$2:$B$8,2,FALSE),\"\")","v":""},null,null,{"$f":"IF(LEN(A495)>0,VLOOKUP(A495,Subcontractors!$A$2:$B$4,2,FALSE),\"\")","v":""}]
[null,null,null,null,null,null,null,null,null,null,null,null,null,null,null,null,null,null,null,null,null,null,null,{"$f":"IF(LEN(Z496)>0,VLOOKUP(Z496,'TFW Programs'!$A$2:$B$8,2,FALSE),\"\")","v":""},null,null,{"$f":"IF(LEN(A496)>0,VLOOKUP(A496,Subcontractors!$A$2:$B$4,2,FALSE),\"\")","v":""}]
[null,null,null,null,null,null,null,null,null,null,null,null,null,null,null,null,null,null,null,null,null,null,null,{"$f":"IF(LEN(Z497)>0,VLOOKUP(Z497,'TFW Programs'!$A$2:$B$8,2,FALSE),\"\")","v":""},null,null,{"$f":"IF(LEN(A497)>0,VLOOKUP(A497,Subcontractors!$A$2:$B$4,2,FALSE),\"\")","v":""}]
[null,null,null,null,null,null,null,null,null,null,null,null,null,null,null,null,null,null,null,null,null,null,null,{"$f":"IF(LEN(Z498)>0,VLOOKUP(Z498,'TFW Programs'!$A$2:$B$8,2,FALSE),\"\")","v":""},null,null,{"$f":"IF(LEN(A498)>0,VLOOKUP(A498,Subcontractors!$A$2:$B$4,2,FALSE),\"\")","v":""}]
[null,null,null,null,null,null,null,null,null,null,null,null,null,null,null,null,null,null,null,null,null,null,null,{"$f":"IF(LEN(Z499)>0,VLOOKUP(Z499,'TFW Programs'!$A$2:$B$8,2,FALSE),\"\")","v":""},null,null,{"$f":"IF(LEN(A499)>0,VLOOKUP(A499,Subcontractors!$A$2:$B$4,2,FALSE),\"\")","v":""}]
[null,null,null,null,null,null,null,null,null,null,null,null,null,null,null,null,null,null,null,null,null,null,null,{"$f":"IF(LEN(Z500)>0,VLOOKUP(Z500,'TFW Programs'!$A$2:$B$8,2,FALSE),\"\")","v":""},null,null,{"$f":"IF(LEN(A500)>0,VLOOKUP(A500,Subcontractors!$A$2:$B$4,2,FALSE),\"\")","v":""}]
[null,null,null,null,null,null,null,null,null,null,null,null,null,null,null,null,null,null,null,null,null,null,null,{"$f":"IF(LEN(Z501)>0,VLOOKUP(Z501,'TFW Programs'!$A$2:$B$8,2,FALSE),\"\")","v":""},null,null,{"$f":"IF(LEN(A501)>0,VLOOKUP(A501,Subcontractors!$A$2:$B$4,2,FALSE),\"\")","v":""}]
[null,null,null,null,null,null,null,null,null,null,null,null,null,null,null,null,null,null,null,null,null,null,null,{"$f":"IF(LEN(Z502)>0,VLOOKUP(Z502,'TFW Programs'!$A$2:$B$8,2,FALSE),\"\")","v":""},null,null,{"$f":"IF(LEN(A502)>0,VLOOKUP(A502,Subcontractors!$A$2:$B$4,2,FALSE),\"\")","v":""}]
[null,null,null,null,null,null,null,null,null,null,null,null,null,null,null,null,null,null,null,null,null,null,null,{"$f":"IF(LEN(Z503)>0,VLOOKUP(Z503,'TFW Programs'!$A$2:$B$8,2,FALSE),\"\")","v":""},null,null,{"$f":"IF(LEN(A503)>0,VLOOKUP(A503,Subcontractors!$A$2:$B$4,2,FALSE),\"\")","v":""}]
[null,null,null,null,null,null,null,null,null,null,null,null,null,null,null,null,null,null,null,null,null,null,null,{"$f":"IF(LEN(Z504)>0,VLOOKUP(Z504,'TFW Programs'!$A$2:$B$8,2,FALSE),\"\")","v":""},null,null,{"$f":"IF(LEN(A504)>0,VLOOKUP(A504,Subcontractors!$A$2:$B$4,2,FALSE),\"\")","v":""}]
[null,null,null,null,null,null,null,null,null,null,null,null,null,null,null,null,null,null,null,null,null,null,null,{"$f":"IF(LEN(Z505)>0,VLOOKUP(Z505,'TFW Programs'!$A$2:$B$8,2,FALSE),\"\")","v":""},null,null,{"$f":"IF(LEN(A505)>0,VLOOKUP(A505,Subcontractors!$A$2:$B$4,2,FALSE),\"\")","v":""}]
[null,null,null,null,null,null,null,null,null,null,null,null,null,null,null,null,null,null,null,null,null,null,null,{"$f":"IF(LEN(Z506)>0,VLOOKUP(Z506,'TFW Programs'!$A$2:$B$8,2,FALSE),\"\")","v":""},null,null,{"$f":"IF(LEN(A506)>0,VLOOKUP(A506,Subcontractors!$A$2:$B$4,2,FALSE),\"\")","v":""}]
[null,null,null,null,null,null,null,null,null,null,null,null,null,null,null,null,null,null,null,null,null,null,null,{"$f":"IF(LEN(Z507)>0,VLOOKUP(Z507,'TFW Programs'!$A$2:$B$8,2,FALSE),\"\")","v":""},null,null,{"$f":"IF(LEN(A507)>0,VLOOKUP(A507,Subcontractors!$A$2:$B$4,2,FALSE),\"\")","v":""}]
[null,null,null,null,null,null,null,null,null,null,null,null,null,null,null,null,null,null,null,null,null,null,null,{"$f":"IF(LEN(Z508)>0,VLOOKUP(Z508,'TFW Programs'!$A$2:$B$8,2,FALSE),\"\")","v":""},null,null,{"$f":"IF(LEN(A508)>0,VLOOKUP(A508,Subcontractors!$A$2:$B$4,2,FALSE),\"\")","v":""}]
[null,null,null,null,null,null,null,null,null,null,null,null,null,null,null,null,null,null,null,null,null,null,null,{"$f":"IF(LEN(Z509)>0,VLOOKUP(Z509,'TFW Programs'!$A$2:$B$8,2,FALSE),\"\")","v":""},null,null,{"$f":"IF(LEN(A509)>0,VLOOKUP(A509,Subcontractors!$A$2:$B$4,2,FALSE),\"\")","v":""}]
[null,null,null,null,null,null,null,null,null,null,null,null,null,null,null,null,null,null,null,null,null,null,null,{"$f":"IF(LEN(Z510)>0,VLOOKUP(Z510,'TFW Programs'!$A$2:$B$8,2,FALSE),\"\")","v":""},null,null,{"$f":"IF(LEN(A510)>0,VLOOKUP(A510,Subcontractors!$A$2:$B$4,2,FALSE),\"\")","v":""}]
[null,null,null,null,null,null,null,null,null,null,null,null,null,null,null,null,null,null,null,null,null,null,null,{"$f":"IF(LEN(Z511)>0,VLOOKUP(Z511,'TFW Programs'!$A$2:$B$8,2,FALSE),\"\")","v":""},null,null,{"$f":"IF(LEN(A511)>0,VLOOKUP(A511,Subcontractors!$A$2:$B$4,2,FALSE),\"\")","v":""}]
[null,null,null,null,null,null,null,null,null,null,null,null,null,null,null,null,null,null,null,null,null,null,null,{"$f":"IF(LEN(Z512)>0,VLOOKUP(Z512,'TFW Programs'!$A$2:$B$8,2,FALSE),\"\")","v":""},null,null,{"$f":"IF(LEN(A512)>0,VLOOKUP(A512,Subcontractors!$A$2:$B$4,2,FALSE),\"\")","v":""}]
[null,null,null,null,null,null,null,null,null,null,null,null,null,null,null,null,null,null,null,null,null,null,null,{"$f":"IF(LEN(Z513)>0,VLOOKUP(Z513,'TFW Programs'!$A$2:$B$8,2,FALSE),\"\")","v":""},null,null,{"$f":"IF(LEN(A513)>0,VLOOKUP(A513,Subcontractors!$A$2:$B$4,2,FALSE),\"\")","v":""}]
[null,null,null,null,null,null,null,null,null,null,null,null,null,null,null,null,null,null,null,null,null,null,null,{"$f":"IF(LEN(Z514)>0,VLOOKUP(Z514,'TFW Programs'!$A$2:$B$8,2,FALSE),\"\")","v":""},null,null,{"$f":"IF(LEN(A514)>0,VLOOKUP(A514,Subcontractors!$A$2:$B$4,2,FALSE),\"\")","v":""}]
[null,null,null,null,null,null,null,null,null,null,null,null,null,null,null,null,null,null,null,null,null,null,null,{"$f":"IF(LEN(Z515)>0,VLOOKUP(Z515,'TFW Programs'!$A$2:$B$8,2,FALSE),\"\")","v":""},null,null,{"$f":"IF(LEN(A515)>0,VLOOKUP(A515,Subcontractors!$A$2:$B$4,2,FALSE),\"\")","v":""}]
[null,null,null,null,null,null,null,null,null,null,null,null,null,null,null,null,null,null,null,null,null,null,null,{"$f":"IF(LEN(Z516)>0,VLOOKUP(Z516,'TFW Programs'!$A$2:$B$8,2,FALSE),\"\")","v":""},null,null,{"$f":"IF(LEN(A516)>0,VLOOKUP(A516,Subcontractors!$A$2:$B$4,2,FALSE),\"\")","v":""}]
[null,null,null,null,null,null,null,null,null,null,null,null,null,null,null,null,null,null,null,null,null,null,null,{"$f":"IF(LEN(Z517)>0,VLOOKUP(Z517,'TFW Programs'!$A$2:$B$8,2,FALSE),\"\")","v":""},null,null,{"$f":"IF(LEN(A517)>0,VLOOKUP(A517,Subcontractors!$A$2:$B$4,2,FALSE),\"\")","v":""}]
[null,null,null,null,null,null,null,null,null,null,null,null,null,null,null,null,null,null,null,null,null,null,null,{"$f":"IF(LEN(Z518)>0,VLOOKUP(Z518,'TFW Programs'!$A$2:$B$8,2,FALSE),\"\")","v":""},null,null,{"$f":"IF(LEN(A518)>0,VLOOKUP(A518,Subcontractors!$A$2:$B$4,2,FALSE),\"\")","v":""}]
[null,null,null,null,null,null,null,null,null,null,null,null,null,null,null,null,null,null,null,null,null,null,null,{"$f":"IF(LEN(Z519)>0,VLOOKUP(Z519,'TFW Programs'!$A$2:$B$8,2,FALSE),\"\")","v":""},null,null,{"$f":"IF(LEN(A519)>0,VLOOKUP(A519,Subcontractors!$A$2:$B$4,2,FALSE),\"\")","v":""}]
[null,null,null,null,null,null,null,null,null,null,null,null,null,null,null,null,null,null,null,null,null,null,null,{"$f":"IF(LEN(Z520)>0,VLOOKUP(Z520,'TFW Programs'!$A$2:$B$8,2,FALSE),\"\")","v":""},null,null,{"$f":"IF(LEN(A520)>0,VLOOKUP(A520,Subcontractors!$A$2:$B$4,2,FALSE),\"\")","v":""}]
[null,null,null,null,null,null,null,null,null,null,null,null,null,null,null,null,null,null,null,null,null,null,null,{"$f":"IF(LEN(Z521)>0,VLOOKUP(Z521,'TFW Programs'!$A$2:$B$8,2,FALSE),\"\")","v":""},null,null,{"$f":"IF(LEN(A521)>0,VLOOKUP(A521,Subcontractors!$A$2:$B$4,2,FALSE),\"\")","v":""}]
[null,null,null,null,null,null,null,null,null,null,null,null,null,null,null,null,null,null,null,null,null,null,null,{"$f":"IF(LEN(Z522)>0,VLOOKUP(Z522,'TFW Programs'!$A$2:$B$8,2,FALSE),\"\")","v":""},null,null,{"$f":"IF(LEN(A522)>0,VLOOKUP(A522,Subcontractors!$A$2:$B$4,2,FALSE),\"\")","v":""}]
[null,null,null,null,null,null,null,null,null,null,null,null,null,null,null,null,null,null,null,null,null,null,null,{"$f":"IF(LEN(Z523)>0,VLOOKUP(Z523,'TFW Programs'!$A$2:$B$8,2,FALSE),\"\")","v":""},null,null,{"$f":"IF(LEN(A523)>0,VLOOKUP(A523,Subcontractors!$A$2:$B$4,2,FALSE),\"\")","v":""}]
[null,null,null,null,null,null,null,null,null,null,null,null,null,null,null,null,null,null,null,null,null,null,null,{"$f":"IF(LEN(Z524)>0,VLOOKUP(Z524,'TFW Programs'!$A$2:$B$8,2,FALSE),\"\")","v":""},null,null,{"$f":"IF(LEN(A524)>0,VLOOKUP(A524,Subcontractors!$A$2:$B$4,2,FALSE),\"\")","v":""}]
[null,null,null,null,null,null,null,null,null,null,null,null,null,null,null,null,null,null,null,null,null,null,null,{"$f":"IF(LEN(Z525)>0,VLOOKUP(Z525,'TFW Programs'!$A$2:$B$8,2,FALSE),\"\")","v":""},null,null,{"$f":"IF(LEN(A525)>0,VLOOKUP(A525,Subcontractors!$A$2:$B$4,2,FALSE),\"\")","v":""}]
[null,null,null,null,null,null,null,null,null,null,null,null,null,null,null,null,null,null,null,null,null,null,null,{"$f":"IF(LEN(Z526)>0,VLOOKUP(Z526,'TFW Programs'!$A$2:$B$8,2,FALSE),\"\")","v":""},null,null,{"$f":"IF(LEN(A526)>0,VLOOKUP(A526,Subcontractors!$A$2:$B$4,2,FALSE),\"\")","v":""}]
[null,null,null,null,null,null,null,null,null,null,null,null,null,null,null,null,null,null,null,null,null,null,null,{"$f":"IF(LEN(Z527)>0,VLOOKUP(Z527,'TFW Programs'!$A$2:$B$8,2,FALSE),\"\")","v":""},null,null,{"$f":"IF(LEN(A527)>0,VLOOKUP(A527,Subcontractors!$A$2:$B$4,2,FALSE),\"\")","v":""}]
[null,null,null,null,null,null,null,null,null,null,null,null,null,null,null,null,null,null,null,null,null,null,null,{"$f":"IF(LEN(Z528)>0,VLOOKUP(Z528,'TFW Programs'!$A$2:$B$8,2,FALSE),\"\")","v":""},null,null,{"$f":"IF(LEN(A528)>0,VLOOKUP(A528,Subcontractors!$A$2:$B$4,2,FALSE),\"\")","v":""}]
[null,null,null,null,null,null,null,null,null,null,null,null,null,null,null,null,null,null,null,null,null,null,null,{"$f":"IF(LEN(Z529)>0,VLOOKUP(Z529,'TFW Programs'!$A$2:$B$8,2,FALSE),\"\")","v":""},null,null,{"$f":"IF(LEN(A529)>0,VLOOKUP(A529,Subcontractors!$A$2:$B$4,2,FALSE),\"\")","v":""}]
[null,null,null,null,null,null,null,null,null,null,null,null,null,null,null,null,null,null,null,null,null,null,null,{"$f":"IF(LEN(Z530)>0,VLOOKUP(Z530,'TFW Programs'!$A$2:$B$8,2,FALSE),\"\")","v":""},null,null,{"$f":"IF(LEN(A530)>0,VLOOKUP(A530,Subcontractors!$A$2:$B$4,2,FALSE),\"\")","v":""}]
[null,null,null,null,null,null,null,null,null,null,null,null,null,null,null,null,null,null,null,null,null,null,null,{"$f":"IF(LEN(Z531)>0,VLOOKUP(Z531,'TFW Programs'!$A$2:$B$8,2,FALSE),\"\")","v":""},null,null,{"$f":"IF(LEN(A531)>0,VLOOKUP(A531,Subcontractors!$A$2:$B$4,2,FALSE),\"\")","v":""}]
[null,null,null,null,null,null,null,null,null,null,null,null,null,null,null,null,null,null,null,null,null,null,null,{"$f":"IF(LEN(Z532)>0,VLOOKUP(Z532,'TFW Programs'!$A$2:$B$8,2,FALSE),\"\")","v":""},null,null,{"$f":"IF(LEN(A532)>0,VLOOKUP(A532,Subcontractors!$A$2:$B$4,2,FALSE),\"\")","v":""}]
[null,null,null,null,null,null,null,null,null,null,null,null,null,null,null,null,null,null,null,null,null,null,null,{"$f":"IF(LEN(Z533)>0,VLOOKUP(Z533,'TFW Programs'!$A$2:$B$8,2,FALSE),\"\")","v":""},null,null,{"$f":"IF(LEN(A533)>0,VLOOKUP(A533,Subcontractors!$A$2:$B$4,2,FALSE),\"\")","v":""}]
[null,null,null,null,null,null,null,null,null,null,null,null,null,null,null,null,null,null,null,null,null,null,null,{"$f":"IF(LEN(Z534)>0,VLOOKUP(Z534,'TFW Programs'!$A$2:$B$8,2,FALSE),\"\")","v":""},null,null,{"$f":"IF(LEN(A534)>0,VLOOKUP(A534,Subcontractors!$A$2:$B$4,2,FALSE),\"\")","v":""}]
[null,null,null,null,null,null,null,null,null,null,null,null,null,null,null,null,null,null,null,null,null,null,null,{"$f":"IF(LEN(Z535)>0,VLOOKUP(Z535,'TFW Programs'!$A$2:$B$8,2,FALSE),\"\")","v":""},null,null,{"$f":"IF(LEN(A535)>0,VLOOKUP(A535,Subcontractors!$A$2:$B$4,2,FALSE),\"\")","v":""}]
[null,null,null,null,null,null,null,null,null,null,null,null,null,null,null,null,null,null,null,null,null,null,null,{"$f":"IF(LEN(Z536)>0,VLOOKUP(Z536,'TFW Programs'!$A$2:$B$8,2,FALSE),\"\")","v":""},null,null,{"$f":"IF(LEN(A536)>0,VLOOKUP(A536,Subcontractors!$A$2:$B$4,2,FALSE),\"\")","v":""}]
[null,null,null,null,null,null,null,null,null,null,null,null,null,null,null,null,null,null,null,null,null,null,null,{"$f":"IF(LEN(Z537)>0,VLOOKUP(Z537,'TFW Programs'!$A$2:$B$8,2,FALSE),\"\")","v":""},null,null,{"$f":"IF(LEN(A537)>0,VLOOKUP(A537,Subcontractors!$A$2:$B$4,2,FALSE),\"\")","v":""}]
[null,null,null,null,null,null,null,null,null,null,null,null,null,null,null,null,null,null,null,null,null,null,null,{"$f":"IF(LEN(Z538)>0,VLOOKUP(Z538,'TFW Programs'!$A$2:$B$8,2,FALSE),\"\")","v":""},null,null,{"$f":"IF(LEN(A538)>0,VLOOKUP(A538,Subcontractors!$A$2:$B$4,2,FALSE),\"\")","v":""}]
[null,null,null,null,null,null,null,null,null,null,null,null,null,null,null,null,null,null,null,null,null,null,null,{"$f":"IF(LEN(Z539)>0,VLOOKUP(Z539,'TFW Programs'!$A$2:$B$8,2,FALSE),\"\")","v":""},null,null,{"$f":"IF(LEN(A539)>0,VLOOKUP(A539,Subcontractors!$A$2:$B$4,2,FALSE),\"\")","v":""}]
[null,null,null,null,null,null,null,null,null,null,null,null,null,null,null,null,null,null,null,null,null,null,null,{"$f":"IF(LEN(Z540)>0,VLOOKUP(Z540,'TFW Programs'!$A$2:$B$8,2,FALSE),\"\")","v":""},null,null,{"$f":"IF(LEN(A540)>0,VLOOKUP(A540,Subcontractors!$A$2:$B$4,2,FALSE),\"\")","v":""}]
[null,null,null,null,null,null,null,null,null,null,null,null,null,null,null,null,null,null,null,null,null,null,null,{"$f":"IF(LEN(Z541)>0,VLOOKUP(Z541,'TFW Programs'!$A$2:$B$8,2,FALSE),\"\")","v":""},null,null,{"$f":"IF(LEN(A541)>0,VLOOKUP(A541,Subcontractors!$A$2:$B$4,2,FALSE),\"\")","v":""}]
[null,null,null,null,null,null,null,null,null,null,null,null,null,null,null,null,null,null,null,null,null,null,null,{"$f":"IF(LEN(Z542)>0,VLOOKUP(Z542,'TFW Programs'!$A$2:$B$8,2,FALSE),\"\")","v":""},null,null,{"$f":"IF(LEN(A542)>0,VLOOKUP(A542,Subcontractors!$A$2:$B$4,2,FALSE),\"\")","v":""}]
[null,null,null,null,null,null,null,null,null,null,null,null,null,null,null,null,null,null,null,null,null,null,null,{"$f":"IF(LEN(Z543)>0,VLOOKUP(Z543,'TFW Programs'!$A$2:$B$8,2,FALSE),\"\")","v":""},null,null,{"$f":"IF(LEN(A543)>0,VLOOKUP(A543,Subcontractors!$A$2:$B$4,2,FALSE),\"\")","v":""}]
[null,null,null,null,null,null,null,null,null,null,null,null,null,null,null,null,null,null,null,null,null,null,null,{"$f":"IF(LEN(Z544)>0,VLOOKUP(Z544,'TFW Programs'!$A$2:$B$8,2,FALSE),\"\")","v":""},null,null,{"$f":"IF(LEN(A544)>0,VLOOKUP(A544,Subcontractors!$A$2:$B$4,2,FALSE),\"\")","v":""}]
[null,null,null,null,null,null,null,null,null,null,null,null,null,null,null,null,null,null,null,null,null,null,null,{"$f":"IF(LEN(Z545)>0,VLOOKUP(Z545,'TFW Programs'!$A$2:$B$8,2,FALSE),\"\")","v":""},null,null,{"$f":"IF(LEN(A545)>0,VLOOKUP(A545,Subcontractors!$A$2:$B$4,2,FALSE),\"\")","v":""}]
[null,null,null,null,null,null,null,null,null,null,null,null,null,null,null,null,null,null,null,null,null,null,null,{"$f":"IF(LEN(Z546)>0,VLOOKUP(Z546,'TFW Programs'!$A$2:$B$8,2,FALSE),\"\")","v":""},null,null,{"$f":"IF(LEN(A546)>0,VLOOKUP(A546,Subcontractors!$A$2:$B$4,2,FALSE),\"\")","v":""}]
[null,null,null,null,null,null,null,null,null,null,null,null,null,null,null,null,null,null,null,null,null,null,null,{"$f":"IF(LEN(Z547)>0,VLOOKUP(Z547,'TFW Programs'!$A$2:$B$8,2,FALSE),\"\")","v":""},null,null,{"$f":"IF(LEN(A547)>0,VLOOKUP(A547,Subcontractors!$A$2:$B$4,2,FALSE),\"\")","v":""}]
[null,null,null,null,null,null,null,null,null,null,null,null,null,null,null,null,null,null,null,null,null,null,null,{"$f":"IF(LEN(Z548)>0,VLOOKUP(Z548,'TFW Programs'!$A$2:$B$8,2,FALSE),\"\")","v":""},null,null,{"$f":"IF(LEN(A548)>0,VLOOKUP(A548,Subcontractors!$A$2:$B$4,2,FALSE),\"\")","v":""}]
[null,null,null,null,null,null,null,null,null,null,null,null,null,null,null,null,null,null,null,null,null,null,null,{"$f":"IF(LEN(Z549)>0,VLOOKUP(Z549,'TFW Programs'!$A$2:$B$8,2,FALSE),\"\")","v":""},null,null,{"$f":"IF(LEN(A549)>0,VLOOKUP(A549,Subcontractors!$A$2:$B$4,2,FALSE),\"\")","v":""}]
[null,null,null,null,null,null,null,null,null,null,null,null,null,null,null,null,null,null,null,null,null,null,null,{"$f":"IF(LEN(Z550)>0,VLOOKUP(Z550,'TFW Programs'!$A$2:$B$8,2,FALSE),\"\")","v":""},null,null,{"$f":"IF(LEN(A550)>0,VLOOKUP(A550,Subcontractors!$A$2:$B$4,2,FALSE),\"\")","v":""}]
[null,null,null,null,null,null,null,null,null,null,null,null,null,null,null,null,null,null,null,null,null,null,null,{"$f":"IF(LEN(Z551)>0,VLOOKUP(Z551,'TFW Programs'!$A$2:$B$8,2,FALSE),\"\")","v":""},null,null,{"$f":"IF(LEN(A551)>0,VLOOKUP(A551,Subcontractors!$A$2:$B$4,2,FALSE),\"\")","v":""}]
[null,null,null,null,null,null,null,null,null,null,null,null,null,null,null,null,null,null,null,null,null,null,null,{"$f":"IF(LEN(Z552)>0,VLOOKUP(Z552,'TFW Programs'!$A$2:$B$8,2,FALSE),\"\")","v":""},null,null,{"$f":"IF(LEN(A552)>0,VLOOKUP(A552,Subcontractors!$A$2:$B$4,2,FALSE),\"\")","v":""}]
[null,null,null,null,null,null,null,null,null,null,null,null,null,null,null,null,null,null,null,null,null,null,null,{"$f":"IF(LEN(Z553)>0,VLOOKUP(Z553,'TFW Programs'!$A$2:$B$8,2,FALSE),\"\")","v":""},null,null,{"$f":"IF(LEN(A553)>0,VLOOKUP(A553,Subcontractors!$A$2:$B$4,2,FALSE),\"\")","v":""}]
[null,null,null,null,null,null,null,null,null,null,null,null,null,null,null,null,null,null,null,null,null,null,null,{"$f":"IF(LEN(Z554)>0,VLOOKUP(Z554,'TFW Programs'!$A$2:$B$8,2,FALSE),\"\")","v":""},null,null,{"$f":"IF(LEN(A554)>0,VLOOKUP(A554,Subcontractors!$A$2:$B$4,2,FALSE),\"\")","v":""}]
[null,null,null,null,null,null,null,null,null,null,null,null,null,null,null,null,null,null,null,null,null,null,null,{"$f":"IF(LEN(Z555)>0,VLOOKUP(Z555,'TFW Programs'!$A$2:$B$8,2,FALSE),\"\")","v":""},null,null,{"$f":"IF(LEN(A555)>0,VLOOKUP(A555,Subcontractors!$A$2:$B$4,2,FALSE),\"\")","v":""}]
[null,null,null,null,null,null,null,null,null,null,null,null,null,null,null,null,null,null,null,null,null,null,null,{"$f":"IF(LEN(Z556)>0,VLOOKUP(Z556,'TFW Programs'!$A$2:$B$8,2,FALSE),\"\")","v":""},null,null,{"$f":"IF(LEN(A556)>0,VLOOKUP(A556,Subcontractors!$A$2:$B$4,2,FALSE),\"\")","v":""}]
[null,null,null,null,null,null,null,null,null,null,null,null,null,null,null,null,null,null,null,null,null,null,null,{"$f":"IF(LEN(Z557)>0,VLOOKUP(Z557,'TFW Programs'!$A$2:$B$8,2,FALSE),\"\")","v":""},null,null,{"$f":"IF(LEN(A557)>0,VLOOKUP(A557,Subcontractors!$A$2:$B$4,2,FALSE),\"\")","v":""}]
[null,null,null,null,null,null,null,null,null,null,null,null,null,null,null,null,null,null,null,null,null,null,null,{"$f":"IF(LEN(Z558)>0,VLOOKUP(Z558,'TFW Programs'!$A$2:$B$8,2,FALSE),\"\")","v":""},null,null,{"$f":"IF(LEN(A558)>0,VLOOKUP(A558,Subcontractors!$A$2:$B$4,2,FALSE),\"\")","v":""}]
[null,null,null,null,null,null,null,null,null,null,null,null,null,null,null,null,null,null,null,null,null,null,null,{"$f":"IF(LEN(Z559)>0,VLOOKUP(Z559,'TFW Programs'!$A$2:$B$8,2,FALSE),\"\")","v":""},null,null,{"$f":"IF(LEN(A559)>0,VLOOKUP(A559,Subcontractors!$A$2:$B$4,2,FALSE),\"\")","v":""}]
[null,null,null,null,null,null,null,null,null,null,null,null,null,null,null,null,null,null,null,null,null,null,null,{"$f":"IF(LEN(Z560)>0,VLOOKUP(Z560,'TFW Programs'!$A$2:$B$8,2,FALSE),\"\")","v":""},null,null,{"$f":"IF(LEN(A560)>0,VLOOKUP(A560,Subcontractors!$A$2:$B$4,2,FALSE),\"\")","v":""}]
[null,null,null,null,null,null,null,null,null,null,null,null,null,null,null,null,null,null,null,null,null,null,null,{"$f":"IF(LEN(Z561)>0,VLOOKUP(Z561,'TFW Programs'!$A$2:$B$8,2,FALSE),\"\")","v":""},null,null,{"$f":"IF(LEN(A561)>0,VLOOKUP(A561,Subcontractors!$A$2:$B$4,2,FALSE),\"\")","v":""}]
[null,null,null,null,null,null,null,null,null,null,null,null,null,null,null,null,null,null,null,null,null,null,null,{"$f":"IF(LEN(Z562)>0,VLOOKUP(Z562,'TFW Programs'!$A$2:$B$8,2,FALSE),\"\")","v":""},null,null,{"$f":"IF(LEN(A562)>0,VLOOKUP(A562,Subcontractors!$A$2:$B$4,2,FALSE),\"\")","v":""}]
[null,null,null,null,null,null,null,null,null,null,null,null,null,null,null,null,null,null,null,null,null,null,null,{"$f":"IF(LEN(Z563)>0,VLOOKUP(Z563,'TFW Programs'!$A$2:$B$8,2,FALSE),\"\")","v":""},null,null,{"$f":"IF(LEN(A563)>0,VLOOKUP(A563,Subcontractors!$A$2:$B$4,2,FALSE),\"\")","v":""}]
[null,null,null,null,null,null,null,null,null,null,null,null,null,null,null,null,null,null,null,null,null,null,null,{"$f":"IF(LEN(Z564)>0,VLOOKUP(Z564,'TFW Programs'!$A$2:$B$8,2,FALSE),\"\")","v":""},null,null,{"$f":"IF(LEN(A564)>0,VLOOKUP(A564,Subcontractors!$A$2:$B$4,2,FALSE),\"\")","v":""}]
[null,null,null,null,null,null,null,null,null,null,null,null,null,null,null,null,null,null,null,null,null,null,null,{"$f":"IF(LEN(Z565)>0,VLOOKUP(Z565,'TFW Programs'!$A$2:$B$8,2,FALSE),\"\")","v":""},null,null,{"$f":"IF(LEN(A565)>0,VLOOKUP(A565,Subcontractors!$A$2:$B$4,2,FALSE),\"\")","v":""}]
[null,null,null,null,null,null,null,null,null,null,null,null,null,null,null,null,null,null,null,null,null,null,null,{"$f":"IF(LEN(Z566)>0,VLOOKUP(Z566,'TFW Programs'!$A$2:$B$8,2,FALSE),\"\")","v":""},null,null,{"$f":"IF(LEN(A566)>0,VLOOKUP(A566,Subcontractors!$A$2:$B$4,2,FALSE),\"\")","v":""}]
[null,null,null,null,null,null,null,null,null,null,null,null,null,null,null,null,null,null,null,null,null,null,null,{"$f":"IF(LEN(Z567)>0,VLOOKUP(Z567,'TFW Programs'!$A$2:$B$8,2,FALSE),\"\")","v":""},null,null,{"$f":"IF(LEN(A567)>0,VLOOKUP(A567,Subcontractors!$A$2:$B$4,2,FALSE),\"\")","v":""}]
[null,null,null,null,null,null,null,null,null,null,null,null,null,null,null,null,null,null,null,null,null,null,null,{"$f":"IF(LEN(Z568)>0,VLOOKUP(Z568,'TFW Programs'!$A$2:$B$8,2,FALSE),\"\")","v":""},null,null,{"$f":"IF(LEN(A568)>0,VLOOKUP(A568,Subcontractors!$A$2:$B$4,2,FALSE),\"\")","v":""}]
[null,null,null,null,null,null,null,null,null,null,null,null,null,null,null,null,null,null,null,null,null,null,null,{"$f":"IF(LEN(Z569)>0,VLOOKUP(Z569,'TFW Programs'!$A$2:$B$8,2,FALSE),\"\")","v":""},null,null,{"$f":"IF(LEN(A569)>0,VLOOKUP(A569,Subcontractors!$A$2:$B$4,2,FALSE),\"\")","v":""}]
[null,null,null,null,null,null,null,null,null,null,null,null,null,null,null,null,null,null,null,null,null,null,null,{"$f":"IF(LEN(Z570)>0,VLOOKUP(Z570,'TFW Programs'!$A$2:$B$8,2,FALSE),\"\")","v":""},null,null,{"$f":"IF(LEN(A570)>0,VLOOKUP(A570,Subcontractors!$A$2:$B$4,2,FALSE),\"\")","v":""}]
[null,null,null,null,null,null,null,null,null,null,null,null,null,null,null,null,null,null,null,null,null,null,null,{"$f":"IF(LEN(Z571)>0,VLOOKUP(Z571,'TFW Programs'!$A$2:$B$8,2,FALSE),\"\")","v":""},null,null,{"$f":"IF(LEN(A571)>0,VLOOKUP(A571,Subcontractors!$A$2:$B$4,2,FALSE),\"\")","v":""}]
[null,null,null,null,null,null,null,null,null,null,null,null,null,null,null,null,null,null,null,null,null,null,null,{"$f":"IF(LEN(Z572)>0,VLOOKUP(Z572,'TFW Programs'!$A$2:$B$8,2,FALSE),\"\")","v":""},null,null,{"$f":"IF(LEN(A572)>0,VLOOKUP(A572,Subcontractors!$A$2:$B$4,2,FALSE),\"\")","v":""}]
[null,null,null,null,null,null,null,null,null,null,null,null,null,null,null,null,null,null,null,null,null,null,null,{"$f":"IF(LEN(Z573)>0,VLOOKUP(Z573,'TFW Programs'!$A$2:$B$8,2,FALSE),\"\")","v":""},null,null,{"$f":"IF(LEN(A573)>0,VLOOKUP(A573,Subcontractors!$A$2:$B$4,2,FALSE),\"\")","v":""}]
[null,null,null,null,null,null,null,null,null,null,null,null,null,null,null,null,null,null,null,null,null,null,null,{"$f":"IF(LEN(Z574)>0,VLOOKUP(Z574,'TFW Programs'!$A$2:$B$8,2,FALSE),\"\")","v":""},null,null,{"$f":"IF(LEN(A574)>0,VLOOKUP(A574,Subcontractors!$A$2:$B$4,2,FALSE),\"\")","v":""}]
[null,null,null,null,null,null,null,null,null,null,null,null,null,null,null,null,null,null,null,null,null,null,null,{"$f":"IF(LEN(Z575)>0,VLOOKUP(Z575,'TFW Programs'!$A$2:$B$8,2,FALSE),\"\")","v":""},null,null,{"$f":"IF(LEN(A575)>0,VLOOKUP(A575,Subcontractors!$A$2:$B$4,2,FALSE),\"\")","v":""}]
[null,null,null,null,null,null,null,null,null,null,null,null,null,null,null,null,null,null,null,null,null,null,null,{"$f":"IF(LEN(Z576)>0,VLOOKUP(Z576,'TFW Programs'!$A$2:$B$8,2,FALSE),\"\")","v":""},null,null,{"$f":"IF(LEN(A576)>0,VLOOKUP(A576,Subcontractors!$A$2:$B$4,2,FALSE),\"\")","v":""}]
[null,null,null,null,null,null,null,null,null,null,null,null,null,null,null,null,null,null,null,null,null,null,null,{"$f":"IF(LEN(Z577)>0,VLOOKUP(Z577,'TFW Programs'!$A$2:$B$8,2,FALSE),\"\")","v":""},null,null,{"$f":"IF(LEN(A577)>0,VLOOKUP(A577,Subcontractors!$A$2:$B$4,2,FALSE),\"\")","v":""}]
[null,null,null,null,null,null,null,null,null,null,null,null,null,null,null,null,null,null,null,null,null,null,null,{"$f":"IF(LEN(Z578)>0,VLOOKUP(Z578,'TFW Programs'!$A$2:$B$8,2,FALSE),\"\")","v":""},null,null,{"$f":"IF(LEN(A578)>0,VLOOKUP(A578,Subcontractors!$A$2:$B$4,2,FALSE),\"\")","v":""}]
[null,null,null,null,null,null,null,null,null,null,null,null,null,null,null,null,null,null,null,null,null,null,null,{"$f":"IF(LEN(Z579)>0,VLOOKUP(Z579,'TFW Programs'!$A$2:$B$8,2,FALSE),\"\")","v":""},null,null,{"$f":"IF(LEN(A579)>0,VLOOKUP(A579,Subcontractors!$A$2:$B$4,2,FALSE),\"\")","v":""}]
[null,null,null,null,null,null,null,null,null,null,null,null,null,null,null,null,null,null,null,null,null,null,null,{"$f":"IF(LEN(Z580)>0,VLOOKUP(Z580,'TFW Programs'!$A$2:$B$8,2,FALSE),\"\")","v":""},null,null,{"$f":"IF(LEN(A580)>0,VLOOKUP(A580,Subcontractors!$A$2:$B$4,2,FALSE),\"\")","v":""}]
[null,null,null,null,null,null,null,null,null,null,null,null,null,null,null,null,null,null,null,null,null,null,null,{"$f":"IF(LEN(Z581)>0,VLOOKUP(Z581,'TFW Programs'!$A$2:$B$8,2,FALSE),\"\")","v":""},null,null,{"$f":"IF(LEN(A581)>0,VLOOKUP(A581,Subcontractors!$A$2:$B$4,2,FALSE),\"\")","v":""}]
[null,null,null,null,null,null,null,null,null,null,null,null,null,null,null,null,null,null,null,null,null,null,null,{"$f":"IF(LEN(Z582)>0,VLOOKUP(Z582,'TFW Programs'!$A$2:$B$8,2,FALSE),\"\")","v":""},null,null,{"$f":"IF(LEN(A582)>0,VLOOKUP(A582,Subcontractors!$A$2:$B$4,2,FALSE),\"\")","v":""}]
[null,null,null,null,null,null,null,null,null,null,null,null,null,null,null,null,null,null,null,null,null,null,null,{"$f":"IF(LEN(Z583)>0,VLOOKUP(Z583,'TFW Programs'!$A$2:$B$8,2,FALSE),\"\")","v":""},null,null,{"$f":"IF(LEN(A583)>0,VLOOKUP(A583,Subcontractors!$A$2:$B$4,2,FALSE),\"\")","v":""}]
[null,null,null,null,null,null,null,null,null,null,null,null,null,null,null,null,null,null,null,null,null,null,null,{"$f":"IF(LEN(Z584)>0,VLOOKUP(Z584,'TFW Programs'!$A$2:$B$8,2,FALSE),\"\")","v":""},null,null,{"$f":"IF(LEN(A584)>0,VLOOKUP(A584,Subcontractors!$A$2:$B$4,2,FALSE),\"\")","v":""}]
[null,null,null,null,null,null,null,null,null,null,null,null,null,null,null,null,null,null,null,null,null,null,null,{"$f":"IF(LEN(Z585)>0,VLOOKUP(Z585,'TFW Programs'!$A$2:$B$8,2,FALSE),\"\")","v":""},null,null,{"$f":"IF(LEN(A585)>0,VLOOKUP(A585,Subcontractors!$A$2:$B$4,2,FALSE),\"\")","v":""}]
[null,null,null,null,null,null,null,null,null,null,null,null,null,null,null,null,null,null,null,null,null,null,null,{"$f":"IF(LEN(Z586)>0,VLOOKUP(Z586,'TFW Programs'!$A$2:$B$8,2,FALSE),\"\")","v":""},null,null,{"$f":"IF(LEN(A586)>0,VLOOKUP(A586,Subcontractors!$A$2:$B$4,2,FALSE),\"\")","v":""}]
[null,null,null,null,null,null,null,null,null,null,null,null,null,null,null,null,null,null,null,null,null,null,null,{"$f":"IF(LEN(Z587)>0,VLOOKUP(Z587,'TFW Programs'!$A$2:$B$8,2,FALSE),\"\")","v":""},null,null,{"$f":"IF(LEN(A587)>0,VLOOKUP(A587,Subcontractors!$A$2:$B$4,2,FALSE),\"\")","v":""}]
[null,null,null,null,null,null,null,null,null,null,null,null,null,null,null,null,null,null,null,null,null,null,null,{"$f":"IF(LEN(Z588)>0,VLOOKUP(Z588,'TFW Programs'!$A$2:$B$8,2,FALSE),\"\")","v":""},null,null,{"$f":"IF(LEN(A588)>0,VLOOKUP(A588,Subcontractors!$A$2:$B$4,2,FALSE),\"\")","v":""}]
[null,null,null,null,null,null,null,null,null,null,null,null,null,null,null,null,null,null,null,null,null,null,null,{"$f":"IF(LEN(Z589)>0,VLOOKUP(Z589,'TFW Programs'!$A$2:$B$8,2,FALSE),\"\")","v":""},null,null,{"$f":"IF(LEN(A589)>0,VLOOKUP(A589,Subcontractors!$A$2:$B$4,2,FALSE),\"\")","v":""}]
[null,null,null,null,null,null,null,null,null,null,null,null,null,null,null,null,null,null,null,null,null,null,null,{"$f":"IF(LEN(Z590)>0,VLOOKUP(Z590,'TFW Programs'!$A$2:$B$8,2,FALSE),\"\")","v":""},null,null,{"$f":"IF(LEN(A590)>0,VLOOKUP(A590,Subcontractors!$A$2:$B$4,2,FALSE),\"\")","v":""}]
[null,null,null,null,null,null,null,null,null,null,null,null,null,null,null,null,null,null,null,null,null,null,null,{"$f":"IF(LEN(Z591)>0,VLOOKUP(Z591,'TFW Programs'!$A$2:$B$8,2,FALSE),\"\")","v":""},null,null,{"$f":"IF(LEN(A591)>0,VLOOKUP(A591,Subcontractors!$A$2:$B$4,2,FALSE),\"\")","v":""}]
[null,null,null,null,null,null,null,null,null,null,null,null,null,null,null,null,null,null,null,null,null,null,null,{"$f":"IF(LEN(Z592)>0,VLOOKUP(Z592,'TFW Programs'!$A$2:$B$8,2,FALSE),\"\")","v":""},null,null,{"$f":"IF(LEN(A592)>0,VLOOKUP(A592,Subcontractors!$A$2:$B$4,2,FALSE),\"\")","v":""}]
[null,null,null,null,null,null,null,null,null,null,null,null,null,null,null,null,null,null,null,null,null,null,null,{"$f":"IF(LEN(Z593)>0,VLOOKUP(Z593,'TFW Programs'!$A$2:$B$8,2,FALSE),\"\")","v":""},null,null,{"$f":"IF(LEN(A593)>0,VLOOKUP(A593,Subcontractors!$A$2:$B$4,2,FALSE),\"\")","v":""}]
[null,null,null,null,null,null,null,null,null,null,null,null,null,null,null,null,null,null,null,null,null,null,null,{"$f":"IF(LEN(Z594)>0,VLOOKUP(Z594,'TFW Programs'!$A$2:$B$8,2,FALSE),\"\")","v":""},null,null,{"$f":"IF(LEN(A594)>0,VLOOKUP(A594,Subcontractors!$A$2:$B$4,2,FALSE),\"\")","v":""}]
[null,null,null,null,null,null,null,null,null,null,null,null,null,null,null,null,null,null,null,null,null,null,null,{"$f":"IF(LEN(Z595)>0,VLOOKUP(Z595,'TFW Programs'!$A$2:$B$8,2,FALSE),\"\")","v":""},null,null,{"$f":"IF(LEN(A595)>0,VLOOKUP(A595,Subcontractors!$A$2:$B$4,2,FALSE),\"\")","v":""}]
[null,null,null,null,null,null,null,null,null,null,null,null,null,null,null,null,null,null,null,null,null,null,null,{"$f":"IF(LEN(Z596)>0,VLOOKUP(Z596,'TFW Programs'!$A$2:$B$8,2,FALSE),\"\")","v":""},null,null,{"$f":"IF(LEN(A596)>0,VLOOKUP(A596,Subcontractors!$A$2:$B$4,2,FALSE),\"\")","v":""}]
[null,null,null,null,null,null,null,null,null,null,null,null,null,null,null,null,null,null,null,null,null,null,null,{"$f":"IF(LEN(Z597)>0,VLOOKUP(Z597,'TFW Programs'!$A$2:$B$8,2,FALSE),\"\")","v":""},null,null,{"$f":"IF(LEN(A597)>0,VLOOKUP(A597,Subcontractors!$A$2:$B$4,2,FALSE),\"\")","v":""}]
[null,null,null,null,null,null,null,null,null,null,null,null,null,null,null,null,null,null,null,null,null,null,null,{"$f":"IF(LEN(Z598)>0,VLOOKUP(Z598,'TFW Programs'!$A$2:$B$8,2,FALSE),\"\")","v":""},null,null,{"$f":"IF(LEN(A598)>0,VLOOKUP(A598,Subcontractors!$A$2:$B$4,2,FALSE),\"\")","v":""}]
[null,null,null,null,null,null,null,null,null,null,null,null,null,null,null,null,null,null,null,null,null,null,null,{"$f":"IF(LEN(Z599)>0,VLOOKUP(Z599,'TFW Programs'!$A$2:$B$8,2,FALSE),\"\")","v":""},null,null,{"$f":"IF(LEN(A599)>0,VLOOKUP(A599,Subcontractors!$A$2:$B$4,2,FALSE),\"\")","v":""}]
[null,null,null,null,null,null,null,null,null,null,null,null,null,null,null,null,null,null,null,null,null,null,null,{"$f":"IF(LEN(Z600)>0,VLOOKUP(Z600,'TFW Programs'!$A$2:$B$8,2,FALSE),\"\")","v":""},null,null,{"$f":"IF(LEN(A600)>0,VLOOKUP(A600,Subcontractors!$A$2:$B$4,2,FALSE),\"\")","v":""}]
[null,null,null,null,null,null,null,null,null,null,null,null,null,null,null,null,null,null,null,null,null,null,null,{"$f":"IF(LEN(Z601)>0,VLOOKUP(Z601,'TFW Programs'!$A$2:$B$8,2,FALSE),\"\")","v":""},null,null,{"$f":"IF(LEN(A601)>0,VLOOKUP(A601,Subcontractors!$A$2:$B$4,2,FALSE),\"\")","v":""}]
[null,null,null,null,null,null,null,null,null,null,null,null,null,null,null,null,null,null,null,null,null,null,null,{"$f":"IF(LEN(Z602)>0,VLOOKUP(Z602,'TFW Programs'!$A$2:$B$8,2,FALSE),\"\")","v":""},null,null,{"$f":"IF(LEN(A602)>0,VLOOKUP(A602,Subcontractors!$A$2:$B$4,2,FALSE),\"\")","v":""}]
[null,null,null,null,null,null,null,null,null,null,null,null,null,null,null,null,null,null,null,null,null,null,null,{"$f":"IF(LEN(Z603)>0,VLOOKUP(Z603,'TFW Programs'!$A$2:$B$8,2,FALSE),\"\")","v":""},null,null,{"$f":"IF(LEN(A603)>0,VLOOKUP(A603,Subcontractors!$A$2:$B$4,2,FALSE),\"\")","v":""}]
[null,null,null,null,null,null,null,null,null,null,null,null,null,null,null,null,null,null,null,null,null,null,null,{"$f":"IF(LEN(Z604)>0,VLOOKUP(Z604,'TFW Programs'!$A$2:$B$8,2,FALSE),\"\")","v":""},null,null,{"$f":"IF(LEN(A604)>0,VLOOKUP(A604,Subcontractors!$A$2:$B$4,2,FALSE),\"\")","v":""}]
[null,null,null,null,null,null,null,null,null,null,null,null,null,null,null,null,null,null,null,null,null,null,null,{"$f":"IF(LEN(Z605)>0,VLOOKUP(Z605,'TFW Programs'!$A$2:$B$8,2,FALSE),\"\")","v":""},null,null,{"$f":"IF(LEN(A605)>0,VLOOKUP(A605,Subcontractors!$A$2:$B$4,2,FALSE),\"\")","v":""}]
[null,null,null,null,null,null,null,null,null,null,null,null,null,null,null,null,null,null,null,null,null,null,null,{"$f":"IF(LEN(Z606)>0,VLOOKUP(Z606,'TFW Programs'!$A$2:$B$8,2,FALSE),\"\")","v":""},null,null,{"$f":"IF(LEN(A606)>0,VLOOKUP(A606,Subcontractors!$A$2:$B$4,2,FALSE),\"\")","v":""}]
[null,null,null,null,null,null,null,null,null,null,null,null,null,null,null,null,null,null,null,null,null,null,null,{"$f":"IF(LEN(Z607)>0,VLOOKUP(Z607,'TFW Programs'!$A$2:$B$8,2,FALSE),\"\")","v":""},null,null,{"$f":"IF(LEN(A607)>0,VLOOKUP(A607,Subcontractors!$A$2:$B$4,2,FALSE),\"\")","v":""}]
[null,null,null,null,null,null,null,null,null,null,null,null,null,null,null,null,null,null,null,null,null,null,null,{"$f":"IF(LEN(Z608)>0,VLOOKUP(Z608,'TFW Programs'!$A$2:$B$8,2,FALSE),\"\")","v":""},null,null,{"$f":"IF(LEN(A608)>0,VLOOKUP(A608,Subcontractors!$A$2:$B$4,2,FALSE),\"\")","v":""}]
[null,null,null,null,null,null,null,null,null,null,null,null,null,null,null,null,null,null,null,null,null,null,null,{"$f":"IF(LEN(Z609)>0,VLOOKUP(Z609,'TFW Programs'!$A$2:$B$8,2,FALSE),\"\")","v":""},null,null,{"$f":"IF(LEN(A609)>0,VLOOKUP(A609,Subcontractors!$A$2:$B$4,2,FALSE),\"\")","v":""}]
[null,null,null,null,null,null,null,null,null,null,null,null,null,null,null,null,null,null,null,null,null,null,null,{"$f":"IF(LEN(Z610)>0,VLOOKUP(Z610,'TFW Programs'!$A$2:$B$8,2,FALSE),\"\")","v":""},null,null,{"$f":"IF(LEN(A610)>0,VLOOKUP(A610,Subcontractors!$A$2:$B$4,2,FALSE),\"\")","v":""}]
[null,null,null,null,null,null,null,null,null,null,null,null,null,null,null,null,null,null,null,null,null,null,null,{"$f":"IF(LEN(Z611)>0,VLOOKUP(Z611,'TFW Programs'!$A$2:$B$8,2,FALSE),\"\")","v":""},null,null,{"$f":"IF(LEN(A611)>0,VLOOKUP(A611,Subcontractors!$A$2:$B$4,2,FALSE),\"\")","v":""}]
[null,null,null,null,null,null,null,null,null,null,null,null,null,null,null,null,null,null,null,null,null,null,null,{"$f":"IF(LEN(Z612)>0,VLOOKUP(Z612,'TFW Programs'!$A$2:$B$8,2,FALSE),\"\")","v":""},null,null,{"$f":"IF(LEN(A612)>0,VLOOKUP(A612,Subcontractors!$A$2:$B$4,2,FALSE),\"\")","v":""}]
[null,null,null,null,null,null,null,null,null,null,null,null,null,null,null,null,null,null,null,null,null,null,null,{"$f":"IF(LEN(Z613)>0,VLOOKUP(Z613,'TFW Programs'!$A$2:$B$8,2,FALSE),\"\")","v":""},null,null,{"$f":"IF(LEN(A613)>0,VLOOKUP(A613,Subcontractors!$A$2:$B$4,2,FALSE),\"\")","v":""}]
[null,null,null,null,null,null,null,null,null,null,null,null,null,null,null,null,null,null,null,null,null,null,null,{"$f":"IF(LEN(Z614)>0,VLOOKUP(Z614,'TFW Programs'!$A$2:$B$8,2,FALSE),\"\")","v":""},null,null,{"$f":"IF(LEN(A614)>0,VLOOKUP(A614,Subcontractors!$A$2:$B$4,2,FALSE),\"\")","v":""}]
[null,null,null,null,null,null,null,null,null,null,null,null,null,null,null,null,null,null,null,null,null,null,null,{"$f":"IF(LEN(Z615)>0,VLOOKUP(Z615,'TFW Programs'!$A$2:$B$8,2,FALSE),\"\")","v":""},null,null,{"$f":"IF(LEN(A615)>0,VLOOKUP(A615,Subcontractors!$A$2:$B$4,2,FALSE),\"\")","v":""}]
[null,null,null,null,null,null,null,null,null,null,null,null,null,null,null,null,null,null,null,null,null,null,null,{"$f":"IF(LEN(Z616)>0,VLOOKUP(Z616,'TFW Programs'!$A$2:$B$8,2,FALSE),\"\")","v":""},null,null,{"$f":"IF(LEN(A616)>0,VLOOKUP(A616,Subcontractors!$A$2:$B$4,2,FALSE),\"\")","v":""}]
[null,null,null,null,null,null,null,null,null,null,null,null,null,null,null,null,null,null,null,null,null,null,null,{"$f":"IF(LEN(Z617)>0,VLOOKUP(Z617,'TFW Programs'!$A$2:$B$8,2,FALSE),\"\")","v":""},null,null,{"$f":"IF(LEN(A617)>0,VLOOKUP(A617,Subcontractors!$A$2:$B$4,2,FALSE),\"\")","v":""}]
[null,null,null,null,null,null,null,null,null,null,null,null,null,null,null,null,null,null,null,null,null,null,null,{"$f":"IF(LEN(Z618)>0,VLOOKUP(Z618,'TFW Programs'!$A$2:$B$8,2,FALSE),\"\")","v":""},null,null,{"$f":"IF(LEN(A618)>0,VLOOKUP(A618,Subcontractors!$A$2:$B$4,2,FALSE),\"\")","v":""}]
[null,null,null,null,null,null,null,null,null,null,null,null,null,null,null,null,null,null,null,null,null,null,null,{"$f":"IF(LEN(Z619)>0,VLOOKUP(Z619,'TFW Programs'!$A$2:$B$8,2,FALSE),\"\")","v":""},null,null,{"$f":"IF(LEN(A619)>0,VLOOKUP(A619,Subcontractors!$A$2:$B$4,2,FALSE),\"\")","v":""}]
[null,null,null,null,null,null,null,null,null,null,null,null,null,null,null,null,null,null,null,null,null,null,null,{"$f":"IF(LEN(Z620)>0,VLOOKUP(Z620,'TFW Programs'!$A$2:$B$8,2,FALSE),\"\")","v":""},null,null,{"$f":"IF(LEN(A620)>0,VLOOKUP(A620,Subcontractors!$A$2:$B$4,2,FALSE),\"\")","v":""}]
[null,null,null,null,null,null,null,null,null,null,null,null,null,null,null,null,null,null,null,null,null,null,null,{"$f":"IF(LEN(Z621)>0,VLOOKUP(Z621,'TFW Programs'!$A$2:$B$8,2,FALSE),\"\")","v":""},null,null,{"$f":"IF(LEN(A621)>0,VLOOKUP(A621,Subcontractors!$A$2:$B$4,2,FALSE),\"\")","v":""}]
[null,null,null,null,null,null,null,null,null,null,null,null,null,null,null,null,null,null,null,null,null,null,null,{"$f":"IF(LEN(Z622)>0,VLOOKUP(Z622,'TFW Programs'!$A$2:$B$8,2,FALSE),\"\")","v":""},null,null,{"$f":"IF(LEN(A622)>0,VLOOKUP(A622,Subcontractors!$A$2:$B$4,2,FALSE),\"\")","v":""}]
[null,null,null,null,null,null,null,null,null,null,null,null,null,null,null,null,null,null,null,null,null,null,null,{"$f":"IF(LEN(Z623)>0,VLOOKUP(Z623,'TFW Programs'!$A$2:$B$8,2,FALSE),\"\")","v":""},null,null,{"$f":"IF(LEN(A623)>0,VLOOKUP(A623,Subcontractors!$A$2:$B$4,2,FALSE),\"\")","v":""}]
[null,null,null,null,null,null,null,null,null,null,null,null,null,null,null,null,null,null,null,null,null,null,null,{"$f":"IF(LEN(Z624)>0,VLOOKUP(Z624,'TFW Programs'!$A$2:$B$8,2,FALSE),\"\")","v":""},null,null,{"$f":"IF(LEN(A624)>0,VLOOKUP(A624,Subcontractors!$A$2:$B$4,2,FALSE),\"\")","v":""}]
[null,null,null,null,null,null,null,null,null,null,null,null,null,null,null,null,null,null,null,null,null,null,null,{"$f":"IF(LEN(Z625)>0,VLOOKUP(Z625,'TFW Programs'!$A$2:$B$8,2,FALSE),\"\")","v":""},null,null,{"$f":"IF(LEN(A625)>0,VLOOKUP(A625,Subcontractors!$A$2:$B$4,2,FALSE),\"\")","v":""}]
[null,null,null,null,null,null,null,null,null,null,null,null,null,null,null,null,null,null,null,null,null,null,null,{"$f":"IF(LEN(Z626)>0,VLOOKUP(Z626,'TFW Programs'!$A$2:$B$8,2,FALSE),\"\")","v":""},null,null,{"$f":"IF(LEN(A626)>0,VLOOKUP(A626,Subcontractors!$A$2:$B$4,2,FALSE),\"\")","v":""}]
[null,null,null,null,null,null,null,null,null,null,null,null,null,null,null,null,null,null,null,null,null,null,null,{"$f":"IF(LEN(Z627)>0,VLOOKUP(Z627,'TFW Programs'!$A$2:$B$8,2,FALSE),\"\")","v":""},null,null,{"$f":"IF(LEN(A627)>0,VLOOKUP(A627,Subcontractors!$A$2:$B$4,2,FALSE),\"\")","v":""}]
[null,null,null,null,null,null,null,null,null,null,null,null,null,null,null,null,null,null,null,null,null,null,null,{"$f":"IF(LEN(Z628)>0,VLOOKUP(Z628,'TFW Programs'!$A$2:$B$8,2,FALSE),\"\")","v":""},null,null,{"$f":"IF(LEN(A628)>0,VLOOKUP(A628,Subcontractors!$A$2:$B$4,2,FALSE),\"\")","v":""}]
[null,null,null,null,null,null,null,null,null,null,null,null,null,null,null,null,null,null,null,null,null,null,null,{"$f":"IF(LEN(Z629)>0,VLOOKUP(Z629,'TFW Programs'!$A$2:$B$8,2,FALSE),\"\")","v":""},null,null,{"$f":"IF(LEN(A629)>0,VLOOKUP(A629,Subcontractors!$A$2:$B$4,2,FALSE),\"\")","v":""}]
[null,null,null,null,null,null,null,null,null,null,null,null,null,null,null,null,null,null,null,null,null,null,null,{"$f":"IF(LEN(Z630)>0,VLOOKUP(Z630,'TFW Programs'!$A$2:$B$8,2,FALSE),\"\")","v":""},null,null,{"$f":"IF(LEN(A630)>0,VLOOKUP(A630,Subcontractors!$A$2:$B$4,2,FALSE),\"\")","v":""}]
[null,null,null,null,null,null,null,null,null,null,null,null,null,null,null,null,null,null,null,null,null,null,null,{"$f":"IF(LEN(Z631)>0,VLOOKUP(Z631,'TFW Programs'!$A$2:$B$8,2,FALSE),\"\")","v":""},null,null,{"$f":"IF(LEN(A631)>0,VLOOKUP(A631,Subcontractors!$A$2:$B$4,2,FALSE),\"\")","v":""}]
[null,null,null,null,null,null,null,null,null,null,null,null,null,null,null,null,null,null,null,null,null,null,null,{"$f":"IF(LEN(Z632)>0,VLOOKUP(Z632,'TFW Programs'!$A$2:$B$8,2,FALSE),\"\")","v":""},null,null,{"$f":"IF(LEN(A632)>0,VLOOKUP(A632,Subcontractors!$A$2:$B$4,2,FALSE),\"\")","v":""}]
[null,null,null,null,null,null,null,null,null,null,null,null,null,null,null,null,null,null,null,null,null,null,null,{"$f":"IF(LEN(Z633)>0,VLOOKUP(Z633,'TFW Programs'!$A$2:$B$8,2,FALSE),\"\")","v":""},null,null,{"$f":"IF(LEN(A633)>0,VLOOKUP(A633,Subcontractors!$A$2:$B$4,2,FALSE),\"\")","v":""}]
[null,null,null,null,null,null,null,null,null,null,null,null,null,null,null,null,null,null,null,null,null,null,null,{"$f":"IF(LEN(Z634)>0,VLOOKUP(Z634,'TFW Programs'!$A$2:$B$8,2,FALSE),\"\")","v":""},null,null,{"$f":"IF(LEN(A634)>0,VLOOKUP(A634,Subcontractors!$A$2:$B$4,2,FALSE),\"\")","v":""}]
[null,null,null,null,null,null,null,null,null,null,null,null,null,null,null,null,null,null,null,null,null,null,null,{"$f":"IF(LEN(Z635)>0,VLOOKUP(Z635,'TFW Programs'!$A$2:$B$8,2,FALSE),\"\")","v":""},null,null,{"$f":"IF(LEN(A635)>0,VLOOKUP(A635,Subcontractors!$A$2:$B$4,2,FALSE),\"\")","v":""}]
[null,null,null,null,null,null,null,null,null,null,null,null,null,null,null,null,null,null,null,null,null,null,null,{"$f":"IF(LEN(Z636)>0,VLOOKUP(Z636,'TFW Programs'!$A$2:$B$8,2,FALSE),\"\")","v":""},null,null,{"$f":"IF(LEN(A636)>0,VLOOKUP(A636,Subcontractors!$A$2:$B$4,2,FALSE),\"\")","v":""}]
[null,null,null,null,null,null,null,null,null,null,null,null,null,null,null,null,null,null,null,null,null,null,null,{"$f":"IF(LEN(Z637)>0,VLOOKUP(Z637,'TFW Programs'!$A$2:$B$8,2,FALSE),\"\")","v":""},null,null,{"$f":"IF(LEN(A637)>0,VLOOKUP(A637,Subcontractors!$A$2:$B$4,2,FALSE),\"\")","v":""}]
[null,null,null,null,null,null,null,null,null,null,null,null,null,null,null,null,null,null,null,null,null,null,null,{"$f":"IF(LEN(Z638)>0,VLOOKUP(Z638,'TFW Programs'!$A$2:$B$8,2,FALSE),\"\")","v":""},null,null,{"$f":"IF(LEN(A638)>0,VLOOKUP(A638,Subcontractors!$A$2:$B$4,2,FALSE),\"\")","v":""}]
[null,null,null,null,null,null,null,null,null,null,null,null,null,null,null,null,null,null,null,null,null,null,null,{"$f":"IF(LEN(Z639)>0,VLOOKUP(Z639,'TFW Programs'!$A$2:$B$8,2,FALSE),\"\")","v":""},null,null,{"$f":"IF(LEN(A639)>0,VLOOKUP(A639,Subcontractors!$A$2:$B$4,2,FALSE),\"\")","v":""}]
[null,null,null,null,null,null,null,null,null,null,null,null,null,null,null,null,null,null,null,null,null,null,null,{"$f":"IF(LEN(Z640)>0,VLOOKUP(Z640,'TFW Programs'!$A$2:$B$8,2,FALSE),\"\")","v":""},null,null,{"$f":"IF(LEN(A640)>0,VLOOKUP(A640,Subcontractors!$A$2:$B$4,2,FALSE),\"\")","v":""}]
[null,null,null,null,null,null,null,null,null,null,null,null,null,null,null,null,null,null,null,null,null,null,null,{"$f":"IF(LEN(Z641)>0,VLOOKUP(Z641,'TFW Programs'!$A$2:$B$8,2,FALSE),\"\")","v":""},null,null,{"$f":"IF(LEN(A641)>0,VLOOKUP(A641,Subcontractors!$A$2:$B$4,2,FALSE),\"\")","v":""}]
[null,null,null,null,null,null,null,null,null,null,null,null,null,null,null,null,null,null,null,null,null,null,null,{"$f":"IF(LEN(Z642)>0,VLOOKUP(Z642,'TFW Programs'!$A$2:$B$8,2,FALSE),\"\")","v":""},null,null,{"$f":"IF(LEN(A642)>0,VLOOKUP(A642,Subcontractors!$A$2:$B$4,2,FALSE),\"\")","v":""}]
[null,null,null,null,null,null,null,null,null,null,null,null,null,null,null,null,null,null,null,null,null,null,null,{"$f":"IF(LEN(Z643)>0,VLOOKUP(Z643,'TFW Programs'!$A$2:$B$8,2,FALSE),\"\")","v":""},null,null,{"$f":"IF(LEN(A643)>0,VLOOKUP(A643,Subcontractors!$A$2:$B$4,2,FALSE),\"\")","v":""}]
[null,null,null,null,null,null,null,null,null,null,null,null,null,null,null,null,null,null,null,null,null,null,null,{"$f":"IF(LEN(Z644)>0,VLOOKUP(Z644,'TFW Programs'!$A$2:$B$8,2,FALSE),\"\")","v":""},null,null,{"$f":"IF(LEN(A644)>0,VLOOKUP(A644,Subcontractors!$A$2:$B$4,2,FALSE),\"\")","v":""}]
[null,null,null,null,null,null,null,null,null,null,null,null,null,null,null,null,null,null,null,null,null,null,null,{"$f":"IF(LEN(Z645)>0,VLOOKUP(Z645,'TFW Programs'!$A$2:$B$8,2,FALSE),\"\")","v":""},null,null,{"$f":"IF(LEN(A645)>0,VLOOKUP(A645,Subcontractors!$A$2:$B$4,2,FALSE),\"\")","v":""}]
[null,null,null,null,null,null,null,null,null,null,null,null,null,null,null,null,null,null,null,null,null,null,null,{"$f":"IF(LEN(Z646)>0,VLOOKUP(Z646,'TFW Programs'!$A$2:$B$8,2,FALSE),\"\")","v":""},null,null,{"$f":"IF(LEN(A646)>0,VLOOKUP(A646,Subcontractors!$A$2:$B$4,2,FALSE),\"\")","v":""}]
[null,null,null,null,null,null,null,null,null,null,null,null,null,null,null,null,null,null,null,null,null,null,null,{"$f":"IF(LEN(Z647)>0,VLOOKUP(Z647,'TFW Programs'!$A$2:$B$8,2,FALSE),\"\")","v":""},null,null,{"$f":"IF(LEN(A647)>0,VLOOKUP(A647,Subcontractors!$A$2:$B$4,2,FALSE),\"\")","v":""}]
[null,null,null,null,null,null,null,null,null,null,null,null,null,null,null,null,null,null,null,null,null,null,null,{"$f":"IF(LEN(Z648)>0,VLOOKUP(Z648,'TFW Programs'!$A$2:$B$8,2,FALSE),\"\")","v":""},null,null,{"$f":"IF(LEN(A648)>0,VLOOKUP(A648,Subcontractors!$A$2:$B$4,2,FALSE),\"\")","v":""}]
[null,null,null,null,null,null,null,null,null,null,null,null,null,null,null,null,null,null,null,null,null,null,null,{"$f":"IF(LEN(Z649)>0,VLOOKUP(Z649,'TFW Programs'!$A$2:$B$8,2,FALSE),\"\")","v":""},null,null,{"$f":"IF(LEN(A649)>0,VLOOKUP(A649,Subcontractors!$A$2:$B$4,2,FALSE),\"\")","v":""}]
[null,null,null,null,null,null,null,null,null,null,null,null,null,null,null,null,null,null,null,null,null,null,null,{"$f":"IF(LEN(Z650)>0,VLOOKUP(Z650,'TFW Programs'!$A$2:$B$8,2,FALSE),\"\")","v":""},null,null,{"$f":"IF(LEN(A650)>0,VLOOKUP(A650,Subcontractors!$A$2:$B$4,2,FALSE),\"\")","v":""}]
[null,null,null,null,null,null,null,null,null,null,null,null,null,null,null,null,null,null,null,null,null,null,null,{"$f":"IF(LEN(Z651)>0,VLOOKUP(Z651,'TFW Programs'!$A$2:$B$8,2,FALSE),\"\")","v":""},null,null,{"$f":"IF(LEN(A651)>0,VLOOKUP(A651,Subcontractors!$A$2:$B$4,2,FALSE),\"\")","v":""}]
[null,null,null,null,null,null,null,null,null,null,null,null,null,null,null,null,null,null,null,null,null,null,null,{"$f":"IF(LEN(Z652)>0,VLOOKUP(Z652,'TFW Programs'!$A$2:$B$8,2,FALSE),\"\")","v":""},null,null,{"$f":"IF(LEN(A652)>0,VLOOKUP(A652,Subcontractors!$A$2:$B$4,2,FALSE),\"\")","v":""}]
[null,null,null,null,null,null,null,null,null,null,null,null,null,null,null,null,null,null,null,null,null,null,null,{"$f":"IF(LEN(Z653)>0,VLOOKUP(Z653,'TFW Programs'!$A$2:$B$8,2,FALSE),\"\")","v":""},null,null,{"$f":"IF(LEN(A653)>0,VLOOKUP(A653,Subcontractors!$A$2:$B$4,2,FALSE),\"\")","v":""}]
[null,null,null,null,null,null,null,null,null,null,null,null,null,null,null,null,null,null,null,null,null,null,null,{"$f":"IF(LEN(Z654)>0,VLOOKUP(Z654,'TFW Programs'!$A$2:$B$8,2,FALSE),\"\")","v":""},null,null,{"$f":"IF(LEN(A654)>0,VLOOKUP(A654,Subcontractors!$A$2:$B$4,2,FALSE),\"\")","v":""}]
[null,null,null,null,null,null,null,null,null,null,null,null,null,null,null,null,null,null,null,null,null,null,null,{"$f":"IF(LEN(Z655)>0,VLOOKUP(Z655,'TFW Programs'!$A$2:$B$8,2,FALSE),\"\")","v":""},null,null,{"$f":"IF(LEN(A655)>0,VLOOKUP(A655,Subcontractors!$A$2:$B$4,2,FALSE),\"\")","v":""}]
[null,null,null,null,null,null,null,null,null,null,null,null,null,null,null,null,null,null,null,null,null,null,null,{"$f":"IF(LEN(Z656)>0,VLOOKUP(Z656,'TFW Programs'!$A$2:$B$8,2,FALSE),\"\")","v":""},null,null,{"$f":"IF(LEN(A656)>0,VLOOKUP(A656,Subcontractors!$A$2:$B$4,2,FALSE),\"\")","v":""}]
[null,null,null,null,null,null,null,null,null,null,null,null,null,null,null,null,null,null,null,null,null,null,null,{"$f":"IF(LEN(Z657)>0,VLOOKUP(Z657,'TFW Programs'!$A$2:$B$8,2,FALSE),\"\")","v":""},null,null,{"$f":"IF(LEN(A657)>0,VLOOKUP(A657,Subcontractors!$A$2:$B$4,2,FALSE),\"\")","v":""}]
[null,null,null,null,null,null,null,null,null,null,null,null,null,null,null,null,null,null,null,null,null,null,null,{"$f":"IF(LEN(Z658)>0,VLOOKUP(Z658,'TFW Programs'!$A$2:$B$8,2,FALSE),\"\")","v":""},null,null,{"$f":"IF(LEN(A658)>0,VLOOKUP(A658,Subcontractors!$A$2:$B$4,2,FALSE),\"\")","v":""}]
[null,null,null,null,null,null,null,null,null,null,null,null,null,null,null,null,null,null,null,null,null,null,null,{"$f":"IF(LEN(Z659)>0,VLOOKUP(Z659,'TFW Programs'!$A$2:$B$8,2,FALSE),\"\")","v":""},null,null,{"$f":"IF(LEN(A659)>0,VLOOKUP(A659,Subcontractors!$A$2:$B$4,2,FALSE),\"\")","v":""}]
[null,null,null,null,null,null,null,null,null,null,null,null,null,null,null,null,null,null,null,null,null,null,null,{"$f":"IF(LEN(Z660)>0,VLOOKUP(Z660,'TFW Programs'!$A$2:$B$8,2,FALSE),\"\")","v":""},null,null,{"$f":"IF(LEN(A660)>0,VLOOKUP(A660,Subcontractors!$A$2:$B$4,2,FALSE),\"\")","v":""}]
[null,null,null,null,null,null,null,null,null,null,null,null,null,null,null,null,null,null,null,null,null,null,null,{"$f":"IF(LEN(Z661)>0,VLOOKUP(Z661,'TFW Programs'!$A$2:$B$8,2,FALSE),\"\")","v":""},null,null,{"$f":"IF(LEN(A661)>0,VLOOKUP(A661,Subcontractors!$A$2:$B$4,2,FALSE),\"\")","v":""}]
[null,null,null,null,null,null,null,null,null,null,null,null,null,null,null,null,null,null,null,null,null,null,null,{"$f":"IF(LEN(Z662)>0,VLOOKUP(Z662,'TFW Programs'!$A$2:$B$8,2,FALSE),\"\")","v":""},null,null,{"$f":"IF(LEN(A662)>0,VLOOKUP(A662,Subcontractors!$A$2:$B$4,2,FALSE),\"\")","v":""}]
[null,null,null,null,null,null,null,null,null,null,null,null,null,null,null,null,null,null,null,null,null,null,null,{"$f":"IF(LEN(Z663)>0,VLOOKUP(Z663,'TFW Programs'!$A$2:$B$8,2,FALSE),\"\")","v":""},null,null,{"$f":"IF(LEN(A663)>0,VLOOKUP(A663,Subcontractors!$A$2:$B$4,2,FALSE),\"\")","v":""}]
[null,null,null,null,null,null,null,null,null,null,null,null,null,null,null,null,null,null,null,null,null,null,null,{"$f":"IF(LEN(Z664)>0,VLOOKUP(Z664,'TFW Programs'!$A$2:$B$8,2,FALSE),\"\")","v":""},null,null,{"$f":"IF(LEN(A664)>0,VLOOKUP(A664,Subcontractors!$A$2:$B$4,2,FALSE),\"\")","v":""}]
[null,null,null,null,null,null,null,null,null,null,null,null,null,null,null,null,null,null,null,null,null,null,null,{"$f":"IF(LEN(Z665)>0,VLOOKUP(Z665,'TFW Programs'!$A$2:$B$8,2,FALSE),\"\")","v":""},null,null,{"$f":"IF(LEN(A665)>0,VLOOKUP(A665,Subcontractors!$A$2:$B$4,2,FALSE),\"\")","v":""}]
[null,null,null,null,null,null,null,null,null,null,null,null,null,null,null,null,null,null,null,null,null,null,null,{"$f":"IF(LEN(Z666)>0,VLOOKUP(Z666,'TFW Programs'!$A$2:$B$8,2,FALSE),\"\")","v":""},null,null,{"$f":"IF(LEN(A666)>0,VLOOKUP(A666,Subcontractors!$A$2:$B$4,2,FALSE),\"\")","v":""}]
[null,null,null,null,null,null,null,null,null,null,null,null,null,null,null,null,null,null,null,null,null,null,null,{"$f":"IF(LEN(Z667)>0,VLOOKUP(Z667,'TFW Programs'!$A$2:$B$8,2,FALSE),\"\")","v":""},null,null,{"$f":"IF(LEN(A667)>0,VLOOKUP(A667,Subcontractors!$A$2:$B$4,2,FALSE),\"\")","v":""}]
[null,null,null,null,null,null,null,null,null,null,null,null,null,null,null,null,null,null,null,null,null,null,null,{"$f":"IF(LEN(Z668)>0,VLOOKUP(Z668,'TFW Programs'!$A$2:$B$8,2,FALSE),\"\")","v":""},null,null,{"$f":"IF(LEN(A668)>0,VLOOKUP(A668,Subcontractors!$A$2:$B$4,2,FALSE),\"\")","v":""}]
[null,null,null,null,null,null,null,null,null,null,null,null,null,null,null,null,null,null,null,null,null,null,null,{"$f":"IF(LEN(Z669)>0,VLOOKUP(Z669,'TFW Programs'!$A$2:$B$8,2,FALSE),\"\")","v":""},null,null,{"$f":"IF(LEN(A669)>0,VLOOKUP(A669,Subcontractors!$A$2:$B$4,2,FALSE),\"\")","v":""}]
[null,null,null,null,null,null,null,null,null,null,null,null,null,null,null,null,null,null,null,null,null,null,null,{"$f":"IF(LEN(Z670)>0,VLOOKUP(Z670,'TFW Programs'!$A$2:$B$8,2,FALSE),\"\")","v":""},null,null,{"$f":"IF(LEN(A670)>0,VLOOKUP(A670,Subcontractors!$A$2:$B$4,2,FALSE),\"\")","v":""}]
[null,null,null,null,null,null,null,null,null,null,null,null,null,null,null,null,null,null,null,null,null,null,null,{"$f":"IF(LEN(Z671)>0,VLOOKUP(Z671,'TFW Programs'!$A$2:$B$8,2,FALSE),\"\")","v":""},null,null,{"$f":"IF(LEN(A671)>0,VLOOKUP(A671,Subcontractors!$A$2:$B$4,2,FALSE),\"\")","v":""}]
[null,null,null,null,null,null,null,null,null,null,null,null,null,null,null,null,null,null,null,null,null,null,null,{"$f":"IF(LEN(Z672)>0,VLOOKUP(Z672,'TFW Programs'!$A$2:$B$8,2,FALSE),\"\")","v":""},null,null,{"$f":"IF(LEN(A672)>0,VLOOKUP(A672,Subcontractors!$A$2:$B$4,2,FALSE),\"\")","v":""}]
[null,null,null,null,null,null,null,null,null,null,null,null,null,null,null,null,null,null,null,null,null,null,null,{"$f":"IF(LEN(Z673)>0,VLOOKUP(Z673,'TFW Programs'!$A$2:$B$8,2,FALSE),\"\")","v":""},null,null,{"$f":"IF(LEN(A673)>0,VLOOKUP(A673,Subcontractors!$A$2:$B$4,2,FALSE),\"\")","v":""}]
[null,null,null,null,null,null,null,null,null,null,null,null,null,null,null,null,null,null,null,null,null,null,null,{"$f":"IF(LEN(Z674)>0,VLOOKUP(Z674,'TFW Programs'!$A$2:$B$8,2,FALSE),\"\")","v":""},null,null,{"$f":"IF(LEN(A674)>0,VLOOKUP(A674,Subcontractors!$A$2:$B$4,2,FALSE),\"\")","v":""}]
[null,null,null,null,null,null,null,null,null,null,null,null,null,null,null,null,null,null,null,null,null,null,null,{"$f":"IF(LEN(Z675)>0,VLOOKUP(Z675,'TFW Programs'!$A$2:$B$8,2,FALSE),\"\")","v":""},null,null,{"$f":"IF(LEN(A675)>0,VLOOKUP(A675,Subcontractors!$A$2:$B$4,2,FALSE),\"\")","v":""}]
[null,null,null,null,null,null,null,null,null,null,null,null,null,null,null,null,null,null,null,null,null,null,null,{"$f":"IF(LEN(Z676)>0,VLOOKUP(Z676,'TFW Programs'!$A$2:$B$8,2,FALSE),\"\")","v":""},null,null,{"$f":"IF(LEN(A676)>0,VLOOKUP(A676,Subcontractors!$A$2:$B$4,2,FALSE),\"\")","v":""}]
[null,null,null,null,null,null,null,null,null,null,null,null,null,null,null,null,null,null,null,null,null,null,null,{"$f":"IF(LEN(Z677)>0,VLOOKUP(Z677,'TFW Programs'!$A$2:$B$8,2,FALSE),\"\")","v":""},null,null,{"$f":"IF(LEN(A677)>0,VLOOKUP(A677,Subcontractors!$A$2:$B$4,2,FALSE),\"\")","v":""}]
[null,null,null,null,null,null,null,null,null,null,null,null,null,null,null,null,null,null,null,null,null,null,null,{"$f":"IF(LEN(Z678)>0,VLOOKUP(Z678,'TFW Programs'!$A$2:$B$8,2,FALSE),\"\")","v":""},null,null,{"$f":"IF(LEN(A678)>0,VLOOKUP(A678,Subcontractors!$A$2:$B$4,2,FALSE),\"\")","v":""}]
[null,null,null,null,null,null,null,null,null,null,null,null,null,null,null,null,null,null,null,null,null,null,null,{"$f":"IF(LEN(Z679)>0,VLOOKUP(Z679,'TFW Programs'!$A$2:$B$8,2,FALSE),\"\")","v":""},null,null,{"$f":"IF(LEN(A679)>0,VLOOKUP(A679,Subcontractors!$A$2:$B$4,2,FALSE),\"\")","v":""}]
[null,null,null,null,null,null,null,null,null,null,null,null,null,null,null,null,null,null,null,null,null,null,null,{"$f":"IF(LEN(Z680)>0,VLOOKUP(Z680,'TFW Programs'!$A$2:$B$8,2,FALSE),\"\")","v":""},null,null,{"$f":"IF(LEN(A680)>0,VLOOKUP(A680,Subcontractors!$A$2:$B$4,2,FALSE),\"\")","v":""}]
[null,null,null,null,null,null,null,null,null,null,null,null,null,null,null,null,null,null,null,null,null,null,null,{"$f":"IF(LEN(Z681)>0,VLOOKUP(Z681,'TFW Programs'!$A$2:$B$8,2,FALSE),\"\")","v":""},null,null,{"$f":"IF(LEN(A681)>0,VLOOKUP(A681,Subcontractors!$A$2:$B$4,2,FALSE),\"\")","v":""}]
[null,null,null,null,null,null,null,null,null,null,null,null,null,null,null,null,null,null,null,null,null,null,null,{"$f":"IF(LEN(Z682)>0,VLOOKUP(Z682,'TFW Programs'!$A$2:$B$8,2,FALSE),\"\")","v":""},null,null,{"$f":"IF(LEN(A682)>0,VLOOKUP(A682,Subcontractors!$A$2:$B$4,2,FALSE),\"\")","v":""}]
[null,null,null,null,null,null,null,null,null,null,null,null,null,null,null,null,null,null,null,null,null,null,null,{"$f":"IF(LEN(Z683)>0,VLOOKUP(Z683,'TFW Programs'!$A$2:$B$8,2,FALSE),\"\")","v":""},null,null,{"$f":"IF(LEN(A683)>0,VLOOKUP(A683,Subcontractors!$A$2:$B$4,2,FALSE),\"\")","v":""}]
[null,null,null,null,null,null,null,null,null,null,null,null,null,null,null,null,null,null,null,null,null,null,null,{"$f":"IF(LEN(Z684)>0,VLOOKUP(Z684,'TFW Programs'!$A$2:$B$8,2,FALSE),\"\")","v":""},null,null,{"$f":"IF(LEN(A684)>0,VLOOKUP(A684,Subcontractors!$A$2:$B$4,2,FALSE),\"\")","v":""}]
[null,null,null,null,null,null,null,null,null,null,null,null,null,null,null,null,null,null,null,null,null,null,null,{"$f":"IF(LEN(Z685)>0,VLOOKUP(Z685,'TFW Programs'!$A$2:$B$8,2,FALSE),\"\")","v":""},null,null,{"$f":"IF(LEN(A685)>0,VLOOKUP(A685,Subcontractors!$A$2:$B$4,2,FALSE),\"\")","v":""}]
[null,null,null,null,null,null,null,null,null,null,null,null,null,null,null,null,null,null,null,null,null,null,null,{"$f":"IF(LEN(Z686)>0,VLOOKUP(Z686,'TFW Programs'!$A$2:$B$8,2,FALSE),\"\")","v":""},null,null,{"$f":"IF(LEN(A686)>0,VLOOKUP(A686,Subcontractors!$A$2:$B$4,2,FALSE),\"\")","v":""}]
[null,null,null,null,null,null,null,null,null,null,null,null,null,null,null,null,null,null,null,null,null,null,null,{"$f":"IF(LEN(Z687)>0,VLOOKUP(Z687,'TFW Programs'!$A$2:$B$8,2,FALSE),\"\")","v":""},null,null,{"$f":"IF(LEN(A687)>0,VLOOKUP(A687,Subcontractors!$A$2:$B$4,2,FALSE),\"\")","v":""}]
[null,null,null,null,null,null,null,null,null,null,null,null,null,null,null,null,null,null,null,null,null,null,null,{"$f":"IF(LEN(Z688)>0,VLOOKUP(Z688,'TFW Programs'!$A$2:$B$8,2,FALSE),\"\")","v":""},null,null,{"$f":"IF(LEN(A688)>0,VLOOKUP(A688,Subcontractors!$A$2:$B$4,2,FALSE),\"\")","v":""}]
[null,null,null,null,null,null,null,null,null,null,null,null,null,null,null,null,null,null,null,null,null,null,null,{"$f":"IF(LEN(Z689)>0,VLOOKUP(Z689,'TFW Programs'!$A$2:$B$8,2,FALSE),\"\")","v":""},null,null,{"$f":"IF(LEN(A689)>0,VLOOKUP(A689,Subcontractors!$A$2:$B$4,2,FALSE),\"\")","v":""}]
[null,null,null,null,null,null,null,null,null,null,null,null,null,null,null,null,null,null,null,null,null,null,null,{"$f":"IF(LEN(Z690)>0,VLOOKUP(Z690,'TFW Programs'!$A$2:$B$8,2,FALSE),\"\")","v":""},null,null,{"$f":"IF(LEN(A690)>0,VLOOKUP(A690,Subcontractors!$A$2:$B$4,2,FALSE),\"\")","v":""}]
[null,null,null,null,null,null,null,null,null,null,null,null,null,null,null,null,null,null,null,null,null,null,null,{"$f":"IF(LEN(Z691)>0,VLOOKUP(Z691,'TFW Programs'!$A$2:$B$8,2,FALSE),\"\")","v":""},null,null,{"$f":"IF(LEN(A691)>0,VLOOKUP(A691,Subcontractors!$A$2:$B$4,2,FALSE),\"\")","v":""}]
[null,null,null,null,null,null,null,null,null,null,null,null,null,null,null,null,null,null,null,null,null,null,null,{"$f":"IF(LEN(Z692)>0,VLOOKUP(Z692,'TFW Programs'!$A$2:$B$8,2,FALSE),\"\")","v":""},null,null,{"$f":"IF(LEN(A692)>0,VLOOKUP(A692,Subcontractors!$A$2:$B$4,2,FALSE),\"\")","v":""}]
[null,null,null,null,null,null,null,null,null,null,null,null,null,null,null,null,null,null,null,null,null,null,null,{"$f":"IF(LEN(Z693)>0,VLOOKUP(Z693,'TFW Programs'!$A$2:$B$8,2,FALSE),\"\")","v":""},null,null,{"$f":"IF(LEN(A693)>0,VLOOKUP(A693,Subcontractors!$A$2:$B$4,2,FALSE),\"\")","v":""}]
[null,null,null,null,null,null,null,null,null,null,null,null,null,null,null,null,null,null,null,null,null,null,null,{"$f":"IF(LEN(Z694)>0,VLOOKUP(Z694,'TFW Programs'!$A$2:$B$8,2,FALSE),\"\")","v":""},null,null,{"$f":"IF(LEN(A694)>0,VLOOKUP(A694,Subcontractors!$A$2:$B$4,2,FALSE),\"\")","v":""}]
[null,null,null,null,null,null,null,null,null,null,null,null,null,null,null,null,null,null,null,null,null,null,null,{"$f":"IF(LEN(Z695)>0,VLOOKUP(Z695,'TFW Programs'!$A$2:$B$8,2,FALSE),\"\")","v":""},null,null,{"$f":"IF(LEN(A695)>0,VLOOKUP(A695,Subcontractors!$A$2:$B$4,2,FALSE),\"\")","v":""}]
[null,null,null,null,null,null,null,null,null,null,null,null,null,null,null,null,null,null,null,null,null,null,null,{"$f":"IF(LEN(Z696)>0,VLOOKUP(Z696,'TFW Programs'!$A$2:$B$8,2,FALSE),\"\")","v":""},null,null,{"$f":"IF(LEN(A696)>0,VLOOKUP(A696,Subcontractors!$A$2:$B$4,2,FALSE),\"\")","v":""}]
[null,null,null,null,null,null,null,null,null,null,null,null,null,null,null,null,null,null,null,null,null,null,null,{"$f":"IF(LEN(Z697)>0,VLOOKUP(Z697,'TFW Programs'!$A$2:$B$8,2,FALSE),\"\")","v":""},null,null,{"$f":"IF(LEN(A697)>0,VLOOKUP(A697,Subcontractors!$A$2:$B$4,2,FALSE),\"\")","v":""}]
[null,null,null,null,null,null,null,null,null,null,null,null,null,null,null,null,null,null,null,null,null,null,null,{"$f":"IF(LEN(Z698)>0,VLOOKUP(Z698,'TFW Programs'!$A$2:$B$8,2,FALSE),\"\")","v":""},null,null,{"$f":"IF(LEN(A698)>0,VLOOKUP(A698,Subcontractors!$A$2:$B$4,2,FALSE),\"\")","v":""}]
[null,null,null,null,null,null,null,null,null,null,null,null,null,null,null,null,null,null,null,null,null,null,null,{"$f":"IF(LEN(Z699)>0,VLOOKUP(Z699,'TFW Programs'!$A$2:$B$8,2,FALSE),\"\")","v":""},null,null,{"$f":"IF(LEN(A699)>0,VLOOKUP(A699,Subcontractors!$A$2:$B$4,2,FALSE),\"\")","v":""}]
[null,null,null,null,null,null,null,null,null,null,null,null,null,null,null,null,null,null,null,null,null,null,null,{"$f":"IF(LEN(Z700)>0,VLOOKUP(Z700,'TFW Programs'!$A$2:$B$8,2,FALSE),\"\")","v":""},null,null,{"$f":"IF(LEN(A700)>0,VLOOKUP(A700,Subcontractors!$A$2:$B$4,2,FALSE),\"\")","v":""}]
[null,null,null,null,null,null,null,null,null,null,null,null,null,null,null,null,null,null,null,null,null,null,null,{"$f":"IF(LEN(Z701)>0,VLOOKUP(Z701,'TFW Programs'!$A$2:$B$8,2,FALSE),\"\")","v":""},null,null,{"$f":"IF(LEN(A701)>0,VLOOKUP(A701,Subcontractors!$A$2:$B$4,2,FALSE),\"\")","v":""}]
[null,null,null,null,null,null,null,null,null,null,null,null,null,null,null,null,null,null,null,null,null,null,null,{"$f":"IF(LEN(Z702)>0,VLOOKUP(Z702,'TFW Programs'!$A$2:$B$8,2,FALSE),\"\")","v":""},null,null,{"$f":"IF(LEN(A702)>0,VLOOKUP(A702,Subcontractors!$A$2:$B$4,2,FALSE),\"\")","v":""}]
[null,null,null,null,null,null,null,null,null,null,null,null,null,null,null,null,null,null,null,null,null,null,null,{"$f":"IF(LEN(Z703)>0,VLOOKUP(Z703,'TFW Programs'!$A$2:$B$8,2,FALSE),\"\")","v":""},null,null,{"$f":"IF(LEN(A703)>0,VLOOKUP(A703,Subcontractors!$A$2:$B$4,2,FALSE),\"\")","v":""}]
[null,null,null,null,null,null,null,null,null,null,null,null,null,null,null,null,null,null,null,null,null,null,null,{"$f":"IF(LEN(Z704)>0,VLOOKUP(Z704,'TFW Programs'!$A$2:$B$8,2,FALSE),\"\")","v":""},null,null,{"$f":"IF(LEN(A704)>0,VLOOKUP(A704,Subcontractors!$A$2:$B$4,2,FALSE),\"\")","v":""}]
[null,null,null,null,null,null,null,null,null,null,null,null,null,null,null,null,null,null,null,null,null,null,null,{"$f":"IF(LEN(Z705)>0,VLOOKUP(Z705,'TFW Programs'!$A$2:$B$8,2,FALSE),\"\")","v":""},null,null,{"$f":"IF(LEN(A705)>0,VLOOKUP(A705,Subcontractors!$A$2:$B$4,2,FALSE),\"\")","v":""}]
[null,null,null,null,null,null,null,null,null,null,null,null,null,null,null,null,null,null,null,null,null,null,null,{"$f":"IF(LEN(Z706)>0,VLOOKUP(Z706,'TFW Programs'!$A$2:$B$8,2,FALSE),\"\")","v":""},null,null,{"$f":"IF(LEN(A706)>0,VLOOKUP(A706,Subcontractors!$A$2:$B$4,2,FALSE),\"\")","v":""}]
[null,null,null,null,null,null,null,null,null,null,null,null,null,null,null,null,null,null,null,null,null,null,null,{"$f":"IF(LEN(Z707)>0,VLOOKUP(Z707,'TFW Programs'!$A$2:$B$8,2,FALSE),\"\")","v":""},null,null,{"$f":"IF(LEN(A707)>0,VLOOKUP(A707,Subcontractors!$A$2:$B$4,2,FALSE),\"\")","v":""}]
[null,null,null,null,null,null,null,null,null,null,null,null,null,null,null,null,null,null,null,null,null,null,null,{"$f":"IF(LEN(Z708)>0,VLOOKUP(Z708,'TFW Programs'!$A$2:$B$8,2,FALSE),\"\")","v":""},null,null,{"$f":"IF(LEN(A708)>0,VLOOKUP(A708,Subcontractors!$A$2:$B$4,2,FALSE),\"\")","v":""}]
[null,null,null,null,null,null,null,null,null,null,null,null,null,null,null,null,null,null,null,null,null,null,null,{"$f":"IF(LEN(Z709)>0,VLOOKUP(Z709,'TFW Programs'!$A$2:$B$8,2,FALSE),\"\")","v":""},null,null,{"$f":"IF(LEN(A709)>0,VLOOKUP(A709,Subcontractors!$A$2:$B$4,2,FALSE),\"\")","v":""}]
[null,null,null,null,null,null,null,null,null,null,null,null,null,null,null,null,null,null,null,null,null,null,null,{"$f":"IF(LEN(Z710)>0,VLOOKUP(Z710,'TFW Programs'!$A$2:$B$8,2,FALSE),\"\")","v":""},null,null,{"$f":"IF(LEN(A710)>0,VLOOKUP(A710,Subcontractors!$A$2:$B$4,2,FALSE),\"\")","v":""}]
[null,null,null,null,null,null,null,null,null,null,null,null,null,null,null,null,null,null,null,null,null,null,null,{"$f":"IF(LEN(Z711)>0,VLOOKUP(Z711,'TFW Programs'!$A$2:$B$8,2,FALSE),\"\")","v":""},null,null,{"$f":"IF(LEN(A711)>0,VLOOKUP(A711,Subcontractors!$A$2:$B$4,2,FALSE),\"\")","v":""}]
[null,null,null,null,null,null,null,null,null,null,null,null,null,null,null,null,null,null,null,null,null,null,null,{"$f":"IF(LEN(Z712)>0,VLOOKUP(Z712,'TFW Programs'!$A$2:$B$8,2,FALSE),\"\")","v":""},null,null,{"$f":"IF(LEN(A712)>0,VLOOKUP(A712,Subcontractors!$A$2:$B$4,2,FALSE),\"\")","v":""}]
[null,null,null,null,null,null,null,null,null,null,null,null,null,null,null,null,null,null,null,null,null,null,null,{"$f":"IF(LEN(Z713)>0,VLOOKUP(Z713,'TFW Programs'!$A$2:$B$8,2,FALSE),\"\")","v":""},null,null,{"$f":"IF(LEN(A713)>0,VLOOKUP(A713,Subcontractors!$A$2:$B$4,2,FALSE),\"\")","v":""}]
[null,null,null,null,null,null,null,null,null,null,null,null,null,null,null,null,null,null,null,null,null,null,null,{"$f":"IF(LEN(Z714)>0,VLOOKUP(Z714,'TFW Programs'!$A$2:$B$8,2,FALSE),\"\")","v":""},null,null,{"$f":"IF(LEN(A714)>0,VLOOKUP(A714,Subcontractors!$A$2:$B$4,2,FALSE),\"\")","v":""}]
[null,null,null,null,null,null,null,null,null,null,null,null,null,null,null,null,null,null,null,null,null,null,null,{"$f":"IF(LEN(Z715)>0,VLOOKUP(Z715,'TFW Programs'!$A$2:$B$8,2,FALSE),\"\")","v":""},null,null,{"$f":"IF(LEN(A715)>0,VLOOKUP(A715,Subcontractors!$A$2:$B$4,2,FALSE),\"\")","v":""}]
[null,null,null,null,null,null,null,null,null,null,null,null,null,null,null,null,null,null,null,null,null,null,null,{"$f":"IF(LEN(Z716)>0,VLOOKUP(Z716,'TFW Programs'!$A$2:$B$8,2,FALSE),\"\")","v":""},null,null,{"$f":"IF(LEN(A716)>0,VLOOKUP(A716,Subcontractors!$A$2:$B$4,2,FALSE),\"\")","v":""}]
[null,null,null,null,null,null,null,null,null,null,null,null,null,null,null,null,null,null,null,null,null,null,null,{"$f":"IF(LEN(Z717)>0,VLOOKUP(Z717,'TFW Programs'!$A$2:$B$8,2,FALSE),\"\")","v":""},null,null,{"$f":"IF(LEN(A717)>0,VLOOKUP(A717,Subcontractors!$A$2:$B$4,2,FALSE),\"\")","v":""}]
[null,null,null,null,null,null,null,null,null,null,null,null,null,null,null,null,null,null,null,null,null,null,null,{"$f":"IF(LEN(Z718)>0,VLOOKUP(Z718,'TFW Programs'!$A$2:$B$8,2,FALSE),\"\")","v":""},null,null,{"$f":"IF(LEN(A718)>0,VLOOKUP(A718,Subcontractors!$A$2:$B$4,2,FALSE),\"\")","v":""}]
[null,null,null,null,null,null,null,null,null,null,null,null,null,null,null,null,null,null,null,null,null,null,null,{"$f":"IF(LEN(Z719)>0,VLOOKUP(Z719,'TFW Programs'!$A$2:$B$8,2,FALSE),\"\")","v":""},null,null,{"$f":"IF(LEN(A719)>0,VLOOKUP(A719,Subcontractors!$A$2:$B$4,2,FALSE),\"\")","v":""}]
[null,null,null,null,null,null,null,null,null,null,null,null,null,null,null,null,null,null,null,null,null,null,null,{"$f":"IF(LEN(Z720)>0,VLOOKUP(Z720,'TFW Programs'!$A$2:$B$8,2,FALSE),\"\")","v":""},null,null,{"$f":"IF(LEN(A720)>0,VLOOKUP(A720,Subcontractors!$A$2:$B$4,2,FALSE),\"\")","v":""}]
[null,null,null,null,null,null,null,null,null,null,null,null,null,null,null,null,null,null,null,null,null,null,null,{"$f":"IF(LEN(Z721)>0,VLOOKUP(Z721,'TFW Programs'!$A$2:$B$8,2,FALSE),\"\")","v":""},null,null,{"$f":"IF(LEN(A721)>0,VLOOKUP(A721,Subcontractors!$A$2:$B$4,2,FALSE),\"\")","v":""}]
[null,null,null,null,null,null,null,null,null,null,null,null,null,null,null,null,null,null,null,null,null,null,null,{"$f":"IF(LEN(Z722)>0,VLOOKUP(Z722,'TFW Programs'!$A$2:$B$8,2,FALSE),\"\")","v":""},null,null,{"$f":"IF(LEN(A722)>0,VLOOKUP(A722,Subcontractors!$A$2:$B$4,2,FALSE),\"\")","v":""}]
[null,null,null,null,null,null,null,null,null,null,null,null,null,null,null,null,null,null,null,null,null,null,null,{"$f":"IF(LEN(Z723)>0,VLOOKUP(Z723,'TFW Programs'!$A$2:$B$8,2,FALSE),\"\")","v":""},null,null,{"$f":"IF(LEN(A723)>0,VLOOKUP(A723,Subcontractors!$A$2:$B$4,2,FALSE),\"\")","v":""}]
[null,null,null,null,null,null,null,null,null,null,null,null,null,null,null,null,null,null,null,null,null,null,null,{"$f":"IF(LEN(Z724)>0,VLOOKUP(Z724,'TFW Programs'!$A$2:$B$8,2,FALSE),\"\")","v":""},null,null,{"$f":"IF(LEN(A724)>0,VLOOKUP(A724,Subcontractors!$A$2:$B$4,2,FALSE),\"\")","v":""}]
[null,null,null,null,null,null,null,null,null,null,null,null,null,null,null,null,null,null,null,null,null,null,null,{"$f":"IF(LEN(Z725)>0,VLOOKUP(Z725,'TFW Programs'!$A$2:$B$8,2,FALSE),\"\")","v":""},null,null,{"$f":"IF(LEN(A725)>0,VLOOKUP(A725,Subcontractors!$A$2:$B$4,2,FALSE),\"\")","v":""}]
[null,null,null,null,null,null,null,null,null,null,null,null,null,null,null,null,null,null,null,null,null,null,null,{"$f":"IF(LEN(Z726)>0,VLOOKUP(Z726,'TFW Programs'!$A$2:$B$8,2,FALSE),\"\")","v":""},null,null,{"$f":"IF(LEN(A726)>0,VLOOKUP(A726,Subcontractors!$A$2:$B$4,2,FALSE),\"\")","v":""}]
[null,null,null,null,null,null,null,null,null,null,null,null,null,null,null,null,null,null,null,null,null,null,null,{"$f":"IF(LEN(Z727)>0,VLOOKUP(Z727,'TFW Programs'!$A$2:$B$8,2,FALSE),\"\")","v":""},null,null,{"$f":"IF(LEN(A727)>0,VLOOKUP(A727,Subcontractors!$A$2:$B$4,2,FALSE),\"\")","v":""}]
[null,null,null,null,null,null,null,null,null,null,null,null,null,null,null,null,null,null,null,null,null,null,null,{"$f":"IF(LEN(Z728)>0,VLOOKUP(Z728,'TFW Programs'!$A$2:$B$8,2,FALSE),\"\")","v":""},null,null,{"$f":"IF(LEN(A728)>0,VLOOKUP(A728,Subcontractors!$A$2:$B$4,2,FALSE),\"\")","v":""}]
[null,null,null,null,null,null,null,null,null,null,null,null,null,null,null,null,null,null,null,null,null,null,null,{"$f":"IF(LEN(Z729)>0,VLOOKUP(Z729,'TFW Programs'!$A$2:$B$8,2,FALSE),\"\")","v":""},null,null,{"$f":"IF(LEN(A729)>0,VLOOKUP(A729,Subcontractors!$A$2:$B$4,2,FALSE),\"\")","v":""}]
[null,null,null,null,null,null,null,null,null,null,null,null,null,null,null,null,null,null,null,null,null,null,null,{"$f":"IF(LEN(Z730)>0,VLOOKUP(Z730,'TFW Programs'!$A$2:$B$8,2,FALSE),\"\")","v":""},null,null,{"$f":"IF(LEN(A730)>0,VLOOKUP(A730,Subcontractors!$A$2:$B$4,2,FALSE),\"\")","v":""}]
[null,null,null,null,null,null,null,null,null,null,null,null,null,null,null,null,null,null,null,null,null,null,null,{"$f":"IF(LEN(Z731)>0,VLOOKUP(Z731,'TFW Programs'!$A$2:$B$8,2,FALSE),\"\")","v":""},null,null,{"$f":"IF(LEN(A731)>0,VLOOKUP(A731,Subcontractors!$A$2:$B$4,2,FALSE),\"\")","v":""}]
[null,null,null,null,null,null,null,null,null,null,null,null,null,null,null,null,null,null,null,null,null,null,null,{"$f":"IF(LEN(Z732)>0,VLOOKUP(Z732,'TFW Programs'!$A$2:$B$8,2,FALSE),\"\")","v":""},null,null,{"$f":"IF(LEN(A732)>0,VLOOKUP(A732,Subcontractors!$A$2:$B$4,2,FALSE),\"\")","v":""}]
[null,null,null,null,null,null,null,null,null,null,null,null,null,null,null,null,null,null,null,null,null,null,null,{"$f":"IF(LEN(Z733)>0,VLOOKUP(Z733,'TFW Programs'!$A$2:$B$8,2,FALSE),\"\")","v":""},null,null,{"$f":"IF(LEN(A733)>0,VLOOKUP(A733,Subcontractors!$A$2:$B$4,2,FALSE),\"\")","v":""}]
[null,null,null,null,null,null,null,null,null,null,null,null,null,null,null,null,null,null,null,null,null,null,null,{"$f":"IF(LEN(Z734)>0,VLOOKUP(Z734,'TFW Programs'!$A$2:$B$8,2,FALSE),\"\")","v":""},null,null,{"$f":"IF(LEN(A734)>0,VLOOKUP(A734,Subcontractors!$A$2:$B$4,2,FALSE),\"\")","v":""}]
[null,null,null,null,null,null,null,null,null,null,null,null,null,null,null,null,null,null,null,null,null,null,null,{"$f":"IF(LEN(Z735)>0,VLOOKUP(Z735,'TFW Programs'!$A$2:$B$8,2,FALSE),\"\")","v":""},null,null,{"$f":"IF(LEN(A735)>0,VLOOKUP(A735,Subcontractors!$A$2:$B$4,2,FALSE),\"\")","v":""}]
[null,null,null,null,null,null,null,null,null,null,null,null,null,null,null,null,null,null,null,null,null,null,null,{"$f":"IF(LEN(Z736)>0,VLOOKUP(Z736,'TFW Programs'!$A$2:$B$8,2,FALSE),\"\")","v":""},null,null,{"$f":"IF(LEN(A736)>0,VLOOKUP(A736,Subcontractors!$A$2:$B$4,2,FALSE),\"\")","v":""}]
[null,null,null,null,null,null,null,null,null,null,null,null,null,null,null,null,null,null,null,null,null,null,null,{"$f":"IF(LEN(Z737)>0,VLOOKUP(Z737,'TFW Programs'!$A$2:$B$8,2,FALSE),\"\")","v":""},null,null,{"$f":"IF(LEN(A737)>0,VLOOKUP(A737,Subcontractors!$A$2:$B$4,2,FALSE),\"\")","v":""}]
[null,null,null,null,null,null,null,null,null,null,null,null,null,null,null,null,null,null,null,null,null,null,null,{"$f":"IF(LEN(Z738)>0,VLOOKUP(Z738,'TFW Programs'!$A$2:$B$8,2,FALSE),\"\")","v":""},null,null,{"$f":"IF(LEN(A738)>0,VLOOKUP(A738,Subcontractors!$A$2:$B$4,2,FALSE),\"\")","v":""}]
[null,null,null,null,null,null,null,null,null,null,null,null,null,null,null,null,null,null,null,null,null,null,null,{"$f":"IF(LEN(Z739)>0,VLOOKUP(Z739,'TFW Programs'!$A$2:$B$8,2,FALSE),\"\")","v":""},null,null,{"$f":"IF(LEN(A739)>0,VLOOKUP(A739,Subcontractors!$A$2:$B$4,2,FALSE),\"\")","v":""}]
[null,null,null,null,null,null,null,null,null,null,null,null,null,null,null,null,null,null,null,null,null,null,null,{"$f":"IF(LEN(Z740)>0,VLOOKUP(Z740,'TFW Programs'!$A$2:$B$8,2,FALSE),\"\")","v":""},null,null,{"$f":"IF(LEN(A740)>0,VLOOKUP(A740,Subcontractors!$A$2:$B$4,2,FALSE),\"\")","v":""}]
[null,null,null,null,null,null,null,null,null,null,null,null,null,null,null,null,null,null,null,null,null,null,null,{"$f":"IF(LEN(Z741)>0,VLOOKUP(Z741,'TFW Programs'!$A$2:$B$8,2,FALSE),\"\")","v":""},null,null,{"$f":"IF(LEN(A741)>0,VLOOKUP(A741,Subcontractors!$A$2:$B$4,2,FALSE),\"\")","v":""}]
[null,null,null,null,null,null,null,null,null,null,null,null,null,null,null,null,null,null,null,null,null,null,null,{"$f":"IF(LEN(Z742)>0,VLOOKUP(Z742,'TFW Programs'!$A$2:$B$8,2,FALSE),\"\")","v":""},null,null,{"$f":"IF(LEN(A742)>0,VLOOKUP(A742,Subcontractors!$A$2:$B$4,2,FALSE),\"\")","v":""}]
[null,null,null,null,null,null,null,null,null,null,null,null,null,null,null,null,null,null,null,null,null,null,null,{"$f":"IF(LEN(Z743)>0,VLOOKUP(Z743,'TFW Programs'!$A$2:$B$8,2,FALSE),\"\")","v":""},null,null,{"$f":"IF(LEN(A743)>0,VLOOKUP(A743,Subcontractors!$A$2:$B$4,2,FALSE),\"\")","v":""}]
[null,null,null,null,null,null,null,null,null,null,null,null,null,null,null,null,null,null,null,null,null,null,null,{"$f":"IF(LEN(Z744)>0,VLOOKUP(Z744,'TFW Programs'!$A$2:$B$8,2,FALSE),\"\")","v":""},null,null,{"$f":"IF(LEN(A744)>0,VLOOKUP(A744,Subcontractors!$A$2:$B$4,2,FALSE),\"\")","v":""}]
[null,null,null,null,null,null,null,null,null,null,null,null,null,null,null,null,null,null,null,null,null,null,null,{"$f":"IF(LEN(Z745)>0,VLOOKUP(Z745,'TFW Programs'!$A$2:$B$8,2,FALSE),\"\")","v":""},null,null,{"$f":"IF(LEN(A745)>0,VLOOKUP(A745,Subcontractors!$A$2:$B$4,2,FALSE),\"\")","v":""}]
[null,null,null,null,null,null,null,null,null,null,null,null,null,null,null,null,null,null,null,null,null,null,null,{"$f":"IF(LEN(Z746)>0,VLOOKUP(Z746,'TFW Programs'!$A$2:$B$8,2,FALSE),\"\")","v":""},null,null,{"$f":"IF(LEN(A746)>0,VLOOKUP(A746,Subcontractors!$A$2:$B$4,2,FALSE),\"\")","v":""}]
[null,null,null,null,null,null,null,null,null,null,null,null,null,null,null,null,null,null,null,null,null,null,null,{"$f":"IF(LEN(Z747)>0,VLOOKUP(Z747,'TFW Programs'!$A$2:$B$8,2,FALSE),\"\")","v":""},null,null,{"$f":"IF(LEN(A747)>0,VLOOKUP(A747,Subcontractors!$A$2:$B$4,2,FALSE),\"\")","v":""}]
[null,null,null,null,null,null,null,null,null,null,null,null,null,null,null,null,null,null,null,null,null,null,null,{"$f":"IF(LEN(Z748)>0,VLOOKUP(Z748,'TFW Programs'!$A$2:$B$8,2,FALSE),\"\")","v":""},null,null,{"$f":"IF(LEN(A748)>0,VLOOKUP(A748,Subcontractors!$A$2:$B$4,2,FALSE),\"\")","v":""}]
[null,null,null,null,null,null,null,null,null,null,null,null,null,null,null,null,null,null,null,null,null,null,null,{"$f":"IF(LEN(Z749)>0,VLOOKUP(Z749,'TFW Programs'!$A$2:$B$8,2,FALSE),\"\")","v":""},null,null,{"$f":"IF(LEN(A749)>0,VLOOKUP(A749,Subcontractors!$A$2:$B$4,2,FALSE),\"\")","v":""}]
[null,null,null,null,null,null,null,null,null,null,null,null,null,null,null,null,null,null,null,null,null,null,null,{"$f":"IF(LEN(Z750)>0,VLOOKUP(Z750,'TFW Programs'!$A$2:$B$8,2,FALSE),\"\")","v":""},null,null,{"$f":"IF(LEN(A750)>0,VLOOKUP(A750,Subcontractors!$A$2:$B$4,2,FALSE),\"\")","v":""}]
[null,null,null,null,null,null,null,null,null,null,null,null,null,null,null,null,null,null,null,null,null,null,null,{"$f":"IF(LEN(Z751)>0,VLOOKUP(Z751,'TFW Programs'!$A$2:$B$8,2,FALSE),\"\")","v":""},null,null,{"$f":"IF(LEN(A751)>0,VLOOKUP(A751,Subcontractors!$A$2:$B$4,2,FALSE),\"\")","v":""}]
[null,null,null,null,null,null,null,null,null,null,null,null,null,null,null,null,null,null,null,null,null,null,null,{"$f":"IF(LEN(Z752)>0,VLOOKUP(Z752,'TFW Programs'!$A$2:$B$8,2,FALSE),\"\")","v":""},null,null,{"$f":"IF(LEN(A752)>0,VLOOKUP(A752,Subcontractors!$A$2:$B$4,2,FALSE),\"\")","v":""}]
[null,null,null,null,null,null,null,null,null,null,null,null,null,null,null,null,null,null,null,null,null,null,null,{"$f":"IF(LEN(Z753)>0,VLOOKUP(Z753,'TFW Programs'!$A$2:$B$8,2,FALSE),\"\")","v":""},null,null,{"$f":"IF(LEN(A753)>0,VLOOKUP(A753,Subcontractors!$A$2:$B$4,2,FALSE),\"\")","v":""}]
[null,null,null,null,null,null,null,null,null,null,null,null,null,null,null,null,null,null,null,null,null,null,null,{"$f":"IF(LEN(Z754)>0,VLOOKUP(Z754,'TFW Programs'!$A$2:$B$8,2,FALSE),\"\")","v":""},null,null,{"$f":"IF(LEN(A754)>0,VLOOKUP(A754,Subcontractors!$A$2:$B$4,2,FALSE),\"\")","v":""}]
[null,null,null,null,null,null,null,null,null,null,null,null,null,null,null,null,null,null,null,null,null,null,null,{"$f":"IF(LEN(Z755)>0,VLOOKUP(Z755,'TFW Programs'!$A$2:$B$8,2,FALSE),\"\")","v":""},null,null,{"$f":"IF(LEN(A755)>0,VLOOKUP(A755,Subcontractors!$A$2:$B$4,2,FALSE),\"\")","v":""}]
[null,null,null,null,null,null,null,null,null,null,null,null,null,null,null,null,null,null,null,null,null,null,null,{"$f":"IF(LEN(Z756)>0,VLOOKUP(Z756,'TFW Programs'!$A$2:$B$8,2,FALSE),\"\")","v":""},null,null,{"$f":"IF(LEN(A756)>0,VLOOKUP(A756,Subcontractors!$A$2:$B$4,2,FALSE),\"\")","v":""}]
[null,null,null,null,null,null,null,null,null,null,null,null,null,null,null,null,null,null,null,null,null,null,null,{"$f":"IF(LEN(Z757)>0,VLOOKUP(Z757,'TFW Programs'!$A$2:$B$8,2,FALSE),\"\")","v":""},null,null,{"$f":"IF(LEN(A757)>0,VLOOKUP(A757,Subcontractors!$A$2:$B$4,2,FALSE),\"\")","v":""}]
[null,null,null,null,null,null,null,null,null,null,null,null,null,null,null,null,null,null,null,null,null,null,null,{"$f":"IF(LEN(Z758)>0,VLOOKUP(Z758,'TFW Programs'!$A$2:$B$8,2,FALSE),\"\")","v":""},null,null,{"$f":"IF(LEN(A758)>0,VLOOKUP(A758,Subcontractors!$A$2:$B$4,2,FALSE),\"\")","v":""}]
[null,null,null,null,null,null,null,null,null,null,null,null,null,null,null,null,null,null,null,null,null,null,null,{"$f":"IF(LEN(Z759)>0,VLOOKUP(Z759,'TFW Programs'!$A$2:$B$8,2,FALSE),\"\")","v":""},null,null,{"$f":"IF(LEN(A759)>0,VLOOKUP(A759,Subcontractors!$A$2:$B$4,2,FALSE),\"\")","v":""}]
[null,null,null,null,null,null,null,null,null,null,null,null,null,null,null,null,null,null,null,null,null,null,null,{"$f":"IF(LEN(Z760)>0,VLOOKUP(Z760,'TFW Programs'!$A$2:$B$8,2,FALSE),\"\")","v":""},null,null,{"$f":"IF(LEN(A760)>0,VLOOKUP(A760,Subcontractors!$A$2:$B$4,2,FALSE),\"\")","v":""}]
[null,null,null,null,null,null,null,null,null,null,null,null,null,null,null,null,null,null,null,null,null,null,null,{"$f":"IF(LEN(Z761)>0,VLOOKUP(Z761,'TFW Programs'!$A$2:$B$8,2,FALSE),\"\")","v":""},null,null,{"$f":"IF(LEN(A761)>0,VLOOKUP(A761,Subcontractors!$A$2:$B$4,2,FALSE),\"\")","v":""}]
[null,null,null,null,null,null,null,null,null,null,null,null,null,null,null,null,null,null,null,null,null,null,null,{"$f":"IF(LEN(Z762)>0,VLOOKUP(Z762,'TFW Programs'!$A$2:$B$8,2,FALSE),\"\")","v":""},null,null,{"$f":"IF(LEN(A762)>0,VLOOKUP(A762,Subcontractors!$A$2:$B$4,2,FALSE),\"\")","v":""}]
[null,null,null,null,null,null,null,null,null,null,null,null,null,null,null,null,null,null,null,null,null,null,null,{"$f":"IF(LEN(Z763)>0,VLOOKUP(Z763,'TFW Programs'!$A$2:$B$8,2,FALSE),\"\")","v":""},null,null,{"$f":"IF(LEN(A763)>0,VLOOKUP(A763,Subcontractors!$A$2:$B$4,2,FALSE),\"\")","v":""}]
[null,null,null,null,null,null,null,null,null,null,null,null,null,null,null,null,null,null,null,null,null,null,null,{"$f":"IF(LEN(Z764)>0,VLOOKUP(Z764,'TFW Programs'!$A$2:$B$8,2,FALSE),\"\")","v":""},null,null,{"$f":"IF(LEN(A764)>0,VLOOKUP(A764,Subcontractors!$A$2:$B$4,2,FALSE),\"\")","v":""}]
[null,null,null,null,null,null,null,null,null,null,null,null,null,null,null,null,null,null,null,null,null,null,null,{"$f":"IF(LEN(Z765)>0,VLOOKUP(Z765,'TFW Programs'!$A$2:$B$8,2,FALSE),\"\")","v":""},null,null,{"$f":"IF(LEN(A765)>0,VLOOKUP(A765,Subcontractors!$A$2:$B$4,2,FALSE),\"\")","v":""}]
[null,null,null,null,null,null,null,null,null,null,null,null,null,null,null,null,null,null,null,null,null,null,null,{"$f":"IF(LEN(Z766)>0,VLOOKUP(Z766,'TFW Programs'!$A$2:$B$8,2,FALSE),\"\")","v":""},null,null,{"$f":"IF(LEN(A766)>0,VLOOKUP(A766,Subcontractors!$A$2:$B$4,2,FALSE),\"\")","v":""}]
[null,null,null,null,null,null,null,null,null,null,null,null,null,null,null,null,null,null,null,null,null,null,null,{"$f":"IF(LEN(Z767)>0,VLOOKUP(Z767,'TFW Programs'!$A$2:$B$8,2,FALSE),\"\")","v":""},null,null,{"$f":"IF(LEN(A767)>0,VLOOKUP(A767,Subcontractors!$A$2:$B$4,2,FALSE),\"\")","v":""}]
[null,null,null,null,null,null,null,null,null,null,null,null,null,null,null,null,null,null,null,null,null,null,null,{"$f":"IF(LEN(Z768)>0,VLOOKUP(Z768,'TFW Programs'!$A$2:$B$8,2,FALSE),\"\")","v":""},null,null,{"$f":"IF(LEN(A768)>0,VLOOKUP(A768,Subcontractors!$A$2:$B$4,2,FALSE),\"\")","v":""}]
[null,null,null,null,null,null,null,null,null,null,null,null,null,null,null,null,null,null,null,null,null,null,null,{"$f":"IF(LEN(Z769)>0,VLOOKUP(Z769,'TFW Programs'!$A$2:$B$8,2,FALSE),\"\")","v":""},null,null,{"$f":"IF(LEN(A769)>0,VLOOKUP(A769,Subcontractors!$A$2:$B$4,2,FALSE),\"\")","v":""}]
[null,null,null,null,null,null,null,null,null,null,null,null,null,null,null,null,null,null,null,null,null,null,null,{"$f":"IF(LEN(Z770)>0,VLOOKUP(Z770,'TFW Programs'!$A$2:$B$8,2,FALSE),\"\")","v":""},null,null,{"$f":"IF(LEN(A770)>0,VLOOKUP(A770,Subcontractors!$A$2:$B$4,2,FALSE),\"\")","v":""}]
[null,null,null,null,null,null,null,null,null,null,null,null,null,null,null,null,null,null,null,null,null,null,null,{"$f":"IF(LEN(Z771)>0,VLOOKUP(Z771,'TFW Programs'!$A$2:$B$8,2,FALSE),\"\")","v":""},null,null,{"$f":"IF(LEN(A771)>0,VLOOKUP(A771,Subcontractors!$A$2:$B$4,2,FALSE),\"\")","v":""}]
[null,null,null,null,null,null,null,null,null,null,null,null,null,null,null,null,null,null,null,null,null,null,null,{"$f":"IF(LEN(Z772)>0,VLOOKUP(Z772,'TFW Programs'!$A$2:$B$8,2,FALSE),\"\")","v":""},null,null,{"$f":"IF(LEN(A772)>0,VLOOKUP(A772,Subcontractors!$A$2:$B$4,2,FALSE),\"\")","v":""}]
[null,null,null,null,null,null,null,null,null,null,null,null,null,null,null,null,null,null,null,null,null,null,null,{"$f":"IF(LEN(Z773)>0,VLOOKUP(Z773,'TFW Programs'!$A$2:$B$8,2,FALSE),\"\")","v":""},null,null,{"$f":"IF(LEN(A773)>0,VLOOKUP(A773,Subcontractors!$A$2:$B$4,2,FALSE),\"\")","v":""}]
[null,null,null,null,null,null,null,null,null,null,null,null,null,null,null,null,null,null,null,null,null,null,null,{"$f":"IF(LEN(Z774)>0,VLOOKUP(Z774,'TFW Programs'!$A$2:$B$8,2,FALSE),\"\")","v":""},null,null,{"$f":"IF(LEN(A774)>0,VLOOKUP(A774,Subcontractors!$A$2:$B$4,2,FALSE),\"\")","v":""}]
[null,null,null,null,null,null,null,null,null,null,null,null,null,null,null,null,null,null,null,null,null,null,null,{"$f":"IF(LEN(Z775)>0,VLOOKUP(Z775,'TFW Programs'!$A$2:$B$8,2,FALSE),\"\")","v":""},null,null,{"$f":"IF(LEN(A775)>0,VLOOKUP(A775,Subcontractors!$A$2:$B$4,2,FALSE),\"\")","v":""}]
[null,null,null,null,null,null,null,null,null,null,null,null,null,null,null,null,null,null,null,null,null,null,null,{"$f":"IF(LEN(Z776)>0,VLOOKUP(Z776,'TFW Programs'!$A$2:$B$8,2,FALSE),\"\")","v":""},null,null,{"$f":"IF(LEN(A776)>0,VLOOKUP(A776,Subcontractors!$A$2:$B$4,2,FALSE),\"\")","v":""}]
[null,null,null,null,null,null,null,null,null,null,null,null,null,null,null,null,null,null,null,null,null,null,null,{"$f":"IF(LEN(Z777)>0,VLOOKUP(Z777,'TFW Programs'!$A$2:$B$8,2,FALSE),\"\")","v":""},null,null,{"$f":"IF(LEN(A777)>0,VLOOKUP(A777,Subcontractors!$A$2:$B$4,2,FALSE),\"\")","v":""}]
[null,null,null,null,null,null,null,null,null,null,null,null,null,null,null,null,null,null,null,null,null,null,null,{"$f":"IF(LEN(Z778)>0,VLOOKUP(Z778,'TFW Programs'!$A$2:$B$8,2,FALSE),\"\")","v":""},null,null,{"$f":"IF(LEN(A778)>0,VLOOKUP(A778,Subcontractors!$A$2:$B$4,2,FALSE),\"\")","v":""}]
[null,null,null,null,null,null,null,null,null,null,null,null,null,null,null,null,null,null,null,null,null,null,null,{"$f":"IF(LEN(Z779)>0,VLOOKUP(Z779,'TFW Programs'!$A$2:$B$8,2,FALSE),\"\")","v":""},null,null,{"$f":"IF(LEN(A779)>0,VLOOKUP(A779,Subcontractors!$A$2:$B$4,2,FALSE),\"\")","v":""}]
[null,null,null,null,null,null,null,null,null,null,null,null,null,null,null,null,null,null,null,null,null,null,null,{"$f":"IF(LEN(Z780)>0,VLOOKUP(Z780,'TFW Programs'!$A$2:$B$8,2,FALSE),\"\")","v":""},null,null,{"$f":"IF(LEN(A780)>0,VLOOKUP(A780,Subcontractors!$A$2:$B$4,2,FALSE),\"\")","v":""}]
[null,null,null,null,null,null,null,null,null,null,null,null,null,null,null,null,null,null,null,null,null,null,null,{"$f":"IF(LEN(Z781)>0,VLOOKUP(Z781,'TFW Programs'!$A$2:$B$8,2,FALSE),\"\")","v":""},null,null,{"$f":"IF(LEN(A781)>0,VLOOKUP(A781,Subcontractors!$A$2:$B$4,2,FALSE),\"\")","v":""}]
[null,null,null,null,null,null,null,null,null,null,null,null,null,null,null,null,null,null,null,null,null,null,null,{"$f":"IF(LEN(Z782)>0,VLOOKUP(Z782,'TFW Programs'!$A$2:$B$8,2,FALSE),\"\")","v":""},null,null,{"$f":"IF(LEN(A782)>0,VLOOKUP(A782,Subcontractors!$A$2:$B$4,2,FALSE),\"\")","v":""}]
[null,null,null,null,null,null,null,null,null,null,null,null,null,null,null,null,null,null,null,null,null,null,null,{"$f":"IF(LEN(Z783)>0,VLOOKUP(Z783,'TFW Programs'!$A$2:$B$8,2,FALSE),\"\")","v":""},null,null,{"$f":"IF(LEN(A783)>0,VLOOKUP(A783,Subcontractors!$A$2:$B$4,2,FALSE),\"\")","v":""}]
[null,null,null,null,null,null,null,null,null,null,null,null,null,null,null,null,null,null,null,null,null,null,null,{"$f":"IF(LEN(Z784)>0,VLOOKUP(Z784,'TFW Programs'!$A$2:$B$8,2,FALSE),\"\")","v":""},null,null,{"$f":"IF(LEN(A784)>0,VLOOKUP(A784,Subcontractors!$A$2:$B$4,2,FALSE),\"\")","v":""}]
[null,null,null,null,null,null,null,null,null,null,null,null,null,null,null,null,null,null,null,null,null,null,null,{"$f":"IF(LEN(Z785)>0,VLOOKUP(Z785,'TFW Programs'!$A$2:$B$8,2,FALSE),\"\")","v":""},null,null,{"$f":"IF(LEN(A785)>0,VLOOKUP(A785,Subcontractors!$A$2:$B$4,2,FALSE),\"\")","v":""}]
[null,null,null,null,null,null,null,null,null,null,null,null,null,null,null,null,null,null,null,null,null,null,null,{"$f":"IF(LEN(Z786)>0,VLOOKUP(Z786,'TFW Programs'!$A$2:$B$8,2,FALSE),\"\")","v":""},null,null,{"$f":"IF(LEN(A786)>0,VLOOKUP(A786,Subcontractors!$A$2:$B$4,2,FALSE),\"\")","v":""}]
[null,null,null,null,null,null,null,null,null,null,null,null,null,null,null,null,null,null,null,null,null,null,null,{"$f":"IF(LEN(Z787)>0,VLOOKUP(Z787,'TFW Programs'!$A$2:$B$8,2,FALSE),\"\")","v":""},null,null,{"$f":"IF(LEN(A787)>0,VLOOKUP(A787,Subcontractors!$A$2:$B$4,2,FALSE),\"\")","v":""}]
[null,null,null,null,null,null,null,null,null,null,null,null,null,null,null,null,null,null,null,null,null,null,null,{"$f":"IF(LEN(Z788)>0,VLOOKUP(Z788,'TFW Programs'!$A$2:$B$8,2,FALSE),\"\")","v":""},null,null,{"$f":"IF(LEN(A788)>0,VLOOKUP(A788,Subcontractors!$A$2:$B$4,2,FALSE),\"\")","v":""}]
[null,null,null,null,null,null,null,null,null,null,null,null,null,null,null,null,null,null,null,null,null,null,null,{"$f":"IF(LEN(Z789)>0,VLOOKUP(Z789,'TFW Programs'!$A$2:$B$8,2,FALSE),\"\")","v":""},null,null,{"$f":"IF(LEN(A789)>0,VLOOKUP(A789,Subcontractors!$A$2:$B$4,2,FALSE),\"\")","v":""}]
[null,null,null,null,null,null,null,null,null,null,null,null,null,null,null,null,null,null,null,null,null,null,null,{"$f":"IF(LEN(Z790)>0,VLOOKUP(Z790,'TFW Programs'!$A$2:$B$8,2,FALSE),\"\")","v":""},null,null,{"$f":"IF(LEN(A790)>0,VLOOKUP(A790,Subcontractors!$A$2:$B$4,2,FALSE),\"\")","v":""}]
[null,null,null,null,null,null,null,null,null,null,null,null,null,null,null,null,null,null,null,null,null,null,null,{"$f":"IF(LEN(Z791)>0,VLOOKUP(Z791,'TFW Programs'!$A$2:$B$8,2,FALSE),\"\")","v":""},null,null,{"$f":"IF(LEN(A791)>0,VLOOKUP(A791,Subcontractors!$A$2:$B$4,2,FALSE),\"\")","v":""}]
[null,null,null,null,null,null,null,null,null,null,null,null,null,null,null,null,null,null,null,null,null,null,null,{"$f":"IF(LEN(Z792)>0,VLOOKUP(Z792,'TFW Programs'!$A$2:$B$8,2,FALSE),\"\")","v":""},null,null,{"$f":"IF(LEN(A792)>0,VLOOKUP(A792,Subcontractors!$A$2:$B$4,2,FALSE),\"\")","v":""}]
[null,null,null,null,null,null,null,null,null,null,null,null,null,null,null,null,null,null,null,null,null,null,null,{"$f":"IF(LEN(Z793)>0,VLOOKUP(Z793,'TFW Programs'!$A$2:$B$8,2,FALSE),\"\")","v":""},null,null,{"$f":"IF(LEN(A793)>0,VLOOKUP(A793,Subcontractors!$A$2:$B$4,2,FALSE),\"\")","v":""}]
[null,null,null,null,null,null,null,null,null,null,null,null,null,null,null,null,null,null,null,null,null,null,null,{"$f":"IF(LEN(Z794)>0,VLOOKUP(Z794,'TFW Programs'!$A$2:$B$8,2,FALSE),\"\")","v":""},null,null,{"$f":"IF(LEN(A794)>0,VLOOKUP(A794,Subcontractors!$A$2:$B$4,2,FALSE),\"\")","v":""}]
[null,null,null,null,null,null,null,null,null,null,null,null,null,null,null,null,null,null,null,null,null,null,null,{"$f":"IF(LEN(Z795)>0,VLOOKUP(Z795,'TFW Programs'!$A$2:$B$8,2,FALSE),\"\")","v":""},null,null,{"$f":"IF(LEN(A795)>0,VLOOKUP(A795,Subcontractors!$A$2:$B$4,2,FALSE),\"\")","v":""}]
[null,null,null,null,null,null,null,null,null,null,null,null,null,null,null,null,null,null,null,null,null,null,null,{"$f":"IF(LEN(Z796)>0,VLOOKUP(Z796,'TFW Programs'!$A$2:$B$8,2,FALSE),\"\")","v":""},null,null,{"$f":"IF(LEN(A796)>0,VLOOKUP(A796,Subcontractors!$A$2:$B$4,2,FALSE),\"\")","v":""}]
[null,null,null,null,null,null,null,null,null,null,null,null,null,null,null,null,null,null,null,null,null,null,null,{"$f":"IF(LEN(Z797)>0,VLOOKUP(Z797,'TFW Programs'!$A$2:$B$8,2,FALSE),\"\")","v":""},null,null,{"$f":"IF(LEN(A797)>0,VLOOKUP(A797,Subcontractors!$A$2:$B$4,2,FALSE),\"\")","v":""}]
[null,null,null,null,null,null,null,null,null,null,null,null,null,null,null,null,null,null,null,null,null,null,null,{"$f":"IF(LEN(Z798)>0,VLOOKUP(Z798,'TFW Programs'!$A$2:$B$8,2,FALSE),\"\")","v":""},null,null,{"$f":"IF(LEN(A798)>0,VLOOKUP(A798,Subcontractors!$A$2:$B$4,2,FALSE),\"\")","v":""}]
[null,null,null,null,null,null,null,null,null,null,null,null,null,null,null,null,null,null,null,null,null,null,null,{"$f":"IF(LEN(Z799)>0,VLOOKUP(Z799,'TFW Programs'!$A$2:$B$8,2,FALSE),\"\")","v":""},null,null,{"$f":"IF(LEN(A799)>0,VLOOKUP(A799,Subcontractors!$A$2:$B$4,2,FALSE),\"\")","v":""}]
[null,null,null,null,null,null,null,null,null,null,null,null,null,null,null,null,null,null,null,null,null,null,null,{"$f":"IF(LEN(Z800)>0,VLOOKUP(Z800,'TFW Programs'!$A$2:$B$8,2,FALSE),\"\")","v":""},null,null,{"$f":"IF(LEN(A800)>0,VLOOKUP(A800,Subcontractors!$A$2:$B$4,2,FALSE),\"\")","v":""}]
[null,null,null,null,null,null,null,null,null,null,null,null,null,null,null,null,null,null,null,null,null,null,null,{"$f":"IF(LEN(Z801)>0,VLOOKUP(Z801,'TFW Programs'!$A$2:$B$8,2,FALSE),\"\")","v":""},null,null,{"$f":"IF(LEN(A801)>0,VLOOKUP(A801,Subcontractors!$A$2:$B$4,2,FALSE),\"\")","v":""}]
[null,null,null,null,null,null,null,null,null,null,null,null,null,null,null,null,null,null,null,null,null,null,null,{"$f":"IF(LEN(Z802)>0,VLOOKUP(Z802,'TFW Programs'!$A$2:$B$8,2,FALSE),\"\")","v":""},null,null,{"$f":"IF(LEN(A802)>0,VLOOKUP(A802,Subcontractors!$A$2:$B$4,2,FALSE),\"\")","v":""}]
[null,null,null,null,null,null,null,null,null,null,null,null,null,null,null,null,null,null,null,null,null,null,null,{"$f":"IF(LEN(Z803)>0,VLOOKUP(Z803,'TFW Programs'!$A$2:$B$8,2,FALSE),\"\")","v":""},null,null,{"$f":"IF(LEN(A803)>0,VLOOKUP(A803,Subcontractors!$A$2:$B$4,2,FALSE),\"\")","v":""}]
[null,null,null,null,null,null,null,null,null,null,null,null,null,null,null,null,null,null,null,null,null,null,null,{"$f":"IF(LEN(Z804)>0,VLOOKUP(Z804,'TFW Programs'!$A$2:$B$8,2,FALSE),\"\")","v":""},null,null,{"$f":"IF(LEN(A804)>0,VLOOKUP(A804,Subcontractors!$A$2:$B$4,2,FALSE),\"\")","v":""}]
[null,null,null,null,null,null,null,null,null,null,null,null,null,null,null,null,null,null,null,null,null,null,null,{"$f":"IF(LEN(Z805)>0,VLOOKUP(Z805,'TFW Programs'!$A$2:$B$8,2,FALSE),\"\")","v":""},null,null,{"$f":"IF(LEN(A805)>0,VLOOKUP(A805,Subcontractors!$A$2:$B$4,2,FALSE),\"\")","v":""}]
[null,null,null,null,null,null,null,null,null,null,null,null,null,null,null,null,null,null,null,null,null,null,null,{"$f":"IF(LEN(Z806)>0,VLOOKUP(Z806,'TFW Programs'!$A$2:$B$8,2,FALSE),\"\")","v":""},null,null,{"$f":"IF(LEN(A806)>0,VLOOKUP(A806,Subcontractors!$A$2:$B$4,2,FALSE),\"\")","v":""}]
[null,null,null,null,null,null,null,null,null,null,null,null,null,null,null,null,null,null,null,null,null,null,null,{"$f":"IF(LEN(Z807)>0,VLOOKUP(Z807,'TFW Programs'!$A$2:$B$8,2,FALSE),\"\")","v":""},null,null,{"$f":"IF(LEN(A807)>0,VLOOKUP(A807,Subcontractors!$A$2:$B$4,2,FALSE),\"\")","v":""}]
[null,null,null,null,null,null,null,null,null,null,null,null,null,null,null,null,null,null,null,null,null,null,null,{"$f":"IF(LEN(Z808)>0,VLOOKUP(Z808,'TFW Programs'!$A$2:$B$8,2,FALSE),\"\")","v":""},null,null,{"$f":"IF(LEN(A808)>0,VLOOKUP(A808,Subcontractors!$A$2:$B$4,2,FALSE),\"\")","v":""}]
[null,null,null,null,null,null,null,null,null,null,null,null,null,null,null,null,null,null,null,null,null,null,null,{"$f":"IF(LEN(Z809)>0,VLOOKUP(Z809,'TFW Programs'!$A$2:$B$8,2,FALSE),\"\")","v":""},null,null,{"$f":"IF(LEN(A809)>0,VLOOKUP(A809,Subcontractors!$A$2:$B$4,2,FALSE),\"\")","v":""}]
[null,null,null,null,null,null,null,null,null,null,null,null,null,null,null,null,null,null,null,null,null,null,null,{"$f":"IF(LEN(Z810)>0,VLOOKUP(Z810,'TFW Programs'!$A$2:$B$8,2,FALSE),\"\")","v":""},null,null,{"$f":"IF(LEN(A810)>0,VLOOKUP(A810,Subcontractors!$A$2:$B$4,2,FALSE),\"\")","v":""}]
[null,null,null,null,null,null,null,null,null,null,null,null,null,null,null,null,null,null,null,null,null,null,null,{"$f":"IF(LEN(Z811)>0,VLOOKUP(Z811,'TFW Programs'!$A$2:$B$8,2,FALSE),\"\")","v":""},null,null,{"$f":"IF(LEN(A811)>0,VLOOKUP(A811,Subcontractors!$A$2:$B$4,2,FALSE),\"\")","v":""}]
[null,null,null,null,null,null,null,null,null,null,null,null,null,null,null,null,null,null,null,null,null,null,null,{"$f":"IF(LEN(Z812)>0,VLOOKUP(Z812,'TFW Programs'!$A$2:$B$8,2,FALSE),\"\")","v":""},null,null,{"$f":"IF(LEN(A812)>0,VLOOKUP(A812,Subcontractors!$A$2:$B$4,2,FALSE),\"\")","v":""}]
[null,null,null,null,null,null,null,null,null,null,null,null,null,null,null,null,null,null,null,null,null,null,null,{"$f":"IF(LEN(Z813)>0,VLOOKUP(Z813,'TFW Programs'!$A$2:$B$8,2,FALSE),\"\")","v":""},null,null,{"$f":"IF(LEN(A813)>0,VLOOKUP(A813,Subcontractors!$A$2:$B$4,2,FALSE),\"\")","v":""}]
[null,null,null,null,null,null,null,null,null,null,null,null,null,null,null,null,null,null,null,null,null,null,null,{"$f":"IF(LEN(Z814)>0,VLOOKUP(Z814,'TFW Programs'!$A$2:$B$8,2,FALSE),\"\")","v":""},null,null,{"$f":"IF(LEN(A814)>0,VLOOKUP(A814,Subcontractors!$A$2:$B$4,2,FALSE),\"\")","v":""}]
[null,null,null,null,null,null,null,null,null,null,null,null,null,null,null,null,null,null,null,null,null,null,null,{"$f":"IF(LEN(Z815)>0,VLOOKUP(Z815,'TFW Programs'!$A$2:$B$8,2,FALSE),\"\")","v":""},null,null,{"$f":"IF(LEN(A815)>0,VLOOKUP(A815,Subcontractors!$A$2:$B$4,2,FALSE),\"\")","v":""}]
[null,null,null,null,null,null,null,null,null,null,null,null,null,null,null,null,null,null,null,null,null,null,null,{"$f":"IF(LEN(Z816)>0,VLOOKUP(Z816,'TFW Programs'!$A$2:$B$8,2,FALSE),\"\")","v":""},null,null,{"$f":"IF(LEN(A816)>0,VLOOKUP(A816,Subcontractors!$A$2:$B$4,2,FALSE),\"\")","v":""}]
[null,null,null,null,null,null,null,null,null,null,null,null,null,null,null,null,null,null,null,null,null,null,null,{"$f":"IF(LEN(Z817)>0,VLOOKUP(Z817,'TFW Programs'!$A$2:$B$8,2,FALSE),\"\")","v":""},null,null,{"$f":"IF(LEN(A817)>0,VLOOKUP(A817,Subcontractors!$A$2:$B$4,2,FALSE),\"\")","v":""}]
[null,null,null,null,null,null,null,null,null,null,null,null,null,null,null,null,null,null,null,null,null,null,null,{"$f":"IF(LEN(Z818)>0,VLOOKUP(Z818,'TFW Programs'!$A$2:$B$8,2,FALSE),\"\")","v":""},null,null,{"$f":"IF(LEN(A818)>0,VLOOKUP(A818,Subcontractors!$A$2:$B$4,2,FALSE),\"\")","v":""}]
[null,null,null,null,null,null,null,null,null,null,null,null,null,null,null,null,null,null,null,null,null,null,null,{"$f":"IF(LEN(Z819)>0,VLOOKUP(Z819,'TFW Programs'!$A$2:$B$8,2,FALSE),\"\")","v":""},null,null,{"$f":"IF(LEN(A819)>0,VLOOKUP(A819,Subcontractors!$A$2:$B$4,2,FALSE),\"\")","v":""}]
[null,null,null,null,null,null,null,null,null,null,null,null,null,null,null,null,null,null,null,null,null,null,null,{"$f":"IF(LEN(Z820)>0,VLOOKUP(Z820,'TFW Programs'!$A$2:$B$8,2,FALSE),\"\")","v":""},null,null,{"$f":"IF(LEN(A820)>0,VLOOKUP(A820,Subcontractors!$A$2:$B$4,2,FALSE),\"\")","v":""}]
[null,null,null,null,null,null,null,null,null,null,null,null,null,null,null,null,null,null,null,null,null,null,null,{"$f":"IF(LEN(Z821)>0,VLOOKUP(Z821,'TFW Programs'!$A$2:$B$8,2,FALSE),\"\")","v":""},null,null,{"$f":"IF(LEN(A821)>0,VLOOKUP(A821,Subcontractors!$A$2:$B$4,2,FALSE),\"\")","v":""}]
[null,null,null,null,null,null,null,null,null,null,null,null,null,null,null,null,null,null,null,null,null,null,null,{"$f":"IF(LEN(Z822)>0,VLOOKUP(Z822,'TFW Programs'!$A$2:$B$8,2,FALSE),\"\")","v":""},null,null,{"$f":"IF(LEN(A822)>0,VLOOKUP(A822,Subcontractors!$A$2:$B$4,2,FALSE),\"\")","v":""}]
[null,null,null,null,null,null,null,null,null,null,null,null,null,null,null,null,null,null,null,null,null,null,null,{"$f":"IF(LEN(Z823)>0,VLOOKUP(Z823,'TFW Programs'!$A$2:$B$8,2,FALSE),\"\")","v":""},null,null,{"$f":"IF(LEN(A823)>0,VLOOKUP(A823,Subcontractors!$A$2:$B$4,2,FALSE),\"\")","v":""}]
[null,null,null,null,null,null,null,null,null,null,null,null,null,null,null,null,null,null,null,null,null,null,null,{"$f":"IF(LEN(Z824)>0,VLOOKUP(Z824,'TFW Programs'!$A$2:$B$8,2,FALSE),\"\")","v":""},null,null,{"$f":"IF(LEN(A824)>0,VLOOKUP(A824,Subcontractors!$A$2:$B$4,2,FALSE),\"\")","v":""}]
[null,null,null,null,null,null,null,null,null,null,null,null,null,null,null,null,null,null,null,null,null,null,null,{"$f":"IF(LEN(Z825)>0,VLOOKUP(Z825,'TFW Programs'!$A$2:$B$8,2,FALSE),\"\")","v":""},null,null,{"$f":"IF(LEN(A825)>0,VLOOKUP(A825,Subcontractors!$A$2:$B$4,2,FALSE),\"\")","v":""}]
[null,null,null,null,null,null,null,null,null,null,null,null,null,null,null,null,null,null,null,null,null,null,null,{"$f":"IF(LEN(Z826)>0,VLOOKUP(Z826,'TFW Programs'!$A$2:$B$8,2,FALSE),\"\")","v":""},null,null,{"$f":"IF(LEN(A826)>0,VLOOKUP(A826,Subcontractors!$A$2:$B$4,2,FALSE),\"\")","v":""}]
[null,null,null,null,null,null,null,null,null,null,null,null,null,null,null,null,null,null,null,null,null,null,null,{"$f":"IF(LEN(Z827)>0,VLOOKUP(Z827,'TFW Programs'!$A$2:$B$8,2,FALSE),\"\")","v":""},null,null,{"$f":"IF(LEN(A827)>0,VLOOKUP(A827,Subcontractors!$A$2:$B$4,2,FALSE),\"\")","v":""}]
[null,null,null,null,null,null,null,null,null,null,null,null,null,null,null,null,null,null,null,null,null,null,null,{"$f":"IF(LEN(Z828)>0,VLOOKUP(Z828,'TFW Programs'!$A$2:$B$8,2,FALSE),\"\")","v":""},null,null,{"$f":"IF(LEN(A828)>0,VLOOKUP(A828,Subcontractors!$A$2:$B$4,2,FALSE),\"\")","v":""}]
[null,null,null,null,null,null,null,null,null,null,null,null,null,null,null,null,null,null,null,null,null,null,null,{"$f":"IF(LEN(Z829)>0,VLOOKUP(Z829,'TFW Programs'!$A$2:$B$8,2,FALSE),\"\")","v":""},null,null,{"$f":"IF(LEN(A829)>0,VLOOKUP(A829,Subcontractors!$A$2:$B$4,2,FALSE),\"\")","v":""}]
[null,null,null,null,null,null,null,null,null,null,null,null,null,null,null,null,null,null,null,null,null,null,null,{"$f":"IF(LEN(Z830)>0,VLOOKUP(Z830,'TFW Programs'!$A$2:$B$8,2,FALSE),\"\")","v":""},null,null,{"$f":"IF(LEN(A830)>0,VLOOKUP(A830,Subcontractors!$A$2:$B$4,2,FALSE),\"\")","v":""}]
[null,null,null,null,null,null,null,null,null,null,null,null,null,null,null,null,null,null,null,null,null,null,null,{"$f":"IF(LEN(Z831)>0,VLOOKUP(Z831,'TFW Programs'!$A$2:$B$8,2,FALSE),\"\")","v":""},null,null,{"$f":"IF(LEN(A831)>0,VLOOKUP(A831,Subcontractors!$A$2:$B$4,2,FALSE),\"\")","v":""}]
[null,null,null,null,null,null,null,null,null,null,null,null,null,null,null,null,null,null,null,null,null,null,null,{"$f":"IF(LEN(Z832)>0,VLOOKUP(Z832,'TFW Programs'!$A$2:$B$8,2,FALSE),\"\")","v":""},null,null,{"$f":"IF(LEN(A832)>0,VLOOKUP(A832,Subcontractors!$A$2:$B$4,2,FALSE),\"\")","v":""}]
[null,null,null,null,null,null,null,null,null,null,null,null,null,null,null,null,null,null,null,null,null,null,null,{"$f":"IF(LEN(Z833)>0,VLOOKUP(Z833,'TFW Programs'!$A$2:$B$8,2,FALSE),\"\")","v":""},null,null,{"$f":"IF(LEN(A833)>0,VLOOKUP(A833,Subcontractors!$A$2:$B$4,2,FALSE),\"\")","v":""}]
[null,null,null,null,null,null,null,null,null,null,null,null,null,null,null,null,null,null,null,null,null,null,null,{"$f":"IF(LEN(Z834)>0,VLOOKUP(Z834,'TFW Programs'!$A$2:$B$8,2,FALSE),\"\")","v":""},null,null,{"$f":"IF(LEN(A834)>0,VLOOKUP(A834,Subcontractors!$A$2:$B$4,2,FALSE),\"\")","v":""}]
[null,null,null,null,null,null,null,null,null,null,null,null,null,null,null,null,null,null,null,null,null,null,null,{"$f":"IF(LEN(Z835)>0,VLOOKUP(Z835,'TFW Programs'!$A$2:$B$8,2,FALSE),\"\")","v":""},null,null,{"$f":"IF(LEN(A835)>0,VLOOKUP(A835,Subcontractors!$A$2:$B$4,2,FALSE),\"\")","v":""}]
[null,null,null,null,null,null,null,null,null,null,null,null,null,null,null,null,null,null,null,null,null,null,null,{"$f":"IF(LEN(Z836)>0,VLOOKUP(Z836,'TFW Programs'!$A$2:$B$8,2,FALSE),\"\")","v":""},null,null,{"$f":"IF(LEN(A836)>0,VLOOKUP(A836,Subcontractors!$A$2:$B$4,2,FALSE),\"\")","v":""}]
[null,null,null,null,null,null,null,null,null,null,null,null,null,null,null,null,null,null,null,null,null,null,null,{"$f":"IF(LEN(Z837)>0,VLOOKUP(Z837,'TFW Programs'!$A$2:$B$8,2,FALSE),\"\")","v":""},null,null,{"$f":"IF(LEN(A837)>0,VLOOKUP(A837,Subcontractors!$A$2:$B$4,2,FALSE),\"\")","v":""}]
[null,null,null,null,null,null,null,null,null,null,null,null,null,null,null,null,null,null,null,null,null,null,null,{"$f":"IF(LEN(Z838)>0,VLOOKUP(Z838,'TFW Programs'!$A$2:$B$8,2,FALSE),\"\")","v":""},null,null,{"$f":"IF(LEN(A838)>0,VLOOKUP(A838,Subcontractors!$A$2:$B$4,2,FALSE),\"\")","v":""}]
[null,null,null,null,null,null,null,null,null,null,null,null,null,null,null,null,null,null,null,null,null,null,null,{"$f":"IF(LEN(Z839)>0,VLOOKUP(Z839,'TFW Programs'!$A$2:$B$8,2,FALSE),\"\")","v":""},null,null,{"$f":"IF(LEN(A839)>0,VLOOKUP(A839,Subcontractors!$A$2:$B$4,2,FALSE),\"\")","v":""}]
[null,null,null,null,null,null,null,null,null,null,null,null,null,null,null,null,null,null,null,null,null,null,null,{"$f":"IF(LEN(Z840)>0,VLOOKUP(Z840,'TFW Programs'!$A$2:$B$8,2,FALSE),\"\")","v":""},null,null,{"$f":"IF(LEN(A840)>0,VLOOKUP(A840,Subcontractors!$A$2:$B$4,2,FALSE),\"\")","v":""}]
[null,null,null,null,null,null,null,null,null,null,null,null,null,null,null,null,null,null,null,null,null,null,null,{"$f":"IF(LEN(Z841)>0,VLOOKUP(Z841,'TFW Programs'!$A$2:$B$8,2,FALSE),\"\")","v":""},null,null,{"$f":"IF(LEN(A841)>0,VLOOKUP(A841,Subcontractors!$A$2:$B$4,2,FALSE),\"\")","v":""}]
[null,null,null,null,null,null,null,null,null,null,null,null,null,null,null,null,null,null,null,null,null,null,null,{"$f":"IF(LEN(Z842)>0,VLOOKUP(Z842,'TFW Programs'!$A$2:$B$8,2,FALSE),\"\")","v":""},null,null,{"$f":"IF(LEN(A842)>0,VLOOKUP(A842,Subcontractors!$A$2:$B$4,2,FALSE),\"\")","v":""}]
[null,null,null,null,null,null,null,null,null,null,null,null,null,null,null,null,null,null,null,null,null,null,null,{"$f":"IF(LEN(Z843)>0,VLOOKUP(Z843,'TFW Programs'!$A$2:$B$8,2,FALSE),\"\")","v":""},null,null,{"$f":"IF(LEN(A843)>0,VLOOKUP(A843,Subcontractors!$A$2:$B$4,2,FALSE),\"\")","v":""}]
[null,null,null,null,null,null,null,null,null,null,null,null,null,null,null,null,null,null,null,null,null,null,null,{"$f":"IF(LEN(Z844)>0,VLOOKUP(Z844,'TFW Programs'!$A$2:$B$8,2,FALSE),\"\")","v":""},null,null,{"$f":"IF(LEN(A844)>0,VLOOKUP(A844,Subcontractors!$A$2:$B$4,2,FALSE),\"\")","v":""}]
[null,null,null,null,null,null,null,null,null,null,null,null,null,null,null,null,null,null,null,null,null,null,null,{"$f":"IF(LEN(Z845)>0,VLOOKUP(Z845,'TFW Programs'!$A$2:$B$8,2,FALSE),\"\")","v":""},null,null,{"$f":"IF(LEN(A845)>0,VLOOKUP(A845,Subcontractors!$A$2:$B$4,2,FALSE),\"\")","v":""}]
[null,null,null,null,null,null,null,null,null,null,null,null,null,null,null,null,null,null,null,null,null,null,null,{"$f":"IF(LEN(Z846)>0,VLOOKUP(Z846,'TFW Programs'!$A$2:$B$8,2,FALSE),\"\")","v":""},null,null,{"$f":"IF(LEN(A846)>0,VLOOKUP(A846,Subcontractors!$A$2:$B$4,2,FALSE),\"\")","v":""}]
[null,null,null,null,null,null,null,null,null,null,null,null,null,null,null,null,null,null,null,null,null,null,null,{"$f":"IF(LEN(Z847)>0,VLOOKUP(Z847,'TFW Programs'!$A$2:$B$8,2,FALSE),\"\")","v":""},null,null,{"$f":"IF(LEN(A847)>0,VLOOKUP(A847,Subcontractors!$A$2:$B$4,2,FALSE),\"\")","v":""}]
[null,null,null,null,null,null,null,null,null,null,null,null,null,null,null,null,null,null,null,null,null,null,null,{"$f":"IF(LEN(Z848)>0,VLOOKUP(Z848,'TFW Programs'!$A$2:$B$8,2,FALSE),\"\")","v":""},null,null,{"$f":"IF(LEN(A848)>0,VLOOKUP(A848,Subcontractors!$A$2:$B$4,2,FALSE),\"\")","v":""}]
[null,null,null,null,null,null,null,null,null,null,null,null,null,null,null,null,null,null,null,null,null,null,null,{"$f":"IF(LEN(Z849)>0,VLOOKUP(Z849,'TFW Programs'!$A$2:$B$8,2,FALSE),\"\")","v":""},null,null,{"$f":"IF(LEN(A849)>0,VLOOKUP(A849,Subcontractors!$A$2:$B$4,2,FALSE),\"\")","v":""}]
[null,null,null,null,null,null,null,null,null,null,null,null,null,null,null,null,null,null,null,null,null,null,null,{"$f":"IF(LEN(Z850)>0,VLOOKUP(Z850,'TFW Programs'!$A$2:$B$8,2,FALSE),\"\")","v":""},null,null,{"$f":"IF(LEN(A850)>0,VLOOKUP(A850,Subcontractors!$A$2:$B$4,2,FALSE),\"\")","v":""}]
[null,null,null,null,null,null,null,null,null,null,null,null,null,null,null,null,null,null,null,null,null,null,null,{"$f":"IF(LEN(Z851)>0,VLOOKUP(Z851,'TFW Programs'!$A$2:$B$8,2,FALSE),\"\")","v":""},null,null,{"$f":"IF(LEN(A851)>0,VLOOKUP(A851,Subcontractors!$A$2:$B$4,2,FALSE),\"\")","v":""}]
[null,null,null,null,null,null,null,null,null,null,null,null,null,null,null,null,null,null,null,null,null,null,null,{"$f":"IF(LEN(Z852)>0,VLOOKUP(Z852,'TFW Programs'!$A$2:$B$8,2,FALSE),\"\")","v":""},null,null,{"$f":"IF(LEN(A852)>0,VLOOKUP(A852,Subcontractors!$A$2:$B$4,2,FALSE),\"\")","v":""}]
[null,null,null,null,null,null,null,null,null,null,null,null,null,null,null,null,null,null,null,null,null,null,null,{"$f":"IF(LEN(Z853)>0,VLOOKUP(Z853,'TFW Programs'!$A$2:$B$8,2,FALSE),\"\")","v":""},null,null,{"$f":"IF(LEN(A853)>0,VLOOKUP(A853,Subcontractors!$A$2:$B$4,2,FALSE),\"\")","v":""}]
[null,null,null,null,null,null,null,null,null,null,null,null,null,null,null,null,null,null,null,null,null,null,null,{"$f":"IF(LEN(Z854)>0,VLOOKUP(Z854,'TFW Programs'!$A$2:$B$8,2,FALSE),\"\")","v":""},null,null,{"$f":"IF(LEN(A854)>0,VLOOKUP(A854,Subcontractors!$A$2:$B$4,2,FALSE),\"\")","v":""}]
[null,null,null,null,null,null,null,null,null,null,null,null,null,null,null,null,null,null,null,null,null,null,null,{"$f":"IF(LEN(Z855)>0,VLOOKUP(Z855,'TFW Programs'!$A$2:$B$8,2,FALSE),\"\")","v":""},null,null,{"$f":"IF(LEN(A855)>0,VLOOKUP(A855,Subcontractors!$A$2:$B$4,2,FALSE),\"\")","v":""}]
[null,null,null,null,null,null,null,null,null,null,null,null,null,null,null,null,null,null,null,null,null,null,null,{"$f":"IF(LEN(Z856)>0,VLOOKUP(Z856,'TFW Programs'!$A$2:$B$8,2,FALSE),\"\")","v":""},null,null,{"$f":"IF(LEN(A856)>0,VLOOKUP(A856,Subcontractors!$A$2:$B$4,2,FALSE),\"\")","v":""}]
[null,null,null,null,null,null,null,null,null,null,null,null,null,null,null,null,null,null,null,null,null,null,null,{"$f":"IF(LEN(Z857)>0,VLOOKUP(Z857,'TFW Programs'!$A$2:$B$8,2,FALSE),\"\")","v":""},null,null,{"$f":"IF(LEN(A857)>0,VLOOKUP(A857,Subcontractors!$A$2:$B$4,2,FALSE),\"\")","v":""}]
[null,null,null,null,null,null,null,null,null,null,null,null,null,null,null,null,null,null,null,null,null,null,null,{"$f":"IF(LEN(Z858)>0,VLOOKUP(Z858,'TFW Programs'!$A$2:$B$8,2,FALSE),\"\")","v":""},null,null,{"$f":"IF(LEN(A858)>0,VLOOKUP(A858,Subcontractors!$A$2:$B$4,2,FALSE),\"\")","v":""}]
[null,null,null,null,null,null,null,null,null,null,null,null,null,null,null,null,null,null,null,null,null,null,null,{"$f":"IF(LEN(Z859)>0,VLOOKUP(Z859,'TFW Programs'!$A$2:$B$8,2,FALSE),\"\")","v":""},null,null,{"$f":"IF(LEN(A859)>0,VLOOKUP(A859,Subcontractors!$A$2:$B$4,2,FALSE),\"\")","v":""}]
[null,null,null,null,null,null,null,null,null,null,null,null,null,null,null,null,null,null,null,null,null,null,null,{"$f":"IF(LEN(Z860)>0,VLOOKUP(Z860,'TFW Programs'!$A$2:$B$8,2,FALSE),\"\")","v":""},null,null,{"$f":"IF(LEN(A860)>0,VLOOKUP(A860,Subcontractors!$A$2:$B$4,2,FALSE),\"\")","v":""}]
[null,null,null,null,null,null,null,null,null,null,null,null,null,null,null,null,null,null,null,null,null,null,null,{"$f":"IF(LEN(Z861)>0,VLOOKUP(Z861,'TFW Programs'!$A$2:$B$8,2,FALSE),\"\")","v":""},null,null,{"$f":"IF(LEN(A861)>0,VLOOKUP(A861,Subcontractors!$A$2:$B$4,2,FALSE),\"\")","v":""}]
[null,null,null,null,null,null,null,null,null,null,null,null,null,null,null,null,null,null,null,null,null,null,null,{"$f":"IF(LEN(Z862)>0,VLOOKUP(Z862,'TFW Programs'!$A$2:$B$8,2,FALSE),\"\")","v":""},null,null,{"$f":"IF(LEN(A862)>0,VLOOKUP(A862,Subcontractors!$A$2:$B$4,2,FALSE),\"\")","v":""}]
[null,null,null,null,null,null,null,null,null,null,null,null,null,null,null,null,null,null,null,null,null,null,null,{"$f":"IF(LEN(Z863)>0,VLOOKUP(Z863,'TFW Programs'!$A$2:$B$8,2,FALSE),\"\")","v":""},null,null,{"$f":"IF(LEN(A863)>0,VLOOKUP(A863,Subcontractors!$A$2:$B$4,2,FALSE),\"\")","v":""}]
[null,null,null,null,null,null,null,null,null,null,null,null,null,null,null,null,null,null,null,null,null,null,null,{"$f":"IF(LEN(Z864)>0,VLOOKUP(Z864,'TFW Programs'!$A$2:$B$8,2,FALSE),\"\")","v":""},null,null,{"$f":"IF(LEN(A864)>0,VLOOKUP(A864,Subcontractors!$A$2:$B$4,2,FALSE),\"\")","v":""}]
[null,null,null,null,null,null,null,null,null,null,null,null,null,null,null,null,null,null,null,null,null,null,null,{"$f":"IF(LEN(Z865)>0,VLOOKUP(Z865,'TFW Programs'!$A$2:$B$8,2,FALSE),\"\")","v":""},null,null,{"$f":"IF(LEN(A865)>0,VLOOKUP(A865,Subcontractors!$A$2:$B$4,2,FALSE),\"\")","v":""}]
[null,null,null,null,null,null,null,null,null,null,null,null,null,null,null,null,null,null,null,null,null,null,null,{"$f":"IF(LEN(Z866)>0,VLOOKUP(Z866,'TFW Programs'!$A$2:$B$8,2,FALSE),\"\")","v":""},null,null,{"$f":"IF(LEN(A866)>0,VLOOKUP(A866,Subcontractors!$A$2:$B$4,2,FALSE),\"\")","v":""}]
[null,null,null,null,null,null,null,null,null,null,null,null,null,null,null,null,null,null,null,null,null,null,null,{"$f":"IF(LEN(Z867)>0,VLOOKUP(Z867,'TFW Programs'!$A$2:$B$8,2,FALSE),\"\")","v":""},null,null,{"$f":"IF(LEN(A867)>0,VLOOKUP(A867,Subcontractors!$A$2:$B$4,2,FALSE),\"\")","v":""}]
[null,null,null,null,null,null,null,null,null,null,null,null,null,null,null,null,null,null,null,null,null,null,null,{"$f":"IF(LEN(Z868)>0,VLOOKUP(Z868,'TFW Programs'!$A$2:$B$8,2,FALSE),\"\")","v":""},null,null,{"$f":"IF(LEN(A868)>0,VLOOKUP(A868,Subcontractors!$A$2:$B$4,2,FALSE),\"\")","v":""}]
[null,null,null,null,null,null,null,null,null,null,null,null,null,null,null,null,null,null,null,null,null,null,null,{"$f":"IF(LEN(Z869)>0,VLOOKUP(Z869,'TFW Programs'!$A$2:$B$8,2,FALSE),\"\")","v":""},null,null,{"$f":"IF(LEN(A869)>0,VLOOKUP(A869,Subcontractors!$A$2:$B$4,2,FALSE),\"\")","v":""}]
[null,null,null,null,null,null,null,null,null,null,null,null,null,null,null,null,null,null,null,null,null,null,null,{"$f":"IF(LEN(Z870)>0,VLOOKUP(Z870,'TFW Programs'!$A$2:$B$8,2,FALSE),\"\")","v":""},null,null,{"$f":"IF(LEN(A870)>0,VLOOKUP(A870,Subcontractors!$A$2:$B$4,2,FALSE),\"\")","v":""}]
[null,null,null,null,null,null,null,null,null,null,null,null,null,null,null,null,null,null,null,null,null,null,null,{"$f":"IF(LEN(Z871)>0,VLOOKUP(Z871,'TFW Programs'!$A$2:$B$8,2,FALSE),\"\")","v":""},null,null,{"$f":"IF(LEN(A871)>0,VLOOKUP(A871,Subcontractors!$A$2:$B$4,2,FALSE),\"\")","v":""}]
[null,null,null,null,null,null,null,null,null,null,null,null,null,null,null,null,null,null,null,null,null,null,null,{"$f":"IF(LEN(Z872)>0,VLOOKUP(Z872,'TFW Programs'!$A$2:$B$8,2,FALSE),\"\")","v":""},null,null,{"$f":"IF(LEN(A872)>0,VLOOKUP(A872,Subcontractors!$A$2:$B$4,2,FALSE),\"\")","v":""}]
[null,null,null,null,null,null,null,null,null,null,null,null,null,null,null,null,null,null,null,null,null,null,null,{"$f":"IF(LEN(Z873)>0,VLOOKUP(Z873,'TFW Programs'!$A$2:$B$8,2,FALSE),\"\")","v":""},null,null,{"$f":"IF(LEN(A873)>0,VLOOKUP(A873,Subcontractors!$A$2:$B$4,2,FALSE),\"\")","v":""}]
[null,null,null,null,null,null,null,null,null,null,null,null,null,null,null,null,null,null,null,null,null,null,null,{"$f":"IF(LEN(Z874)>0,VLOOKUP(Z874,'TFW Programs'!$A$2:$B$8,2,FALSE),\"\")","v":""},null,null,{"$f":"IF(LEN(A874)>0,VLOOKUP(A874,Subcontractors!$A$2:$B$4,2,FALSE),\"\")","v":""}]
[null,null,null,null,null,null,null,null,null,null,null,null,null,null,null,null,null,null,null,null,null,null,null,{"$f":"IF(LEN(Z875)>0,VLOOKUP(Z875,'TFW Programs'!$A$2:$B$8,2,FALSE),\"\")","v":""},null,null,{"$f":"IF(LEN(A875)>0,VLOOKUP(A875,Subcontractors!$A$2:$B$4,2,FALSE),\"\")","v":""}]
[null,null,null,null,null,null,null,null,null,null,null,null,null,null,null,null,null,null,null,null,null,null,null,{"$f":"IF(LEN(Z876)>0,VLOOKUP(Z876,'TFW Programs'!$A$2:$B$8,2,FALSE),\"\")","v":""},null,null,{"$f":"IF(LEN(A876)>0,VLOOKUP(A876,Subcontractors!$A$2:$B$4,2,FALSE),\"\")","v":""}]
[null,null,null,null,null,null,null,null,null,null,null,null,null,null,null,null,null,null,null,null,null,null,null,{"$f":"IF(LEN(Z877)>0,VLOOKUP(Z877,'TFW Programs'!$A$2:$B$8,2,FALSE),\"\")","v":""},null,null,{"$f":"IF(LEN(A877)>0,VLOOKUP(A877,Subcontractors!$A$2:$B$4,2,FALSE),\"\")","v":""}]
[null,null,null,null,null,null,null,null,null,null,null,null,null,null,null,null,null,null,null,null,null,null,null,{"$f":"IF(LEN(Z878)>0,VLOOKUP(Z878,'TFW Programs'!$A$2:$B$8,2,FALSE),\"\")","v":""},null,null,{"$f":"IF(LEN(A878)>0,VLOOKUP(A878,Subcontractors!$A$2:$B$4,2,FALSE),\"\")","v":""}]
[null,null,null,null,null,null,null,null,null,null,null,null,null,null,null,null,null,null,null,null,null,null,null,{"$f":"IF(LEN(Z879)>0,VLOOKUP(Z879,'TFW Programs'!$A$2:$B$8,2,FALSE),\"\")","v":""},null,null,{"$f":"IF(LEN(A879)>0,VLOOKUP(A879,Subcontractors!$A$2:$B$4,2,FALSE),\"\")","v":""}]
[null,null,null,null,null,null,null,null,null,null,null,null,null,null,null,null,null,null,null,null,null,null,null,{"$f":"IF(LEN(Z880)>0,VLOOKUP(Z880,'TFW Programs'!$A$2:$B$8,2,FALSE),\"\")","v":""},null,null,{"$f":"IF(LEN(A880)>0,VLOOKUP(A880,Subcontractors!$A$2:$B$4,2,FALSE),\"\")","v":""}]
[null,null,null,null,null,null,null,null,null,null,null,null,null,null,null,null,null,null,null,null,null,null,null,{"$f":"IF(LEN(Z881)>0,VLOOKUP(Z881,'TFW Programs'!$A$2:$B$8,2,FALSE),\"\")","v":""},null,null,{"$f":"IF(LEN(A881)>0,VLOOKUP(A881,Subcontractors!$A$2:$B$4,2,FALSE),\"\")","v":""}]
[null,null,null,null,null,null,null,null,null,null,null,null,null,null,null,null,null,null,null,null,null,null,null,{"$f":"IF(LEN(Z882)>0,VLOOKUP(Z882,'TFW Programs'!$A$2:$B$8,2,FALSE),\"\")","v":""},null,null,{"$f":"IF(LEN(A882)>0,VLOOKUP(A882,Subcontractors!$A$2:$B$4,2,FALSE),\"\")","v":""}]
[null,null,null,null,null,null,null,null,null,null,null,null,null,null,null,null,null,null,null,null,null,null,null,{"$f":"IF(LEN(Z883)>0,VLOOKUP(Z883,'TFW Programs'!$A$2:$B$8,2,FALSE),\"\")","v":""},null,null,{"$f":"IF(LEN(A883)>0,VLOOKUP(A883,Subcontractors!$A$2:$B$4,2,FALSE),\"\")","v":""}]
[null,null,null,null,null,null,null,null,null,null,null,null,null,null,null,null,null,null,null,null,null,null,null,{"$f":"IF(LEN(Z884)>0,VLOOKUP(Z884,'TFW Programs'!$A$2:$B$8,2,FALSE),\"\")","v":""},null,null,{"$f":"IF(LEN(A884)>0,VLOOKUP(A884,Subcontractors!$A$2:$B$4,2,FALSE),\"\")","v":""}]
[null,null,null,null,null,null,null,null,null,null,null,null,null,null,null,null,null,null,null,null,null,null,null,{"$f":"IF(LEN(Z885)>0,VLOOKUP(Z885,'TFW Programs'!$A$2:$B$8,2,FALSE),\"\")","v":""},null,null,{"$f":"IF(LEN(A885)>0,VLOOKUP(A885,Subcontractors!$A$2:$B$4,2,FALSE),\"\")","v":""}]
[null,null,null,null,null,null,null,null,null,null,null,null,null,null,null,null,null,null,null,null,null,null,null,{"$f":"IF(LEN(Z886)>0,VLOOKUP(Z886,'TFW Programs'!$A$2:$B$8,2,FALSE),\"\")","v":""},null,null,{"$f":"IF(LEN(A886)>0,VLOOKUP(A886,Subcontractors!$A$2:$B$4,2,FALSE),\"\")","v":""}]
[null,null,null,null,null,null,null,null,null,null,null,null,null,null,null,null,null,null,null,null,null,null,null,{"$f":"IF(LEN(Z887)>0,VLOOKUP(Z887,'TFW Programs'!$A$2:$B$8,2,FALSE),\"\")","v":""},null,null,{"$f":"IF(LEN(A887)>0,VLOOKUP(A887,Subcontractors!$A$2:$B$4,2,FALSE),\"\")","v":""}]
[null,null,null,null,null,null,null,null,null,null,null,null,null,null,null,null,null,null,null,null,null,null,null,{"$f":"IF(LEN(Z888)>0,VLOOKUP(Z888,'TFW Programs'!$A$2:$B$8,2,FALSE),\"\")","v":""},null,null,{"$f":"IF(LEN(A888)>0,VLOOKUP(A888,Subcontractors!$A$2:$B$4,2,FALSE),\"\")","v":""}]
[null,null,null,null,null,null,null,null,null,null,null,null,null,null,null,null,null,null,null,null,null,null,null,{"$f":"IF(LEN(Z889)>0,VLOOKUP(Z889,'TFW Programs'!$A$2:$B$8,2,FALSE),\"\")","v":""},null,null,{"$f":"IF(LEN(A889)>0,VLOOKUP(A889,Subcontractors!$A$2:$B$4,2,FALSE),\"\")","v":""}]
[null,null,null,null,null,null,null,null,null,null,null,null,null,null,null,null,null,null,null,null,null,null,null,{"$f":"IF(LEN(Z890)>0,VLOOKUP(Z890,'TFW Programs'!$A$2:$B$8,2,FALSE),\"\")","v":""},null,null,{"$f":"IF(LEN(A890)>0,VLOOKUP(A890,Subcontractors!$A$2:$B$4,2,FALSE),\"\")","v":""}]
[null,null,null,null,null,null,null,null,null,null,null,null,null,null,null,null,null,null,null,null,null,null,null,{"$f":"IF(LEN(Z891)>0,VLOOKUP(Z891,'TFW Programs'!$A$2:$B$8,2,FALSE),\"\")","v":""},null,null,{"$f":"IF(LEN(A891)>0,VLOOKUP(A891,Subcontractors!$A$2:$B$4,2,FALSE),\"\")","v":""}]
[null,null,null,null,null,null,null,null,null,null,null,null,null,null,null,null,null,null,null,null,null,null,null,{"$f":"IF(LEN(Z892)>0,VLOOKUP(Z892,'TFW Programs'!$A$2:$B$8,2,FALSE),\"\")","v":""},null,null,{"$f":"IF(LEN(A892)>0,VLOOKUP(A892,Subcontractors!$A$2:$B$4,2,FALSE),\"\")","v":""}]
[null,null,null,null,null,null,null,null,null,null,null,null,null,null,null,null,null,null,null,null,null,null,null,{"$f":"IF(LEN(Z893)>0,VLOOKUP(Z893,'TFW Programs'!$A$2:$B$8,2,FALSE),\"\")","v":""},null,null,{"$f":"IF(LEN(A893)>0,VLOOKUP(A893,Subcontractors!$A$2:$B$4,2,FALSE),\"\")","v":""}]
[null,null,null,null,null,null,null,null,null,null,null,null,null,null,null,null,null,null,null,null,null,null,null,{"$f":"IF(LEN(Z894)>0,VLOOKUP(Z894,'TFW Programs'!$A$2:$B$8,2,FALSE),\"\")","v":""},null,null,{"$f":"IF(LEN(A894)>0,VLOOKUP(A894,Subcontractors!$A$2:$B$4,2,FALSE),\"\")","v":""}]
[null,null,null,null,null,null,null,null,null,null,null,null,null,null,null,null,null,null,null,null,null,null,null,{"$f":"IF(LEN(Z895)>0,VLOOKUP(Z895,'TFW Programs'!$A$2:$B$8,2,FALSE),\"\")","v":""},null,null,{"$f":"IF(LEN(A895)>0,VLOOKUP(A895,Subcontractors!$A$2:$B$4,2,FALSE),\"\")","v":""}]
[null,null,null,null,null,null,null,null,null,null,null,null,null,null,null,null,null,null,null,null,null,null,null,{"$f":"IF(LEN(Z896)>0,VLOOKUP(Z896,'TFW Programs'!$A$2:$B$8,2,FALSE),\"\")","v":""},null,null,{"$f":"IF(LEN(A896)>0,VLOOKUP(A896,Subcontractors!$A$2:$B$4,2,FALSE),\"\")","v":""}]
[null,null,null,null,null,null,null,null,null,null,null,null,null,null,null,null,null,null,null,null,null,null,null,{"$f":"IF(LEN(Z897)>0,VLOOKUP(Z897,'TFW Programs'!$A$2:$B$8,2,FALSE),\"\")","v":""},null,null,{"$f":"IF(LEN(A897)>0,VLOOKUP(A897,Subcontractors!$A$2:$B$4,2,FALSE),\"\")","v":""}]
[null,null,null,null,null,null,null,null,null,null,null,null,null,null,null,null,null,null,null,null,null,null,null,{"$f":"IF(LEN(Z898)>0,VLOOKUP(Z898,'TFW Programs'!$A$2:$B$8,2,FALSE),\"\")","v":""},null,null,{"$f":"IF(LEN(A898)>0,VLOOKUP(A898,Subcontractors!$A$2:$B$4,2,FALSE),\"\")","v":""}]
[null,null,null,null,null,null,null,null,null,null,null,null,null,null,null,null,null,null,null,null,null,null,null,{"$f":"IF(LEN(Z899)>0,VLOOKUP(Z899,'TFW Programs'!$A$2:$B$8,2,FALSE),\"\")","v":""},null,null,{"$f":"IF(LEN(A899)>0,VLOOKUP(A899,Subcontractors!$A$2:$B$4,2,FALSE),\"\")","v":""}]
[null,null,null,null,null,null,null,null,null,null,null,null,null,null,null,null,null,null,null,null,null,null,null,{"$f":"IF(LEN(Z900)>0,VLOOKUP(Z900,'TFW Programs'!$A$2:$B$8,2,FALSE),\"\")","v":""},null,null,{"$f":"IF(LEN(A900)>0,VLOOKUP(A900,Subcontractors!$A$2:$B$4,2,FALSE),\"\")","v":""}]
[null,null,null,null,null,null,null,null,null,null,null,null,null,null,null,null,null,null,null,null,null,null,null,{"$f":"IF(LEN(Z901)>0,VLOOKUP(Z901,'TFW Programs'!$A$2:$B$8,2,FALSE),\"\")","v":""},null,null,{"$f":"IF(LEN(A901)>0,VLOOKUP(A901,Subcontractors!$A$2:$B$4,2,FALSE),\"\")","v":""}]
[null,null,null,null,null,null,null,null,null,null,null,null,null,null,null,null,null,null,null,null,null,null,null,{"$f":"IF(LEN(Z902)>0,VLOOKUP(Z902,'TFW Programs'!$A$2:$B$8,2,FALSE),\"\")","v":""},null,null,{"$f":"IF(LEN(A902)>0,VLOOKUP(A902,Subcontractors!$A$2:$B$4,2,FALSE),\"\")","v":""}]
[null,null,null,null,null,null,null,null,null,null,null,null,null,null,null,null,null,null,null,null,null,null,null,{"$f":"IF(LEN(Z903)>0,VLOOKUP(Z903,'TFW Programs'!$A$2:$B$8,2,FALSE),\"\")","v":""},null,null,{"$f":"IF(LEN(A903)>0,VLOOKUP(A903,Subcontractors!$A$2:$B$4,2,FALSE),\"\")","v":""}]
[null,null,null,null,null,null,null,null,null,null,null,null,null,null,null,null,null,null,null,null,null,null,null,{"$f":"IF(LEN(Z904)>0,VLOOKUP(Z904,'TFW Programs'!$A$2:$B$8,2,FALSE),\"\")","v":""},null,null,{"$f":"IF(LEN(A904)>0,VLOOKUP(A904,Subcontractors!$A$2:$B$4,2,FALSE),\"\")","v":""}]
[null,null,null,null,null,null,null,null,null,null,null,null,null,null,null,null,null,null,null,null,null,null,null,{"$f":"IF(LEN(Z905)>0,VLOOKUP(Z905,'TFW Programs'!$A$2:$B$8,2,FALSE),\"\")","v":""},null,null,{"$f":"IF(LEN(A905)>0,VLOOKUP(A905,Subcontractors!$A$2:$B$4,2,FALSE),\"\")","v":""}]
[null,null,null,null,null,null,null,null,null,null,null,null,null,null,null,null,null,null,null,null,null,null,null,{"$f":"IF(LEN(Z906)>0,VLOOKUP(Z906,'TFW Programs'!$A$2:$B$8,2,FALSE),\"\")","v":""},null,null,{"$f":"IF(LEN(A906)>0,VLOOKUP(A906,Subcontractors!$A$2:$B$4,2,FALSE),\"\")","v":""}]
[null,null,null,null,null,null,null,null,null,null,null,null,null,null,null,null,null,null,null,null,null,null,null,{"$f":"IF(LEN(Z907)>0,VLOOKUP(Z907,'TFW Programs'!$A$2:$B$8,2,FALSE),\"\")","v":""},null,null,{"$f":"IF(LEN(A907)>0,VLOOKUP(A907,Subcontractors!$A$2:$B$4,2,FALSE),\"\")","v":""}]
[null,null,null,null,null,null,null,null,null,null,null,null,null,null,null,null,null,null,null,null,null,null,null,{"$f":"IF(LEN(Z908)>0,VLOOKUP(Z908,'TFW Programs'!$A$2:$B$8,2,FALSE),\"\")","v":""},null,null,{"$f":"IF(LEN(A908)>0,VLOOKUP(A908,Subcontractors!$A$2:$B$4,2,FALSE),\"\")","v":""}]
[null,null,null,null,null,null,null,null,null,null,null,null,null,null,null,null,null,null,null,null,null,null,null,{"$f":"IF(LEN(Z909)>0,VLOOKUP(Z909,'TFW Programs'!$A$2:$B$8,2,FALSE),\"\")","v":""},null,null,{"$f":"IF(LEN(A909)>0,VLOOKUP(A909,Subcontractors!$A$2:$B$4,2,FALSE),\"\")","v":""}]
[null,null,null,null,null,null,null,null,null,null,null,null,null,null,null,null,null,null,null,null,null,null,null,{"$f":"IF(LEN(Z910)>0,VLOOKUP(Z910,'TFW Programs'!$A$2:$B$8,2,FALSE),\"\")","v":""},null,null,{"$f":"IF(LEN(A910)>0,VLOOKUP(A910,Subcontractors!$A$2:$B$4,2,FALSE),\"\")","v":""}]
[null,null,null,null,null,null,null,null,null,null,null,null,null,null,null,null,null,null,null,null,null,null,null,{"$f":"IF(LEN(Z911)>0,VLOOKUP(Z911,'TFW Programs'!$A$2:$B$8,2,FALSE),\"\")","v":""},null,null,{"$f":"IF(LEN(A911)>0,VLOOKUP(A911,Subcontractors!$A$2:$B$4,2,FALSE),\"\")","v":""}]
[null,null,null,null,null,null,null,null,null,null,null,null,null,null,null,null,null,null,null,null,null,null,null,{"$f":"IF(LEN(Z912)>0,VLOOKUP(Z912,'TFW Programs'!$A$2:$B$8,2,FALSE),\"\")","v":""},null,null,{"$f":"IF(LEN(A912)>0,VLOOKUP(A912,Subcontractors!$A$2:$B$4,2,FALSE),\"\")","v":""}]
[null,null,null,null,null,null,null,null,null,null,null,null,null,null,null,null,null,null,null,null,null,null,null,{"$f":"IF(LEN(Z913)>0,VLOOKUP(Z913,'TFW Programs'!$A$2:$B$8,2,FALSE),\"\")","v":""},null,null,{"$f":"IF(LEN(A913)>0,VLOOKUP(A913,Subcontractors!$A$2:$B$4,2,FALSE),\"\")","v":""}]
[null,null,null,null,null,null,null,null,null,null,null,null,null,null,null,null,null,null,null,null,null,null,null,{"$f":"IF(LEN(Z914)>0,VLOOKUP(Z914,'TFW Programs'!$A$2:$B$8,2,FALSE),\"\")","v":""},null,null,{"$f":"IF(LEN(A914)>0,VLOOKUP(A914,Subcontractors!$A$2:$B$4,2,FALSE),\"\")","v":""}]
[null,null,null,null,null,null,null,null,null,null,null,null,null,null,null,null,null,null,null,null,null,null,null,{"$f":"IF(LEN(Z915)>0,VLOOKUP(Z915,'TFW Programs'!$A$2:$B$8,2,FALSE),\"\")","v":""},null,null,{"$f":"IF(LEN(A915)>0,VLOOKUP(A915,Subcontractors!$A$2:$B$4,2,FALSE),\"\")","v":""}]
[null,null,null,null,null,null,null,null,null,null,null,null,null,null,null,null,null,null,null,null,null,null,null,{"$f":"IF(LEN(Z916)>0,VLOOKUP(Z916,'TFW Programs'!$A$2:$B$8,2,FALSE),\"\")","v":""},null,null,{"$f":"IF(LEN(A916)>0,VLOOKUP(A916,Subcontractors!$A$2:$B$4,2,FALSE),\"\")","v":""}]
[null,null,null,null,null,null,null,null,null,null,null,null,null,null,null,null,null,null,null,null,null,null,null,{"$f":"IF(LEN(Z917)>0,VLOOKUP(Z917,'TFW Programs'!$A$2:$B$8,2,FALSE),\"\")","v":""},null,null,{"$f":"IF(LEN(A917)>0,VLOOKUP(A917,Subcontractors!$A$2:$B$4,2,FALSE),\"\")","v":""}]
[null,null,null,null,null,null,null,null,null,null,null,null,null,null,null,null,null,null,null,null,null,null,null,{"$f":"IF(LEN(Z918)>0,VLOOKUP(Z918,'TFW Programs'!$A$2:$B$8,2,FALSE),\"\")","v":""},null,null,{"$f":"IF(LEN(A918)>0,VLOOKUP(A918,Subcontractors!$A$2:$B$4,2,FALSE),\"\")","v":""}]
[null,null,null,null,null,null,null,null,null,null,null,null,null,null,null,null,null,null,null,null,null,null,null,{"$f":"IF(LEN(Z919)>0,VLOOKUP(Z919,'TFW Programs'!$A$2:$B$8,2,FALSE),\"\")","v":""},null,null,{"$f":"IF(LEN(A919)>0,VLOOKUP(A919,Subcontractors!$A$2:$B$4,2,FALSE),\"\")","v":""}]
[null,null,null,null,null,null,null,null,null,null,null,null,null,null,null,null,null,null,null,null,null,null,null,{"$f":"IF(LEN(Z920)>0,VLOOKUP(Z920,'TFW Programs'!$A$2:$B$8,2,FALSE),\"\")","v":""},null,null,{"$f":"IF(LEN(A920)>0,VLOOKUP(A920,Subcontractors!$A$2:$B$4,2,FALSE),\"\")","v":""}]
[null,null,null,null,null,null,null,null,null,null,null,null,null,null,null,null,null,null,null,null,null,null,null,{"$f":"IF(LEN(Z921)>0,VLOOKUP(Z921,'TFW Programs'!$A$2:$B$8,2,FALSE),\"\")","v":""},null,null,{"$f":"IF(LEN(A921)>0,VLOOKUP(A921,Subcontractors!$A$2:$B$4,2,FALSE),\"\")","v":""}]
[null,null,null,null,null,null,null,null,null,null,null,null,null,null,null,null,null,null,null,null,null,null,null,{"$f":"IF(LEN(Z922)>0,VLOOKUP(Z922,'TFW Programs'!$A$2:$B$8,2,FALSE),\"\")","v":""},null,null,{"$f":"IF(LEN(A922)>0,VLOOKUP(A922,Subcontractors!$A$2:$B$4,2,FALSE),\"\")","v":""}]
[null,null,null,null,null,null,null,null,null,null,null,null,null,null,null,null,null,null,null,null,null,null,null,{"$f":"IF(LEN(Z923)>0,VLOOKUP(Z923,'TFW Programs'!$A$2:$B$8,2,FALSE),\"\")","v":""},null,null,{"$f":"IF(LEN(A923)>0,VLOOKUP(A923,Subcontractors!$A$2:$B$4,2,FALSE),\"\")","v":""}]
[null,null,null,null,null,null,null,null,null,null,null,null,null,null,null,null,null,null,null,null,null,null,null,{"$f":"IF(LEN(Z924)>0,VLOOKUP(Z924,'TFW Programs'!$A$2:$B$8,2,FALSE),\"\")","v":""},null,null,{"$f":"IF(LEN(A924)>0,VLOOKUP(A924,Subcontractors!$A$2:$B$4,2,FALSE),\"\")","v":""}]
[null,null,null,null,null,null,null,null,null,null,null,null,null,null,null,null,null,null,null,null,null,null,null,{"$f":"IF(LEN(Z925)>0,VLOOKUP(Z925,'TFW Programs'!$A$2:$B$8,2,FALSE),\"\")","v":""},null,null,{"$f":"IF(LEN(A925)>0,VLOOKUP(A925,Subcontractors!$A$2:$B$4,2,FALSE),\"\")","v":""}]
[null,null,null,null,null,null,null,null,null,null,null,null,null,null,null,null,null,null,null,null,null,null,null,{"$f":"IF(LEN(Z926)>0,VLOOKUP(Z926,'TFW Programs'!$A$2:$B$8,2,FALSE),\"\")","v":""},null,null,{"$f":"IF(LEN(A926)>0,VLOOKUP(A926,Subcontractors!$A$2:$B$4,2,FALSE),\"\")","v":""}]
[null,null,null,null,null,null,null,null,null,null,null,null,null,null,null,null,null,null,null,null,null,null,null,{"$f":"IF(LEN(Z927)>0,VLOOKUP(Z927,'TFW Programs'!$A$2:$B$8,2,FALSE),\"\")","v":""},null,null,{"$f":"IF(LEN(A927)>0,VLOOKUP(A927,Subcontractors!$A$2:$B$4,2,FALSE),\"\")","v":""}]
[null,null,null,null,null,null,null,null,null,null,null,null,null,null,null,null,null,null,null,null,null,null,null,{"$f":"IF(LEN(Z928)>0,VLOOKUP(Z928,'TFW Programs'!$A$2:$B$8,2,FALSE),\"\")","v":""},null,null,{"$f":"IF(LEN(A928)>0,VLOOKUP(A928,Subcontractors!$A$2:$B$4,2,FALSE),\"\")","v":""}]
[null,null,null,null,null,null,null,null,null,null,null,null,null,null,null,null,null,null,null,null,null,null,null,{"$f":"IF(LEN(Z929)>0,VLOOKUP(Z929,'TFW Programs'!$A$2:$B$8,2,FALSE),\"\")","v":""},null,null,{"$f":"IF(LEN(A929)>0,VLOOKUP(A929,Subcontractors!$A$2:$B$4,2,FALSE),\"\")","v":""}]
[null,null,null,null,null,null,null,null,null,null,null,null,null,null,null,null,null,null,null,null,null,null,null,{"$f":"IF(LEN(Z930)>0,VLOOKUP(Z930,'TFW Programs'!$A$2:$B$8,2,FALSE),\"\")","v":""},null,null,{"$f":"IF(LEN(A930)>0,VLOOKUP(A930,Subcontractors!$A$2:$B$4,2,FALSE),\"\")","v":""}]
[null,null,null,null,null,null,null,null,null,null,null,null,null,null,null,null,null,null,null,null,null,null,null,{"$f":"IF(LEN(Z931)>0,VLOOKUP(Z931,'TFW Programs'!$A$2:$B$8,2,FALSE),\"\")","v":""},null,null,{"$f":"IF(LEN(A931)>0,VLOOKUP(A931,Subcontractors!$A$2:$B$4,2,FALSE),\"\")","v":""}]
[null,null,null,null,null,null,null,null,null,null,null,null,null,null,null,null,null,null,null,null,null,null,null,{"$f":"IF(LEN(Z932)>0,VLOOKUP(Z932,'TFW Programs'!$A$2:$B$8,2,FALSE),\"\")","v":""},null,null,{"$f":"IF(LEN(A932)>0,VLOOKUP(A932,Subcontractors!$A$2:$B$4,2,FALSE),\"\")","v":""}]
[null,null,null,null,null,null,null,null,null,null,null,null,null,null,null,null,null,null,null,null,null,null,null,{"$f":"IF(LEN(Z933)>0,VLOOKUP(Z933,'TFW Programs'!$A$2:$B$8,2,FALSE),\"\")","v":""},null,null,{"$f":"IF(LEN(A933)>0,VLOOKUP(A933,Subcontractors!$A$2:$B$4,2,FALSE),\"\")","v":""}]
[null,null,null,null,null,null,null,null,null,null,null,null,null,null,null,null,null,null,null,null,null,null,null,{"$f":"IF(LEN(Z934)>0,VLOOKUP(Z934,'TFW Programs'!$A$2:$B$8,2,FALSE),\"\")","v":""},null,null,{"$f":"IF(LEN(A934)>0,VLOOKUP(A934,Subcontractors!$A$2:$B$4,2,FALSE),\"\")","v":""}]
[null,null,null,null,null,null,null,null,null,null,null,null,null,null,null,null,null,null,null,null,null,null,null,{"$f":"IF(LEN(Z935)>0,VLOOKUP(Z935,'TFW Programs'!$A$2:$B$8,2,FALSE),\"\")","v":""},null,null,{"$f":"IF(LEN(A935)>0,VLOOKUP(A935,Subcontractors!$A$2:$B$4,2,FALSE),\"\")","v":""}]
[null,null,null,null,null,null,null,null,null,null,null,null,null,null,null,null,null,null,null,null,null,null,null,{"$f":"IF(LEN(Z936)>0,VLOOKUP(Z936,'TFW Programs'!$A$2:$B$8,2,FALSE),\"\")","v":""},null,null,{"$f":"IF(LEN(A936)>0,VLOOKUP(A936,Subcontractors!$A$2:$B$4,2,FALSE),\"\")","v":""}]
[null,null,null,null,null,null,null,null,null,null,null,null,null,null,null,null,null,null,null,null,null,null,null,{"$f":"IF(LEN(Z937)>0,VLOOKUP(Z937,'TFW Programs'!$A$2:$B$8,2,FALSE),\"\")","v":""},null,null,{"$f":"IF(LEN(A937)>0,VLOOKUP(A937,Subcontractors!$A$2:$B$4,2,FALSE),\"\")","v":""}]
[null,null,null,null,null,null,null,null,null,null,null,null,null,null,null,null,null,null,null,null,null,null,null,{"$f":"IF(LEN(Z938)>0,VLOOKUP(Z938,'TFW Programs'!$A$2:$B$8,2,FALSE),\"\")","v":""},null,null,{"$f":"IF(LEN(A938)>0,VLOOKUP(A938,Subcontractors!$A$2:$B$4,2,FALSE),\"\")","v":""}]
[null,null,null,null,null,null,null,null,null,null,null,null,null,null,null,null,null,null,null,null,null,null,null,{"$f":"IF(LEN(Z939)>0,VLOOKUP(Z939,'TFW Programs'!$A$2:$B$8,2,FALSE),\"\")","v":""},null,null,{"$f":"IF(LEN(A939)>0,VLOOKUP(A939,Subcontractors!$A$2:$B$4,2,FALSE),\"\")","v":""}]
[null,null,null,null,null,null,null,null,null,null,null,null,null,null,null,null,null,null,null,null,null,null,null,{"$f":"IF(LEN(Z940)>0,VLOOKUP(Z940,'TFW Programs'!$A$2:$B$8,2,FALSE),\"\")","v":""},null,null,{"$f":"IF(LEN(A940)>0,VLOOKUP(A940,Subcontractors!$A$2:$B$4,2,FALSE),\"\")","v":""}]
[null,null,null,null,null,null,null,null,null,null,null,null,null,null,null,null,null,null,null,null,null,null,null,{"$f":"IF(LEN(Z941)>0,VLOOKUP(Z941,'TFW Programs'!$A$2:$B$8,2,FALSE),\"\")","v":""},null,null,{"$f":"IF(LEN(A941)>0,VLOOKUP(A941,Subcontractors!$A$2:$B$4,2,FALSE),\"\")","v":""}]
[null,null,null,null,null,null,null,null,null,null,null,null,null,null,null,null,null,null,null,null,null,null,null,{"$f":"IF(LEN(Z942)>0,VLOOKUP(Z942,'TFW Programs'!$A$2:$B$8,2,FALSE),\"\")","v":""},null,null,{"$f":"IF(LEN(A942)>0,VLOOKUP(A942,Subcontractors!$A$2:$B$4,2,FALSE),\"\")","v":""}]
[null,null,null,null,null,null,null,null,null,null,null,null,null,null,null,null,null,null,null,null,null,null,null,{"$f":"IF(LEN(Z943)>0,VLOOKUP(Z943,'TFW Programs'!$A$2:$B$8,2,FALSE),\"\")","v":""},null,null,{"$f":"IF(LEN(A943)>0,VLOOKUP(A943,Subcontractors!$A$2:$B$4,2,FALSE),\"\")","v":""}]
[null,null,null,null,null,null,null,null,null,null,null,null,null,null,null,null,null,null,null,null,null,null,null,{"$f":"IF(LEN(Z944)>0,VLOOKUP(Z944,'TFW Programs'!$A$2:$B$8,2,FALSE),\"\")","v":""},null,null,{"$f":"IF(LEN(A944)>0,VLOOKUP(A944,Subcontractors!$A$2:$B$4,2,FALSE),\"\")","v":""}]
[null,null,null,null,null,null,null,null,null,null,null,null,null,null,null,null,null,null,null,null,null,null,null,{"$f":"IF(LEN(Z945)>0,VLOOKUP(Z945,'TFW Programs'!$A$2:$B$8,2,FALSE),\"\")","v":""},null,null,{"$f":"IF(LEN(A945)>0,VLOOKUP(A945,Subcontractors!$A$2:$B$4,2,FALSE),\"\")","v":""}]
[null,null,null,null,null,null,null,null,null,null,null,null,null,null,null,null,null,null,null,null,null,null,null,{"$f":"IF(LEN(Z946)>0,VLOOKUP(Z946,'TFW Programs'!$A$2:$B$8,2,FALSE),\"\")","v":""},null,null,{"$f":"IF(LEN(A946)>0,VLOOKUP(A946,Subcontractors!$A$2:$B$4,2,FALSE),\"\")","v":""}]
[null,null,null,null,null,null,null,null,null,null,null,null,null,null,null,null,null,null,null,null,null,null,null,{"$f":"IF(LEN(Z947)>0,VLOOKUP(Z947,'TFW Programs'!$A$2:$B$8,2,FALSE),\"\")","v":""},null,null,{"$f":"IF(LEN(A947)>0,VLOOKUP(A947,Subcontractors!$A$2:$B$4,2,FALSE),\"\")","v":""}]
[null,null,null,null,null,null,null,null,null,null,null,null,null,null,null,null,null,null,null,null,null,null,null,{"$f":"IF(LEN(Z948)>0,VLOOKUP(Z948,'TFW Programs'!$A$2:$B$8,2,FALSE),\"\")","v":""},null,null,{"$f":"IF(LEN(A948)>0,VLOOKUP(A948,Subcontractors!$A$2:$B$4,2,FALSE),\"\")","v":""}]
[null,null,null,null,null,null,null,null,null,null,null,null,null,null,null,null,null,null,null,null,null,null,null,{"$f":"IF(LEN(Z949)>0,VLOOKUP(Z949,'TFW Programs'!$A$2:$B$8,2,FALSE),\"\")","v":""},null,null,{"$f":"IF(LEN(A949)>0,VLOOKUP(A949,Subcontractors!$A$2:$B$4,2,FALSE),\"\")","v":""}]
[null,null,null,null,null,null,null,null,null,null,null,null,null,null,null,null,null,null,null,null,null,null,null,{"$f":"IF(LEN(Z950)>0,VLOOKUP(Z950,'TFW Programs'!$A$2:$B$8,2,FALSE),\"\")","v":""},null,null,{"$f":"IF(LEN(A950)>0,VLOOKUP(A950,Subcontractors!$A$2:$B$4,2,FALSE),\"\")","v":""}]
[null,null,null,null,null,null,null,null,null,null,null,null,null,null,null,null,null,null,null,null,null,null,null,{"$f":"IF(LEN(Z951)>0,VLOOKUP(Z951,'TFW Programs'!$A$2:$B$8,2,FALSE),\"\")","v":""},null,null,{"$f":"IF(LEN(A951)>0,VLOOKUP(A951,Subcontractors!$A$2:$B$4,2,FALSE),\"\")","v":""}]
[null,null,null,null,null,null,null,null,null,null,null,null,null,null,null,null,null,null,null,null,null,null,null,{"$f":"IF(LEN(Z952)>0,VLOOKUP(Z952,'TFW Programs'!$A$2:$B$8,2,FALSE),\"\")","v":""},null,null,{"$f":"IF(LEN(A952)>0,VLOOKUP(A952,Subcontractors!$A$2:$B$4,2,FALSE),\"\")","v":""}]
[null,null,null,null,null,null,null,null,null,null,null,null,null,null,null,null,null,null,null,null,null,null,null,{"$f":"IF(LEN(Z953)>0,VLOOKUP(Z953,'TFW Programs'!$A$2:$B$8,2,FALSE),\"\")","v":""},null,null,{"$f":"IF(LEN(A953)>0,VLOOKUP(A953,Subcontractors!$A$2:$B$4,2,FALSE),\"\")","v":""}]
[null,null,null,null,null,null,null,null,null,null,null,null,null,null,null,null,null,null,null,null,null,null,null,{"$f":"IF(LEN(Z954)>0,VLOOKUP(Z954,'TFW Programs'!$A$2:$B$8,2,FALSE),\"\")","v":""},null,null,{"$f":"IF(LEN(A954)>0,VLOOKUP(A954,Subcontractors!$A$2:$B$4,2,FALSE),\"\")","v":""}]
[null,null,null,null,null,null,null,null,null,null,null,null,null,null,null,null,null,null,null,null,null,null,null,{"$f":"IF(LEN(Z955)>0,VLOOKUP(Z955,'TFW Programs'!$A$2:$B$8,2,FALSE),\"\")","v":""},null,null,{"$f":"IF(LEN(A955)>0,VLOOKUP(A955,Subcontractors!$A$2:$B$4,2,FALSE),\"\")","v":""}]
[null,null,null,null,null,null,null,null,null,null,null,null,null,null,null,null,null,null,null,null,null,null,null,{"$f":"IF(LEN(Z956)>0,VLOOKUP(Z956,'TFW Programs'!$A$2:$B$8,2,FALSE),\"\")","v":""},null,null,{"$f":"IF(LEN(A956)>0,VLOOKUP(A956,Subcontractors!$A$2:$B$4,2,FALSE),\"\")","v":""}]
[null,null,null,null,null,null,null,null,null,null,null,null,null,null,null,null,null,null,null,null,null,null,null,{"$f":"IF(LEN(Z957)>0,VLOOKUP(Z957,'TFW Programs'!$A$2:$B$8,2,FALSE),\"\")","v":""},null,null,{"$f":"IF(LEN(A957)>0,VLOOKUP(A957,Subcontractors!$A$2:$B$4,2,FALSE),\"\")","v":""}]
[null,null,null,null,null,null,null,null,null,null,null,null,null,null,null,null,null,null,null,null,null,null,null,{"$f":"IF(LEN(Z958)>0,VLOOKUP(Z958,'TFW Programs'!$A$2:$B$8,2,FALSE),\"\")","v":""},null,null,{"$f":"IF(LEN(A958)>0,VLOOKUP(A958,Subcontractors!$A$2:$B$4,2,FALSE),\"\")","v":""}]
[null,null,null,null,null,null,null,null,null,null,null,null,null,null,null,null,null,null,null,null,null,null,null,{"$f":"IF(LEN(Z959)>0,VLOOKUP(Z959,'TFW Programs'!$A$2:$B$8,2,FALSE),\"\")","v":""},null,null,{"$f":"IF(LEN(A959)>0,VLOOKUP(A959,Subcontractors!$A$2:$B$4,2,FALSE),\"\")","v":""}]
[null,null,null,null,null,null,null,null,null,null,null,null,null,null,null,null,null,null,null,null,null,null,null,{"$f":"IF(LEN(Z960)>0,VLOOKUP(Z960,'TFW Programs'!$A$2:$B$8,2,FALSE),\"\")","v":""},null,null,{"$f":"IF(LEN(A960)>0,VLOOKUP(A960,Subcontractors!$A$2:$B$4,2,FALSE),\"\")","v":""}]
[null,null,null,null,null,null,null,null,null,null,null,null,null,null,null,null,null,null,null,null,null,null,null,{"$f":"IF(LEN(Z961)>0,VLOOKUP(Z961,'TFW Programs'!$A$2:$B$8,2,FALSE),\"\")","v":""},null,null,{"$f":"IF(LEN(A961)>0,VLOOKUP(A961,Subcontractors!$A$2:$B$4,2,FALSE),\"\")","v":""}]
[null,null,null,null,null,null,null,null,null,null,null,null,null,null,null,null,null,null,null,null,null,null,null,{"$f":"IF(LEN(Z962)>0,VLOOKUP(Z962,'TFW Programs'!$A$2:$B$8,2,FALSE),\"\")","v":""},null,null,{"$f":"IF(LEN(A962)>0,VLOOKUP(A962,Subcontractors!$A$2:$B$4,2,FALSE),\"\")","v":""}]
[null,null,null,null,null,null,null,null,null,null,null,null,null,null,null,null,null,null,null,null,null,null,null,{"$f":"IF(LEN(Z963)>0,VLOOKUP(Z963,'TFW Programs'!$A$2:$B$8,2,FALSE),\"\")","v":""},null,null,{"$f":"IF(LEN(A963)>0,VLOOKUP(A963,Subcontractors!$A$2:$B$4,2,FALSE),\"\")","v":""}]
[null,null,null,null,null,null,null,null,null,null,null,null,null,null,null,null,null,null,null,null,null,null,null,{"$f":"IF(LEN(Z964)>0,VLOOKUP(Z964,'TFW Programs'!$A$2:$B$8,2,FALSE),\"\")","v":""},null,null,{"$f":"IF(LEN(A964)>0,VLOOKUP(A964,Subcontractors!$A$2:$B$4,2,FALSE),\"\")","v":""}]
[null,null,null,null,null,null,null,null,null,null,null,null,null,null,null,null,null,null,null,null,null,null,null,{"$f":"IF(LEN(Z965)>0,VLOOKUP(Z965,'TFW Programs'!$A$2:$B$8,2,FALSE),\"\")","v":""},null,null,{"$f":"IF(LEN(A965)>0,VLOOKUP(A965,Subcontractors!$A$2:$B$4,2,FALSE),\"\")","v":""}]
[null,null,null,null,null,null,null,null,null,null,null,null,null,null,null,null,null,null,null,null,null,null,null,{"$f":"IF(LEN(Z966)>0,VLOOKUP(Z966,'TFW Programs'!$A$2:$B$8,2,FALSE),\"\")","v":""},null,null,{"$f":"IF(LEN(A966)>0,VLOOKUP(A966,Subcontractors!$A$2:$B$4,2,FALSE),\"\")","v":""}]
[null,null,null,null,null,null,null,null,null,null,null,null,null,null,null,null,null,null,null,null,null,null,null,{"$f":"IF(LEN(Z967)>0,VLOOKUP(Z967,'TFW Programs'!$A$2:$B$8,2,FALSE),\"\")","v":""},null,null,{"$f":"IF(LEN(A967)>0,VLOOKUP(A967,Subcontractors!$A$2:$B$4,2,FALSE),\"\")","v":""}]
[null,null,null,null,null,null,null,null,null,null,null,null,null,null,null,null,null,null,null,null,null,null,null,{"$f":"IF(LEN(Z968)>0,VLOOKUP(Z968,'TFW Programs'!$A$2:$B$8,2,FALSE),\"\")","v":""},null,null,{"$f":"IF(LEN(A968)>0,VLOOKUP(A968,Subcontractors!$A$2:$B$4,2,FALSE),\"\")","v":""}]
[null,null,null,null,null,null,null,null,null,null,null,null,null,null,null,null,null,null,null,null,null,null,null,{"$f":"IF(LEN(Z969)>0,VLOOKUP(Z969,'TFW Programs'!$A$2:$B$8,2,FALSE),\"\")","v":""},null,null,{"$f":"IF(LEN(A969)>0,VLOOKUP(A969,Subcontractors!$A$2:$B$4,2,FALSE),\"\")","v":""}]
[null,null,null,null,null,null,null,null,null,null,null,null,null,null,null,null,null,null,null,null,null,null,null,{"$f":"IF(LEN(Z970)>0,VLOOKUP(Z970,'TFW Programs'!$A$2:$B$8,2,FALSE),\"\")","v":""},null,null,{"$f":"IF(LEN(A970)>0,VLOOKUP(A970,Subcontractors!$A$2:$B$4,2,FALSE),\"\")","v":""}]
[null,null,null,null,null,null,null,null,null,null,null,null,null,null,null,null,null,null,null,null,null,null,null,{"$f":"IF(LEN(Z971)>0,VLOOKUP(Z971,'TFW Programs'!$A$2:$B$8,2,FALSE),\"\")","v":""},null,null,{"$f":"IF(LEN(A971)>0,VLOOKUP(A971,Subcontractors!$A$2:$B$4,2,FALSE),\"\")","v":""}]
[null,null,null,null,null,null,null,null,null,null,null,null,null,null,null,null,null,null,null,null,null,null,null,{"$f":"IF(LEN(Z972)>0,VLOOKUP(Z972,'TFW Programs'!$A$2:$B$8,2,FALSE),\"\")","v":""},null,null,{"$f":"IF(LEN(A972)>0,VLOOKUP(A972,Subcontractors!$A$2:$B$4,2,FALSE),\"\")","v":""}]
[null,null,null,null,null,null,null,null,null,null,null,null,null,null,null,null,null,null,null,null,null,null,null,{"$f":"IF(LEN(Z973)>0,VLOOKUP(Z973,'TFW Programs'!$A$2:$B$8,2,FALSE),\"\")","v":""},null,null,{"$f":"IF(LEN(A973)>0,VLOOKUP(A973,Subcontractors!$A$2:$B$4,2,FALSE),\"\")","v":""}]
[null,null,null,null,null,null,null,null,null,null,null,null,null,null,null,null,null,null,null,null,null,null,null,{"$f":"IF(LEN(Z974)>0,VLOOKUP(Z974,'TFW Programs'!$A$2:$B$8,2,FALSE),\"\")","v":""},null,null,{"$f":"IF(LEN(A974)>0,VLOOKUP(A974,Subcontractors!$A$2:$B$4,2,FALSE),\"\")","v":""}]
[null,null,null,null,null,null,null,null,null,null,null,null,null,null,null,null,null,null,null,null,null,null,null,{"$f":"IF(LEN(Z975)>0,VLOOKUP(Z975,'TFW Programs'!$A$2:$B$8,2,FALSE),\"\")","v":""},null,null,{"$f":"IF(LEN(A975)>0,VLOOKUP(A975,Subcontractors!$A$2:$B$4,2,FALSE),\"\")","v":""}]
[null,null,null,null,null,null,null,null,null,null,null,null,null,null,null,null,null,null,null,null,null,null,null,{"$f":"IF(LEN(Z976)>0,VLOOKUP(Z976,'TFW Programs'!$A$2:$B$8,2,FALSE),\"\")","v":""},null,null,{"$f":"IF(LEN(A976)>0,VLOOKUP(A976,Subcontractors!$A$2:$B$4,2,FALSE),\"\")","v":""}]
[null,null,null,null,null,null,null,null,null,null,null,null,null,null,null,null,null,null,null,null,null,null,null,{"$f":"IF(LEN(Z977)>0,VLOOKUP(Z977,'TFW Programs'!$A$2:$B$8,2,FALSE),\"\")","v":""},null,null,{"$f":"IF(LEN(A977)>0,VLOOKUP(A977,Subcontractors!$A$2:$B$4,2,FALSE),\"\")","v":""}]
[null,null,null,null,null,null,null,null,null,null,null,null,null,null,null,null,null,null,null,null,null,null,null,{"$f":"IF(LEN(Z978)>0,VLOOKUP(Z978,'TFW Programs'!$A$2:$B$8,2,FALSE),\"\")","v":""},null,null,{"$f":"IF(LEN(A978)>0,VLOOKUP(A978,Subcontractors!$A$2:$B$4,2,FALSE),\"\")","v":""}]
[null,null,null,null,null,null,null,null,null,null,null,null,null,null,null,null,null,null,null,null,null,null,null,{"$f":"IF(LEN(Z979)>0,VLOOKUP(Z979,'TFW Programs'!$A$2:$B$8,2,FALSE),\"\")","v":""},null,null,{"$f":"IF(LEN(A979)>0,VLOOKUP(A979,Subcontractors!$A$2:$B$4,2,FALSE),\"\")","v":""}]
[null,null,null,null,null,null,null,null,null,null,null,null,null,null,null,null,null,null,null,null,null,null,null,{"$f":"IF(LEN(Z980)>0,VLOOKUP(Z980,'TFW Programs'!$A$2:$B$8,2,FALSE),\"\")","v":""},null,null,{"$f":"IF(LEN(A980)>0,VLOOKUP(A980,Subcontractors!$A$2:$B$4,2,FALSE),\"\")","v":""}]
[null,null,null,null,null,null,null,null,null,null,null,null,null,null,null,null,null,null,null,null,null,null,null,{"$f":"IF(LEN(Z981)>0,VLOOKUP(Z981,'TFW Programs'!$A$2:$B$8,2,FALSE),\"\")","v":""},null,null,{"$f":"IF(LEN(A981)>0,VLOOKUP(A981,Subcontractors!$A$2:$B$4,2,FALSE),\"\")","v":""}]
[null,null,null,null,null,null,null,null,null,null,null,null,null,null,null,null,null,null,null,null,null,null,null,{"$f":"IF(LEN(Z982)>0,VLOOKUP(Z982,'TFW Programs'!$A$2:$B$8,2,FALSE),\"\")","v":""},null,null,{"$f":"IF(LEN(A982)>0,VLOOKUP(A982,Subcontractors!$A$2:$B$4,2,FALSE),\"\")","v":""}]
[null,null,null,null,null,null,null,null,null,null,null,null,null,null,null,null,null,null,null,null,null,null,null,{"$f":"IF(LEN(Z983)>0,VLOOKUP(Z983,'TFW Programs'!$A$2:$B$8,2,FALSE),\"\")","v":""},null,null,{"$f":"IF(LEN(A983)>0,VLOOKUP(A983,Subcontractors!$A$2:$B$4,2,FALSE),\"\")","v":""}]
[null,null,null,null,null,null,null,null,null,null,null,null,null,null,null,null,null,null,null,null,null,null,null,{"$f":"IF(LEN(Z984)>0,VLOOKUP(Z984,'TFW Programs'!$A$2:$B$8,2,FALSE),\"\")","v":""},null,null,{"$f":"IF(LEN(A984)>0,VLOOKUP(A984,Subcontractors!$A$2:$B$4,2,FALSE),\"\")","v":""}]
[null,null,null,null,null,null,null,null,null,null,null,null,null,null,null,null,null,null,null,null,null,null,null,{"$f":"IF(LEN(Z985)>0,VLOOKUP(Z985,'TFW Programs'!$A$2:$B$8,2,FALSE),\"\")","v":""},null,null,{"$f":"IF(LEN(A985)>0,VLOOKUP(A985,Subcontractors!$A$2:$B$4,2,FALSE),\"\")","v":""}]
[null,null,null,null,null,null,null,null,null,null,null,null,null,null,null,null,null,null,null,null,null,null,null,{"$f":"IF(LEN(Z986)>0,VLOOKUP(Z986,'TFW Programs'!$A$2:$B$8,2,FALSE),\"\")","v":""},null,null,{"$f":"IF(LEN(A986)>0,VLOOKUP(A986,Subcontractors!$A$2:$B$4,2,FALSE),\"\")","v":""}]
[null,null,null,null,null,null,null,null,null,null,null,null,null,null,null,null,null,null,null,null,null,null,null,{"$f":"IF(LEN(Z987)>0,VLOOKUP(Z987,'TFW Programs'!$A$2:$B$8,2,FALSE),\"\")","v":""},null,null,{"$f":"IF(LEN(A987)>0,VLOOKUP(A987,Subcontractors!$A$2:$B$4,2,FALSE),\"\")","v":""}]
[null,null,null,null,null,null,null,null,null,null,null,null,null,null,null,null,null,null,null,null,null,null,null,{"$f":"IF(LEN(Z988)>0,VLOOKUP(Z988,'TFW Programs'!$A$2:$B$8,2,FALSE),\"\")","v":""},null,null,{"$f":"IF(LEN(A988)>0,VLOOKUP(A988,Subcontractors!$A$2:$B$4,2,FALSE),\"\")","v":""}]
[null,null,null,null,null,null,null,null,null,null,null,null,null,null,null,null,null,null,null,null,null,null,null,{"$f":"IF(LEN(Z989)>0,VLOOKUP(Z989,'TFW Programs'!$A$2:$B$8,2,FALSE),\"\")","v":""},null,null,{"$f":"IF(LEN(A989)>0,VLOOKUP(A989,Subcontractors!$A$2:$B$4,2,FALSE),\"\")","v":""}]
[null,null,null,null,null,null,null,null,null,null,null,null,null,null,null,null,null,null,null,null,null,null,null,{"$f":"IF(LEN(Z990)>0,VLOOKUP(Z990,'TFW Programs'!$A$2:$B$8,2,FALSE),\"\")","v":""},null,null,{"$f":"IF(LEN(A990)>0,VLOOKUP(A990,Subcontractors!$A$2:$B$4,2,FALSE),\"\")","v":""}]
[null,null,null,null,null,null,null,null,null,null,null,null,null,null,null,null,null,null,null,null,null,null,null,{"$f":"IF(LEN(Z991)>0,VLOOKUP(Z991,'TFW Programs'!$A$2:$B$8,2,FALSE),\"\")","v":""},null,null,{"$f":"IF(LEN(A991)>0,VLOOKUP(A991,Subcontractors!$A$2:$B$4,2,FALSE),\"\")","v":""}]
[null,null,null,null,null,null,null,null,null,null,null,null,null,null,null,null,null,null,null,null,null,null,null,{"$f":"IF(LEN(Z992)>0,VLOOKUP(Z992,'TFW Programs'!$A$2:$B$8,2,FALSE),\"\")","v":""},null,null,{"$f":"IF(LEN(A992)>0,VLOOKUP(A992,Subcontractors!$A$2:$B$4,2,FALSE),\"\")","v":""}]
[null,null,null,null,null,null,null,null,null,null,null,null,null,null,null,null,null,null,null,null,null,null,null,{"$f":"IF(LEN(Z993)>0,VLOOKUP(Z993,'TFW Programs'!$A$2:$B$8,2,FALSE),\"\")","v":""},null,null,{"$f":"IF(LEN(A993)>0,VLOOKUP(A993,Subcontractors!$A$2:$B$4,2,FALSE),\"\")","v":""}]
[null,null,null,null,null,null,null,null,null,null,null,null,null,null,null,null,null,null,null,null,null,null,null,{"$f":"IF(LEN(Z994)>0,VLOOKUP(Z994,'TFW Programs'!$A$2:$B$8,2,FALSE),\"\")","v":""},null,null,{"$f":"IF(LEN(A994)>0,VLOOKUP(A994,Subcontractors!$A$2:$B$4,2,FALSE),\"\")","v":""}]
[null,null,null,null,null,null,null,null,null,null,null,null,null,null,null,null,null,null,null,null,null,null,null,{"$f":"IF(LEN(Z995)>0,VLOOKUP(Z995,'TFW Programs'!$A$2:$B$8,2,FALSE),\"\")","v":""},null,null,{"$f":"IF(LEN(A995)>0,VLOOKUP(A995,Subcontractors!$A$2:$B$4,2,FALSE),\"\")","v":""}]
[null,null,null,null,null,null,null,null,null,null,null,null,null,null,null,null,null,null,null,null,null,null,null,{"$f":"IF(LEN(Z996)>0,VLOOKUP(Z996,'TFW Programs'!$A$2:$B$8,2,FALSE),\"\")","v":""},null,null,{"$f":"IF(LEN(A996)>0,VLOOKUP(A996,Subcontractors!$A$2:$B$4,2,FALSE),\"\")","v":""}]
[null,null,null,null,null,null,null,null,null,null,null,null,null,null,null,null,null,null,null,null,null,null,null,{"$f":"IF(LEN(Z997)>0,VLOOKUP(Z997,'TFW Programs'!$A$2:$B$8,2,FALSE),\"\")","v":""},null,null,{"$f":"IF(LEN(A997)>0,VLOOKUP(A997,Subcontractors!$A$2:$B$4,2,FALSE),\"\")","v":""}]
[null,null,null,null,null,null,null,null,null,null,null,null,null,null,null,null,null,null,null,null,null,null,null,{"$f":"IF(LEN(Z998)>0,VLOOKUP(Z998,'TFW Programs'!$A$2:$B$8,2,FALSE),\"\")","v":""},null,null,{"$f":"IF(LEN(A998)>0,VLOOKUP(A998,Subcontractors!$A$2:$B$4,2,FALSE),\"\")","v":""}]
[null,null,null,null,null,null,null,null,null,null,null,null,null,null,null,null,null,null,null,null,null,null,null,{"$f":"IF(LEN(Z999)>0,VLOOKUP(Z999,'TFW Programs'!$A$2:$B$8,2,FALSE),\"\")","v":""},null,null,{"$f":"IF(LEN(A999)>0,VLOOKUP(A999,Subcontractors!$A$2:$B$4,2,FALSE),\"\")","v":""}]
[null,null,null,null,null,null,null,null,null,null,null,null,null,null,null,null,null,null,null,null,null,null,null,{"$f":"IF(LEN(Z1000)>0,VLOOKUP(Z1000,'TFW Programs'!$A$2:$B$8,2,FALSE),\"\")","v":""},null,null,{"$f":"IF(LEN(A1000)>0,VLOOKUP(A1000,Subcontractors!$A$2:$B$4,2,FALSE),\"\")","v":""}]
[null,null,null,null,null,null,null,null,null,null,null,null,null,null,null,null,null,null,null,null,null,null,null,{"$f":"IF(LEN(Z1001)>0,VLOOKUP(Z1001,'TFW Programs'!$A$2:$B$8,2,FALSE),\"\")","v":""},null,null,{"$f":"IF(LEN(A1001)>0,VLOOKUP(A1001,Subcontractors!$A$2:$B$4,2,FALSE),\"\")","v":""}]
[null,null,null,null,null,null,null,null,null,null,null,null,null,null,null,null,null,null,null,null,null,null,null,{"$f":"IF(LEN(Z1006)>0,VLOOKUP(Z1006,'TFW Programs'!$A$2:$B$8,2,FALSE),\"\")","v":""},null,null,{"$f":"IF(LEN(A1006)>0,VLOOKUP(A1006,Subcontractors!$A$2:$B$4,2,FALSE),\"\")","v":""}]
[null,null,null,null,null,null,null,null,null,null,null,null,null,null,null,null,null,null,null,null,null,null,null,{"$f":"IF(LEN(Z1011)>0,VLOOKUP(Z1011,'TFW Programs'!$A$2:$B$8,2,FALSE),\"\")","v":""},null,null,{"$f":"IF(LEN(A1011)>0,VLOOKUP(A1011,Subcontractors!$A$2:$B$4,2,FALSE),\"\")","v":""}]
[null,null,null,null,null,null,null,null,null,null,null,null,null,null,null,null,null,null,null,null,null,null,null,{"$f":"IF(LEN(Z1012)>0,VLOOKUP(Z1012,'TFW Programs'!$A$2:$B$8,2,FALSE),\"\")","v":""},null,null,{"$f":"IF(LEN(A1012)>0,VLOOKUP(A1012,Subcontractors!$A$2:$B$4,2,FALSE),\"\")","v":""}]
[null,null,null,null,null,null,null,null,null,null,null,null,null,null,null,null,null,null,null,null,null,null,null,{"$f":"IF(LEN(Z1018)>0,VLOOKUP(Z1018,'TFW Programs'!$A$2:$B$8,2,FALSE),\"\")","v":""},null,null,{"$f":"IF(LEN(A1018)>0,VLOOKUP(A1018,Subcontractors!$A$2:$B$4,2,FALSE),\"\")","v":""}]
[null,null,null,null,null,null,null,null,null,null,null,null,null,null,null,null,null,null,null,null,null,null,null,{"$f":"IF(LEN(Z1021)>0,VLOOKUP(Z1021,'TFW Programs'!$A$2:$B$8,2,FALSE),\"\")","v":""},null,null,{"$f":"IF(LEN(A1021)>0,VLOOKUP(A1021,Subcontractors!$A$2:$B$4,2,FALSE),\"\")","v":""}]
[null,null,null,null,null,null,null,null,null,null,null,null,null,null,null,null,null,null,null,null,null,null,null,{"$f":"IF(LEN(Z1026)>0,VLOOKUP(Z1026,'TFW Programs'!$A$2:$B$8,2,FALSE),\"\")","v":""},null,null,{"$f":"IF(LEN(A1026)>0,VLOOKUP(A1026,Subcontractors!$A$2:$B$4,2,FALSE),\"\")","v":""}]
[null,null,null,null,null,null,null,null,null,null,null,null,null,null,null,null,null,null,null,null,null,null,null,{"$f":"IF(LEN(Z1027)>0,VLOOKUP(Z1027,'TFW Programs'!$A$2:$B$8,2,FALSE),\"\")","v":""},null,null,{"$f":"IF(LEN(A1027)>0,VLOOKUP(A1027,Subcontractors!$A$2:$B$4,2,FALSE),\"\")","v":""}]
[null,null,null,null,null,null,null,null,null,null,null,null,null,null,null,null,null,null,null,null,null,null,null,{"$f":"IF(LEN(Z1032)>0,VLOOKUP(Z1032,'TFW Programs'!$A$2:$B$8,2,FALSE),\"\")","v":""},null,null,{"$f":"IF(LEN(A1032)>0,VLOOKUP(A1032,Subcontractors!$A$2:$B$4,2,FALSE),\"\")","v":""}]
[null,null,null,null,null,null,null,null,null,null,null,null,null,null,null,null,null,null,null,null,null,null,null,{"$f":"IF(LEN(Z1036)>0,VLOOKUP(Z1036,'TFW Programs'!$A$2:$B$8,2,FALSE),\"\")","v":""},null,null,{"$f":"IF(LEN(A1036)>0,VLOOKUP(A1036,Subcontractors!$A$2:$B$4,2,FALSE),\"\")","v":""}]
[null,null,null,null,null,null,null,null,null,null,null,null,null,null,null,null,null,null,null,null,null,null,null,{"$f":"IF(LEN(Z1041)>0,VLOOKUP(Z1041,'TFW Programs'!$A$2:$B$8,2,FALSE),\"\")","v":""},null,null,{"$f":"IF(LEN(A1041)>0,VLOOKUP(A1041,Subcontractors!$A$2:$B$4,2,FALSE),\"\")","v":""}]
[null,null,null,null,null,null,null,null,null,null,null,null,null,null,null,null,null,null,null,null,null,null,null,{"$f":"IF(LEN(Z1042)>0,VLOOKUP(Z1042,'TFW Programs'!$A$2:$B$8,2,FALSE),\"\")","v":""},null,null,{"$f":"IF(LEN(A1042)>0,VLOOKUP(A1042,Subcontractors!$A$2:$B$4,2,FALSE),\"\")","v":""}]
[null,null,null,null,null,null,null,null,null,null,null,null,null,null,null,null,null,null,null,null,null,null,null,{"$f":"IF(LEN(Z1047)>0,VLOOKUP(Z1047,'TFW Programs'!$A$2:$B$8,2,FALSE),\"\")","v":""},null,null,{"$f":"IF(LEN(A1047)>0,VLOOKUP(A1047,Subcontractors!$A$2:$B$4,2,FALSE),\"\")","v":""}]
[null,null,null,null,null,null,null,null,null,null,null,null,null,null,null,null,null,null,null,null,null,null,null,{"$f":"IF(LEN(Z1052)>0,VLOOKUP(Z1052,'TFW Programs'!$A$2:$B$8,2,FALSE),\"\")","v":""},null,null,{"$f":"IF(LEN(A1052)>0,VLOOKUP(A1052,Subcontractors!$A$2:$B$4,2,FALSE),\"\")","v":""}]
[null,null,null,null,null,null,null,null,null,null,null,null,null,null,null,null,null,null,null,null,null,null,null,{"$f":"IF(LEN(Z1056)>0,VLOOKUP(Z1056,'TFW Programs'!$A$2:$B$8,2,FALSE),\"\")","v":""},null,null,{"$f":"IF(LEN(A1056)>0,VLOOKUP(A1056,Subcontractors!$A$2:$B$4,2,FALSE),\"\")","v":""}]
[null,null,null,null,null,null,null,null,null,null,null,null,null,null,null,null,null,null,null,null,null,null,null,{"$f":"IF(LEN(Z1057)>0,VLOOKUP(Z1057,'TFW Programs'!$A$2:$B$8,2,FALSE),\"\")","v":""},null,null,{"$f":"IF(LEN(A1057)>0,VLOOKUP(A1057,Subcontractors!$A$2:$B$4,2,FALSE),\"\")","v":""}]
[null,null,null,null,null,null,null,null,null,null,null,null,null,null,null,null,null,null,null,null,null,null,null,{"$f":"IF(LEN(Z1062)>0,VLOOKUP(Z1062,'TFW Programs'!$A$2:$B$8,2,FALSE),\"\")","v":""},null,null,{"$f":"IF(LEN(A1062)>0,VLOOKUP(A1062,Subcontractors!$A$2:$B$4,2,FALSE),\"\")","v":""}]
[null,null,null,null,null,null,null,null,null,null,null,null,null,null,null,null,null,null,null,null,null,null,null,{"$f":"IF(LEN(Z1066)>0,VLOOKUP(Z1066,'TFW Programs'!$A$2:$B$8,2,FALSE),\"\")","v":""},null,null,{"$f":"IF(LEN(A1066)>0,VLOOKUP(A1066,Subcontractors!$A$2:$B$4,2,FALSE),\"\")","v":""}]
[null,null,null,null,null,null,null,null,null,null,null,null,null,null,null,null,null,null,null,null,null,null,null,{"$f":"IF(LEN(Z1071)>0,VLOOKUP(Z1071,'TFW Programs'!$A$2:$B$8,2,FALSE),\"\")","v":""},null,null,{"$f":"IF(LEN(A1071)>0,VLOOKUP(A1071,Subcontractors!$A$2:$B$4,2,FALSE),\"\")","v":""}]
[null,null,null,null,null,null,null,null,null,null,null,null,null,null,null,null,null,null,null,null,null,null,null,{"$f":"IF(LEN(Z1072)>0,VLOOKUP(Z1072,'TFW Programs'!$A$2:$B$8,2,FALSE),\"\")","v":""},null,null,{"$f":"IF(LEN(A1072)>0,VLOOKUP(A1072,Subcontractors!$A$2:$B$4,2,FALSE),\"\")","v":""}]
[null,null,null,null,null,null,null,null,null,null,null,null,null,null,null,null,null,null,null,null,null,null,null,{"$f":"IF(LEN(Z1077)>0,VLOOKUP(Z1077,'TFW Programs'!$A$2:$B$8,2,FALSE),\"\")","v":""},null,null,{"$f":"IF(LEN(A1077)>0,VLOOKUP(A1077,Subcontractors!$A$2:$B$4,2,FALSE),\"\")","v":""}]
[null,null,null,null,null,null,null,null,null,null,null,null,null,null,null,null,null,null,null,null,null,null,null,{"$f":"IF(LEN(Z1082)>0,VLOOKUP(Z1082,'TFW Programs'!$A$2:$B$8,2,FALSE),\"\")","v":""},null,null,{"$f":"IF(LEN(A1082)>0,VLOOKUP(A1082,Subcontractors!$A$2:$B$4,2,FALSE),\"\")","v":""}]
[null,null,null,null,null,null,null,null,null,null,null,null,null,null,null,null,null,null,null,null,null,null,null,{"$f":"IF(LEN(Z1084)>0,VLOOKUP(Z1084,'TFW Programs'!$A$2:$B$8,2,FALSE),\"\")","v":""},null,null,{"$f":"IF(LEN(A1084)>0,VLOOKUP(A1084,Subcontractors!$A$2:$B$4,2,FALSE),\"\")","v":""}]
[null,null,null,null,null,null,null,null,null,null,null,null,null,null,null,null,null,null,null,null,null,null,null,{"$f":"IF(LEN(Z1087)>0,VLOOKUP(Z1087,'TFW Programs'!$A$2:$B$8,2,FALSE),\"\")","v":""},null,null,{"$f":"IF(LEN(A1087)>0,VLOOKUP(A1087,Subcontractors!$A$2:$B$4,2,FALSE),\"\")","v":""}]
[null,null,null,null,null,null,null,null,null,null,null,null,null,null,null,null,null,null,null,null,null,null,null,{"$f":"IF(LEN(Z1092)>0,VLOOKUP(Z1092,'TFW Programs'!$A$2:$B$8,2,FALSE),\"\")","v":""},null,null,{"$f":"IF(LEN(A1092)>0,VLOOKUP(A1092,Subcontractors!$A$2:$B$4,2,FALSE),\"\")","v":""}]
[null,null,null,null,null,null,null,null,null,null,null,null,null,null,null,null,null,null,null,null,null,null,null,{"$f":"IF(LEN(Z1097)>0,VLOOKUP(Z1097,'TFW Programs'!$A$2:$B$8,2,FALSE),\"\")","v":""},null,null,{"$f":"IF(LEN(A1097)>0,VLOOKUP(A1097,Subcontractors!$A$2:$B$4,2,FALSE),\"\")","v":""}]
[null,null,null,null,null,null,null,null,null,null,null,null,null,null,null,null,null,null,null,null,null,null,null,{"$f":"IF(LEN(Z1100)>0,VLOOKUP(Z1100,'TFW Programs'!$A$2:$B$8,2,FALSE),\"\")","v":""},null,null,{"$f":"IF(LEN(A1100)>0,VLOOKUP(A1100,Subcontractors!$A$2:$B$4,2,FALSE),\"\")","v":""}]
[null,null,null,null,null,null,null,null,null,null,null,null,null,null,null,null,null,null,null,null,null,null,null,{"$f":"IF(LEN(Z1102)>0,VLOOKUP(Z1102,'TFW Programs'!$A$2:$B$8,2,FALSE),\"\")","v":""},null,null,{"$f":"IF(LEN(A1102)>0,VLOOKUP(A1102,Subcontractors!$A$2:$B$4,2,FALSE),\"\")","v":""}]
[null,null,null,null,null,null,null,null,null,null,null,null,null,null,null,null,null,null,null,null,null,null,null,{"$f":"IF(LEN(Z1107)>0,VLOOKUP(Z1107,'TFW Programs'!$A$2:$B$8,2,FALSE),\"\")","v":""},null,null,{"$f":"IF(LEN(A1107)>0,VLOOKUP(A1107,Subcontractors!$A$2:$B$4,2,FALSE),\"\")","v":""}]
[null,null,null,null,null,null,null,null,null,null,null,null,null,null,null,null,null,null,null,null,null,null,null,{"$f":"IF(LEN(Z1112)>0,VLOOKUP(Z1112,'TFW Programs'!$A$2:$B$8,2,FALSE),\"\")","v":""},null,null,{"$f":"IF(LEN(A1112)>0,VLOOKUP(A1112,Subcontractors!$A$2:$B$4,2,FALSE),\"\")","v":""}]
[null,null,null,null,null,null,null,null,null,null,null,null,null,null,null,null,null,null,null,null,null,null,null,{"$f":"IF(LEN(Z1114)>0,VLOOKUP(Z1114,'TFW Programs'!$A$2:$B$8,2,FALSE),\"\")","v":""},null,null,{"$f":"IF(LEN(A1114)>0,VLOOKUP(A1114,Subcontractors!$A$2:$B$4,2,FALSE),\"\")","v":""}]
[null,null,null,null,null,null,null,null,null,null,null,null,null,null,null,null,null,null,null,null,null,null,null,{"$f":"IF(LEN(Z1117)>0,VLOOKUP(Z1117,'TFW Programs'!$A$2:$B$8,2,FALSE),\"\")","v":""},null,null,{"$f":"IF(LEN(A1117)>0,VLOOKUP(A1117,Subcontractors!$A$2:$B$4,2,FALSE),\"\")","v":""}]
[null,null,null,null,null,null,null,null,null,null,null,null,null,null,null,null,null,null,null,null,null,null,null,{"$f":"IF(LEN(Z1122)>0,VLOOKUP(Z1122,'TFW Programs'!$A$2:$B$8,2,FALSE),\"\")","v":""},null,null,{"$f":"IF(LEN(A1122)>0,VLOOKUP(A1122,Subcontractors!$A$2:$B$4,2,FALSE),\"\")","v":""}]
[null,null,null,null,null,null,null,null,null,null,null,null,null,null,null,null,null,null,null,null,null,null,null,{"$f":"IF(LEN(Z1127)>0,VLOOKUP(Z1127,'TFW Programs'!$A$2:$B$8,2,FALSE),\"\")","v":""},null,null,{"$f":"IF(LEN(A1127)>0,VLOOKUP(A1127,Subcontractors!$A$2:$B$4,2,FALSE),\"\")","v":""}]
[null,null,null,null,null,null,null,null,null,null,null,null,null,null,null,null,null,null,null,null,null,null,null,{"$f":"IF(LEN(Z1132)>0,VLOOKUP(Z1132,'TFW Programs'!$A$2:$B$8,2,FALSE),\"\")","v":""},null,null,{"$f":"IF(LEN(A1132)>0,VLOOKUP(A1132,Subcontractors!$A$2:$B$4,2,FALSE),\"\")","v":""}]
[null,null,null,null,null,null,null,null,null,null,null,null,null,null,null,null,null,null,null,null,null,null,null,{"$f":"IF(LEN(Z1135)>0,VLOOKUP(Z1135,'TFW Programs'!$A$2:$B$8,2,FALSE),\"\")","v":""},null,null,{"$f":"IF(LEN(A1135)>0,VLOOKUP(A1135,Subcontractors!$A$2:$B$4,2,FALSE),\"\")","v":""}]
[null,null,null,null,null,null,null,null,null,null,null,null,null,null,null,null,null,null,null,null,null,null,null,{"$f":"IF(LEN(Z1137)>0,VLOOKUP(Z1137,'TFW Programs'!$A$2:$B$8,2,FALSE),\"\")","v":""},null,null,{"$f":"IF(LEN(A1137)>0,VLOOKUP(A1137,Subcontractors!$A$2:$B$4,2,FALSE),\"\")","v":""}]
[null,null,null,null,null,null,null,null,null,null,null,null,null,null,null,null,null,null,null,null,null,null,null,{"$f":"IF(LEN(Z1142)>0,VLOOKUP(Z1142,'TFW Programs'!$A$2:$B$8,2,FALSE),\"\")","v":""},null,null,{"$f":"IF(LEN(A1142)>0,VLOOKUP(A1142,Subcontractors!$A$2:$B$4,2,FALSE),\"\")","v":""}]
[null,null,null,null,null,null,null,null,null,null,null,null,null,null,null,null,null,null,null,null,null,null,null,{"$f":"IF(LEN(Z1147)>0,VLOOKUP(Z1147,'TFW Programs'!$A$2:$B$8,2,FALSE),\"\")","v":""},null,null,{"$f":"IF(LEN(A1147)>0,VLOOKUP(A1147,Subcontractors!$A$2:$B$4,2,FALSE),\"\")","v":""}]
[null,null,null,null,null,null,null,null,null,null,null,null,null,null,null,null,null,null,null,null,null,null,null,{"$f":"IF(LEN(Z1148)>0,VLOOKUP(Z1148,'TFW Programs'!$A$2:$B$8,2,FALSE),\"\")","v":""},null,null,{"$f":"IF(LEN(A1148)>0,VLOOKUP(A1148,Subcontractors!$A$2:$B$4,2,FALSE),\"\")","v":""}]
[null,null,null,null,null,null,null,null,null,null,null,null,null,null,null,null,null,null,null,null,null,null,null,{"$f":"IF(LEN(Z1152)>0,VLOOKUP(Z1152,'TFW Programs'!$A$2:$B$8,2,FALSE),\"\")","v":""},null,null,{"$f":"IF(LEN(A1152)>0,VLOOKUP(A1152,Subcontractors!$A$2:$B$4,2,FALSE),\"\")","v":""}]
[null,null,null,null,null,null,null,null,null,null,null,null,null,null,null,null,null,null,null,null,null,null,null,{"$f":"IF(LEN(Z1157)>0,VLOOKUP(Z1157,'TFW Programs'!$A$2:$B$8,2,FALSE),\"\")","v":""},null,null,{"$f":"IF(LEN(A1157)>0,VLOOKUP(A1157,Subcontractors!$A$2:$B$4,2,FALSE),\"\")","v":""}]
[null,null,null,null,null,null,null,null,null,null,null,null,null,null,null,null,null,null,null,null,null,null,null,{"$f":"IF(LEN(Z1162)>0,VLOOKUP(Z1162,'TFW Programs'!$A$2:$B$8,2,FALSE),\"\")","v":""},null,null,{"$f":"IF(LEN(A1162)>0,VLOOKUP(A1162,Subcontractors!$A$2:$B$4,2,FALSE),\"\")","v":""}]
[null,null,null,null,null,null,null,null,null,null,null,null,null,null,null,null,null,null,null,null,null,null,null,{"$f":"IF(LEN(Z1163)>0,VLOOKUP(Z1163,'TFW Programs'!$A$2:$B$8,2,FALSE),\"\")","v":""},null,null,{"$f":"IF(LEN(A1163)>0,VLOOKUP(A1163,Subcontractors!$A$2:$B$4,2,FALSE),\"\")","v":""}]
[null,null,null,null,null,null,null,null,null,null,null,null,null,null,null,null,null,null,null,null,null,null,null,{"$f":"IF(LEN(Z1169)>0,VLOOKUP(Z1169,'TFW Programs'!$A$2:$B$8,2,FALSE),\"\")","v":""},null,null,{"$f":"IF(LEN(A1169)>0,VLOOKUP(A1169,Subcontractors!$A$2:$B$4,2,FALSE),\"\")","v":""}]
[null,null,null,null,null,null,null,null,null,null,null,null,null,null,null,null,null,null,null,null,null,null,null,{"$f":"IF(LEN(Z1172)>0,VLOOKUP(Z1172,'TFW Programs'!$A$2:$B$8,2,FALSE),\"\")","v":""},null,null,{"$f":"IF(LEN(A1172)>0,VLOOKUP(A1172,Subcontractors!$A$2:$B$4,2,FALSE),\"\")","v":""}]
[null,null,null,null,null,null,null,null,null,null,null,null,null,null,null,null,null,null,null,null,null,null,null,{"$f":"IF(LEN(Z1177)>0,VLOOKUP(Z1177,'TFW Programs'!$A$2:$B$8,2,FALSE),\"\")","v":""},null,null,{"$f":"IF(LEN(A1177)>0,VLOOKUP(A1177,Subcontractors!$A$2:$B$4,2,FALSE),\"\")","v":""}]
[null,null,null,null,null,null,null,null,null,null,null,null,null,null,null,null,null,null,null,null,null,null,null,{"$f":"IF(LEN(Z1178)>0,VLOOKUP(Z1178,'TFW Programs'!$A$2:$B$8,2,FALSE),\"\")","v":""},null,null,{"$f":"IF(LEN(A1178)>0,VLOOKUP(A1178,Subcontractors!$A$2:$B$4,2,FALSE),\"\")","v":""}]
[null,null,null,null,null,null,null,null,null,null,null,null,null,null,null,null,null,null,null,null,null,null,null,{"$f":"IF(LEN(Z1183)>0,VLOOKUP(Z1183,'TFW Programs'!$A$2:$B$8,2,FALSE),\"\")","v":""},null,null,{"$f":"IF(LEN(A1183)>0,VLOOKUP(A1183,Subcontractors!$A$2:$B$4,2,FALSE),\"\")","v":""}]
[null,null,null,null,null,null,null,null,null,null,null,null,null,null,null,null,null,null,null,null,null,null,null,{"$f":"IF(LEN(Z1187)>0,VLOOKUP(Z1187,'TFW Programs'!$A$2:$B$8,2,FALSE),\"\")","v":""},null,null,{"$f":"IF(LEN(A1187)>0,VLOOKUP(A1187,Subcontractors!$A$2:$B$4,2,FALSE),\"\")","v":""}]
[null,null,null,null,null,null,null,null,null,null,null,null,null,null,null,null,null,null,null,null,null,null,null,{"$f":"IF(LEN(Z1192)>0,VLOOKUP(Z1192,'TFW Programs'!$A$2:$B$8,2,FALSE),\"\")","v":""},null,null,{"$f":"IF(LEN(A1192)>0,VLOOKUP(A1192,Subcontractors!$A$2:$B$4,2,FALSE),\"\")","v":""}]
[null,null,null,null,null,null,null,null,null,null,null,null,null,null,null,null,null,null,null,null,null,null,null,{"$f":"IF(LEN(Z1193)>0,VLOOKUP(Z1193,'TFW Programs'!$A$2:$B$8,2,FALSE),\"\")","v":""},null,null,{"$f":"IF(LEN(A1193)>0,VLOOKUP(A1193,Subcontractors!$A$2:$B$4,2,FALSE),\"\")","v":""}]
[null,null,null,null,null,null,null,null,null,null,null,null,null,null,null,null,null,null,null,null,null,null,null,{"$f":"IF(LEN(Z1198)>0,VLOOKUP(Z1198,'TFW Programs'!$A$2:$B$8,2,FALSE),\"\")","v":""},null,null,{"$f":"IF(LEN(A1198)>0,VLOOKUP(A1198,Subcontractors!$A$2:$B$4,2,FALSE),\"\")","v":""}]
[null,null,null,null,null,null,null,null,null,null,null,null,null,null,null,null,null,null,null,null,null,null,null,{"$f":"IF(LEN(Z1201)>0,VLOOKUP(Z1201,'TFW Programs'!$A$2:$B$8,2,FALSE),\"\")","v":""},null,null,{"$f":"IF(LEN(A1201)>0,VLOOKUP(A1201,Subcontractors!$A$2:$B$4,2,FALSE),\"\")","v":""}]
[null,null,null,null,null,null,null,null,null,null,null,null,null,null,null,null,null,null,null,null,null,null,null,{"$f":"IF(LEN(Z1207)>0,VLOOKUP(Z1207,'TFW Programs'!$A$2:$B$8,2,FALSE),\"\")","v":""},null,null,{"$f":"IF(LEN(A1207)>0,VLOOKUP(A1207,Subcontractors!$A$2:$B$4,2,FALSE),\"\")","v":""}]
[null,null,null,null,null,null,null,null,null,null,null,null,null,null,null,null,null,null,null,null,null,null,null,{"$f":"IF(LEN(Z1208)>0,VLOOKUP(Z1208,'TFW Programs'!$A$2:$B$8,2,FALSE),\"\")","v":""},null,null,{"$f":"IF(LEN(A1208)>0,VLOOKUP(A1208,Subcontractors!$A$2:$B$4,2,FALSE),\"\")","v":""}]
[null,null,null,null,null,null,null,null,null,null,null,null,null,null,null,null,null,null,null,null,null,null,null,{"$f":"IF(LEN(Z1213)>0,VLOOKUP(Z1213,'TFW Programs'!$A$2:$B$8,2,FALSE),\"\")","v":""},null,null,{"$f":"IF(LEN(A1213)>0,VLOOKUP(A1213,Subcontractors!$A$2:$B$4,2,FALSE),\"\")","v":""}]
[null,null,null,null,null,null,null,null,null,null,null,null,null,null,null,null,null,null,null,null,null,null,null,{"$f":"IF(LEN(Z1217)>0,VLOOKUP(Z1217,'TFW Programs'!$A$2:$B$8,2,FALSE),\"\")","v":""},null,null,{"$f":"IF(LEN(A1217)>0,VLOOKUP(A1217,Subcontractors!$A$2:$B$4,2,FALSE),\"\")","v":""}]
[null,null,null,null,null,null,null,null,null,null,null,null,null,null,null,null,null,null,null,null,null,null,null,{"$f":"IF(LEN(Z1222)>0,VLOOKUP(Z1222,'TFW Programs'!$A$2:$B$8,2,FALSE),\"\")","v":""},null,null,{"$f":"IF(LEN(A1222)>0,VLOOKUP(A1222,Subcontractors!$A$2:$B$4,2,FALSE),\"\")","v":""}]
[null,null,null,null,null,null,null,null,null,null,null,null,null,null,null,null,null,null,null,null,null,null,null,{"$f":"IF(LEN(Z1223)>0,VLOOKUP(Z1223,'TFW Programs'!$A$2:$B$8,2,FALSE),\"\")","v":""},null,null,{"$f":"IF(LEN(A1223)>0,VLOOKUP(A1223,Subcontractors!$A$2:$B$4,2,FALSE),\"\")","v":""}]
[null,null,null,null,null,null,null,null,null,null,null,null,null,null,null,null,null,null,null,null,null,null,null,{"$f":"IF(LEN(Z1228)>0,VLOOKUP(Z1228,'TFW Programs'!$A$2:$B$8,2,FALSE),\"\")","v":""},null,null,{"$f":"IF(LEN(A1228)>0,VLOOKUP(A1228,Subcontractors!$A$2:$B$4,2,FALSE),\"\")","v":""}]
[null,null,null,null,null,null,null,null,null,null,null,null,null,null,null,null,null,null,null,null,null,null,null,{"$f":"IF(LEN(Z1231)>0,VLOOKUP(Z1231,'TFW Programs'!$A$2:$B$8,2,FALSE),\"\")","v":""},null,null,{"$f":"IF(LEN(A1231)>0,VLOOKUP(A1231,Subcontractors!$A$2:$B$4,2,FALSE),\"\")","v":""}]
[null,null,null,null,null,null,null,null,null,null,null,null,null,null,null,null,null,null,null,null,null,null,null,{"$f":"IF(LEN(Z1237)>0,VLOOKUP(Z1237,'TFW Programs'!$A$2:$B$8,2,FALSE),\"\")","v":""},null,null,{"$f":"IF(LEN(A1237)>0,VLOOKUP(A1237,Subcontractors!$A$2:$B$4,2,FALSE),\"\")","v":""}]
[null,null,null,null,null,null,null,null,null,null,null,null,null,null,null,null,null,null,null,null,null,null,null,{"$f":"IF(LEN(Z1238)>0,VLOOKUP(Z1238,'TFW Programs'!$A$2:$B$8,2,FALSE),\"\")","v":""},null,null,{"$f":"IF(LEN(A1238)>0,VLOOKUP(A1238,Subcontractors!$A$2:$B$4,2,FALSE),\"\")","v":""}]
[null,null,null,null,null,null,null,null,null,null,null,null,null,null,null,null,null,null,null,null,null,null,null,{"$f":"IF(LEN(Z1243)>0,VLOOKUP(Z1243,'TFW Programs'!$A$2:$B$8,2,FALSE),\"\")","v":""},null,null,{"$f":"IF(LEN(A1243)>0,VLOOKUP(A1243,Subcontractors!$A$2:$B$4,2,FALSE),\"\")","v":""}]
[null,null,null,null,null,null,null,null,null,null,null,null,null,null,null,null,null,null,null,null,null,null,null,{"$f":"IF(LEN(Z1248)>0,VLOOKUP(Z1248,'TFW Programs'!$A$2:$B$8,2,FALSE),\"\")","v":""},null,null,{"$f":"IF(LEN(A1248)>0,VLOOKUP(A1248,Subcontractors!$A$2:$B$4,2,FALSE),\"\")","v":""}]
[null,null,null,null,null,null,null,null,null,null,null,null,null,null,null,null,null,null,null,null,null,null,null,{"$f":"IF(LEN(Z1252)>0,VLOOKUP(Z1252,'TFW Programs'!$A$2:$B$8,2,FALSE),\"\")","v":""},null,null,{"$f":"IF(LEN(A1252)>0,VLOOKUP(A1252,Subcontractors!$A$2:$B$4,2,FALSE),\"\")","v":""}]
[null,null,null,null,null,null,null,null,null,null,null,null,null,null,null,null,null,null,null,null,null,null,null,{"$f":"IF(LEN(Z1253)>0,VLOOKUP(Z1253,'TFW Programs'!$A$2:$B$8,2,FALSE),\"\")","v":""},null,null,{"$f":"IF(LEN(A1253)>0,VLOOKUP(A1253,Subcontractors!$A$2:$B$4,2,FALSE),\"\")","v":""}]
[null,null,null,null,null,null,null,null,null,null,null,null,null,null,null,null,null,null,null,null,null,null,null,{"$f":"IF(LEN(Z1258)>0,VLOOKUP(Z1258,'TFW Programs'!$A$2:$B$8,2,FALSE),\"\")","v":""},null,null,{"$f":"IF(LEN(A1258)>0,VLOOKUP(A1258,Subcontractors!$A$2:$B$4,2,FALSE),\"\")","v":""}]
[null,null,null,null,null,null,null,null,null,null,null,null,null,null,null,null,null,null,null,null,null,null,null,{"$f":"IF(LEN(Z1263)>0,VLOOKUP(Z1263,'TFW Programs'!$A$2:$B$8,2,FALSE),\"\")","v":""},null,null,{"$f":"IF(LEN(A1263)>0,VLOOKUP(A1263,Subcontractors!$A$2:$B$4,2,FALSE),\"\")","v":""}]
[null,null,null,null,null,null,null,null,null,null,null,null,null,null,null,null,null,null,null,null,null,null,null,{"$f":"IF(LEN(Z1265)>0,VLOOKUP(Z1265,'TFW Programs'!$A$2:$B$8,2,FALSE),\"\")","v":""},null,null,{"$f":"IF(LEN(A1265)>0,VLOOKUP(A1265,Subcontractors!$A$2:$B$4,2,FALSE),\"\")","v":""}]
[null,null,null,null,null,null,null,null,null,null,null,null,null,null,null,null,null,null,null,null,null,null,null,{"$f":"IF(LEN(Z1268)>0,VLOOKUP(Z1268,'TFW Programs'!$A$2:$B$8,2,FALSE),\"\")","v":""},null,null,{"$f":"IF(LEN(A1268)>0,VLOOKUP(A1268,Subcontractors!$A$2:$B$4,2,FALSE),\"\")","v":""}]
[null,null,null,null,null,null,null,null,null,null,null,null,null,null,null,null,null,null,null,null,null,null,null,{"$f":"IF(LEN(Z1273)>0,VLOOKUP(Z1273,'TFW Programs'!$A$2:$B$8,2,FALSE),\"\")","v":""},null,null,{"$f":"IF(LEN(A1273)>0,VLOOKUP(A1273,Subcontractors!$A$2:$B$4,2,FALSE),\"\")","v":""}]
[null,null,null,null,null,null,null,null,null,null,null,null,null,null,null,null,null,null,null,null,null,null,null,{"$f":"IF(LEN(Z1278)>0,VLOOKUP(Z1278,'TFW Programs'!$A$2:$B$8,2,FALSE),\"\")","v":""},null,null,{"$f":"IF(LEN(A1278)>0,VLOOKUP(A1278,Subcontractors!$A$2:$B$4,2,FALSE),\"\")","v":""}]
[null,null,null,null,null,null,null,null,null,null,null,null,null,null,null,null,null,null,null,null,null,null,null,{"$f":"IF(LEN(Z1283)>0,VLOOKUP(Z1283,'TFW Programs'!$A$2:$B$8,2,FALSE),\"\")","v":""},null,null,{"$f":"IF(LEN(A1283)>0,VLOOKUP(A1283,Subcontractors!$A$2:$B$4,2,FALSE),\"\")","v":""}]
[null,null,null,null,null,null,null,null,null,null,null,null,null,null,null,null,null,null,null,null,null,null,null,{"$f":"IF(LEN(Z1286)>0,VLOOKUP(Z1286,'TFW Programs'!$A$2:$B$8,2,FALSE),\"\")","v":""},null,null,{"$f":"IF(LEN(A1286)>0,VLOOKUP(A1286,Subcontractors!$A$2:$B$4,2,FALSE),\"\")","v":""}]
[null,null,null,null,null,null,null,null,null,null,null,null,null,null,null,null,null,null,null,null,null,null,null,{"$f":"IF(LEN(Z1288)>0,VLOOKUP(Z1288,'TFW Programs'!$A$2:$B$8,2,FALSE),\"\")","v":""},null,null,{"$f":"IF(LEN(A1288)>0,VLOOKUP(A1288,Subcontractors!$A$2:$B$4,2,FALSE),\"\")","v":""}]
[null,null,null,null,null,null,null,null,null,null,null,null,null,null,null,null,null,null,null,null,null,null,null,{"$f":"IF(LEN(Z1293)>0,VLOOKUP(Z1293,'TFW Programs'!$A$2:$B$8,2,FALSE),\"\")","v":""},null,null,{"$f":"IF(LEN(A1293)>0,VLOOKUP(A1293,Subcontractors!$A$2:$B$4,2,FALSE),\"\")","v":""}]
[null,null,null,null,null,null,null,null,null,null,null,null,null,null,null,null,null,null,null,null,null,null,null,{"$f":"IF(LEN(Z1298)>0,VLOOKUP(Z1298,'TFW Programs'!$A$2:$B$8,2,FALSE),\"\")","v":""},null,null,{"$f":"IF(LEN(A1298)>0,VLOOKUP(A1298,Subcontractors!$A$2:$B$4,2,FALSE),\"\")","v":""}]
[null,null,null,null,null,null,null,null,null,null,null,null,null,null,null,null,null,null,null,null,null,null,null,{"$f":"IF(LEN(Z1300)>0,VLOOKUP(Z1300,'TFW Programs'!$A$2:$B$8,2,FALSE),\"\")","v":""},null,null,{"$f":"IF(LEN(A1300)>0,VLOOKUP(A1300,Subcontractors!$A$2:$B$4,2,FALSE),\"\")","v":""}]
[null,null,null,null,null,null,null,null,null,null,null,null,null,null,null,null,null,null,null,null,null,null,null,{"$f":"IF(LEN(Z1303)>0,VLOOKUP(Z1303,'TFW Programs'!$A$2:$B$8,2,FALSE),\"\")","v":""},null,null,{"$f":"IF(LEN(A1303)>0,VLOOKUP(A1303,Subcontractors!$A$2:$B$4,2,FALSE),\"\")","v":""}]
[null,null,null,null,null,null,null,null,null,null,null,null,null,null,null,null,null,null,null,null,null,null,null,{"$f":"IF(LEN(Z1308)>0,VLOOKUP(Z1308,'TFW Programs'!$A$2:$B$8,2,FALSE),\"\")","v":""},null,null,{"$f":"IF(LEN(A1308)>0,VLOOKUP(A1308,Subcontractors!$A$2:$B$4,2,FALSE),\"\")","v":""}]
[null,null,null,null,null,null,null,null,null,null,null,null,null,null,null,null,null,null,null,null,null,null,null,{"$f":"IF(LEN(Z1313)>0,VLOOKUP(Z1313,'TFW Programs'!$A$2:$B$8,2,FALSE),\"\")","v":""},null,null,{"$f":"IF(LEN(A1313)>0,VLOOKUP(A1313,Subcontractors!$A$2:$B$4,2,FALSE),\"\")","v":""}]
[null,null,null,null,null,null,null,null,null,null,null,null,null,null,null,null,null,null,null,null,null,null,null,{"$f":"IF(LEN(Z1314)>0,VLOOKUP(Z1314,'TFW Programs'!$A$2:$B$8,2,FALSE),\"\")","v":""},null,null,{"$f":"IF(LEN(A1314)>0,VLOOKUP(A1314,Subcontractors!$A$2:$B$4,2,FALSE),\"\")","v":""}]
[null,null,null,null,null,null,null,null,null,null,null,null,null,null,null,null,null,null,null,null,null,null,null,{"$f":"IF(LEN(Z1318)>0,VLOOKUP(Z1318,'TFW Programs'!$A$2:$B$8,2,FALSE),\"\")","v":""},null,null,{"$f":"IF(LEN(A1318)>0,VLOOKUP(A1318,Subcontractors!$A$2:$B$4,2,FALSE),\"\")","v":""}]
[null,null,null,null,null,null,null,null,null,null,null,null,null,null,null,null,null,null,null,null,null,null,null,{"$f":"IF(LEN(Z1323)>0,VLOOKUP(Z1323,'TFW Programs'!$A$2:$B$8,2,FALSE),\"\")","v":""},null,null,{"$f":"IF(LEN(A1323)>0,VLOOKUP(A1323,Subcontractors!$A$2:$B$4,2,FALSE),\"\")","v":""}]
[null,null,null,null,null,null,null,null,null,null,null,null,null,null,null,null,null,null,null,null,null,null,null,{"$f":"IF(LEN(Z1328)>0,VLOOKUP(Z1328,'TFW Programs'!$A$2:$B$8,2,FALSE),\"\")","v":""},null,null,{"$f":"IF(LEN(A1328)>0,VLOOKUP(A1328,Subcontractors!$A$2:$B$4,2,FALSE),\"\")","v":""}]
[null,null,null,null,null,null,null,null,null,null,null,null,null,null,null,null,null,null,null,null,null,null,null,{"$f":"IF(LEN(Z1329)>0,VLOOKUP(Z1329,'TFW Programs'!$A$2:$B$8,2,FALSE),\"\")","v":""},null,null,{"$f":"IF(LEN(A1329)>0,VLOOKUP(A1329,Subcontractors!$A$2:$B$4,2,FALSE),\"\")","v":""}]
[null,null,null,null,null,null,null,null,null,null,null,null,null,null,null,null,null,null,null,null,null,null,null,{"$f":"IF(LEN(Z1334)>0,VLOOKUP(Z1334,'TFW Programs'!$A$2:$B$8,2,FALSE),\"\")","v":""},null,null,{"$f":"IF(LEN(A1334)>0,VLOOKUP(A1334,Subcontractors!$A$2:$B$4,2,FALSE),\"\")","v":""}]
[null,null,null,null,null,null,null,null,null,null,null,null,null,null,null,null,null,null,null,null,null,null,null,{"$f":"IF(LEN(Z1338)>0,VLOOKUP(Z1338,'TFW Programs'!$A$2:$B$8,2,FALSE),\"\")","v":""},null,null,{"$f":"IF(LEN(A1338)>0,VLOOKUP(A1338,Subcontractors!$A$2:$B$4,2,FALSE),\"\")","v":""}]
[null,null,null,null,null,null,null,null,null,null,null,null,null,null,null,null,null,null,null,null,null,null,null,{"$f":"IF(LEN(Z1343)>0,VLOOKUP(Z1343,'TFW Programs'!$A$2:$B$8,2,FALSE),\"\")","v":""},null,null,{"$f":"IF(LEN(A1343)>0,VLOOKUP(A1343,Subcontractors!$A$2:$B$4,2,FALSE),\"\")","v":""}]
[null,null,null,null,null,null,null,null,null,null,null,null,null,null,null,null,null,null,null,null,null,null,null,{"$f":"IF(LEN(Z1344)>0,VLOOKUP(Z1344,'TFW Programs'!$A$2:$B$8,2,FALSE),\"\")","v":""},null,null,{"$f":"IF(LEN(A1344)>0,VLOOKUP(A1344,Subcontractors!$A$2:$B$4,2,FALSE),\"\")","v":""}]
[null,null,null,null,null,null,null,null,null,null,null,null,null,null,null,null,null,null,null,null,null,null,null,{"$f":"IF(LEN(Z1348)>0,VLOOKUP(Z1348,'TFW Programs'!$A$2:$B$8,2,FALSE),\"\")","v":""},null,null,{"$f":"IF(LEN(A1348)>0,VLOOKUP(A1348,Subcontractors!$A$2:$B$4,2,FALSE),\"\")","v":""}]
[null,null,null,null,null,null,null,null,null,null,null,null,null,null,null,null,null,null,null,null,null,null,null,{"$f":"IF(LEN(Z1353)>0,VLOOKUP(Z1353,'TFW Programs'!$A$2:$B$8,2,FALSE),\"\")","v":""},null,null,{"$f":"IF(LEN(A1353)>0,VLOOKUP(A1353,Subcontractors!$A$2:$B$4,2,FALSE),\"\")","v":""}]
[null,null,null,null,null,null,null,null,null,null,null,null,null,null,null,null,null,null,null,null,null,null,null,{"$f":"IF(LEN(Z1358)>0,VLOOKUP(Z1358,'TFW Programs'!$A$2:$B$8,2,FALSE),\"\")","v":""},null,null,{"$f":"IF(LEN(A1358)>0,VLOOKUP(A1358,Subcontractors!$A$2:$B$4,2,FALSE),\"\")","v":""}]
[null,null,null,null,null,null,null,null,null,null,null,null,null,null,null,null,null,null,null,null,null,null,null,{"$f":"IF(LEN(Z1359)>0,VLOOKUP(Z1359,'TFW Programs'!$A$2:$B$8,2,FALSE),\"\")","v":""},null,null,{"$f":"IF(LEN(A1359)>0,VLOOKUP(A1359,Subcontractors!$A$2:$B$4,2,FALSE),\"\")","v":""}]
[null,null,null,null,null,null,null,null,null,null,null,null,null,null,null,null,null,null,null,null,null,null,null,{"$f":"IF(LEN(Z1364)>0,VLOOKUP(Z1364,'TFW Programs'!$A$2:$B$8,2,FALSE),\"\")","v":""},null,null,{"$f":"IF(LEN(A1364)>0,VLOOKUP(A1364,Subcontractors!$A$2:$B$4,2,FALSE),\"\")","v":""}]
[null,null,null,null,null,null,null,null,null,null,null,null,null,null,null,null,null,null,null,null,null,null,null,{"$f":"IF(LEN(Z1369)>0,VLOOKUP(Z1369,'TFW Programs'!$A$2:$B$8,2,FALSE),\"\")","v":""},null,null,{"$f":"IF(LEN(A1369)>0,VLOOKUP(A1369,Subcontractors!$A$2:$B$4,2,FALSE),\"\")","v":""}]
[null,null,null,null,null,null,null,null,null,null,null,null,null,null,null,null,null,null,null,null,null,null,null,{"$f":"IF(LEN(Z1373)>0,VLOOKUP(Z1373,'TFW Programs'!$A$2:$B$8,2,FALSE),\"\")","v":""},null,null,{"$f":"IF(LEN(A1373)>0,VLOOKUP(A1373,Subcontractors!$A$2:$B$4,2,FALSE),\"\")","v":""}]
[null,null,null,null,null,null,null,null,null,null,null,null,null,null,null,null,null,null,null,null,null,null,null,{"$f":"IF(LEN(Z1374)>0,VLOOKUP(Z1374,'TFW Programs'!$A$2:$B$8,2,FALSE),\"\")","v":""},null,null,{"$f":"IF(LEN(A1374)>0,VLOOKUP(A1374,Subcontractors!$A$2:$B$4,2,FALSE),\"\")","v":""}]
[null,null,null,null,null,null,null,null,null,null,null,null,null,null,null,null,null,null,null,null,null,null,null,{"$f":"IF(LEN(Z1379)>0,VLOOKUP(Z1379,'TFW Programs'!$A$2:$B$8,2,FALSE),\"\")","v":""},null,null,{"$f":"IF(LEN(A1379)>0,VLOOKUP(A1379,Subcontractors!$A$2:$B$4,2,FALSE),\"\")","v":""}]
[null,null,null,null,null,null,null,null,null,null,null,null,null,null,null,null,null,null,null,null,null,null,null,{"$f":"IF(LEN(Z1382)>0,VLOOKUP(Z1382,'TFW Programs'!$A$2:$B$8,2,FALSE),\"\")","v":""},null,null,{"$f":"IF(LEN(A1382)>0,VLOOKUP(A1382,Subcontractors!$A$2:$B$4,2,FALSE),\"\")","v":""}]
[null,null,null,null,null,null,null,null,null,null,null,null,null,null,null,null,null,null,null,null,null,null,null,{"$f":"IF(LEN(Z1388)>0,VLOOKUP(Z1388,'TFW Programs'!$A$2:$B$8,2,FALSE),\"\")","v":""},null,null,{"$f":"IF(LEN(A1388)>0,VLOOKUP(A1388,Subcontractors!$A$2:$B$4,2,FALSE),\"\")","v":""}]
[null,null,null,null,null,null,null,null,null,null,null,null,null,null,null,null,null,null,null,null,null,null,null,{"$f":"IF(LEN(Z1389)>0,VLOOKUP(Z1389,'TFW Programs'!$A$2:$B$8,2,FALSE),\"\")","v":""},null,null,{"$f":"IF(LEN(A1389)>0,VLOOKUP(A1389,Subcontractors!$A$2:$B$4,2,FALSE),\"\")","v":""}]
[null,null,null,null,null,null,null,null,null,null,null,null,null,null,null,null,null,null,null,null,null,null,null,{"$f":"IF(LEN(Z1394)>0,VLOOKUP(Z1394,'TFW Programs'!$A$2:$B$8,2,FALSE),\"\")","v":""},null,null,{"$f":"IF(LEN(A1394)>0,VLOOKUP(A1394,Subcontractors!$A$2:$B$4,2,FALSE),\"\")","v":""}]
[null,null,null,null,null,null,null,null,null,null,null,null,null,null,null,null,null,null,null,null,null,null,null,{"$f":"IF(LEN(Z1399)>0,VLOOKUP(Z1399,'TFW Programs'!$A$2:$B$8,2,FALSE),\"\")","v":""},null,null,{"$f":"IF(LEN(A1399)>0,VLOOKUP(A1399,Subcontractors!$A$2:$B$4,2,FALSE),\"\")","v":""}]
[null,null,null,null,null,null,null,null,null,null,null,null,null,null,null,null,null,null,null,null,null,null,null,{"$f":"IF(LEN(Z1403)>0,VLOOKUP(Z1403,'TFW Programs'!$A$2:$B$8,2,FALSE),\"\")","v":""},null,null,{"$f":"IF(LEN(A1403)>0,VLOOKUP(A1403,Subcontractors!$A$2:$B$4,2,FALSE),\"\")","v":""}]
[null,null,null,null,null,null,null,null,null,null,null,null,null,null,null,null,null,null,null,null,null,null,null,{"$f":"IF(LEN(Z1404)>0,VLOOKUP(Z1404,'TFW Programs'!$A$2:$B$8,2,FALSE),\"\")","v":""},null,null,{"$f":"IF(LEN(A1404)>0,VLOOKUP(A1404,Subcontractors!$A$2:$B$4,2,FALSE),\"\")","v":""}]
[null,null,null,null,null,null,null,null,null,null,null,null,null,null,null,null,null,null,null,null,null,null,null,{"$f":"IF(LEN(Z1409)>0,VLOOKUP(Z1409,'TFW Programs'!$A$2:$B$8,2,FALSE),\"\")","v":""},null,null,{"$f":"IF(LEN(A1409)>0,VLOOKUP(A1409,Subcontractors!$A$2:$B$4,2,FALSE),\"\")","v":""}]
[null,null,null,null,null,null,null,null,null,null,null,null,null,null,null,null,null,null,null,null,null,null,null,{"$f":"IF(LEN(Z1414)>0,VLOOKUP(Z1414,'TFW Programs'!$A$2:$B$8,2,FALSE),\"\")","v":""},null,null,{"$f":"IF(LEN(A1414)>0,VLOOKUP(A1414,Subcontractors!$A$2:$B$4,2,FALSE),\"\")","v":""}]
[null,null,null,null,null,null,null,null,null,null,null,null,null,null,null,null,null,null,null,null,null,null,null,{"$f":"IF(LEN(Z1417)>0,VLOOKUP(Z1417,'TFW Programs'!$A$2:$B$8,2,FALSE),\"\")","v":""},null,null,{"$f":"IF(LEN(A1417)>0,VLOOKUP(A1417,Subcontractors!$A$2:$B$4,2,FALSE),\"\")","v":""}]
[null,null,null,null,null,null,null,null,null,null,null,null,null,null,null,null,null,null,null,null,null,null,null,{"$f":"IF(LEN(Z1419)>0,VLOOKUP(Z1419,'TFW Programs'!$A$2:$B$8,2,FALSE),\"\")","v":""},null,null,{"$f":"IF(LEN(A1419)>0,VLOOKUP(A1419,Subcontractors!$A$2:$B$4,2,FALSE),\"\")","v":""}]
[null,null,null,null,null,null,null,null,null,null,null,null,null,null,null,null,null,null,null,null,null,null,null,{"$f":"IF(LEN(Z1424)>0,VLOOKUP(Z1424,'TFW Programs'!$A$2:$B$8,2,FALSE),\"\")","v":""},null,null,{"$f":"IF(LEN(A1424)>0,VLOOKUP(A1424,Subcontractors!$A$2:$B$4,2,FALSE),\"\")","v":""}]
[null,null,null,null,null,null,null,null,null,null,null,null,null,null,null,null,null,null,null,null,null,null,null,{"$f":"IF(LEN(Z1429)>0,VLOOKUP(Z1429,'TFW Programs'!$A$2:$B$8,2,FALSE),\"\")","v":""},null,null,{"$f":"IF(LEN(A1429)>0,VLOOKUP(A1429,Subcontractors!$A$2:$B$4,2,FALSE),\"\")","v":""}]
[null,null,null,null,null,null,null,null,null,null,null,null,null,null,null,null,null,null,null,null,null,null,null,{"$f":"IF(LEN(Z1434)>0,VLOOKUP(Z1434,'TFW Programs'!$A$2:$B$8,2,FALSE),\"\")","v":""},null,null,{"$f":"IF(LEN(A1434)>0,VLOOKUP(A1434,Subcontractors!$A$2:$B$4,2,FALSE),\"\")","v":""}]
[null,null,null,null,null,null,null,null,null,null,null,null,null,null,null,null,null,null,null,null,null,null,null,{"$f":"IF(LEN(Z1437)>0,VLOOKUP(Z1437,'TFW Programs'!$A$2:$B$8,2,FALSE),\"\")","v":""},null,null,{"$f":"IF(LEN(A1437)>0,VLOOKUP(A1437,Subcontractors!$A$2:$B$4,2,FALSE),\"\")","v":""}]
[null,null,null,null,null,null,null,null,null,null,null,null,null,null,null,null,null,null,null,null,null,null,null,{"$f":"IF(LEN(Z1439)>0,VLOOKUP(Z1439,'TFW Programs'!$A$2:$B$8,2,FALSE),\"\")","v":""},null,null,{"$f":"IF(LEN(A1439)>0,VLOOKUP(A1439,Subcontractors!$A$2:$B$4,2,FALSE),\"\")","v":""}]
[null,null,null,null,null,null,null,null,null,null,null,null,null,null,null,null,null,null,null,null,null,null,null,{"$f":"IF(LEN(Z1444)>0,VLOOKUP(Z1444,'TFW Programs'!$A$2:$B$8,2,FALSE),\"\")","v":""},null,null,{"$f":"IF(LEN(A1444)>0,VLOOKUP(A1444,Subcontractors!$A$2:$B$4,2,FALSE),\"\")","v":""}]
[null,null,null,null,null,null,null,null,null,null,null,null,null,null,null,null,null,null,null,null,null,null,null,{"$f":"IF(LEN(Z1449)>0,VLOOKUP(Z1449,'TFW Programs'!$A$2:$B$8,2,FALSE),\"\")","v":""},null,null,{"$f":"IF(LEN(A1449)>0,VLOOKUP(A1449,Subcontractors!$A$2:$B$4,2,FALSE),\"\")","v":""}]
[null,null,null,null,null,null,null,null,null,null,null,null,null,null,null,null,null,null,null,null,null,null,null,{"$f":"IF(LEN(Z1451)>0,VLOOKUP(Z1451,'TFW Programs'!$A$2:$B$8,2,FALSE),\"\")","v":""},null,null,{"$f":"IF(LEN(A1451)>0,VLOOKUP(A1451,Subcontractors!$A$2:$B$4,2,FALSE),\"\")","v":""}]
[null,null,null,null,null,null,null,null,null,null,null,null,null,null,null,null,null,null,null,null,null,null,null,{"$f":"IF(LEN(Z1454)>0,VLOOKUP(Z1454,'TFW Programs'!$A$2:$B$8,2,FALSE),\"\")","v":""},null,null,{"$f":"IF(LEN(A1454)>0,VLOOKUP(A1454,Subcontractors!$A$2:$B$4,2,FALSE),\"\")","v":""}]
[null,null,null,null,null,null,null,null,null,null,null,null,null,null,null,null,null,null,null,null,null,null,null,{"$f":"IF(LEN(Z1459)>0,VLOOKUP(Z1459,'TFW Programs'!$A$2:$B$8,2,FALSE),\"\")","v":""},null,null,{"$f":"IF(LEN(A1459)>0,VLOOKUP(A1459,Subcontractors!$A$2:$B$4,2,FALSE),\"\")","v":""}]
[null,null,null,null,null,null,null,null,null,null,null,null,null,null,null,null,null,null,null,null,null,null,null,{"$f":"IF(LEN(Z1464)>0,VLOOKUP(Z1464,'TFW Programs'!$A$2:$B$8,2,FALSE),\"\")","v":""},null,null,{"$f":"IF(LEN(A1464)>0,VLOOKUP(A1464,Subcontractors!$A$2:$B$4,2,FALSE),\"\")","v":""}]
[null,null,null,null,null,null,null,null,null,null,null,null,null,null,null,null,null,null,null,null,null,null,null,{"$f":"IF(LEN(Z1467)>0,VLOOKUP(Z1467,'TFW Programs'!$A$2:$B$8,2,FALSE),\"\")","v":""},null,null,{"$f":"IF(LEN(A1467)>0,VLOOKUP(A1467,Subcontractors!$A$2:$B$4,2,FALSE),\"\")","v":""}]
[null,null,null,null,null,null,null,null,null,null,null,null,null,null,null,null,null,null,null,null,null,null,null,{"$f":"IF(LEN(Z1469)>0,VLOOKUP(Z1469,'TFW Programs'!$A$2:$B$8,2,FALSE),\"\")","v":""},null,null,{"$f":"IF(LEN(A1469)>0,VLOOKUP(A1469,Subcontractors!$A$2:$B$4,2,FALSE),\"\")","v":""}]
[null,null,null,null,null,null,null,null,null,null,null,null,null,null,null,null,null,null,null,null,null,null,null,{"$f":"IF(LEN(Z1474)>0,VLOOKUP(Z1474,'TFW Programs'!$A$2:$B$8,2,FALSE),\"\")","v":""},null,null,{"$f":"IF(LEN(A1474)>0,VLOOKUP(A1474,Subcontractors!$A$2:$B$4,2,FALSE),\"\")","v":""}]
[null,null,null,null,null,null,null,null,null,null,null,null,null,null,null,null,null,null,null,null,null,null,null,{"$f":"IF(LEN(Z1479)>0,VLOOKUP(Z1479,'TFW Programs'!$A$2:$B$8,2,FALSE),\"\")","v":""},null,null,{"$f":"IF(LEN(A1479)>0,VLOOKUP(A1479,Subcontractors!$A$2:$B$4,2,FALSE),\"\")","v":""}]
[null,null,null,null,null,null,null,null,null,null,null,null,null,null,null,null,null,null,null,null,null,null,null,{"$f":"IF(LEN(Z1480)>0,VLOOKUP(Z1480,'TFW Programs'!$A$2:$B$8,2,FALSE),\"\")","v":""},null,null,{"$f":"IF(LEN(A1480)>0,VLOOKUP(A1480,Subcontractors!$A$2:$B$4,2,FALSE),\"\")","v":""}]
[null,null,null,null,null,null,null,null,null,null,null,null,null,null,null,null,null,null,null,null,null,null,null,{"$f":"IF(LEN(Z1485)>0,VLOOKUP(Z1485,'TFW Programs'!$A$2:$B$8,2,FALSE),\"\")","v":""},null,null,{"$f":"IF(LEN(A1485)>0,VLOOKUP(A1485,Subcontractors!$A$2:$B$4,2,FALSE),\"\")","v":""}]
[null,null,null,null,null,null,null,null,null,null,null,null,null,null,null,null,null,null,null,null,null,null,null,{"$f":"IF(LEN(Z1489)>0,VLOOKUP(Z1489,'TFW Programs'!$A$2:$B$8,2,FALSE),\"\")","v":""},null,null,{"$f":"IF(LEN(A1489)>0,VLOOKUP(A1489,Subcontractors!$A$2:$B$4,2,FALSE),\"\")","v":""}]
[null,null,null,null,null,null,null,null,null,null,null,null,null,null,null,null,null,null,null,null,null,null,null,{"$f":"IF(LEN(Z1494)>0,VLOOKUP(Z1494,'TFW Programs'!$A$2:$B$8,2,FALSE),\"\")","v":""},null,null,{"$f":"IF(LEN(A1494)>0,VLOOKUP(A1494,Subcontractors!$A$2:$B$4,2,FALSE),\"\")","v":""}]
[null,null,null,null,null,null,null,null,null,null,null,null,null,null,null,null,null,null,null,null,null,null,null,{"$f":"IF(LEN(Z1495)>0,VLOOKUP(Z1495,'TFW Programs'!$A$2:$B$8,2,FALSE),\"\")","v":""},null,null,{"$f":"IF(LEN(A1495)>0,VLOOKUP(A1495,Subcontractors!$A$2:$B$4,2,FALSE),\"\")","v":""}]
[null,null,null,null,null,null,null,null,null,null,null,null,null,null,null,null,null,null,null,null,null,null,null,{"$f":"IF(LEN(Z1499)>0,VLOOKUP(Z1499,'TFW Programs'!$A$2:$B$8,2,FALSE),\"\")","v":""},null,null,{"$f":"IF(LEN(A1499)>0,VLOOKUP(A1499,Subcontractors!$A$2:$B$4,2,FALSE),\"\")","v":""}]
[null,null,null,null,null,null,null,null,null,null,null,null,null,null,null,null,null,null,null,null,null,null,null,{"$f":"IF(LEN(Z1504)>0,VLOOKUP(Z1504,'TFW Programs'!$A$2:$B$8,2,FALSE),\"\")","v":""},null,null,{"$f":"IF(LEN(A1504)>0,VLOOKUP(A1504,Subcontractors!$A$2:$B$4,2,FALSE),\"\")","v":""}]
[null,null,null,null,null,null,null,null,null,null,null,null,null,null,null,null,null,null,null,null,null,null,null,{"$f":"IF(LEN(Z1509)>0,VLOOKUP(Z1509,'TFW Programs'!$A$2:$B$8,2,FALSE),\"\")","v":""},null,null,{"$f":"IF(LEN(A1509)>0,VLOOKUP(A1509,Subcontractors!$A$2:$B$4,2,FALSE),\"\")","v":""}]
[null,null,null,null,null,null,null,null,null,null,null,null,null,null,null,null,null,null,null,null,null,null,null,{"$f":"IF(LEN(Z1510)>0,VLOOKUP(Z1510,'TFW Programs'!$A$2:$B$8,2,FALSE),\"\")","v":""},null,null,{"$f":"IF(LEN(A1510)>0,VLOOKUP(A1510,Subcontractors!$A$2:$B$4,2,FALSE),\"\")","v":""}]
[null,null,null,null,null,null,null,null,null,null,null,null,null,null,null,null,null,null,null,null,null,null,null,{"$f":"IF(LEN(Z1515)>0,VLOOKUP(Z1515,'TFW Programs'!$A$2:$B$8,2,FALSE),\"\")","v":""},null,null,{"$f":"IF(LEN(A1515)>0,VLOOKUP(A1515,Subcontractors!$A$2:$B$4,2,FALSE),\"\")","v":""}]
[null,null,null,null,null,null,null,null,null,null,null,null,null,null,null,null,null,null,null,null,null,null,null,{"$f":"IF(LEN(Z1520)>0,VLOOKUP(Z1520,'TFW Programs'!$A$2:$B$8,2,FALSE),\"\")","v":""},null,null,{"$f":"IF(LEN(A1520)>0,VLOOKUP(A1520,Subcontractors!$A$2:$B$4,2,FALSE),\"\")","v":""}]
[null,null,null,null,null,null,null,null,null,null,null,null,null,null,null,null,null,null,null,null,null,null,null,{"$f":"IF(LEN(Z1524)>0,VLOOKUP(Z1524,'TFW Programs'!$A$2:$B$8,2,FALSE),\"\")","v":""},null,null,{"$f":"IF(LEN(A1524)>0,VLOOKUP(A1524,Subcontractors!$A$2:$B$4,2,FALSE),\"\")","v":""}]
[null,null,null,null,null,null,null,null,null,null,null,null,null,null,null,null,null,null,null,null,null,null,null,{"$f":"IF(LEN(Z1525)>0,VLOOKUP(Z1525,'TFW Programs'!$A$2:$B$8,2,FALSE),\"\")","v":""},null,null,{"$f":"IF(LEN(A1525)>0,VLOOKUP(A1525,Subcontractors!$A$2:$B$4,2,FALSE),\"\")","v":""}]
[null,null,null,null,null,null,null,null,null,null,null,null,null,null,null,null,null,null,null,null,null,null,null,{"$f":"IF(LEN(Z1530)>0,VLOOKUP(Z1530,'TFW Programs'!$A$2:$B$8,2,FALSE),\"\")","v":""},null,null,{"$f":"IF(LEN(A1530)>0,VLOOKUP(A1530,Subcontractors!$A$2:$B$4,2,FALSE),\"\")","v":""}]
[null,null,null,null,null,null,null,null,null,null,null,null,null,null,null,null,null,null,null,null,null,null,null,{"$f":"IF(LEN(Z1533)>0,VLOOKUP(Z1533,'TFW Programs'!$A$2:$B$8,2,FALSE),\"\")","v":""},null,null,{"$f":"IF(LEN(A1533)>0,VLOOKUP(A1533,Subcontractors!$A$2:$B$4,2,FALSE),\"\")","v":""}]
[null,null,null,null,null,null,null,null,null,null,null,null,null,null,null,null,null,null,null,null,null,null,null,{"$f":"IF(LEN(Z1539)>0,VLOOKUP(Z1539,'TFW Programs'!$A$2:$B$8,2,FALSE),\"\")","v":""},null,null,{"$f":"IF(LEN(A1539)>0,VLOOKUP(A1539,Subcontractors!$A$2:$B$4,2,FALSE),\"\")","v":""}]
[null,null,null,null,null,null,null,null,null,null,null,null,null,null,null,null,null,null,null,null,null,null,null,{"$f":"IF(LEN(Z1540)>0,VLOOKUP(Z1540,'TFW Programs'!$A$2:$B$8,2,FALSE),\"\")","v":""},null,null,{"$f":"IF(LEN(A1540)>0,VLOOKUP(A1540,Subcontractors!$A$2:$B$4,2,FALSE),\"\")","v":""}]
[null,null,null,null,null,null,null,null,null,null,null,null,null,null,null,null,null,null,null,null,null,null,null,{"$f":"IF(LEN(Z1545)>0,VLOOKUP(Z1545,'TFW Programs'!$A$2:$B$8,2,FALSE),\"\")","v":""},null,null,{"$f":"IF(LEN(A1545)>0,VLOOKUP(A1545,Subcontractors!$A$2:$B$4,2,FALSE),\"\")","v":""}]
[null,null,null,null,null,null,null,null,null,null,null,null,null,null,null,null,null,null,null,null,null,null,null,{"$f":"IF(LEN(Z1550)>0,VLOOKUP(Z1550,'TFW Programs'!$A$2:$B$8,2,FALSE),\"\")","v":""},null,null,{"$f":"IF(LEN(A1550)>0,VLOOKUP(A1550,Subcontractors!$A$2:$B$4,2,FALSE),\"\")","v":""}]
[null,null,null,null,null,null,null,null,null,null,null,null,null,null,null,null,null,null,null,null,null,null,null,{"$f":"IF(LEN(Z1554)>0,VLOOKUP(Z1554,'TFW Programs'!$A$2:$B$8,2,FALSE),\"\")","v":""},null,null,{"$f":"IF(LEN(A1554)>0,VLOOKUP(A1554,Subcontractors!$A$2:$B$4,2,FALSE),\"\")","v":""}]
[null,null,null,null,null,null,null,null,null,null,null,null,null,null,null,null,null,null,null,null,null,null,null,{"$f":"IF(LEN(Z1555)>0,VLOOKUP(Z1555,'TFW Programs'!$A$2:$B$8,2,FALSE),\"\")","v":""},null,null,{"$f":"IF(LEN(A1555)>0,VLOOKUP(A1555,Subcontractors!$A$2:$B$4,2,FALSE),\"\")","v":""}]
[null,null,null,null,null,null,null,null,null,null,null,null,null,null,null,null,null,null,null,null,null,null,null,{"$f":"IF(LEN(Z1560)>0,VLOOKUP(Z1560,'TFW Programs'!$A$2:$B$8,2,FALSE),\"\")","v":""},null,null,{"$f":"IF(LEN(A1560)>0,VLOOKUP(A1560,Subcontractors!$A$2:$B$4,2,FALSE),\"\")","v":""}]
[null,null,null,null,null,null,null,null,null,null,null,null,null,null,null,null,null,null,null,null,null,null,null,{"$f":"IF(LEN(Z1565)>0,VLOOKUP(Z1565,'TFW Programs'!$A$2:$B$8,2,FALSE),\"\")","v":""},null,null,{"$f":"IF(LEN(A1565)>0,VLOOKUP(A1565,Subcontractors!$A$2:$B$4,2,FALSE),\"\")","v":""}]
[null,null,null,null,null,null,null,null,null,null,null,null,null,null,null,null,null,null,null,null,null,null,null,{"$f":"IF(LEN(Z1568)>0,VLOOKUP(Z1568,'TFW Programs'!$A$2:$B$8,2,FALSE),\"\")","v":""},null,null,{"$f":"IF(LEN(A1568)>0,VLOOKUP(A1568,Subcontractors!$A$2:$B$4,2,FALSE),\"\")","v":""}]
[null,null,null,null,null,null,null,null,null,null,null,null,null,null,null,null,null,null,null,null,null,null,null,{"$f":"IF(LEN(Z1570)>0,VLOOKUP(Z1570,'TFW Programs'!$A$2:$B$8,2,FALSE),\"\")","v":""},null,null,{"$f":"IF(LEN(A1570)>0,VLOOKUP(A1570,Subcontractors!$A$2:$B$4,2,FALSE),\"\")","v":""}]
[null,null,null,null,null,null,null,null,null,null,null,null,null,null,null,null,null,null,null,null,null,null,null,{"$f":"IF(LEN(Z1575)>0,VLOOKUP(Z1575,'TFW Programs'!$A$2:$B$8,2,FALSE),\"\")","v":""},null,null,{"$f":"IF(LEN(A1575)>0,VLOOKUP(A1575,Subcontractors!$A$2:$B$4,2,FALSE),\"\")","v":""}]
[null,null,null,null,null,null,null,null,null,null,null,null,null,null,null,null,null,null,null,null,null,null,null,{"$f":"IF(LEN(Z1580)>0,VLOOKUP(Z1580,'TFW Programs'!$A$2:$B$8,2,FALSE),\"\")","v":""},null,null,{"$f":"IF(LEN(A1580)>0,VLOOKUP(A1580,Subcontractors!$A$2:$B$4,2,FALSE),\"\")","v":""}]
[null,null,null,null,null,null,null,null,null,null,null,null,null,null,null,null,null,null,null,null,null,null,null,{"$f":"IF(LEN(Z1584)>0,VLOOKUP(Z1584,'TFW Programs'!$A$2:$B$8,2,FALSE),\"\")","v":""},null,null,{"$f":"IF(LEN(A1584)>0,VLOOKUP(A1584,Subcontractors!$A$2:$B$4,2,FALSE),\"\")","v":""}]
[null,null,null,null,null,null,null,null,null,null,null,null,null,null,null,null,null,null,null,null,null,null,null,{"$f":"IF(LEN(Z1585)>0,VLOOKUP(Z1585,'TFW Programs'!$A$2:$B$8,2,FALSE),\"\")","v":""},null,null,{"$f":"IF(LEN(A1585)>0,VLOOKUP(A1585,Subcontractors!$A$2:$B$4,2,FALSE),\"\")","v":""}]
[null,null,null,null,null,null,null,null,null,null,null,null,null,null,null,null,null,null,null,null,null,null,null,{"$f":"IF(LEN(Z1590)>0,VLOOKUP(Z1590,'TFW Programs'!$A$2:$B$8,2,FALSE),\"\")","v":""},null,null,{"$f":"IF(LEN(A1590)>0,VLOOKUP(A1590,Subcontractors!$A$2:$B$4,2,FALSE),\"\")","v":""}]
[null,null,null,null,null,null,null,null,null,null,null,null,null,null,null,null,null,null,null,null,null,null,null,{"$f":"IF(LEN(Z1595)>0,VLOOKUP(Z1595,'TFW Programs'!$A$2:$B$8,2,FALSE),\"\")","v":""},null,null,{"$f":"IF(LEN(A1595)>0,VLOOKUP(A1595,Subcontractors!$A$2:$B$4,2,FALSE),\"\")","v":""}]
[null,null,null,null,null,null,null,null,null,null,null,null,null,null,null,null,null,null,null,null,null,null,null,{"$f":"IF(LEN(Z1600)>0,VLOOKUP(Z1600,'TFW Programs'!$A$2:$B$8,2,FALSE),\"\")","v":""},null,null,{"$f":"IF(LEN(A1600)>0,VLOOKUP(A1600,Subcontractors!$A$2:$B$4,2,FALSE),\"\")","v":""}]
[null,null,null,null,null,null,null,null,null,null,null,null,null,null,null,null,null,null,null,null,null,null,null,{"$f":"IF(LEN(Z1602)>0,VLOOKUP(Z1602,'TFW Programs'!$A$2:$B$8,2,FALSE),\"\")","v":""},null,null,{"$f":"IF(LEN(A1602)>0,VLOOKUP(A1602,Subcontractors!$A$2:$B$4,2,FALSE),\"\")","v":""}]
[null,null,null,null,null,null,null,null,null,null,null,null,null,null,null,null,null,null,null,null,null,null,null,{"$f":"IF(LEN(Z1605)>0,VLOOKUP(Z1605,'TFW Programs'!$A$2:$B$8,2,FALSE),\"\")","v":""},null,null,{"$f":"IF(LEN(A1605)>0,VLOOKUP(A1605,Subcontractors!$A$2:$B$4,2,FALSE),\"\")","v":""}]
[null,null,null,null,null,null,null,null,null,null,null,null,null,null,null,null,null,null,null,null,null,null,null,{"$f":"IF(LEN(Z1610)>0,VLOOKUP(Z1610,'TFW Programs'!$A$2:$B$8,2,FALSE),\"\")","v":""},null,null,{"$f":"IF(LEN(A1610)>0,VLOOKUP(A1610,Subcontractors!$A$2:$B$4,2,FALSE),\"\")","v":""}]
[null,null,null,null,null,null,null,null,null,null,null,null,null,null,null,null,null,null,null,null,null,null,null,{"$f":"IF(LEN(Z1615)>0,VLOOKUP(Z1615,'TFW Programs'!$A$2:$B$8,2,FALSE),\"\")","v":""},null,null,{"$f":"IF(LEN(A1615)>0,VLOOKUP(A1615,Subcontractors!$A$2:$B$4,2,FALSE),\"\")","v":""}]
[null,null,null,null,null,null,null,null,null,null,null,null,null,null,null,null,null,null,null,null,null,null,null,{"$f":"IF(LEN(Z1616)>0,VLOOKUP(Z1616,'TFW Programs'!$A$2:$B$8,2,FALSE),\"\")","v":""},null,null,{"$f":"IF(LEN(A1616)>0,VLOOKUP(A1616,Subcontractors!$A$2:$B$4,2,FALSE),\"\")","v":""}]
[null,null,null,null,null,null,null,null,null,null,null,null,null,null,null,null,null,null,null,null,null,null,null,{"$f":"IF(LEN(Z1620)>0,VLOOKUP(Z1620,'TFW Programs'!$A$2:$B$8,2,FALSE),\"\")","v":""},null,null,{"$f":"IF(LEN(A1620)>0,VLOOKUP(A1620,Subcontractors!$A$2:$B$4,2,FALSE),\"\")","v":""}]
[null,null,null,null,null,null,null,null,null,null,null,null,null,null,null,null,null,null,null,null,null,null,null,{"$f":"IF(LEN(Z1625)>0,VLOOKUP(Z1625,'TFW Programs'!$A$2:$B$8,2,FALSE),\"\")","v":""},null,null,{"$f":"IF(LEN(A1625)>0,VLOOKUP(A1625,Subcontractors!$A$2:$B$4,2,FALSE),\"\")","v":""}]
[null,null,null,null,null,null,null,null,null,null,null,null,null,null,null,null,null,null,null,null,null,null,null,{"$f":"IF(LEN(Z1630)>0,VLOOKUP(Z1630,'TFW Programs'!$A$2:$B$8,2,FALSE),\"\")","v":""},null,null,{"$f":"IF(LEN(A1630)>0,VLOOKUP(A1630,Subcontractors!$A$2:$B$4,2,FALSE),\"\")","v":""}]
[null,null,null,null,null,null,null,null,null,null,null,null,null,null,null,null,null,null,null,null,null,null,null,{"$f":"IF(LEN(Z1631)>0,VLOOKUP(Z1631,'TFW Programs'!$A$2:$B$8,2,FALSE),\"\")","v":""},null,null,{"$f":"IF(LEN(A1631)>0,VLOOKUP(A1631,Subcontractors!$A$2:$B$4,2,FALSE),\"\")","v":""}]
[null,null,null,null,null,null,null,null,null,null,null,null,null,null,null,null,null,null,null,null,null,null,null,{"$f":"IF(LEN(Z1637)>0,VLOOKUP(Z1637,'TFW Programs'!$A$2:$B$8,2,FALSE),\"\")","v":""},null,null,{"$f":"IF(LEN(A1637)>0,VLOOKUP(A1637,Subcontractors!$A$2:$B$4,2,FALSE),\"\")","v":""}]
[null,null,null,null,null,null,null,null,null,null,null,null,null,null,null,null,null,null,null,null,null,null,null,{"$f":"IF(LEN(Z1640)>0,VLOOKUP(Z1640,'TFW Programs'!$A$2:$B$8,2,FALSE),\"\")","v":""},null,null,{"$f":"IF(LEN(A1640)>0,VLOOKUP(A1640,Subcontractors!$A$2:$B$4,2,FALSE),\"\")","v":""}]
[null,null,null,null,null,null,null,null,null,null,null,null,null,null,null,null,null,null,null,null,null,null,null,{"$f":"IF(LEN(Z1645)>0,VLOOKUP(Z1645,'TFW Programs'!$A$2:$B$8,2,FALSE),\"\")","v":""},null,null,{"$f":"IF(LEN(A1645)>0,VLOOKUP(A1645,Subcontractors!$A$2:$B$4,2,FALSE),\"\")","v":""}]
[null,null,null,null,null,null,null,null,null,null,null,null,null,null,null,null,null,null,null,null,null,null,null,{"$f":"IF(LEN(Z1646)>0,VLOOKUP(Z1646,'TFW Programs'!$A$2:$B$8,2,FALSE),\"\")","v":""},null,null,{"$f":"IF(LEN(A1646)>0,VLOOKUP(A1646,Subcontractors!$A$2:$B$4,2,FALSE),\"\")","v":""}]
[null,null,null,null,null,null,null,null,null,null,null,null,null,null,null,null,null,null,null,null,null,null,null,{"$f":"IF(LEN(Z1650)>0,VLOOKUP(Z1650,'TFW Programs'!$A$2:$B$8,2,FALSE),\"\")","v":""},null,null,{"$f":"IF(LEN(A1650)>0,VLOOKUP(A1650,Subcontractors!$A$2:$B$4,2,FALSE),\"\")","v":""}]
[null,null,null,null,null,null,null,null,null,null,null,null,null,null,null,null,null,null,null,null,null,null,null,{"$f":"IF(LEN(Z1655)>0,VLOOKUP(Z1655,'TFW Programs'!$A$2:$B$8,2,FALSE),\"\")","v":""},null,null,{"$f":"IF(LEN(A1655)>0,VLOOKUP(A1655,Subcontractors!$A$2:$B$4,2,FALSE),\"\")","v":""}]
[null,null,null,null,null,null,null,null,null,null,null,null,null,null,null,null,null,null,null,null,null,null,null,{"$f":"IF(LEN(Z1660)>0,VLOOKUP(Z1660,'TFW Programs'!$A$2:$B$8,2,FALSE),\"\")","v":""},null,null,{"$f":"IF(LEN(A1660)>0,VLOOKUP(A1660,Subcontractors!$A$2:$B$4,2,FALSE),\"\")","v":""}]
[null,null,null,null,null,null,null,null,null,null,null,null,null,null,null,null,null,null,null,null,null,null,null,{"$f":"IF(LEN(Z1661)>0,VLOOKUP(Z1661,'TFW Programs'!$A$2:$B$8,2,FALSE),\"\")","v":""},null,null,{"$f":"IF(LEN(A1661)>0,VLOOKUP(A1661,Subcontractors!$A$2:$B$4,2,FALSE),\"\")","v":""}]
[null,null,null,null,null,null,null,null,null,null,null,null,null,null,null,null,null,null,null,null,null,null,null,{"$f":"IF(LEN(Z1667)>0,VLOOKUP(Z1667,'TFW Programs'!$A$2:$B$8,2,FALSE),\"\")","v":""},null,null,{"$f":"IF(LEN(A1667)>0,VLOOKUP(A1667,Subcontractors!$A$2:$B$4,2,FALSE),\"\")","v":""}]
[null,null,null,null,null,null,null,null,null,null,null,null,null,null,null,null,null,null,null,null,null,null,null,{"$f":"IF(LEN(Z1670)>0,VLOOKUP(Z1670,'TFW Programs'!$A$2:$B$8,2,FALSE),\"\")","v":""},null,null,{"$f":"IF(LEN(A1670)>0,VLOOKUP(A1670,Subcontractors!$A$2:$B$4,2,FALSE),\"\")","v":""}]
[null,null,null,null,null,null,null,null,null,null,null,null,null,null,null,null,null,null,null,null,null,null,null,{"$f":"IF(LEN(Z1675)>0,VLOOKUP(Z1675,'TFW Programs'!$A$2:$B$8,2,FALSE),\"\")","v":""},null,null,{"$f":"IF(LEN(A1675)>0,VLOOKUP(A1675,Subcontractors!$A$2:$B$4,2,FALSE),\"\")","v":""}]
[null,null,null,null,null,null,null,null,null,null,null,null,null,null,null,null,null,null,null,null,null,null,null,{"$f":"IF(LEN(Z1676)>0,VLOOKUP(Z1676,'TFW Programs'!$A$2:$B$8,2,FALSE),\"\")","v":""},null,null,{"$f":"IF(LEN(A1676)>0,VLOOKUP(A1676,Subcontractors!$A$2:$B$4,2,FALSE),\"\")","v":""}]
[null,null,null,null,null,null,null,null,null,null,null,null,null,null,null,null,null,null,null,null,null,null,null,{"$f":"IF(LEN(Z1681)>0,VLOOKUP(Z1681,'TFW Programs'!$A$2:$B$8,2,FALSE),\"\")","v":""},null,null,{"$f":"IF(LEN(A1681)>0,VLOOKUP(A1681,Subcontractors!$A$2:$B$4,2,FALSE),\"\")","v":""}]
[null,null,null,null,null,null,null,null,null,null,null,null,null,null,null,null,null,null,null,null,null,null,null,{"$f":"IF(LEN(Z1685)>0,VLOOKUP(Z1685,'TFW Programs'!$A$2:$B$8,2,FALSE),\"\")","v":""},null,null,{"$f":"IF(LEN(A1685)>0,VLOOKUP(A1685,Subcontractors!$A$2:$B$4,2,FALSE),\"\")","v":""}]
[null,null,null,null,null,null,null,null,null,null,null,null,null,null,null,null,null,null,null,null,null,null,null,{"$f":"IF(LEN(Z1690)>0,VLOOKUP(Z1690,'TFW Programs'!$A$2:$B$8,2,FALSE),\"\")","v":""},null,null,{"$f":"IF(LEN(A1690)>0,VLOOKUP(A1690,Subcontractors!$A$2:$B$4,2,FALSE),\"\")","v":""}]
[null,null,null,null,null,null,null,null,null,null,null,null,null,null,null,null,null,null,null,null,null,null,null,{"$f":"IF(LEN(Z1691)>0,VLOOKUP(Z1691,'TFW Programs'!$A$2:$B$8,2,FALSE),\"\")","v":""},null,null,{"$f":"IF(LEN(A1691)>0,VLOOKUP(A1691,Subcontractors!$A$2:$B$4,2,FALSE),\"\")","v":""}]
[null,null,null,null,null,null,null,null,null,null,null,null,null,null,null,null,null,null,null,null,null,null,null,{"$f":"IF(LEN(Z1696)>0,VLOOKUP(Z1696,'TFW Programs'!$A$2:$B$8,2,FALSE),\"\")","v":""},null,null,{"$f":"IF(LEN(A1696)>0,VLOOKUP(A1696,Subcontractors!$A$2:$B$4,2,FALSE),\"\")","v":""}]
[null,null,null,null,null,null,null,null,null,null,null,null,null,null,null,null,null,null,null,null,null,null,null,{"$f":"IF(LEN(Z1701)>0,VLOOKUP(Z1701,'TFW Programs'!$A$2:$B$8,2,FALSE),\"\")","v":""},null,null,{"$f":"IF(LEN(A1701)>0,VLOOKUP(A1701,Subcontractors!$A$2:$B$4,2,FALSE),\"\")","v":""}]
[null,null,null,null,null,null,null,null,null,null,null,null,null,null,null,null,null,null,null,null,null,null,null,{"$f":"IF(LEN(Z1705)>0,VLOOKUP(Z1705,'TFW Programs'!$A$2:$B$8,2,FALSE),\"\")","v":""},null,null,{"$f":"IF(LEN(A1705)>0,VLOOKUP(A1705,Subcontractors!$A$2:$B$4,2,FALSE),\"\")","v":""}]
[null,null,null,null,null,null,null,null,null,null,null,null,null,null,null,null,null,null,null,null,null,null,null,{"$f":"IF(LEN(Z1706)>0,VLOOKUP(Z1706,'TFW Programs'!$A$2:$B$8,2,FALSE),\"\")","v":""},null,null,{"$f":"IF(LEN(A1706)>0,VLOOKUP(A1706,Subcontractors!$A$2:$B$4,2,FALSE),\"\")","v":""}]
[null,null,null,null,null,null,null,null,null,null,null,null,null,null,null,null,null,null,null,null,null,null,null,{"$f":"IF(LEN(Z1711)>0,VLOOKUP(Z1711,'TFW Programs'!$A$2:$B$8,2,FALSE),\"\")","v":""},null,null,{"$f":"IF(LEN(A1711)>0,VLOOKUP(A1711,Subcontractors!$A$2:$B$4,2,FALSE),\"\")","v":""}]
[null,null,null,null,null,null,null,null,null,null,null,null,null,null,null,null,null,null,null,null,null,null,null,{"$f":"IF(LEN(Z1716)>0,VLOOKUP(Z1716,'TFW Programs'!$A$2:$B$8,2,FALSE),\"\")","v":""},null,null,{"$f":"IF(LEN(A1716)>0,VLOOKUP(A1716,Subcontractors!$A$2:$B$4,2,FALSE),\"\")","v":""}]
[null,null,null,null,null,null,null,null,null,null,null,null,null,null,null,null,null,null,null,null,null,null,null,{"$f":"IF(LEN(Z1719)>0,VLOOKUP(Z1719,'TFW Programs'!$A$2:$B$8,2,FALSE),\"\")","v":""},null,null,{"$f":"IF(LEN(A1719)>0,VLOOKUP(A1719,Subcontractors!$A$2:$B$4,2,FALSE),\"\")","v":""}]
[null,null,null,null,null,null,null,null,null,null,null,null,null,null,null,null,null,null,null,null,null,null,null,{"$f":"IF(LEN(Z1721)>0,VLOOKUP(Z1721,'TFW Programs'!$A$2:$B$8,2,FALSE),\"\")","v":""},null,null,{"$f":"IF(LEN(A1721)>0,VLOOKUP(A1721,Subcontractors!$A$2:$B$4,2,FALSE),\"\")","v":""}]
[null,null,null,null,null,null,null,null,null,null,null,null,null,null,null,null,null,null,null,null,null,null,null,{"$f":"IF(LEN(Z1726)>0,VLOOKUP(Z1726,'TFW Programs'!$A$2:$B$8,2,FALSE),\"\")","v":""},null,null,{"$f":"IF(LEN(A1726)>0,VLOOKUP(A1726,Subcontractors!$A$2:$B$4,2,FALSE),\"\")","v":""}]
[null,null,null,null,null,null,null,null,null,null,null,null,null,null,null,null,null,null,null,null,null,null,null,{"$f":"IF(LEN(Z1731)>0,VLOOKUP(Z1731,'TFW Programs'!$A$2:$B$8,2,FALSE),\"\")","v":""},null,null,{"$f":"IF(LEN(A1731)>0,VLOOKUP(A1731,Subcontractors!$A$2:$B$4,2,FALSE),\"\")","v":""}]
[null,null,null,null,null,null,null,null,null,null,null,null,null,null,null,null,null,null,null,null,null,null,null,{"$f":"IF(LEN(Z1733)>0,VLOOKUP(Z1733,'TFW Programs'!$A$2:$B$8,2,FALSE),\"\")","v":""},null,null,{"$f":"IF(LEN(A1733)>0,VLOOKUP(A1733,Subcontractors!$A$2:$B$4,2,FALSE),\"\")","v":""}]
[null,null,null,null,null,null,null,null,null,null,null,null,null,null,null,null,null,null,null,null,null,null,null,{"$f":"IF(LEN(Z1736)>0,VLOOKUP(Z1736,'TFW Programs'!$A$2:$B$8,2,FALSE),\"\")","v":""},null,null,{"$f":"IF(LEN(A1736)>0,VLOOKUP(A1736,Subcontractors!$A$2:$B$4,2,FALSE),\"\")","v":""}]
[null,null,null,null,null,null,null,null,null,null,null,null,null,null,null,null,null,null,null,null,null,null,null,{"$f":"IF(LEN(Z1741)>0,VLOOKUP(Z1741,'TFW Programs'!$A$2:$B$8,2,FALSE),\"\")","v":""},null,null,{"$f":"IF(LEN(A1741)>0,VLOOKUP(A1741,Subcontractors!$A$2:$B$4,2,FALSE),\"\")","v":""}]
[null,null,null,null,null,null,null,null,null,null,null,null,null,null,null,null,null,null,null,null,null,null,null,{"$f":"IF(LEN(Z1746)>0,VLOOKUP(Z1746,'TFW Programs'!$A$2:$B$8,2,FALSE),\"\")","v":""},null,null,{"$f":"IF(LEN(A1746)>0,VLOOKUP(A1746,Subcontractors!$A$2:$B$4,2,FALSE),\"\")","v":""}]
[null,null,null,null,null,null,null,null,null,null,null,null,null,null,null,null,null,null,null,null,null,null,null,{"$f":"IF(LEN(Z1751)>0,VLOOKUP(Z1751,'TFW Programs'!$A$2:$B$8,2,FALSE),\"\")","v":""},null,null,{"$f":"IF(LEN(A1751)>0,VLOOKUP(A1751,Subcontractors!$A$2:$B$4,2,FALSE),\"\")","v":""}]
[null,null,null,null,null,null,null,null,null,null,null,null,null,null,null,null,null,null,null,null,null,null,null,{"$f":"IF(LEN(Z1754)>0,VLOOKUP(Z1754,'TFW Programs'!$A$2:$B$8,2,FALSE),\"\")","v":""},null,null,{"$f":"IF(LEN(A1754)>0,VLOOKUP(A1754,Subcontractors!$A$2:$B$4,2,FALSE),\"\")","v":""}]
[null,null,null,null,null,null,null,null,null,null,null,null,null,null,null,null,null,null,null,null,null,null,null,{"$f":"IF(LEN(Z1756)>0,VLOOKUP(Z1756,'TFW Programs'!$A$2:$B$8,2,FALSE),\"\")","v":""},null,null,{"$f":"IF(LEN(A1756)>0,VLOOKUP(A1756,Subcontractors!$A$2:$B$4,2,FALSE),\"\")","v":""}]
[null,null,null,null,null,null,null,null,null,null,null,null,null,null,null,null,null,null,null,null,null,null,null,{"$f":"IF(LEN(Z1761)>0,VLOOKUP(Z1761,'TFW Programs'!$A$2:$B$8,2,FALSE),\"\")","v":""},null,null,{"$f":"IF(LEN(A1761)>0,VLOOKUP(A1761,Subcontractors!$A$2:$B$4,2,FALSE),\"\")","v":""}]
[null,null,null,null,null,null,null,null,null,null,null,null,null,null,null,null,null,null,null,null,null,null,null,{"$f":"IF(LEN(Z1766)>0,VLOOKUP(Z1766,'TFW Programs'!$A$2:$B$8,2,FALSE),\"\")","v":""},null,null,{"$f":"IF(LEN(A1766)>0,VLOOKUP(A1766,Subcontractors!$A$2:$B$4,2,FALSE),\"\")","v":""}]
[null,null,null,null,null,null,null,null,null,null,null,null,null,null,null,null,null,null,null,null,null,null,null,{"$f":"IF(LEN(Z1767)>0,VLOOKUP(Z1767,'TFW Programs'!$A$2:$B$8,2,FALSE),\"\")","v":""},null,null,{"$f":"IF(LEN(A1767)>0,VLOOKUP(A1767,Subcontractors!$A$2:$B$4,2,FALSE),\"\")","v":""}]
[null,null,null,null,null,null,null,null,null,null,null,null,null,null,null,null,null,null,null,null,null,null,null,{"$f":"IF(LEN(Z1771)>0,VLOOKUP(Z1771,'TFW Programs'!$A$2:$B$8,2,FALSE),\"\")","v":""},null,null,{"$f":"IF(LEN(A1771)>0,VLOOKUP(A1771,Subcontractors!$A$2:$B$4,2,FALSE),\"\")","v":""}]
[null,null,null,null,null,null,null,null,null,null,null,null,null,null,null,null,null,null,null,null,null,null,null,{"$f":"IF(LEN(Z1776)>0,VLOOKUP(Z1776,'TFW Programs'!$A$2:$B$8,2,FALSE),\"\")","v":""},null,null,{"$f":"IF(LEN(A1776)>0,VLOOKUP(A1776,Subcontractors!$A$2:$B$4,2,FALSE),\"\")","v":""}]
[null,null,null,null,null,null,null,null,null,null,null,null,null,null,null,null,null,null,null,null,null,null,null,{"$f":"IF(LEN(Z1781)>0,VLOOKUP(Z1781,'TFW Programs'!$A$2:$B$8,2,FALSE),\"\")","v":""},null,null,{"$f":"IF(LEN(A1781)>0,VLOOKUP(A1781,Subcontractors!$A$2:$B$4,2,FALSE),\"\")","v":""}]
[null,null,null,null,null,null,null,null,null,null,null,null,null,null,null,null,null,null,null,null,null,null,null,{"$f":"IF(LEN(Z1784)>0,VLOOKUP(Z1784,'TFW Programs'!$A$2:$B$8,2,FALSE),\"\")","v":""},null,null,{"$f":"IF(LEN(A1784)>0,VLOOKUP(A1784,Subcontractors!$A$2:$B$4,2,FALSE),\"\")","v":""}]
[null,null,null,null,null,null,null,null,null,null,null,null,null,null,null,null,null,null,null,null,null,null,null,{"$f":"IF(LEN(Z1786)>0,VLOOKUP(Z1786,'TFW Programs'!$A$2:$B$8,2,FALSE),\"\")","v":""},null,null,{"$f":"IF(LEN(A1786)>0,VLOOKUP(A1786,Subcontractors!$A$2:$B$4,2,FALSE),\"\")","v":""}]
[null,null,null,null,null,null,null,null,null,null,null,null,null,null,null,null,null,null,null,null,null,null,null,{"$f":"IF(LEN(Z1791)>0,VLOOKUP(Z1791,'TFW Programs'!$A$2:$B$8,2,FALSE),\"\")","v":""},null,null,{"$f":"IF(LEN(A1791)>0,VLOOKUP(A1791,Subcontractors!$A$2:$B$4,2,FALSE),\"\")","v":""}]
[null,null,null,null,null,null,null,null,null,null,null,null,null,null,null,null,null,null,null,null,null,null,null,{"$f":"IF(LEN(Z1796)>0,VLOOKUP(Z1796,'TFW Programs'!$A$2:$B$8,2,FALSE),\"\")","v":""},null,null,{"$f":"IF(LEN(A1796)>0,VLOOKUP(A1796,Subcontractors!$A$2:$B$4,2,FALSE),\"\")","v":""}]
[null,null,null,null,null,null,null,null,null,null,null,null,null,null,null,null,null,null,null,null,null,null,null,{"$f":"IF(LEN(Z1797)>0,VLOOKUP(Z1797,'TFW Programs'!$A$2:$B$8,2,FALSE),\"\")","v":""},null,null,{"$f":"IF(LEN(A1797)>0,VLOOKUP(A1797,Subcontractors!$A$2:$B$4,2,FALSE),\"\")","v":""}]
[null,null,null,null,null,null,null,null,null,null,null,null,null,null,null,null,null,null,null,null,null,null,null,{"$f":"IF(LEN(Z1801)>0,VLOOKUP(Z1801,'TFW Programs'!$A$2:$B$8,2,FALSE),\"\")","v":""},null,null,{"$f":"IF(LEN(A1801)>0,VLOOKUP(A1801,Subcontractors!$A$2:$B$4,2,FALSE),\"\")","v":""}]
[null,null,null,null,null,null,null,null,null,null,null,null,null,null,null,null,null,null,null,null,null,null,null,{"$f":"IF(LEN(Z1806)>0,VLOOKUP(Z1806,'TFW Programs'!$A$2:$B$8,2,FALSE),\"\")","v":""},null,null,{"$f":"IF(LEN(A1806)>0,VLOOKUP(A1806,Subcontractors!$A$2:$B$4,2,FALSE),\"\")","v":""}]
[null,null,null,null,null,null,null,null,null,null,null,null,null,null,null,null,null,null,null,null,null,null,null,{"$f":"IF(LEN(Z1811)>0,VLOOKUP(Z1811,'TFW Programs'!$A$2:$B$8,2,FALSE),\"\")","v":""},null,null,{"$f":"IF(LEN(A1811)>0,VLOOKUP(A1811,Subcontractors!$A$2:$B$4,2,FALSE),\"\")","v":""}]
[null,null,null,null,null,null,null,null,null,null,null,null,null,null,null,null,null,null,null,null,null,null,null,{"$f":"IF(LEN(Z1812)>0,VLOOKUP(Z1812,'TFW Programs'!$A$2:$B$8,2,FALSE),\"\")","v":""},null,null,{"$f":"IF(LEN(A1812)>0,VLOOKUP(A1812,Subcontractors!$A$2:$B$4,2,FALSE),\"\")","v":""}]
[null,null,null,null,null,null,null,null,null,null,null,null,null,null,null,null,null,null,null,null,null,null,null,{"$f":"IF(LEN(Z1818)>0,VLOOKUP(Z1818,'TFW Programs'!$A$2:$B$8,2,FALSE),\"\")","v":""},null,null,{"$f":"IF(LEN(A1818)>0,VLOOKUP(A1818,Subcontractors!$A$2:$B$4,2,FALSE),\"\")","v":""}]
[null,null,null,null,null,null,null,null,null,null,null,null,null,null,null,null,null,null,null,null,null,null,null,{"$f":"IF(LEN(Z1821)>0,VLOOKUP(Z1821,'TFW Programs'!$A$2:$B$8,2,FALSE),\"\")","v":""},null,null,{"$f":"IF(LEN(A1821)>0,VLOOKUP(A1821,Subcontractors!$A$2:$B$4,2,FALSE),\"\")","v":""}]
[null,null,null,null,null,null,null,null,null,null,null,null,null,null,null,null,null,null,null,null,null,null,null,{"$f":"IF(LEN(Z1826)>0,VLOOKUP(Z1826,'TFW Programs'!$A$2:$B$8,2,FALSE),\"\")","v":""},null,null,{"$f":"IF(LEN(A1826)>0,VLOOKUP(A1826,Subcontractors!$A$2:$B$4,2,FALSE),\"\")","v":""}]
[null,null,null,null,null,null,null,null,null,null,null,null,null,null,null,null,null,null,null,null,null,null,null,{"$f":"IF(LEN(Z1827)>0,VLOOKUP(Z1827,'TFW Programs'!$A$2:$B$8,2,FALSE),\"\")","v":""},null,null,{"$f":"IF(LEN(A1827)>0,VLOOKUP(A1827,Subcontractors!$A$2:$B$4,2,FALSE),\"\")","v":""}]
[null,null,null,null,null,null,null,null,null,null,null,null,null,null,null,null,null,null,null,null,null,null,null,{"$f":"IF(LEN(Z1832)>0,VLOOKUP(Z1832,'TFW Programs'!$A$2:$B$8,2,FALSE),\"\")","v":""},null,null,{"$f":"IF(LEN(A1832)>0,VLOOKUP(A1832,Subcontractors!$A$2:$B$4,2,FALSE),\"\")","v":""}]
[null,null,null,null,null,null,null,null,null,null,null,null,null,null,null,null,null,null,null,null,null,null,null,{"$f":"IF(LEN(Z1836)>0,VLOOKUP(Z1836,'TFW Programs'!$A$2:$B$8,2,FALSE),\"\")","v":""},null,null,{"$f":"IF(LEN(A1836)>0,VLOOKUP(A1836,Subcontractors!$A$2:$B$4,2,FALSE),\"\")","v":""}]
[null,null,null,null,null,null,null,null,null,null,null,null,null,null,null,null,null,null,null,null,null,null,null,{"$f":"IF(LEN(Z1841)>0,VLOOKUP(Z1841,'TFW Programs'!$A$2:$B$8,2,FALSE),\"\")","v":""},null,null,{"$f":"IF(LEN(A1841)>0,VLOOKUP(A1841,Subcontractors!$A$2:$B$4,2,FALSE),\"\")","v":""}]
[null,null,null,null,null,null,null,null,null,null,null,null,null,null,null,null,null,null,null,null,null,null,null,{"$f":"IF(LEN(Z1842)>0,VLOOKUP(Z1842,'TFW Programs'!$A$2:$B$8,2,FALSE),\"\")","v":""},null,null,{"$f":"IF(LEN(A1842)>0,VLOOKUP(A1842,Subcontractors!$A$2:$B$4,2,FALSE),\"\")","v":""}]
[null,null,null,null,null,null,null,null,null,null,null,null,null,null,null,null,null,null,null,null,null,null,null,{"$f":"IF(LEN(Z1847)>0,VLOOKUP(Z1847,'TFW Programs'!$A$2:$B$8,2,FALSE),\"\")","v":""},null,null,{"$f":"IF(LEN(A1847)>0,VLOOKUP(A1847,Subcontractors!$A$2:$B$4,2,FALSE),\"\")","v":""}]
[null,null,null,null,null,null,null,null,null,null,null,null,null,null,null,null,null,null,null,null,null,null,null,{"$f":"IF(LEN(Z1852)>0,VLOOKUP(Z1852,'TFW Programs'!$A$2:$B$8,2,FALSE),\"\")","v":""},null,null,{"$f":"IF(LEN(A1852)>0,VLOOKUP(A1852,Subcontractors!$A$2:$B$4,2,FALSE),\"\")","v":""}]
[null,null,null,null,null,null,null,null,null,null,null,null,null,null,null,null,null,null,null,null,null,null,null,{"$f":"IF(LEN(Z1856)>0,VLOOKUP(Z1856,'TFW Programs'!$A$2:$B$8,2,FALSE),\"\")","v":""},null,null,{"$f":"IF(LEN(A1856)>0,VLOOKUP(A1856,Subcontractors!$A$2:$B$4,2,FALSE),\"\")","v":""}]
[null,null,null,null,null,null,null,null,null,null,null,null,null,null,null,null,null,null,null,null,null,null,null,{"$f":"IF(LEN(Z1857)>0,VLOOKUP(Z1857,'TFW Programs'!$A$2:$B$8,2,FALSE),\"\")","v":""},null,null,{"$f":"IF(LEN(A1857)>0,VLOOKUP(A1857,Subcontractors!$A$2:$B$4,2,FALSE),\"\")","v":""}]
[null,null,null,null,null,null,null,null,null,null,null,null,null,null,null,null,null,null,null,null,null,null,null,{"$f":"IF(LEN(Z1862)>0,VLOOKUP(Z1862,'TFW Programs'!$A$2:$B$8,2,FALSE),\"\")","v":""},null,null,{"$f":"IF(LEN(A1862)>0,VLOOKUP(A1862,Subcontractors!$A$2:$B$4,2,FALSE),\"\")","v":""}]
[null,null,null,null,null,null,null,null,null,null,null,null,null,null,null,null,null,null,null,null,null,null,null,{"$f":"IF(LEN(Z1867)>0,VLOOKUP(Z1867,'TFW Programs'!$A$2:$B$8,2,FALSE),\"\")","v":""},null,null,{"$f":"IF(LEN(A1867)>0,VLOOKUP(A1867,Subcontractors!$A$2:$B$4,2,FALSE),\"\")","v":""}]
[null,null,null,null,null,null,null,null,null,null,null,null,null,null,null,null,null,null,null,null,null,null,null,{"$f":"IF(LEN(Z1870)>0,VLOOKUP(Z1870,'TFW Programs'!$A$2:$B$8,2,FALSE),\"\")","v":""},null,null,{"$f":"IF(LEN(A1870)>0,VLOOKUP(A1870,Subcontractors!$A$2:$B$4,2,FALSE),\"\")","v":""}]
[null,null,null,null,null,null,null,null,null,null,null,null,null,null,null,null,null,null,null,null,null,null,null,{"$f":"IF(LEN(Z1872)>0,VLOOKUP(Z1872,'TFW Programs'!$A$2:$B$8,2,FALSE),\"\")","v":""},null,null,{"$f":"IF(LEN(A1872)>0,VLOOKUP(A1872,Subcontractors!$A$2:$B$4,2,FALSE),\"\")","v":""}]
[null,null,null,null,null,null,null,null,null,null,null,null,null,null,null,null,null,null,null,null,null,null,null,{"$f":"IF(LEN(Z1877)>0,VLOOKUP(Z1877,'TFW Programs'!$A$2:$B$8,2,FALSE),\"\")","v":""},null,null,{"$f":"IF(LEN(A1877)>0,VLOOKUP(A1877,Subcontractors!$A$2:$B$4,2,FALSE),\"\")","v":""}]
[null,null,null,null,null,null,null,null,null,null,null,null,null,null,null,null,null,null,null,null,null,null,null,{"$f":"IF(LEN(Z1882)>0,VLOOKUP(Z1882,'TFW Programs'!$A$2:$B$8,2,FALSE),\"\")","v":""},null,null,{"$f":"IF(LEN(A1882)>0,VLOOKUP(A1882,Subcontractors!$A$2:$B$4,2,FALSE),\"\")","v":""}]
[null,null,null,null,null,null,null,null,null,null,null,null,null,null,null,null,null,null,null,null,null,null,null,{"$f":"IF(LEN(Z1884)>0,VLOOKUP(Z1884,'TFW Programs'!$A$2:$B$8,2,FALSE),\"\")","v":""},null,null,{"$f":"IF(LEN(A1884)>0,VLOOKUP(A1884,Subcontractors!$A$2:$B$4,2,FALSE),\"\")","v":""}]
[null,null,null,null,null,null,null,null,null,null,null,null,null,null,null,null,null,null,null,null,null,null,null,{"$f":"IF(LEN(Z1887)>0,VLOOKUP(Z1887,'TFW Programs'!$A$2:$B$8,2,FALSE),\"\")","v":""},null,null,{"$f":"IF(LEN(A1887)>0,VLOOKUP(A1887,Subcontractors!$A$2:$B$4,2,FALSE),\"\")","v":""}]
[null,null,null,null,null,null,null,null,null,null,null,null,null,null,null,null,null,null,null,null,null,null,null,{"$f":"IF(LEN(Z1892)>0,VLOOKUP(Z1892,'TFW Programs'!$A$2:$B$8,2,FALSE),\"\")","v":""},null,null,{"$f":"IF(LEN(A1892)>0,VLOOKUP(A1892,Subcontractors!$A$2:$B$4,2,FALSE),\"\")","v":""}]
[null,null,null,null,null,null,null,null,null,null,null,null,null,null,null,null,null,null,null,null,null,null,null,{"$f":"IF(LEN(Z1897)>0,VLOOKUP(Z1897,'TFW Programs'!$A$2:$B$8,2,FALSE),\"\")","v":""},null,null,{"$f":"IF(LEN(A1897)>0,VLOOKUP(A1897,Subcontractors!$A$2:$B$4,2,FALSE),\"\")","v":""}]
[null,null,null,null,null,null,null,null,null,null,null,null,null,null,null,null,null,null,null,null,null,null,null,{"$f":"IF(LEN(Z1900)>0,VLOOKUP(Z1900,'TFW Programs'!$A$2:$B$8,2,FALSE),\"\")","v":""},null,null,{"$f":"IF(LEN(A1900)>0,VLOOKUP(A1900,Subcontractors!$A$2:$B$4,2,FALSE),\"\")","v":""}]
[null,null,null,null,null,null,null,null,null,null,null,null,null,null,null,null,null,null,null,null,null,null,null,{"$f":"IF(LEN(Z1902)>0,VLOOKUP(Z1902,'TFW Programs'!$A$2:$B$8,2,FALSE),\"\")","v":""},null,null,{"$f":"IF(LEN(A1902)>0,VLOOKUP(A1902,Subcontractors!$A$2:$B$4,2,FALSE),\"\")","v":""}]
[null,null,null,null,null,null,null,null,null,null,null,null,null,null,null,null,null,null,null,null,null,null,null,{"$f":"IF(LEN(Z1907)>0,VLOOKUP(Z1907,'TFW Programs'!$A$2:$B$8,2,FALSE),\"\")","v":""},null,null,{"$f":"IF(LEN(A1907)>0,VLOOKUP(A1907,Subcontractors!$A$2:$B$4,2,FALSE),\"\")","v":""}]
[null,null,null,null,null,null,null,null,null,null,null,null,null,null,null,null,null,null,null,null,null,null,null,{"$f":"IF(LEN(Z1912)>0,VLOOKUP(Z1912,'TFW Programs'!$A$2:$B$8,2,FALSE),\"\")","v":""},null,null,{"$f":"IF(LEN(A1912)>0,VLOOKUP(A1912,Subcontractors!$A$2:$B$4,2,FALSE),\"\")","v":""}]
[null,null,null,null,null,null,null,null,null,null,null,null,null,null,null,null,null,null,null,null,null,null,null,{"$f":"IF(LEN(Z1917)>0,VLOOKUP(Z1917,'TFW Programs'!$A$2:$B$8,2,FALSE),\"\")","v":""},null,null,{"$f":"IF(LEN(A1917)>0,VLOOKUP(A1917,Subcontractors!$A$2:$B$4,2,FALSE),\"\")","v":""}]
[null,null,null,null,null,null,null,null,null,null,null,null,null,null,null,null,null,null,null,null,null,null,null,{"$f":"IF(LEN(Z1918)>0,VLOOKUP(Z1918,'TFW Programs'!$A$2:$B$8,2,FALSE),\"\")","v":""},null,null,{"$f":"IF(LEN(A1918)>0,VLOOKUP(A1918,Subcontractors!$A$2:$B$4,2,FALSE),\"\")","v":""}]
[null,null,null,null,null,null,null,null,null,null,null,null,null,null,null,null,null,null,null,null,null,null,null,{"$f":"IF(LEN(Z1922)>0,VLOOKUP(Z1922,'TFW Programs'!$A$2:$B$8,2,FALSE),\"\")","v":""},null,null,{"$f":"IF(LEN(A1922)>0,VLOOKUP(A1922,Subcontractors!$A$2:$B$4,2,FALSE),\"\")","v":""}]
[null,null,null,null,null,null,null,null,null,null,null,null,null,null,null,null,null,null,null,null,null,null,null,{"$f":"IF(LEN(Z1927)>0,VLOOKUP(Z1927,'TFW Programs'!$A$2:$B$8,2,FALSE),\"\")","v":""},null,null,{"$f":"IF(LEN(A1927)>0,VLOOKUP(A1927,Subcontractors!$A$2:$B$4,2,FALSE),\"\")","v":""}]
[null,null,null,null,null,null,null,null,null,null,null,null,null,null,null,null,null,null,null,null,null,null,null,{"$f":"IF(LEN(Z1932)>0,VLOOKUP(Z1932,'TFW Programs'!$A$2:$B$8,2,FALSE),\"\")","v":""},null,null,{"$f":"IF(LEN(A1932)>0,VLOOKUP(A1932,Subcontractors!$A$2:$B$4,2,FALSE),\"\")","v":""}]
[null,null,null,null,null,null,null,null,null,null,null,null,null,null,null,null,null,null,null,null,null,null,null,{"$f":"IF(LEN(Z1935)>0,VLOOKUP(Z1935,'TFW Programs'!$A$2:$B$8,2,FALSE),\"\")","v":""},null,null,{"$f":"IF(LEN(A1935)>0,VLOOKUP(A1935,Subcontractors!$A$2:$B$4,2,FALSE),\"\")","v":""}]
[null,null,null,null,null,null,null,null,null,null,null,null,null,null,null,null,null,null,null,null,null,null,null,{"$f":"IF(LEN(Z1937)>0,VLOOKUP(Z1937,'TFW Programs'!$A$2:$B$8,2,FALSE),\"\")","v":""},null,null,{"$f":"IF(LEN(A1937)>0,VLOOKUP(A1937,Subcontractors!$A$2:$B$4,2,FALSE),\"\")","v":""}]
[null,null,null,null,null,null,null,null,null,null,null,null,null,null,null,null,null,null,null,null,null,null,null,{"$f":"IF(LEN(Z1942)>0,VLOOKUP(Z1942,'TFW Programs'!$A$2:$B$8,2,FALSE),\"\")","v":""},null,null,{"$f":"IF(LEN(A1942)>0,VLOOKUP(A1942,Subcontractors!$A$2:$B$4,2,FALSE),\"\")","v":""}]
[null,null,null,null,null,null,null,null,null,null,null,null,null,null,null,null,null,null,null,null,null,null,null,{"$f":"IF(LEN(Z1947)>0,VLOOKUP(Z1947,'TFW Programs'!$A$2:$B$8,2,FALSE),\"\")","v":""},null,null,{"$f":"IF(LEN(A1947)>0,VLOOKUP(A1947,Subcontractors!$A$2:$B$4,2,FALSE),\"\")","v":""}]
[null,null,null,null,null,null,null,null,null,null,null,null,null,null,null,null,null,null,null,null,null,null,null,{"$f":"IF(LEN(Z1948)>0,VLOOKUP(Z1948,'TFW Programs'!$A$2:$B$8,2,FALSE),\"\")","v":""},null,null,{"$f":"IF(LEN(A1948)>0,VLOOKUP(A1948,Subcontractors!$A$2:$B$4,2,FALSE),\"\")","v":""}]
[null,null,null,null,null,null,null,null,null,null,null,null,null,null,null,null,null,null,null,null,null,null,null,{"$f":"IF(LEN(Z1953)>0,VLOOKUP(Z1953,'TFW Programs'!$A$2:$B$8,2,FALSE),\"\")","v":""},null,null,{"$f":"IF(LEN(A1953)>0,VLOOKUP(A1953,Subcontractors!$A$2:$B$4,2,FALSE),\"\")","v":""}]
[null,null,null,null,null,null,null,null,null,null,null,null,null,null,null,null,null,null,null,null,null,null,null,{"$f":"IF(LEN(Z1957)>0,VLOOKUP(Z1957,'TFW Programs'!$A$2:$B$8,2,FALSE),\"\")","v":""},null,null,{"$f":"IF(LEN(A1957)>0,VLOOKUP(A1957,Subcontractors!$A$2:$B$4,2,FALSE),\"\")","v":""}]
[null,null,null,null,null,null,null,null,null,null,null,null,null,null,null,null,null,null,null,null,null,null,null,{"$f":"IF(LEN(Z1962)>0,VLOOKUP(Z1962,'TFW Programs'!$A$2:$B$8,2,FALSE),\"\")","v":""},null,null,{"$f":"IF(LEN(A1962)>0,VLOOKUP(A1962,Subcontractors!$A$2:$B$4,2,FALSE),\"\")","v":""}]
[null,null,null,null,null,null,null,null,null,null,null,null,null,null,null,null,null,null,null,null,null,null,null,{"$f":"IF(LEN(Z1963)>0,VLOOKUP(Z1963,'TFW Programs'!$A$2:$B$8,2,FALSE),\"\")","v":""},null,null,{"$f":"IF(LEN(A1963)>0,VLOOKUP(A1963,Subcontractors!$A$2:$B$4,2,FALSE),\"\")","v":""}]
[null,null,null,null,null,null,null,null,null,null,null,null,null,null,null,null,null,null,null,null,null,null,null,{"$f":"IF(LEN(Z1969)>0,VLOOKUP(Z1969,'TFW Programs'!$A$2:$B$8,2,FALSE),\"\")","v":""},null,null,{"$f":"IF(LEN(A1969)>0,VLOOKUP(A1969,Subcontractors!$A$2:$B$4,2,FALSE),\"\")","v":""}]
[null,null,null,null,null,null,null,null,null,null,null,null,null,null,null,null,null,null,null,null,null,null,null,{"$f":"IF(LEN(Z1972)>0,VLOOKUP(Z1972,'TFW Programs'!$A$2:$B$8,2,FALSE),\"\")","v":""},null,null,{"$f":"IF(LEN(A1972)>0,VLOOKUP(A1972,Subcontractors!$A$2:$B$4,2,FALSE),\"\")","v":""}]
[null,null,null,null,null,null,null,null,null,null,null,null,null,null,null,null,null,null,null,null,null,null,null,{"$f":"IF(LEN(Z1977)>0,VLOOKUP(Z1977,'TFW Programs'!$A$2:$B$8,2,FALSE),\"\")","v":""},null,null,{"$f":"IF(LEN(A1977)>0,VLOOKUP(A1977,Subcontractors!$A$2:$B$4,2,FALSE),\"\")","v":""}]
[null,null,null,null,null,null,null,null,null,null,null,null,null,null,null,null,null,null,null,null,null,null,null,{"$f":"IF(LEN(Z1978)>0,VLOOKUP(Z1978,'TFW Programs'!$A$2:$B$8,2,FALSE),\"\")","v":""},null,null,{"$f":"IF(LEN(A1978)>0,VLOOKUP(A1978,Subcontractors!$A$2:$B$4,2,FALSE),\"\")","v":""}]
[null,null,null,null,null,null,null,null,null,null,null,null,null,null,null,null,null,null,null,null,null,null,null,{"$f":"IF(LEN(Z1983)>0,VLOOKUP(Z1983,'TFW Programs'!$A$2:$B$8,2,FALSE),\"\")","v":""},null,null,{"$f":"IF(LEN(A1983)>0,VLOOKUP(A1983,Subcontractors!$A$2:$B$4,2,FALSE),\"\")","v":""}]
[null,null,null,null,null,null,null,null,null,null,null,null,null,null,null,null,null,null,null,null,null,null,null,{"$f":"IF(LEN(Z1987)>0,VLOOKUP(Z1987,'TFW Programs'!$A$2:$B$8,2,FALSE),\"\")","v":""},null,null,{"$f":"IF(LEN(A1987)>0,VLOOKUP(A1987,Subcontractors!$A$2:$B$4,2,FALSE),\"\")","v":""}]
[null,null,null,null,null,null,null,null,null,null,null,null,null,null,null,null,null,null,null,null,null,null,null,{"$f":"IF(LEN(Z1992)>0,VLOOKUP(Z1992,'TFW Programs'!$A$2:$B$8,2,FALSE),\"\")","v":""},null,null,{"$f":"IF(LEN(A1992)>0,VLOOKUP(A1992,Subcontractors!$A$2:$B$4,2,FALSE),\"\")","v":""}]
[null,null,null,null,null,null,null,null,null,null,null,null,null,null,null,null,null,null,null,null,null,null,null,{"$f":"IF(LEN(Z1993)>0,VLOOKUP(Z1993,'TFW Programs'!$A$2:$B$8,2,FALSE),\"\")","v":""},null,null,{"$f":"IF(LEN(A1993)>0,VLOOKUP(A1993,Subcontractors!$A$2:$B$4,2,FALSE),\"\")","v":""}]
[null,null,null,null,null,null,null,null,null,null,null,null,null,null,null,null,null,null,null,null,null,null,null,{"$f":"IF(LEN(Z1998)>0,VLOOKUP(Z1998,'TFW Programs'!$A$2:$B$8,2,FALSE),\"\")","v":""},null,null,{"$f":"IF(LEN(A1998)>0,VLOOKUP(A1998,Subcontractors!$A$2:$B$4,2,FALSE),\"\")","v":""}]
[null,null,null,null,null,null,null,null,null,null,null,null,null,null,null,null,null,null,null,null,null,null,null,{"$f":"IF(LEN(Z2001)>0,VLOOKUP(Z2001,'TFW Programs'!$A$2:$B$8,2,FALSE),\"\")","v":""},null,null,{"$f":"IF(LEN(A2001)>0,VLOOKUP(A2001,Subcontractors!$A$2:$B$4,2,FALSE),\"\")","v":""}]
[null,null,null,null,null,null,null,null,null,null,null,null,null,null,null,null,null,null,null,null,null,null,null,{"$f":"IF(LEN(Z2007)>0,VLOOKUP(Z2007,'TFW Programs'!$A$2:$B$8,2,FALSE),\"\")","v":""},null,null,{"$f":"IF(LEN(A2007)>0,VLOOKUP(A2007,Subcontractors!$A$2:$B$4,2,FALSE),\"\")","v":""}]
[null,null,null,null,null,null,null,null,null,null,null,null,null,null,null,null,null,null,null,null,null,null,null,{"$f":"IF(LEN(Z2008)>0,VLOOKUP(Z2008,'TFW Programs'!$A$2:$B$8,2,FALSE),\"\")","v":""},null,null,{"$f":"IF(LEN(A2008)>0,VLOOKUP(A2008,Subcontractors!$A$2:$B$4,2,FALSE),\"\")","v":""}]
[null,null,null,null,null,null,null,null,null,null,null,null,null,null,null,null,null,null,null,null,null,null,null,{"$f":"IF(LEN(Z2013)>0,VLOOKUP(Z2013,'TFW Programs'!$A$2:$B$8,2,FALSE),\"\")","v":""},null,null,{"$f":"IF(LEN(A2013)>0,VLOOKUP(A2013,Subcontractors!$A$2:$B$4,2,FALSE),\"\")","v":""}]
[null,null,null,null,null,null,null,null,null,null,null,null,null,null,null,null,null,null,null,null,null,null,null,{"$f":"IF(LEN(Z2017)>0,VLOOKUP(Z2017,'TFW Programs'!$A$2:$B$8,2,FALSE),\"\")","v":""},null,null,{"$f":"IF(LEN(A2017)>0,VLOOKUP(A2017,Subcontractors!$A$2:$B$4,2,FALSE),\"\")","v":""}]
[null,null,null,null,null,null,null,null,null,null,null,null,null,null,null,null,null,null,null,null,null,null,null,{"$f":"IF(LEN(Z2022)>0,VLOOKUP(Z2022,'TFW Programs'!$A$2:$B$8,2,FALSE),\"\")","v":""},null,null,{"$f":"IF(LEN(A2022)>0,VLOOKUP(A2022,Subcontractors!$A$2:$B$4,2,FALSE),\"\")","v":""}]
[null,null,null,null,null,null,null,null,null,null,null,null,null,null,null,null,null,null,null,null,null,null,null,{"$f":"IF(LEN(Z2023)>0,VLOOKUP(Z2023,'TFW Programs'!$A$2:$B$8,2,FALSE),\"\")","v":""},null,null,{"$f":"IF(LEN(A2023)>0,VLOOKUP(A2023,Subcontractors!$A$2:$B$4,2,FALSE),\"\")","v":""}]
[null,null,null,null,null,null,null,null,null,null,null,null,null,null,null,null,null,null,null,null,null,null,null,{"$f":"IF(LEN(Z2028)>0,VLOOKUP(Z2028,'TFW Programs'!$A$2:$B$8,2,FALSE),\"\")","v":""},null,null,{"$f":"IF(LEN(A2028)>0,VLOOKUP(A2028,Subcontractors!$A$2:$B$4,2,FALSE),\"\")","v":""}]
[null,null,null,null,null,null,null,null,null,null,null,null,null,null,null,null,null,null,null,null,null,null,null,{"$f":"IF(LEN(Z2033)>0,VLOOKUP(Z2033,'TFW Programs'!$A$2:$B$8,2,FALSE),\"\")","v":""},null,null,{"$f":"IF(LEN(A2033)>0,VLOOKUP(A2033,Subcontractors!$A$2:$B$4,2,FALSE),\"\")","v":""}]
[null,null,null,null,null,null,null,null,null,null,null,null,null,null,null,null,null,null,null,null,null,null,null,{"$f":"IF(LEN(Z2035)>0,VLOOKUP(Z2035,'TFW Programs'!$A$2:$B$8,2,FALSE),\"\")","v":""},null,null,{"$f":"IF(LEN(A2035)>0,VLOOKUP(A2035,Subcontractors!$A$2:$B$4,2,FALSE),\"\")","v":""}]
[null,null,null,null,null,null,null,null,null,null,null,null,null,null,null,null,null,null,null,null,null,null,null,{"$f":"IF(LEN(Z2038)>0,VLOOKUP(Z2038,'TFW Programs'!$A$2:$B$8,2,FALSE),\"\")","v":""},null,null,{"$f":"IF(LEN(A2038)>0,VLOOKUP(A2038,Subcontractors!$A$2:$B$4,2,FALSE),\"\")","v":""}]
[null,null,null,null,null,null,null,null,null,null,null,null,null,null,null,null,null,null,null,null,null,null,null,{"$f":"IF(LEN(Z2043)>0,VLOOKUP(Z2043,'TFW Programs'!$A$2:$B$8,2,FALSE),\"\")","v":""},null,null,{"$f":"IF(LEN(A2043)>0,VLOOKUP(A2043,Subcontractors!$A$2:$B$4,2,FALSE),\"\")","v":""}]
[null,null,null,null,null,null,null,null,null,null,null,null,null,null,null,null,null,null,null,null,null,null,null,{"$f":"IF(LEN(Z2048)>0,VLOOKUP(Z2048,'TFW Programs'!$A$2:$B$8,2,FALSE),\"\")","v":""},null,null,{"$f":"IF(LEN(A2048)>0,VLOOKUP(A2048,Subcontractors!$A$2:$B$4,2,FALSE),\"\")","v":""}]
[null,null,null,null,null,null,null,null,null,null,null,null,null,null,null,null,null,null,null,null,null,null,null,{"$f":"IF(LEN(Z2052)>0,VLOOKUP(Z2052,'TFW Programs'!$A$2:$B$8,2,FALSE),\"\")","v":""},null,null,{"$f":"IF(LEN(A2052)>0,VLOOKUP(A2052,Subcontractors!$A$2:$B$4,2,FALSE),\"\")","v":""}]
[null,null,null,null,null,null,null,null,null,null,null,null,null,null,null,null,null,null,null,null,null,null,null,{"$f":"IF(LEN(Z2053)>0,VLOOKUP(Z2053,'TFW Programs'!$A$2:$B$8,2,FALSE),\"\")","v":""},null,null,{"$f":"IF(LEN(A2053)>0,VLOOKUP(A2053,Subcontractors!$A$2:$B$4,2,FALSE),\"\")","v":""}]
[null,null,null,null,null,null,null,null,null,null,null,null,null,null,null,null,null,null,null,null,null,null,null,{"$f":"IF(LEN(Z2058)>0,VLOOKUP(Z2058,'TFW Programs'!$A$2:$B$8,2,FALSE),\"\")","v":""},null,null,{"$f":"IF(LEN(A2058)>0,VLOOKUP(A2058,Subcontractors!$A$2:$B$4,2,FALSE),\"\")","v":""}]
[null,null,null,null,null,null,null,null,null,null,null,null,null,null,null,null,null,null,null,null,null,null,null,{"$f":"IF(LEN(Z2063)>0,VLOOKUP(Z2063,'TFW Programs'!$A$2:$B$8,2,FALSE),\"\")","v":""},null,null,{"$f":"IF(LEN(A2063)>0,VLOOKUP(A2063,Subcontractors!$A$2:$B$4,2,FALSE),\"\")","v":""}]
[null,null,null,null,null,null,null,null,null,null,null,null,null,null,null,null,null,null,null,null,null,null,null,{"$f":"IF(LEN(Z2068)>0,VLOOKUP(Z2068,'TFW Programs'!$A$2:$B$8,2,FALSE),\"\")","v":""},null,null,{"$f":"IF(LEN(A2068)>0,VLOOKUP(A2068,Subcontractors!$A$2:$B$4,2,FALSE),\"\")","v":""}]
[null,null,null,null,null,null,null,null,null,null,null,null,null,null,null,null,null,null,null,null,null,null,null,{"$f":"IF(LEN(Z2070)>0,VLOOKUP(Z2070,'TFW Programs'!$A$2:$B$8,2,FALSE),\"\")","v":""},null,null,{"$f":"IF(LEN(A2070)>0,VLOOKUP(A2070,Subcontractors!$A$2:$B$4,2,FALSE),\"\")","v":""}]
[null,null,null,null,null,null,null,null,null,null,null,null,null,null,null,null,null,null,null,null,null,null,null,{"$f":"IF(LEN(Z2073)>0,VLOOKUP(Z2073,'TFW Programs'!$A$2:$B$8,2,FALSE),\"\")","v":""},null,null,{"$f":"IF(LEN(A2073)>0,VLOOKUP(A2073,Subcontractors!$A$2:$B$4,2,FALSE),\"\")","v":""}]
[null,null,null,null,null,null,null,null,null,null,null,null,null,null,null,null,null,null,null,null,null,null,null,{"$f":"IF(LEN(Z2078)>0,VLOOKUP(Z2078,'TFW Programs'!$A$2:$B$8,2,FALSE),\"\")","v":""},null,null,{"$f":"IF(LEN(A2078)>0,VLOOKUP(A2078,Subcontractors!$A$2:$B$4,2,FALSE),\"\")","v":""}]
[null,null,null,null,null,null,null,null,null,null,null,null,null,null,null,null,null,null,null,null,null,null,null,{"$f":"IF(LEN(Z2083)>0,VLOOKUP(Z2083,'TFW Programs'!$A$2:$B$8,2,FALSE),\"\")","v":""},null,null,{"$f":"IF(LEN(A2083)>0,VLOOKUP(A2083,Subcontractors!$A$2:$B$4,2,FALSE),\"\")","v":""}]
[null,null,null,null,null,null,null,null,null,null,null,null,null,null,null,null,null,null,null,null,null,null,null,{"$f":"IF(LEN(Z2086)>0,VLOOKUP(Z2086,'TFW Programs'!$A$2:$B$8,2,FALSE),\"\")","v":""},null,null,{"$f":"IF(LEN(A2086)>0,VLOOKUP(A2086,Subcontractors!$A$2:$B$4,2,FALSE),\"\")","v":""}]
[null,null,null,null,null,null,null,null,null,null,null,null,null,null,null,null,null,null,null,null,null,null,null,{"$f":"IF(LEN(Z2088)>0,VLOOKUP(Z2088,'TFW Programs'!$A$2:$B$8,2,FALSE),\"\")","v":""},null,null,{"$f":"IF(LEN(A2088)>0,VLOOKUP(A2088,Subcontractors!$A$2:$B$4,2,FALSE),\"\")","v":""}]
[null,null,null,null,null,null,null,null,null,null,null,null,null,null,null,null,null,null,null,null,null,null,null,{"$f":"IF(LEN(Z2093)>0,VLOOKUP(Z2093,'TFW Programs'!$A$2:$B$8,2,FALSE),\"\")","v":""},null,null,{"$f":"IF(LEN(A2093)>0,VLOOKUP(A2093,Subcontractors!$A$2:$B$4,2,FALSE),\"\")","v":""}]
[null,null,null,null,null,null,null,null,null,null,null,null,null,null,null,null,null,null,null,null,null,null,null,{"$f":"IF(LEN(Z2098)>0,VLOOKUP(Z2098,'TFW Programs'!$A$2:$B$8,2,FALSE),\"\")","v":""},null,null,{"$f":"IF(LEN(A2098)>0,VLOOKUP(A2098,Subcontractors!$A$2:$B$4,2,FALSE),\"\")","v":""}]
[null,null,null,null,null,null,null,null,null,null,null,null,null,null,null,null,null,null,null,null,null,null,null,{"$f":"IF(LEN(Z2099)>0,VLOOKUP(Z2099,'TFW Programs'!$A$2:$B$8,2,FALSE),\"\")","v":""},null,null,{"$f":"IF(LEN(A2099)>0,VLOOKUP(A2099,Subcontractors!$A$2:$B$4,2,FALSE),\"\")","v":""}]
[null,null,null,null,null,null,null,null,null,null,null,null,null,null,null,null,null,null,null,null,null,null,null,{"$f":"IF(LEN(Z2104)>0,VLOOKUP(Z2104,'TFW Programs'!$A$2:$B$8,2,FALSE),\"\")","v":""},null,null,{"$f":"IF(LEN(A2104)>0,VLOOKUP(A2104,Subcontractors!$A$2:$B$4,2,FALSE),\"\")","v":""}]
[null,null,null,null,null,null,null,null,null,null,null,null,null,null,null,null,null,null,null,null,null,null,null,{"$f":"IF(LEN(Z2108)>0,VLOOKUP(Z2108,'TFW Programs'!$A$2:$B$8,2,FALSE),\"\")","v":""},null,null,{"$f":"IF(LEN(A2108)>0,VLOOKUP(A2108,Subcontractors!$A$2:$B$4,2,FALSE),\"\")","v":""}]
[null,null,null,null,null,null,null,null,null,null,null,null,null,null,null,null,null,null,null,null,null,null,null,{"$f":"IF(LEN(Z2113)>0,VLOOKUP(Z2113,'TFW Programs'!$A$2:$B$8,2,FALSE),\"\")","v":""},null,null,{"$f":"IF(LEN(A2113)>0,VLOOKUP(A2113,Subcontractors!$A$2:$B$4,2,FALSE),\"\")","v":""}]
[null,null,null,null,null,null,null,null,null,null,null,null,null,null,null,null,null,null,null,null,null,null,null,{"$f":"IF(LEN(Z2114)>0,VLOOKUP(Z2114,'TFW Programs'!$A$2:$B$8,2,FALSE),\"\")","v":""},null,null,{"$f":"IF(LEN(A2114)>0,VLOOKUP(A2114,Subcontractors!$A$2:$B$4,2,FALSE),\"\")","v":""}]
[null,null,null,null,null,null,null,null,null,null,null,null,null,null,null,null,null,null,null,null,null,null,null,{"$f":"IF(LEN(Z2118)>0,VLOOKUP(Z2118,'TFW Programs'!$A$2:$B$8,2,FALSE),\"\")","v":""},null,null,{"$f":"IF(LEN(A2118)>0,VLOOKUP(A2118,Subcontractors!$A$2:$B$4,2,FALSE),\"\")","v":""}]
[null,null,null,null,null,null,null,null,null,null,null,null,null,null,null,null,null,null,null,null,null,null,null,{"$f":"IF(LEN(Z2123)>0,VLOOKUP(Z2123,'TFW Programs'!$A$2:$B$8,2,FALSE),\"\")","v":""},null,null,{"$f":"IF(LEN(A2123)>0,VLOOKUP(A2123,Subcontractors!$A$2:$B$4,2,FALSE),\"\")","v":""}]
[null,null,null,null,null,null,null,null,null,null,null,null,null,null,null,null,null,null,null,null,null,null,null,{"$f":"IF(LEN(Z2128)>0,VLOOKUP(Z2128,'TFW Programs'!$A$2:$B$8,2,FALSE),\"\")","v":""},null,null,{"$f":"IF(LEN(A2128)>0,VLOOKUP(A2128,Subcontractors!$A$2:$B$4,2,FALSE),\"\")","v":""}]
[null,null,null,null,null,null,null,null,null,null,null,null,null,null,null,null,null,null,null,null,null,null,null,{"$f":"IF(LEN(Z2129)>0,VLOOKUP(Z2129,'TFW Programs'!$A$2:$B$8,2,FALSE),\"\")","v":""},null,null,{"$f":"IF(LEN(A2129)>0,VLOOKUP(A2129,Subcontractors!$A$2:$B$4,2,FALSE),\"\")","v":""}]
[null,null,null,null,null,null,null,null,null,null,null,null,null,null,null,null,null,null,null,null,null,null,null,{"$f":"IF(LEN(Z2134)>0,VLOOKUP(Z2134,'TFW Programs'!$A$2:$B$8,2,FALSE),\"\")","v":""},null,null,{"$f":"IF(LEN(A2134)>0,VLOOKUP(A2134,Subcontractors!$A$2:$B$4,2,FALSE),\"\")","v":""}]
[null,null,null,null,null,null,null,null,null,null,null,null,null,null,null,null,null,null,null,null,null,null,null,{"$f":"IF(LEN(Z2138)>0,VLOOKUP(Z2138,'TFW Programs'!$A$2:$B$8,2,FALSE),\"\")","v":""},null,null,{"$f":"IF(LEN(A2138)>0,VLOOKUP(A2138,Subcontractors!$A$2:$B$4,2,FALSE),\"\")","v":""}]
[null,null,null,null,null,null,null,null,null,null,null,null,null,null,null,null,null,null,null,null,null,null,null,{"$f":"IF(LEN(Z2143)>0,VLOOKUP(Z2143,'TFW Programs'!$A$2:$B$8,2,FALSE),\"\")","v":""},null,null,{"$f":"IF(LEN(A2143)>0,VLOOKUP(A2143,Subcontractors!$A$2:$B$4,2,FALSE),\"\")","v":""}]
[null,null,null,null,null,null,null,null,null,null,null,null,null,null,null,null,null,null,null,null,null,null,null,{"$f":"IF(LEN(Z2144)>0,VLOOKUP(Z2144,'TFW Programs'!$A$2:$B$8,2,FALSE),\"\")","v":""},null,null,{"$f":"IF(LEN(A2144)>0,VLOOKUP(A2144,Subcontractors!$A$2:$B$4,2,FALSE),\"\")","v":""}]
[null,null,null,null,null,null,null,null,null,null,null,null,null,null,null,null,null,null,null,null,null,null,null,{"$f":"IF(LEN(Z2149)>0,VLOOKUP(Z2149,'TFW Programs'!$A$2:$B$8,2,FALSE),\"\")","v":""},null,null,{"$f":"IF(LEN(A2149)>0,VLOOKUP(A2149,Subcontractors!$A$2:$B$4,2,FALSE),\"\")","v":""}]
[null,null,null,null,null,null,null,null,null,null,null,null,null,null,null,null,null,null,null,null,null,null,null,{"$f":"IF(LEN(Z2152)>0,VLOOKUP(Z2152,'TFW Programs'!$A$2:$B$8,2,FALSE),\"\")","v":""},null,null,{"$f":"IF(LEN(A2152)>0,VLOOKUP(A2152,Subcontractors!$A$2:$B$4,2,FALSE),\"\")","v":""}]
[null,null,null,null,null,null,null,null,null,null,null,null,null,null,null,null,null,null,null,null,null,null,null,{"$f":"IF(LEN(Z2158)>0,VLOOKUP(Z2158,'TFW Programs'!$A$2:$B$8,2,FALSE),\"\")","v":""},null,null,{"$f":"IF(LEN(A2158)>0,VLOOKUP(A2158,Subcontractors!$A$2:$B$4,2,FALSE),\"\")","v":""}]
[null,null,null,null,null,null,null,null,null,null,null,null,null,null,null,null,null,null,null,null,null,null,null,{"$f":"IF(LEN(Z2159)>0,VLOOKUP(Z2159,'TFW Programs'!$A$2:$B$8,2,FALSE),\"\")","v":""},null,null,{"$f":"IF(LEN(A2159)>0,VLOOKUP(A2159,Subcontractors!$A$2:$B$4,2,FALSE),\"\")","v":""}]
[null,null,null,null,null,null,null,null,null,null,null,null,null,null,null,null,null,null,null,null,null,null,null,{"$f":"IF(LEN(Z2164)>0,VLOOKUP(Z2164,'TFW Programs'!$A$2:$B$8,2,FALSE),\"\")","v":""},null,null,{"$f":"IF(LEN(A2164)>0,VLOOKUP(A2164,Subcontractors!$A$2:$B$4,2,FALSE),\"\")","v":""}]
[null,null,null,null,null,null,null,null,null,null,null,null,null,null,null,null,null,null,null,null,null,null,null,{"$f":"IF(LEN(Z2169)>0,VLOOKUP(Z2169,'TFW Programs'!$A$2:$B$8,2,FALSE),\"\")","v":""},null,null,{"$f":"IF(LEN(A2169)>0,VLOOKUP(A2169,Subcontractors!$A$2:$B$4,2,FALSE),\"\")","v":""}]
[null,null,null,null,null,null,null,null,null,null,null,null,null,null,null,null,null,null,null,null,null,null,null,{"$f":"IF(LEN(Z2173)>0,VLOOKUP(Z2173,'TFW Programs'!$A$2:$B$8,2,FALSE),\"\")","v":""},null,null,{"$f":"IF(LEN(A2173)>0,VLOOKUP(A2173,Subcontractors!$A$2:$B$4,2,FALSE),\"\")","v":""}]
[null,null,null,null,null,null,null,null,null,null,null,null,null,null,null,null,null,null,null,null,null,null,null,{"$f":"IF(LEN(Z2174)>0,VLOOKUP(Z2174,'TFW Programs'!$A$2:$B$8,2,FALSE),\"\")","v":""},null,null,{"$f":"IF(LEN(A2174)>0,VLOOKUP(A2174,Subcontractors!$A$2:$B$4,2,FALSE),\"\")","v":""}]
[null,null,null,null,null,null,null,null,null,null,null,null,null,null,null,null,null,null,null,null,null,null,null,{"$f":"IF(LEN(Z2179)>0,VLOOKUP(Z2179,'TFW Programs'!$A$2:$B$8,2,FALSE),\"\")","v":""},null,null,{"$f":"IF(LEN(A2179)>0,VLOOKUP(A2179,Subcontractors!$A$2:$B$4,2,FALSE),\"\")","v":""}]
[null,null,null,null,null,null,null,null,null,null,null,null,null,null,null,null,null,null,null,null,null,null,null,{"$f":"IF(LEN(Z2184)>0,VLOOKUP(Z2184,'TFW Programs'!$A$2:$B$8,2,FALSE),\"\")","v":""},null,null,{"$f":"IF(LEN(A2184)>0,VLOOKUP(A2184,Subcontractors!$A$2:$B$4,2,FALSE),\"\")","v":""}]
[null,null,null,null,null,null,null,null,null,null,null,null,null,null,null,null,null,null,null,null,null,null,null,{"$f":"IF(LEN(Z2186)>0,VLOOKUP(Z2186,'TFW Programs'!$A$2:$B$8,2,FALSE),\"\")","v":""},null,null,{"$f":"IF(LEN(A2186)>0,VLOOKUP(A2186,Subcontractors!$A$2:$B$4,2,FALSE),\"\")","v":""}]
[null,null,null,null,null,null,null,null,null,null,null,null,null,null,null,null,null,null,null,null,null,null,null,{"$f":"IF(LEN(Z2189)>0,VLOOKUP(Z2189,'TFW Programs'!$A$2:$B$8,2,FALSE),\"\")","v":""},null,null,{"$f":"IF(LEN(A2189)>0,VLOOKUP(A2189,Subcontractors!$A$2:$B$4,2,FALSE),\"\")","v":""}]
[null,null,null,null,null,null,null,null,null,null,null,null,null,null,null,null,null,null,null,null,null,null,null,{"$f":"IF(LEN(Z2194)>0,VLOOKUP(Z2194,'TFW Programs'!$A$2:$B$8,2,FALSE),\"\")","v":""},null,null,{"$f":"IF(LEN(A2194)>0,VLOOKUP(A2194,Subcontractors!$A$2:$B$4,2,FALSE),\"\")","v":""}]
[null,null,null,null,null,null,null,null,null,null,null,null,null,null,null,null,null,null,null,null,null,null,null,{"$f":"IF(LEN(Z2199)>0,VLOOKUP(Z2199,'TFW Programs'!$A$2:$B$8,2,FALSE),\"\")","v":""},null,null,{"$f":"IF(LEN(A2199)>0,VLOOKUP(A2199,Subcontractors!$A$2:$B$4,2,FALSE),\"\")","v":""}]
[null,null,null,null,null,null,null,null,null,null,null,null,null,null,null,null,null,null,null,null,null,null,null,{"$f":"IF(LEN(Z2203)>0,VLOOKUP(Z2203,'TFW Programs'!$A$2:$B$8,2,FALSE),\"\")","v":""},null,null,{"$f":"IF(LEN(A2203)>0,VLOOKUP(A2203,Subcontractors!$A$2:$B$4,2,FALSE),\"\")","v":""}]
[null,null,null,null,null,null,null,null,null,null,null,null,null,null,null,null,null,null,null,null,null,null,null,{"$f":"IF(LEN(Z2204)>0,VLOOKUP(Z2204,'TFW Programs'!$A$2:$B$8,2,FALSE),\"\")","v":""},null,null,{"$f":"IF(LEN(A2204)>0,VLOOKUP(A2204,Subcontractors!$A$2:$B$4,2,FALSE),\"\")","v":""}]
[null,null,null,null,null,null,null,null,null,null,null,null,null,null,null,null,null,null,null,null,null,null,null,{"$f":"IF(LEN(Z2209)>0,VLOOKUP(Z2209,'TFW Programs'!$A$2:$B$8,2,FALSE),\"\")","v":""},null,null,{"$f":"IF(LEN(A2209)>0,VLOOKUP(A2209,Subcontractors!$A$2:$B$4,2,FALSE),\"\")","v":""}]
[null,null,null,null,null,null,null,null,null,null,null,null,null,null,null,null,null,null,null,null,null,null,null,{"$f":"IF(LEN(Z2214)>0,VLOOKUP(Z2214,'TFW Programs'!$A$2:$B$8,2,FALSE),\"\")","v":""},null,null,{"$f":"IF(LEN(A2214)>0,VLOOKUP(A2214,Subcontractors!$A$2:$B$4,2,FALSE),\"\")","v":""}]
[null,null,null,null,null,null,null,null,null,null,null,null,null,null,null,null,null,null,null,null,null,null,null,{"$f":"IF(LEN(Z2219)>0,VLOOKUP(Z2219,'TFW Programs'!$A$2:$B$8,2,FALSE),\"\")","v":""},null,null,{"$f":"IF(LEN(A2219)>0,VLOOKUP(A2219,Subcontractors!$A$2:$B$4,2,FALSE),\"\")","v":""}]
[null,null,null,null,null,null,null,null,null,null,null,null,null,null,null,null,null,null,null,null,null,null,null,{"$f":"IF(LEN(Z2221)>0,VLOOKUP(Z2221,'TFW Programs'!$A$2:$B$8,2,FALSE),\"\")","v":""},null,null,{"$f":"IF(LEN(A2221)>0,VLOOKUP(A2221,Subcontractors!$A$2:$B$4,2,FALSE),\"\")","v":""}]
[null,null,null,null,null,null,null,null,null,null,null,null,null,null,null,null,null,null,null,null,null,null,null,{"$f":"IF(LEN(Z2224)>0,VLOOKUP(Z2224,'TFW Programs'!$A$2:$B$8,2,FALSE),\"\")","v":""},null,null,{"$f":"IF(LEN(A2224)>0,VLOOKUP(A2224,Subcontractors!$A$2:$B$4,2,FALSE),\"\")","v":""}]
[null,null,null,null,null,null,null,null,null,null,null,null,null,null,null,null,null,null,null,null,null,null,null,{"$f":"IF(LEN(Z2229)>0,VLOOKUP(Z2229,'TFW Programs'!$A$2:$B$8,2,FALSE),\"\")","v":""},null,null,{"$f":"IF(LEN(A2229)>0,VLOOKUP(A2229,Subcontractors!$A$2:$B$4,2,FALSE),\"\")","v":""}]
[null,null,null,null,null,null,null,null,null,null,null,null,null,null,null,null,null,null,null,null,null,null,null,{"$f":"IF(LEN(Z2234)>0,VLOOKUP(Z2234,'TFW Programs'!$A$2:$B$8,2,FALSE),\"\")","v":""},null,null,{"$f":"IF(LEN(A2234)>0,VLOOKUP(A2234,Subcontractors!$A$2:$B$4,2,FALSE),\"\")","v":""}]
[null,null,null,null,null,null,null,null,null,null,null,null,null,null,null,null,null,null,null,null,null,null,null,{"$f":"IF(LEN(Z2237)>0,VLOOKUP(Z2237,'TFW Programs'!$A$2:$B$8,2,FALSE),\"\")","v":""},null,null,{"$f":"IF(LEN(A2237)>0,VLOOKUP(A2237,Subcontractors!$A$2:$B$4,2,FALSE),\"\")","v":""}]
[null,null,null,null,null,null,null,null,null,null,null,null,null,null,null,null,null,null,null,null,null,null,null,{"$f":"IF(LEN(Z2239)>0,VLOOKUP(Z2239,'TFW Programs'!$A$2:$B$8,2,FALSE),\"\")","v":""},null,null,{"$f":"IF(LEN(A2239)>0,VLOOKUP(A2239,Subcontractors!$A$2:$B$4,2,FALSE),\"\")","v":""}]
[null,null,null,null,null,null,null,null,null,null,null,null,null,null,null,null,null,null,null,null,null,null,null,{"$f":"IF(LEN(Z2244)>0,VLOOKUP(Z2244,'TFW Programs'!$A$2:$B$8,2,FALSE),\"\")","v":""},null,null,{"$f":"IF(LEN(A2244)>0,VLOOKUP(A2244,Subcontractors!$A$2:$B$4,2,FALSE),\"\")","v":""}]
[null,null,null,null,null,null,null,null,null,null,null,null,null,null,null,null,null,null,null,null,null,null,null,{"$f":"IF(LEN(Z2249)>0,VLOOKUP(Z2249,'TFW Programs'!$A$2:$B$8,2,FALSE),\"\")","v":""},null,null,{"$f":"IF(LEN(A2249)>0,VLOOKUP(A2249,Subcontractors!$A$2:$B$4,2,FALSE),\"\")","v":""}]
[null,null,null,null,null,null,null,null,null,null,null,null,null,null,null,null,null,null,null,null,null,null,null,{"$f":"IF(LEN(Z2251)>0,VLOOKUP(Z2251,'TFW Programs'!$A$2:$B$8,2,FALSE),\"\")","v":""},null,null,{"$f":"IF(LEN(A2251)>0,VLOOKUP(A2251,Subcontractors!$A$2:$B$4,2,FALSE),\"\")","v":""}]
[null,null,null,null,null,null,null,null,null,null,null,null,null,null,null,null,null,null,null,null,null,null,null,{"$f":"IF(LEN(Z2254)>0,VLOOKUP(Z2254,'TFW Programs'!$A$2:$B$8,2,FALSE),\"\")","v":""},null,null,{"$f":"IF(LEN(A2254)>0,VLOOKUP(A2254,Subcontractors!$A$2:$B$4,2,FALSE),\"\")","v":""}]
[null,null,null,null,null,null,null,null,null,null,null,null,null,null,null,null,null,null,null,null,null,null,null,{"$f":"IF(LEN(Z2259)>0,VLOOKUP(Z2259,'TFW Programs'!$A$2:$B$8,2,FALSE),\"\")","v":""},null,null,{"$f":"IF(LEN(A2259)>0,VLOOKUP(A2259,Subcontractors!$A$2:$B$4,2,FALSE),\"\")","v":""}]
[null,null,null,null,null,null,null,null,null,null,null,null,null,null,null,null,null,null,null,null,null,null,null,{"$f":"IF(LEN(Z2264)>0,VLOOKUP(Z2264,'TFW Programs'!$A$2:$B$8,2,FALSE),\"\")","v":""},null,null,{"$f":"IF(LEN(A2264)>0,VLOOKUP(A2264,Subcontractors!$A$2:$B$4,2,FALSE),\"\")","v":""}]
[null,null,null,null,null,null,null,null,null,null,null,null,null,null,null,null,null,null,null,null,null,null,null,{"$f":"IF(LEN(Z2265)>0,VLOOKUP(Z2265,'TFW Programs'!$A$2:$B$8,2,FALSE),\"\")","v":""},null,null,{"$f":"IF(LEN(A2265)>0,VLOOKUP(A2265,Subcontractors!$A$2:$B$4,2,FALSE),\"\")","v":""}]
[null,null,null,null,null,null,null,null,null,null,null,null,null,null,null,null,null,null,null,null,null,null,null,{"$f":"IF(LEN(Z2269)>0,VLOOKUP(Z2269,'TFW Programs'!$A$2:$B$8,2,FALSE),\"\")","v":""},null,null,{"$f":"IF(LEN(A2269)>0,VLOOKUP(A2269,Subcontractors!$A$2:$B$4,2,FALSE),\"\")","v":""}]
[null,null,null,null,null,null,null,null,null,null,null,null,null,null,null,null,null,null,null,null,null,null,null,{"$f":"IF(LEN(Z2274)>0,VLOOKUP(Z2274,'TFW Programs'!$A$2:$B$8,2,FALSE),\"\")","v":""},null,null,{"$f":"IF(LEN(A2274)>0,VLOOKUP(A2274,Subcontractors!$A$2:$B$4,2,FALSE),\"\")","v":""}]
[null,null,null,null,null,null,null,null,null,null,null,null,null,null,null,null,null,null,null,null,null,null,null,{"$f":"IF(LEN(Z2279)>0,VLOOKUP(Z2279,'TFW Programs'!$A$2:$B$8,2,FALSE),\"\")","v":""},null,null,{"$f":"IF(LEN(A2279)>0,VLOOKUP(A2279,Subcontractors!$A$2:$B$4,2,FALSE),\"\")","v":""}]
[null,null,null,null,null,null,null,null,null,null,null,null,null,null,null,null,null,null,null,null,null,null,null,{"$f":"IF(LEN(Z2280)>0,VLOOKUP(Z2280,'TFW Programs'!$A$2:$B$8,2,FALSE),\"\")","v":""},null,null,{"$f":"IF(LEN(A2280)>0,VLOOKUP(A2280,Subcontractors!$A$2:$B$4,2,FALSE),\"\")","v":""}]
[null,null,null,null,null,null,null,null,null,null,null,null,null,null,null,null,null,null,null,null,null,null,null,{"$f":"IF(LEN(Z2285)>0,VLOOKUP(Z2285,'TFW Programs'!$A$2:$B$8,2,FALSE),\"\")","v":""},null,null,{"$f":"IF(LEN(A2285)>0,VLOOKUP(A2285,Subcontractors!$A$2:$B$4,2,FALSE),\"\")","v":""}]
[null,null,null,null,null,null,null,null,null,null,null,null,null,null,null,null,null,null,null,null,null,null,null,{"$f":"IF(LEN(Z2289)>0,VLOOKUP(Z2289,'TFW Programs'!$A$2:$B$8,2,FALSE),\"\")","v":""},null,null,{"$f":"IF(LEN(A2289)>0,VLOOKUP(A2289,Subcontractors!$A$2:$B$4,2,FALSE),\"\")","v":""}]
[null,null,null,null,null,null,null,null,null,null,null,null,null,null,null,null,null,null,null,null,null,null,null,{"$f":"IF(LEN(Z2294)>0,VLOOKUP(Z2294,'TFW Programs'!$A$2:$B$8,2,FALSE),\"\")","v":""},null,null,{"$f":"IF(LEN(A2294)>0,VLOOKUP(A2294,Subcontractors!$A$2:$B$4,2,FALSE),\"\")","v":""}]
[null,null,null,null,null,null,null,null,null,null,null,null,null,null,null,null,null,null,null,null,null,null,null,{"$f":"IF(LEN(Z2295)>0,VLOOKUP(Z2295,'TFW Programs'!$A$2:$B$8,2,FALSE),\"\")","v":""},null,null,{"$f":"IF(LEN(A2295)>0,VLOOKUP(A2295,Subcontractors!$A$2:$B$4,2,FALSE),\"\")","v":""}]
[null,null,null,null,null,null,null,null,null,null,null,null,null,null,null,null,null,null,null,null,null,null,null,{"$f":"IF(LEN(Z2300)>0,VLOOKUP(Z2300,'TFW Programs'!$A$2:$B$8,2,FALSE),\"\")","v":""},null,null,{"$f":"IF(LEN(A2300)>0,VLOOKUP(A2300,Subcontractors!$A$2:$B$4,2,FALSE),\"\")","v":""}]
[null,null,null,null,null,null,null,null,null,null,null,null,null,null,null,null,null,null,null,null,null,null,null,{"$f":"IF(LEN(Z2303)>0,VLOOKUP(Z2303,'TFW Programs'!$A$2:$B$8,2,FALSE),\"\")","v":""},null,null,{"$f":"IF(LEN(A2303)>0,VLOOKUP(A2303,Subcontractors!$A$2:$B$4,2,FALSE),\"\")","v":""}]
[null,null,null,null,null,null,null,null,null,null,null,null,null,null,null,null,null,null,null,null,null,null,null,{"$f":"IF(LEN(Z2309)>0,VLOOKUP(Z2309,'TFW Programs'!$A$2:$B$8,2,FALSE),\"\")","v":""},null,null,{"$f":"IF(LEN(A2309)>0,VLOOKUP(A2309,Subcontractors!$A$2:$B$4,2,FALSE),\"\")","v":""}]
[null,null,null,null,null,null,null,null,null,null,null,null,null,null,null,null,null,null,null,null,null,null,null,{"$f":"IF(LEN(Z2310)>0,VLOOKUP(Z2310,'TFW Programs'!$A$2:$B$8,2,FALSE),\"\")","v":""},null,null,{"$f":"IF(LEN(A2310)>0,VLOOKUP(A2310,Subcontractors!$A$2:$B$4,2,FALSE),\"\")","v":""}]
[null,null,null,null,null,null,null,null,null,null,null,null,null,null,null,null,null,null,null,null,null,null,null,{"$f":"IF(LEN(Z2315)>0,VLOOKUP(Z2315,'TFW Programs'!$A$2:$B$8,2,FALSE),\"\")","v":""},null,null,{"$f":"IF(LEN(A2315)>0,VLOOKUP(A2315,Subcontractors!$A$2:$B$4,2,FALSE),\"\")","v":""}]
[null,null,null,null,null,null,null,null,null,null,null,null,null,null,null,null,null,null,null,null,null,null,null,{"$f":"IF(LEN(Z2320)>0,VLOOKUP(Z2320,'TFW Programs'!$A$2:$B$8,2,FALSE),\"\")","v":""},null,null,{"$f":"IF(LEN(A2320)>0,VLOOKUP(A2320,Subcontractors!$A$2:$B$4,2,FALSE),\"\")","v":""}]
[null,null,null,null,null,null,null,null,null,null,null,null,null,null,null,null,null,null,null,null,null,null,null,{"$f":"IF(LEN(Z2324)>0,VLOOKUP(Z2324,'TFW Programs'!$A$2:$B$8,2,FALSE),\"\")","v":""},null,null,{"$f":"IF(LEN(A2324)>0,VLOOKUP(A2324,Subcontractors!$A$2:$B$4,2,FALSE),\"\")","v":""}]
[null,null,null,null,null,null,null,null,null,null,null,null,null,null,null,null,null,null,null,null,null,null,null,{"$f":"IF(LEN(Z2325)>0,VLOOKUP(Z2325,'TFW Programs'!$A$2:$B$8,2,FALSE),\"\")","v":""},null,null,{"$f":"IF(LEN(A2325)>0,VLOOKUP(A2325,Subcontractors!$A$2:$B$4,2,FALSE),\"\")","v":""}]
[null,null,null,null,null,null,null,null,null,null,null,null,null,null,null,null,null,null,null,null,null,null,null,{"$f":"IF(LEN(Z2330)>0,VLOOKUP(Z2330,'TFW Programs'!$A$2:$B$8,2,FALSE),\"\")","v":""},null,null,{"$f":"IF(LEN(A2330)>0,VLOOKUP(A2330,Subcontractors!$A$2:$B$4,2,FALSE),\"\")","v":""}]
[null,null,null,null,null,null,null,null,null,null,null,null,null,null,null,null,null,null,null,null,null,null,null,{"$f":"IF(LEN(Z2333)>0,VLOOKUP(Z2333,'TFW Programs'!$A$2:$B$8,2,FALSE),\"\")","v":""},null,null,{"$f":"IF(LEN(A2333)>0,VLOOKUP(A2333,Subcontractors!$A$2:$B$4,2,FALSE),\"\")","v":""}]
[null,null,null,null,null,null,null,null,null,null,null,null,null,null,null,null,null,null,null,null,null,null,null,{"$f":"IF(LEN(Z2339)>0,VLOOKUP(Z2339,'TFW Programs'!$A$2:$B$8,2,FALSE),\"\")","v":""},null,null,{"$f":"IF(LEN(A2339)>0,VLOOKUP(A2339,Subcontractors!$A$2:$B$4,2,FALSE),\"\")","v":""}]
[null,null,null,null,null,null,null,null,null,null,null,null,null,null,null,null,null,null,null,null,null,null,null,{"$f":"IF(LEN(Z2340)>0,VLOOKUP(Z2340,'TFW Programs'!$A$2:$B$8,2,FALSE),\"\")","v":""},null,null,{"$f":"IF(LEN(A2340)>0,VLOOKUP(A2340,Subcontractors!$A$2:$B$4,2,FALSE),\"\")","v":""}]
[null,null,null,null,null,null,null,null,null,null,null,null,null,null,null,null,null,null,null,null,null,null,null,{"$f":"IF(LEN(Z2345)>0,VLOOKUP(Z2345,'TFW Programs'!$A$2:$B$8,2,FALSE),\"\")","v":""},null,null,{"$f":"IF(LEN(A2345)>0,VLOOKUP(A2345,Subcontractors!$A$2:$B$4,2,FALSE),\"\")","v":""}]
[null,null,null,null,null,null,null,null,null,null,null,null,null,null,null,null,null,null,null,null,null,null,null,{"$f":"IF(LEN(Z2350)>0,VLOOKUP(Z2350,'TFW Programs'!$A$2:$B$8,2,FALSE),\"\")","v":""},null,null,{"$f":"IF(LEN(A2350)>0,VLOOKUP(A2350,Subcontractors!$A$2:$B$4,2,FALSE),\"\")","v":""}]
[null,null,null,null,null,null,null,null,null,null,null,null,null,null,null,null,null,null,null,null,null,null,null,{"$f":"IF(LEN(Z2354)>0,VLOOKUP(Z2354,'TFW Programs'!$A$2:$B$8,2,FALSE),\"\")","v":""},null,null,{"$f":"IF(LEN(A2354)>0,VLOOKUP(A2354,Subcontractors!$A$2:$B$4,2,FALSE),\"\")","v":""}]
[null,null,null,null,null,null,null,null,null,null,null,null,null,null,null,null,null,null,null,null,null,null,null,{"$f":"IF(LEN(Z2355)>0,VLOOKUP(Z2355,'TFW Programs'!$A$2:$B$8,2,FALSE),\"\")","v":""},null,null,{"$f":"IF(LEN(A2355)>0,VLOOKUP(A2355,Subcontractors!$A$2:$B$4,2,FALSE),\"\")","v":""}]
[null,null,null,null,null,null,null,null,null,null,null,null,null,null,null,null,null,null,null,null,null,null,null,{"$f":"IF(LEN(Z2360)>0,VLOOKUP(Z2360,'TFW Programs'!$A$2:$B$8,2,FALSE),\"\")","v":""},null,null,{"$f":"IF(LEN(A2360)>0,VLOOKUP(A2360,Subcontractors!$A$2:$B$4,2,FALSE),\"\")","v":""}]
[null,null,null,null,null,null,null,null,null,null,null,null,null,null,null,null,null,null,null,null,null,null,null,{"$f":"IF(LEN(Z2365)>0,VLOOKUP(Z2365,'TFW Programs'!$A$2:$B$8,2,FALSE),\"\")","v":""},null,null,{"$f":"IF(LEN(A2365)>0,VLOOKUP(A2365,Subcontractors!$A$2:$B$4,2,FALSE),\"\")","v":""}]
[null,null,null,null,null,null,null,null,null,null,null,null,null,null,null,null,null,null,null,null,null,null,null,{"$f":"IF(LEN(Z2368)>0,VLOOKUP(Z2368,'TFW Programs'!$A$2:$B$8,2,FALSE),\"\")","v":""},null,null,{"$f":"IF(LEN(A2368)>0,VLOOKUP(A2368,Subcontractors!$A$2:$B$4,2,FALSE),\"\")","v":""}]
[null,null,null,null,null,null,null,null,null,null,null,null,null,null,null,null,null,null,null,null,null,null,null,{"$f":"IF(LEN(Z2370)>0,VLOOKUP(Z2370,'TFW Programs'!$A$2:$B$8,2,FALSE),\"\")","v":""},null,null,{"$f":"IF(LEN(A2370)>0,VLOOKUP(A2370,Subcontractors!$A$2:$B$4,2,FALSE),\"\")","v":""}]
[null,null,null,null,null,null,null,null,null,null,null,null,null,null,null,null,null,null,null,null,null,null,null,{"$f":"IF(LEN(Z2375)>0,VLOOKUP(Z2375,'TFW Programs'!$A$2:$B$8,2,FALSE),\"\")","v":""},null,null,{"$f":"IF(LEN(A2375)>0,VLOOKUP(A2375,Subcontractors!$A$2:$B$4,2,FALSE),\"\")","v":""}]
[null,null,null,null,null,null,null,null,null,null,null,null,null,null,null,null,null,null,null,null,null,null,null,{"$f":"IF(LEN(Z2380)>0,VLOOKUP(Z2380,'TFW Programs'!$A$2:$B$8,2,FALSE),\"\")","v":""},null,null,{"$f":"IF(LEN(A2380)>0,VLOOKUP(A2380,Subcontractors!$A$2:$B$4,2,FALSE),\"\")","v":""}]
[null,null,null,null,null,null,null,null,null,null,null,null,null,null,null,null,null,null,null,null,null,null,null,{"$f":"IF(LEN(Z2385)>0,VLOOKUP(Z2385,'TFW Programs'!$A$2:$B$8,2,FALSE),\"\")","v":""},null,null,{"$f":"IF(LEN(A2385)>0,VLOOKUP(A2385,Subcontractors!$A$2:$B$4,2,FALSE),\"\")","v":""}]
[null,null,null,null,null,null,null,null,null,null,null,null,null,null,null,null,null,null,null,null,null,null,null,{"$f":"IF(LEN(Z2386)>0,VLOOKUP(Z2386,'TFW Programs'!$A$2:$B$8,2,FALSE),\"\")","v":""},null,null,{"$f":"IF(LEN(A2386)>0,VLOOKUP(A2386,Subcontractors!$A$2:$B$4,2,FALSE),\"\")","v":""}]
[null,null,null,null,null,null,null,null,null,null,null,null,null,null,null,null,null,null,null,null,null,null,null,{"$f":"IF(LEN(Z2390)>0,VLOOKUP(Z2390,'TFW Programs'!$A$2:$B$8,2,FALSE),\"\")","v":""},null,null,{"$f":"IF(LEN(A2390)>0,VLOOKUP(A2390,Subcontractors!$A$2:$B$4,2,FALSE),\"\")","v":""}]
[null,null,null,null,null,null,null,null,null,null,null,null,null,null,null,null,null,null,null,null,null,null,null,{"$f":"IF(LEN(Z2395)>0,VLOOKUP(Z2395,'TFW Programs'!$A$2:$B$8,2,FALSE),\"\")","v":""},null,null,{"$f":"IF(LEN(A2395)>0,VLOOKUP(A2395,Subcontractors!$A$2:$B$4,2,FALSE),\"\")","v":""}]
[null,null,null,null,null,null,null,null,null,null,null,null,null,null,null,null,null,null,null,null,null,null,null,{"$f":"IF(LEN(Z2400)>0,VLOOKUP(Z2400,'TFW Programs'!$A$2:$B$8,2,FALSE),\"\")","v":""},null,null,{"$f":"IF(LEN(A2400)>0,VLOOKUP(A2400,Subcontractors!$A$2:$B$4,2,FALSE),\"\")","v":""}]
[null,null,null,null,null,null,null,null,null,null,null,null,null,null,null,null,null,null,null,null,null,null,null,{"$f":"IF(LEN(Z2402)>0,VLOOKUP(Z2402,'TFW Programs'!$A$2:$B$8,2,FALSE),\"\")","v":""},null,null,{"$f":"IF(LEN(A2402)>0,VLOOKUP(A2402,Subcontractors!$A$2:$B$4,2,FALSE),\"\")","v":""}]
[null,null,null,null,null,null,null,null,null,null,null,null,null,null,null,null,null,null,null,null,null,null,null,{"$f":"IF(LEN(Z2405)>0,VLOOKUP(Z2405,'TFW Programs'!$A$2:$B$8,2,FALSE),\"\")","v":""},null,null,{"$f":"IF(LEN(A2405)>0,VLOOKUP(A2405,Subcontractors!$A$2:$B$4,2,FALSE),\"\")","v":""}]
[null,null,null,null,null,null,null,null,null,null,null,null,null,null,null,null,null,null,null,null,null,null,null,{"$f":"IF(LEN(Z2410)>0,VLOOKUP(Z2410,'TFW Programs'!$A$2:$B$8,2,FALSE),\"\")","v":""},null,null,{"$f":"IF(LEN(A2410)>0,VLOOKUP(A2410,Subcontractors!$A$2:$B$4,2,FALSE),\"\")","v":""}]
[null,null,null,null,null,null,null,null,null,null,null,null,null,null,null,null,null,null,null,null,null,null,null,{"$f":"IF(LEN(Z2415)>0,VLOOKUP(Z2415,'TFW Programs'!$A$2:$B$8,2,FALSE),\"\")","v":""},null,null,{"$f":"IF(LEN(A2415)>0,VLOOKUP(A2415,Subcontractors!$A$2:$B$4,2,FALSE),\"\")","v":""}]
[null,null,null,null,null,null,null,null,null,null,null,null,null,null,null,null,null,null,null,null,null,null,null,{"$f":"IF(LEN(Z2416)>0,VLOOKUP(Z2416,'TFW Programs'!$A$2:$B$8,2,FALSE),\"\")","v":""},null,null,{"$f":"IF(LEN(A2416)>0,VLOOKUP(A2416,Subcontractors!$A$2:$B$4,2,FALSE),\"\")","v":""}]
[null,null,null,null,null,null,null,null,null,null,null,null,null,null,null,null,null,null,null,null,null,null,null,{"$f":"IF(LEN(Z2420)>0,VLOOKUP(Z2420,'TFW Programs'!$A$2:$B$8,2,FALSE),\"\")","v":""},null,null,{"$f":"IF(LEN(A2420)>0,VLOOKUP(A2420,Subcontractors!$A$2:$B$4,2,FALSE),\"\")","v":""}]
[null,null,null,null,null,null,null,null,null,null,null,null,null,null,null,null,null,null,null,null,null,null,null,{"$f":"IF(LEN(Z2425)>0,VLOOKUP(Z2425,'TFW Programs'!$A$2:$B$8,2,FALSE),\"\")","v":""},null,null,{"$f":"IF(LEN(A2425)>0,VLOOKUP(A2425,Subcontractors!$A$2:$B$4,2,FALSE),\"\")","v":""}]
[null,null,null,null,null,null,null,null,null,null,null,null,null,null,null,null,null,null,null,null,null,null,null,{"$f":"IF(LEN(Z2430)>0,VLOOKUP(Z2430,'TFW Programs'!$A$2:$B$8,2,FALSE),\"\")","v":""},null,null,{"$f":"IF(LEN(A2430)>0,VLOOKUP(A2430,Subcontractors!$A$2:$B$4,2,FALSE),\"\")","v":""}]
[null,null,null,null,null,null,null,null,null,null,null,null,null,null,null,null,null,null,null,null,null,null,null,{"$f":"IF(LEN(Z2431)>0,VLOOKUP(Z2431,'TFW Programs'!$A$2:$B$8,2,FALSE),\"\")","v":""},null,null,{"$f":"IF(LEN(A2431)>0,VLOOKUP(A2431,Subcontractors!$A$2:$B$4,2,FALSE),\"\")","v":""}]
[null,null,null,null,null,null,null,null,null,null,null,null,null,null,null,null,null,null,null,null,null,null,null,{"$f":"IF(LEN(Z2437)>0,VLOOKUP(Z2437,'TFW Programs'!$A$2:$B$8,2,FALSE),\"\")","v":""},null,null,{"$f":"IF(LEN(A2437)>0,VLOOKUP(A2437,Subcontractors!$A$2:$B$4,2,FALSE),\"\")","v":""}]
[null,null,null,null,null,null,null,null,null,null,null,null,null,null,null,null,null,null,null,null,null,null,null,{"$f":"IF(LEN(Z2440)>0,VLOOKUP(Z2440,'TFW Programs'!$A$2:$B$8,2,FALSE),\"\")","v":""},null,null,{"$f":"IF(LEN(A2440)>0,VLOOKUP(A2440,Subcontractors!$A$2:$B$4,2,FALSE),\"\")","v":""}]
[null,null,null,null,null,null,null,null,null,null,null,null,null,null,null,null,null,null,null,null,null,null,null,{"$f":"IF(LEN(Z2445)>0,VLOOKUP(Z2445,'TFW Programs'!$A$2:$B$8,2,FALSE),\"\")","v":""},null,null,{"$f":"IF(LEN(A2445)>0,VLOOKUP(A2445,Subcontractors!$A$2:$B$4,2,FALSE),\"\")","v":""}]
[null,null,null,null,null,null,null,null,null,null,null,null,null,null,null,null,null,null,null,null,null,null,null,{"$f":"IF(LEN(Z2446)>0,VLOOKUP(Z2446,'TFW Programs'!$A$2:$B$8,2,FALSE),\"\")","v":""},null,null,{"$f":"IF(LEN(A2446)>0,VLOOKUP(A2446,Subcontractors!$A$2:$B$4,2,FALSE),\"\")","v":""}]
[null,null,null,null,null,null,null,null,null,null,null,null,null,null,null,null,null,null,null,null,null,null,null,{"$f":"IF(LEN(Z2450)>0,VLOOKUP(Z2450,'TFW Programs'!$A$2:$B$8,2,FALSE),\"\")","v":""},null,null,{"$f":"IF(LEN(A2450)>0,VLOOKUP(A2450,Subcontractors!$A$2:$B$4,2,FALSE),\"\")","v":""}]
[null,null,null,null,null,null,null,null,null,null,null,null,null,null,null,null,null,null,null,null,null,null,null,{"$f":"IF(LEN(Z2455)>0,VLOOKUP(Z2455,'TFW Programs'!$A$2:$B$8,2,FALSE),\"\")","v":""},null,null,{"$f":"IF(LEN(A2455)>0,VLOOKUP(A2455,Subcontractors!$A$2:$B$4,2,FALSE),\"\")","v":""}]
[null,null,null,null,null,null,null,null,null,null,null,null,null,null,null,null,null,null,null,null,null,null,null,{"$f":"IF(LEN(Z2460)>0,VLOOKUP(Z2460,'TFW Programs'!$A$2:$B$8,2,FALSE),\"\")","v":""},null,null,{"$f":"IF(LEN(A2460)>0,VLOOKUP(A2460,Subcontractors!$A$2:$B$4,2,FALSE),\"\")","v":""}]
[null,null,null,null,null,null,null,null,null,null,null,null,null,null,null,null,null,null,null,null,null,null,null,{"$f":"IF(LEN(Z2461)>0,VLOOKUP(Z2461,'TFW Programs'!$A$2:$B$8,2,FALSE),\"\")","v":""},null,null,{"$f":"IF(LEN(A2461)>0,VLOOKUP(A2461,Subcontractors!$A$2:$B$4,2,FALSE),\"\")","v":""}]
[null,null,null,null,null,null,null,null,null,null,null,null,null,null,null,null,null,null,null,null,null,null,null,{"$f":"IF(LEN(Z2466)>0,VLOOKUP(Z2466,'TFW Programs'!$A$2:$B$8,2,FALSE),\"\")","v":""},null,null,{"$f":"IF(LEN(A2466)>0,VLOOKUP(A2466,Subcontractors!$A$2:$B$4,2,FALSE),\"\")","v":""}]
[null,null,null,null,null,null,null,null,null,null,null,null,null,null,null,null,null,null,null,null,null,null,null,{"$f":"IF(LEN(Z2471)>0,VLOOKUP(Z2471,'TFW Programs'!$A$2:$B$8,2,FALSE),\"\")","v":""},null,null,{"$f":"IF(LEN(A2471)>0,VLOOKUP(A2471,Subcontractors!$A$2:$B$4,2,FALSE),\"\")","v":""}]
[null,null,null,null,null,null,null,null,null,null,null,null,null,null,null,null,null,null,null,null,null,null,null,{"$f":"IF(LEN(Z2475)>0,VLOOKUP(Z2475,'TFW Programs'!$A$2:$B$8,2,FALSE),\"\")","v":""},null,null,{"$f":"IF(LEN(A2475)>0,VLOOKUP(A2475,Subcontractors!$A$2:$B$4,2,FALSE),\"\")","v":""}]
[null,null,null,null,null,null,null,null,null,null,null,null,null,null,null,null,null,null,null,null,null,null,null,{"$f":"IF(LEN(Z2476)>0,VLOOKUP(Z2476,'TFW Programs'!$A$2:$B$8,2,FALSE),\"\")","v":""},null,null,{"$f":"IF(LEN(A2476)>0,VLOOKUP(A2476,Subcontractors!$A$2:$B$4,2,FALSE),\"\")","v":""}]
[null,null,null,null,null,null,null,null,null,null,null,null,null,null,null,null,null,null,null,null,null,null,null,{"$f":"IF(LEN(Z2481)>0,VLOOKUP(Z2481,'TFW Programs'!$A$2:$B$8,2,FALSE),\"\")","v":""},null,null,{"$f":"IF(LEN(A2481)>0,VLOOKUP(A2481,Subcontractors!$A$2:$B$4,2,FALSE),\"\")","v":""}]
[null,null,null,null,null,null,null,null,null,null,null,null,null,null,null,null,null,null,null,null,null,null,null,{"$f":"IF(LEN(Z2485)>0,VLOOKUP(Z2485,'TFW Programs'!$A$2:$B$8,2,FALSE),\"\")","v":""},null,null,{"$f":"IF(LEN(A2485)>0,VLOOKUP(A2485,Subcontractors!$A$2:$B$4,2,FALSE),\"\")","v":""}]
[null,null,null,null,null,null,null,null,null,null,null,null,null,null,null,null,null,null,null,null,null,null,null,{"$f":"IF(LEN(Z2490)>0,VLOOKUP(Z2490,'TFW Programs'!$A$2:$B$8,2,FALSE),\"\")","v":""},null,null,{"$f":"IF(LEN(A2490)>0,VLOOKUP(A2490,Subcontractors!$A$2:$B$4,2,FALSE),\"\")","v":""}]
[null,null,null,null,null,null,null,null,null,null,null,null,null,null,null,null,null,null,null,null,null,null,null,{"$f":"IF(LEN(Z2491)>0,VLOOKUP(Z2491,'TFW Programs'!$A$2:$B$8,2,FALSE),\"\")","v":""},null,null,{"$f":"IF(LEN(A2491)>0,VLOOKUP(A2491,Subcontractors!$A$2:$B$4,2,FALSE),\"\")","v":""}]
[null,null,null,null,null,null,null,null,null,null,null,null,null,null,null,null,null,null,null,null,null,null,null,{"$f":"IF(LEN(Z2496)>0,VLOOKUP(Z2496,'TFW Programs'!$A$2:$B$8,2,FALSE),\"\")","v":""},null,null,{"$f":"IF(LEN(A2496)>0,VLOOKUP(A2496,Subcontractors!$A$2:$B$4,2,FALSE),\"\")","v":""}]
[null,null,null,null,null,null,null,null,null,null,null,null,null,null,null,null,null,null,null,null,null,null,null,{"$f":"IF(LEN(Z2501)>0,VLOOKUP(Z2501,'TFW Programs'!$A$2:$B$8,2,FALSE),\"\")","v":""},null,null,{"$f":"IF(LEN(A2501)>0,VLOOKUP(A2501,Subcontractors!$A$2:$B$4,2,FALSE),\"\")","v":""}]
[null,null,null,null,null,null,null,null,null,null,null,null,null,null,null,null,null,null,null,null,null,null,null,{"$f":"IF(LEN(Z2503)>0,VLOOKUP(Z2503,'TFW Programs'!$A$2:$B$8,2,FALSE),\"\")","v":""},null,null,{"$f":"IF(LEN(A2503)>0,VLOOKUP(A2503,Subcontractors!$A$2:$B$4,2,FALSE),\"\")","v":""}]
[null,null,null,null,null,null,null,null,null,null,null,null,null,null,null,null,null,null,null,null,null,null,null,{"$f":"IF(LEN(Z2506)>0,VLOOKUP(Z2506,'TFW Programs'!$A$2:$B$8,2,FALSE),\"\")","v":""},null,null,{"$f":"IF(LEN(A2506)>0,VLOOKUP(A2506,Subcontractors!$A$2:$B$4,2,FALSE),\"\")","v":""}]
[null,null,null,null,null,null,null,null,null,null,null,null,null,null,null,null,null,null,null,null,null,null,null,{"$f":"IF(LEN(Z2511)>0,VLOOKUP(Z2511,'TFW Programs'!$A$2:$B$8,2,FALSE),\"\")","v":""},null,null,{"$f":"IF(LEN(A2511)>0,VLOOKUP(A2511,Subcontractors!$A$2:$B$4,2,FALSE),\"\")","v":""}]
[null,null,null,null,null,null,null,null,null,null,null,null,null,null,null,null,null,null,null,null,null,null,null,{"$f":"IF(LEN(Z2516)>0,VLOOKUP(Z2516,'TFW Programs'!$A$2:$B$8,2,FALSE),\"\")","v":""},null,null,{"$f":"IF(LEN(A2516)>0,VLOOKUP(A2516,Subcontractors!$A$2:$B$4,2,FALSE),\"\")","v":""}]
[null,null,null,null,null,null,null,null,null,null,null,null,null,null,null,null,null,null,null,null,null,null,null,{"$f":"IF(LEN(Z2519)>0,VLOOKUP(Z2519,'TFW Programs'!$A$2:$B$8,2,FALSE),\"\")","v":""},null,null,{"$f":"IF(LEN(A2519)>0,VLOOKUP(A2519,Subcontractors!$A$2:$B$4,2,FALSE),\"\")","v":""}]
[null,null,null,null,null,null,null,null,null,null,null,null,null,null,null,null,null,null,null,null,null,null,null,{"$f":"IF(LEN(Z2521)>0,VLOOKUP(Z2521,'TFW Programs'!$A$2:$B$8,2,FALSE),\"\")","v":""},null,null,{"$f":"IF(LEN(A2521)>0,VLOOKUP(A2521,Subcontractors!$A$2:$B$4,2,FALSE),\"\")","v":""}]
[null,null,null,null,null,null,null,null,null,null,null,null,null,null,null,null,null,null,null,null,null,null,null,{"$f":"IF(LEN(Z2526)>0,VLOOKUP(Z2526,'TFW Programs'!$A$2:$B$8,2,FALSE),\"\")","v":""},null,null,{"$f":"IF(LEN(A2526)>0,VLOOKUP(A2526,Subcontractors!$A$2:$B$4,2,FALSE),\"\")","v":""}]
[null,null,null,null,null,null,null,null,null,null,null,null,null,null,null,null,null,null,null,null,null,null,null,{"$f":"IF(LEN(Z2531)>0,VLOOKUP(Z2531,'TFW Programs'!$A$2:$B$8,2,FALSE),\"\")","v":""},null,null,{"$f":"IF(LEN(A2531)>0,VLOOKUP(A2531,Subcontractors!$A$2:$B$4,2,FALSE),\"\")","v":""}]
[null,null,null,null,null,null,null,null,null,null,null,null,null,null,null,null,null,null,null,null,null,null,null,{"$f":"IF(LEN(Z2536)>0,VLOOKUP(Z2536,'TFW Programs'!$A$2:$B$8,2,FALSE),\"\")","v":""},null,null,{"$f":"IF(LEN(A2536)>0,VLOOKUP(A2536,Subcontractors!$A$2:$B$4,2,FALSE),\"\")","v":""}]
[null,null,null,null,null,null,null,null,null,null,null,null,null,null,null,null,null,null,null,null,null,null,null,{"$f":"IF(LEN(Z2537)>0,VLOOKUP(Z2537,'TFW Programs'!$A$2:$B$8,2,FALSE),\"\")","v":""},null,null,{"$f":"IF(LEN(A2537)>0,VLOOKUP(A2537,Subcontractors!$A$2:$B$4,2,FALSE),\"\")","v":""}]
[null,null,null,null,null,null,null,null,null,null,null,null,null,null,null,null,null,null,null,null,null,null,null,{"$f":"IF(LEN(Z2541)>0,VLOOKUP(Z2541,'TFW Programs'!$A$2:$B$8,2,FALSE),\"\")","v":""},null,null,{"$f":"IF(LEN(A2541)>0,VLOOKUP(A2541,Subcontractors!$A$2:$B$4,2,FALSE),\"\")","v":""}]
[null,null,null,null,null,null,null,null,null,null,null,null,null,null,null,null,null,null,null,null,null,null,null,{"$f":"IF(LEN(Z2546)>0,VLOOKUP(Z2546,'TFW Programs'!$A$2:$B$8,2,FALSE),\"\")","v":""},null,null,{"$f":"IF(LEN(A2546)>0,VLOOKUP(A2546,Subcontractors!$A$2:$B$4,2,FALSE),\"\")","v":""}]
[null,null,null,null,null,null,null,null,null,null,null,null,null,null,null,null,null,null,null,null,null,null,null,{"$f":"IF(LEN(Z2551)>0,VLOOKUP(Z2551,'TFW Programs'!$A$2:$B$8,2,FALSE),\"\")","v":""},null,null,{"$f":"IF(LEN(A2551)>0,VLOOKUP(A2551,Subcontractors!$A$2:$B$4,2,FALSE),\"\")","v":""}]
[null,null,null,null,null,null,null,null,null,null,null,null,null,null,null,null,null,null,null,null,null,null,null,{"$f":"IF(LEN(Z2553)>0,VLOOKUP(Z2553,'TFW Programs'!$A$2:$B$8,2,FALSE),\"\")","v":""},null,null,{"$f":"IF(LEN(A2553)>0,VLOOKUP(A2553,Subcontractors!$A$2:$B$4,2,FALSE),\"\")","v":""}]
[null,null,null,null,null,null,null,null,null,null,null,null,null,null,null,null,null,null,null,null,null,null,null,{"$f":"IF(LEN(Z2556)>0,VLOOKUP(Z2556,'TFW Programs'!$A$2:$B$8,2,FALSE),\"\")","v":""},null,null,{"$f":"IF(LEN(A2556)>0,VLOOKUP(A2556,Subcontractors!$A$2:$B$4,2,FALSE),\"\")","v":""}]
[null,null,null,null,null,null,null,null,null,null,null,null,null,null,null,null,null,null,null,null,null,null,null,{"$f":"IF(LEN(Z2561)>0,VLOOKUP(Z2561,'TFW Programs'!$A$2:$B$8,2,FALSE),\"\")","v":""},null,null,{"$f":"IF(LEN(A2561)>0,VLOOKUP(A2561,Subcontractors!$A$2:$B$4,2,FALSE),\"\")","v":""}]
[null,null,null,null,null,null,null,null,null,null,null,null,null,null,null,null,null,null,null,null,null,null,null,{"$f":"IF(LEN(Z2566)>0,VLOOKUP(Z2566,'TFW Programs'!$A$2:$B$8,2,FALSE),\"\")","v":""},null,null,{"$f":"IF(LEN(A2566)>0,VLOOKUP(A2566,Subcontractors!$A$2:$B$4,2,FALSE),\"\")","v":""}]
[null,null,null,null,null,null,null,null,null,null,null,null,null,null,null,null,null,null,null,null,null,null,null,{"$f":"IF(LEN(Z2567)>0,VLOOKUP(Z2567,'TFW Programs'!$A$2:$B$8,2,FALSE),\"\")","v":""},null,null,{"$f":"IF(LEN(A2567)>0,VLOOKUP(A2567,Subcontractors!$A$2:$B$4,2,FALSE),\"\")","v":""}]
[null,null,null,null,null,null,null,null,null,null,null,null,null,null,null,null,null,null,null,null,null,null,null,{"$f":"IF(LEN(Z2571)>0,VLOOKUP(Z2571,'TFW Programs'!$A$2:$B$8,2,FALSE),\"\")","v":""},null,null,{"$f":"IF(LEN(A2571)>0,VLOOKUP(A2571,Subcontractors!$A$2:$B$4,2,FALSE),\"\")","v":""}]
[null,null,null,null,null,null,null,null,null,null,null,null,null,null,null,null,null,null,null,null,null,null,null,{"$f":"IF(LEN(Z2576)>0,VLOOKUP(Z2576,'TFW Programs'!$A$2:$B$8,2,FALSE),\"\")","v":""},null,null,{"$f":"IF(LEN(A2576)>0,VLOOKUP(A2576,Subcontractors!$A$2:$B$4,2,FALSE),\"\")","v":""}]
[null,null,null,null,null,null,null,null,null,null,null,null,null,null,null,null,null,null,null,null,null,null,null,{"$f":"IF(LEN(Z2581)>0,VLOOKUP(Z2581,'TFW Programs'!$A$2:$B$8,2,FALSE),\"\")","v":""},null,null,{"$f":"IF(LEN(A2581)>0,VLOOKUP(A2581,Subcontractors!$A$2:$B$4,2,FALSE),\"\")","v":""}]
[null,null,null,null,null,null,null,null,null,null,null,null,null,null,null,null,null,null,null,null,null,null,null,{"$f":"IF(LEN(Z2582)>0,VLOOKUP(Z2582,'TFW Programs'!$A$2:$B$8,2,FALSE),\"\")","v":""},null,null,{"$f":"IF(LEN(A2582)>0,VLOOKUP(A2582,Subcontractors!$A$2:$B$4,2,FALSE),\"\")","v":""}]
[null,null,null,null,null,null,null,null,null,null,null,null,null,null,null,null,null,null,null,null,null,null,null,{"$f":"IF(LEN(Z2588)>0,VLOOKUP(Z2588,'TFW Programs'!$A$2:$B$8,2,FALSE),\"\")","v":""},null,null,{"$f":"IF(LEN(A2588)>0,VLOOKUP(A2588,Subcontractors!$A$2:$B$4,2,FALSE),\"\")","v":""}]
[null,null,null,null,null,null,null,null,null,null,null,null,null,null,null,null,null,null,null,null,null,null,null,{"$f":"IF(LEN(Z2591)>0,VLOOKUP(Z2591,'TFW Programs'!$A$2:$B$8,2,FALSE),\"\")","v":""},null,null,{"$f":"IF(LEN(A2591)>0,VLOOKUP(A2591,Subcontractors!$A$2:$B$4,2,FALSE),\"\")","v":""}]
[null,null,null,null,null,null,null,null,null,null,null,null,null,null,null,null,null,null,null,null,null,null,null,{"$f":"IF(LEN(Z2596)>0,VLOOKUP(Z2596,'TFW Programs'!$A$2:$B$8,2,FALSE),\"\")","v":""},null,null,{"$f":"IF(LEN(A2596)>0,VLOOKUP(A2596,Subcontractors!$A$2:$B$4,2,FALSE),\"\")","v":""}]
[null,null,null,null,null,null,null,null,null,null,null,null,null,null,null,null,null,null,null,null,null,null,null,{"$f":"IF(LEN(Z2597)>0,VLOOKUP(Z2597,'TFW Programs'!$A$2:$B$8,2,FALSE),\"\")","v":""},null,null,{"$f":"IF(LEN(A2597)>0,VLOOKUP(A2597,Subcontractors!$A$2:$B$4,2,FALSE),\"\")","v":""}]
[null,null,null,null,null,null,null,null,null,null,null,null,null,null,null,null,null,null,null,null,null,null,null,{"$f":"IF(LEN(Z2601)>0,VLOOKUP(Z2601,'TFW Programs'!$A$2:$B$8,2,FALSE),\"\")","v":""},null,null,{"$f":"IF(LEN(A2601)>0,VLOOKUP(A2601,Subcontractors!$A$2:$B$4,2,FALSE),\"\")","v":""}]
[null,null,null,null,null,null,null,null,null,null,null,null,null,null,null,null,null,null,null,null,null,null,null,{"$f":"IF(LEN(Z2606)>0,VLOOKUP(Z2606,'TFW Programs'!$A$2:$B$8,2,FALSE),\"\")","v":""},null,null,{"$f":"IF(LEN(A2606)>0,VLOOKUP(A2606,Subcontractors!$A$2:$B$4,2,FALSE),\"\")","v":""}]
[null,null,null,null,null,null,null,null,null,null,null,null,null,null,null,null,null,null,null,null,null,null,null,{"$f":"IF(LEN(Z2611)>0,VLOOKUP(Z2611,'TFW Programs'!$A$2:$B$8,2,FALSE),\"\")","v":""},null,null,{"$f":"IF(LEN(A2611)>0,VLOOKUP(A2611,Subcontractors!$A$2:$B$4,2,FALSE),\"\")","v":""}]
[null,null,null,null,null,null,null,null,null,null,null,null,null,null,null,null,null,null,null,null,null,null,null,{"$f":"IF(LEN(Z2612)>0,VLOOKUP(Z2612,'TFW Programs'!$A$2:$B$8,2,FALSE),\"\")","v":""},null,null,{"$f":"IF(LEN(A2612)>0,VLOOKUP(A2612,Subcontractors!$A$2:$B$4,2,FALSE),\"\")","v":""}]
[null,null,null,null,null,null,null,null,null,null,null,null,null,null,null,null,null,null,null,null,null,null,null,{"$f":"IF(LEN(Z2617)>0,VLOOKUP(Z2617,'TFW Programs'!$A$2:$B$8,2,FALSE),\"\")","v":""},null,null,{"$f":"IF(LEN(A2617)>0,VLOOKUP(A2617,Subcontractors!$A$2:$B$4,2,FALSE),\"\")","v":""}]
[null,null,null,null,null,null,null,null,null,null,null,null,null,null,null,null,null,null,null,null,null,null,null,{"$f":"IF(LEN(Z2622)>0,VLOOKUP(Z2622,'TFW Programs'!$A$2:$B$8,2,FALSE),\"\")","v":""},null,null,{"$f":"IF(LEN(A2622)>0,VLOOKUP(A2622,Subcontractors!$A$2:$B$4,2,FALSE),\"\")","v":""}]
[null,null,null,null,null,null,null,null,null,null,null,null,null,null,null,null,null,null,null,null,null,null,null,{"$f":"IF(LEN(Z2626)>0,VLOOKUP(Z2626,'TFW Programs'!$A$2:$B$8,2,FALSE),\"\")","v":""},null,null,{"$f":"IF(LEN(A2626)>0,VLOOKUP(A2626,Subcontractors!$A$2:$B$4,2,FALSE),\"\")","v":""}]
[null,null,null,null,null,null,null,null,null,null,null,null,null,null,null,null,null,null,null,null,null,null,null,{"$f":"IF(LEN(Z2627)>0,VLOOKUP(Z2627,'TFW Programs'!$A$2:$B$8,2,FALSE),\"\")","v":""},null,null,{"$f":"IF(LEN(A2627)>0,VLOOKUP(A2627,Subcontractors!$A$2:$B$4,2,FALSE),\"\")","v":""}]
[null,null,null,null,null,null,null,null,null,null,null,null,null,null,null,null,null,null,null,null,null,null,null,{"$f":"IF(LEN(Z2632)>0,VLOOKUP(Z2632,'TFW Programs'!$A$2:$B$8,2,FALSE),\"\")","v":""},null,null,{"$f":"IF(LEN(A2632)>0,VLOOKUP(A2632,Subcontractors!$A$2:$B$4,2,FALSE),\"\")","v":""}]
[null,null,null,null,null,null,null,null,null,null,null,null,null,null,null,null,null,null,null,null,null,null,null,{"$f":"IF(LEN(Z2636)>0,VLOOKUP(Z2636,'TFW Programs'!$A$2:$B$8,2,FALSE),\"\")","v":""},null,null,{"$f":"IF(LEN(A2636)>0,VLOOKUP(A2636,Subcontractors!$A$2:$B$4,2,FALSE),\"\")","v":""}]
[null,null,null,null,null,null,null,null,null,null,null,null,null,null,null,null,null,null,null,null,null,null,null,{"$f":"IF(LEN(Z2641)>0,VLOOKUP(Z2641,'TFW Programs'!$A$2:$B$8,2,FALSE),\"\")","v":""},null,null,{"$f":"IF(LEN(A2641)>0,VLOOKUP(A2641,Subcontractors!$A$2:$B$4,2,FALSE),\"\")","v":""}]
[null,null,null,null,null,null,null,null,null,null,null,null,null,null,null,null,null,null,null,null,null,null,null,{"$f":"IF(LEN(Z2642)>0,VLOOKUP(Z2642,'TFW Programs'!$A$2:$B$8,2,FALSE),\"\")","v":""},null,null,{"$f":"IF(LEN(A2642)>0,VLOOKUP(A2642,Subcontractors!$A$2:$B$4,2,FALSE),\"\")","v":""}]
[null,null,null,null,null,null,null,null,null,null,null,null,null,null,null,null,null,null,null,null,null,null,null,{"$f":"IF(LEN(Z2647)>0,VLOOKUP(Z2647,'TFW Programs'!$A$2:$B$8,2,FALSE),\"\")","v":""},null,null,{"$f":"IF(LEN(A2647)>0,VLOOKUP(A2647,Subcontractors!$A$2:$B$4,2,FALSE),\"\")","v":""}]
[null,null,null,null,null,null,null,null,null,null,null,null,null,null,null,null,null,null,null,null,null,null,null,{"$f":"IF(LEN(Z2652)>0,VLOOKUP(Z2652,'TFW Programs'!$A$2:$B$8,2,FALSE),\"\")","v":""},null,null,{"$f":"IF(LEN(A2652)>0,VLOOKUP(A2652,Subcontractors!$A$2:$B$4,2,FALSE),\"\")","v":""}]
[null,null,null,null,null,null,null,null,null,null,null,null,null,null,null,null,null,null,null,null,null,null,null,{"$f":"IF(LEN(Z2654)>0,VLOOKUP(Z2654,'TFW Programs'!$A$2:$B$8,2,FALSE),\"\")","v":""},null,null,{"$f":"IF(LEN(A2654)>0,VLOOKUP(A2654,Subcontractors!$A$2:$B$4,2,FALSE),\"\")","v":""}]
[null,null,null,null,null,null,null,null,null,null,null,null,null,null,null,null,null,null,null,null,null,null,null,{"$f":"IF(LEN(Z2657)>0,VLOOKUP(Z2657,'TFW Programs'!$A$2:$B$8,2,FALSE),\"\")","v":""},null,null,{"$f":"IF(LEN(A2657)>0,VLOOKUP(A2657,Subcontractors!$A$2:$B$4,2,FALSE),\"\")","v":""}]
[null,null,null,null,null,null,null,null,null,null,null,null,null,null,null,null,null,null,null,null,null,null,null,{"$f":"IF(LEN(Z2662)>0,VLOOKUP(Z2662,'TFW Programs'!$A$2:$B$8,2,FALSE),\"\")","v":""},null,null,{"$f":"IF(LEN(A2662)>0,VLOOKUP(A2662,Subcontractors!$A$2:$B$4,2,FALSE),\"\")","v":""}]
[null,null,null,null,null,null,null,null,null,null,null,null,null,null,null,null,null,null,null,null,null,null,null,{"$f":"IF(LEN(Z2667)>0,VLOOKUP(Z2667,'TFW Programs'!$A$2:$B$8,2,FALSE),\"\")","v":""},null,null,{"$f":"IF(LEN(A2667)>0,VLOOKUP(A2667,Subcontractors!$A$2:$B$4,2,FALSE),\"\")","v":""}]
[null,null,null,null,null,null,null,null,null,null,null,null,null,null,null,null,null,null,null,null,null,null,null,{"$f":"IF(LEN(Z2670)>0,VLOOKUP(Z2670,'TFW Programs'!$A$2:$B$8,2,FALSE),\"\")","v":""},null,null,{"$f":"IF(LEN(A2670)>0,VLOOKUP(A2670,Subcontractors!$A$2:$B$4,2,FALSE),\"\")","v":""}]
[null,null,null,null,null,null,null,null,null,null,null,null,null,null,null,null,null,null,null,null,null,null,null,{"$f":"IF(LEN(Z2672)>0,VLOOKUP(Z2672,'TFW Programs'!$A$2:$B$8,2,FALSE),\"\")","v":""},null,null,{"$f":"IF(LEN(A2672)>0,VLOOKUP(A2672,Subcontractors!$A$2:$B$4,2,FALSE),\"\")","v":""}]
[null,null,null,null,null,null,null,null,null,null,null,null,null,null,null,null,null,null,null,null,null,null,null,{"$f":"IF(LEN(Z2677)>0,VLOOKUP(Z2677,'TFW Programs'!$A$2:$B$8,2,FALSE),\"\")","v":""},null,null,{"$f":"IF(LEN(A2677)>0,VLOOKUP(A2677,Subcontractors!$A$2:$B$4,2,FALSE),\"\")","v":""}]
[null,null,null,null,null,null,null,null,null,null,null,null,null,null,null,null,null,null,null,null,null,null,null,{"$f":"IF(LEN(Z2682)>0,VLOOKUP(Z2682,'TFW Programs'!$A$2:$B$8,2,FALSE),\"\")","v":""},null,null,{"$f":"IF(LEN(A2682)>0,VLOOKUP(A2682,Subcontractors!$A$2:$B$4,2,FALSE),\"\")","v":""}]
[null,null,null,null,null,null,null,null,null,null,null,null,null,null,null,null,null,null,null,null,null,null,null,{"$f":"IF(LEN(Z2684)>0,VLOOKUP(Z2684,'TFW Programs'!$A$2:$B$8,2,FALSE),\"\")","v":""},null,null,{"$f":"IF(LEN(A2684)>0,VLOOKUP(A2684,Subcontractors!$A$2:$B$4,2,FALSE),\"\")","v":""}]
[null,null,null,null,null,null,null,null,null,null,null,null,null,null,null,null,null,null,null,null,null,null,null,{"$f":"IF(LEN(Z2687)>0,VLOOKUP(Z2687,'TFW Programs'!$A$2:$B$8,2,FALSE),\"\")","v":""},null,null,{"$f":"IF(LEN(A2687)>0,VLOOKUP(A2687,Subcontractors!$A$2:$B$4,2,FALSE),\"\")","v":""}]
[null,null,null,null,null,null,null,null,null,null,null,null,null,null,null,null,null,null,null,null,null,null,null,{"$f":"IF(LEN(Z2692)>0,VLOOKUP(Z2692,'TFW Programs'!$A$2:$B$8,2,FALSE),\"\")","v":""},null,null,{"$f":"IF(LEN(A2692)>0,VLOOKUP(A2692,Subcontractors!$A$2:$B$4,2,FALSE),\"\")","v":""}]
[null,null,null,null,null,null,null,null,null,null,null,null,null,null,null,null,null,null,null,null,null,null,null,{"$f":"IF(LEN(Z2697)>0,VLOOKUP(Z2697,'TFW Programs'!$A$2:$B$8,2,FALSE),\"\")","v":""},null,null,{"$f":"IF(LEN(A2697)>0,VLOOKUP(A2697,Subcontractors!$A$2:$B$4,2,FALSE),\"\")","v":""}]
[null,null,null,null,null,null,null,null,null,null,null,null,null,null,null,null,null,null,null,null,null,null,null,{"$f":"IF(LEN(Z2702)>0,VLOOKUP(Z2702,'TFW Programs'!$A$2:$B$8,2,FALSE),\"\")","v":""},null,null,{"$f":"IF(LEN(A2702)>0,VLOOKUP(A2702,Subcontractors!$A$2:$B$4,2,FALSE),\"\")","v":""}]
[null,null,null,null,null,null,null,null,null,null,null,null,null,null,null,null,null,null,null,null,null,null,null,{"$f":"IF(LEN(Z2705)>0,VLOOKUP(Z2705,'TFW Programs'!$A$2:$B$8,2,FALSE),\"\")","v":""},null,null,{"$f":"IF(LEN(A2705)>0,VLOOKUP(A2705,Subcontractors!$A$2:$B$4,2,FALSE),\"\")","v":""}]
[null,null,null,null,null,null,null,null,null,null,null,null,null,null,null,null,null,null,null,null,null,null,null,{"$f":"IF(LEN(Z2707)>0,VLOOKUP(Z2707,'TFW Programs'!$A$2:$B$8,2,FALSE),\"\")","v":""},null,null,{"$f":"IF(LEN(A2707)>0,VLOOKUP(A2707,Subcontractors!$A$2:$B$4,2,FALSE),\"\")","v":""}]
[null,null,null,null,null,null,null,null,null,null,null,null,null,null,null,null,null,null,null,null,null,null,null,{"$f":"IF(LEN(Z2712)>0,VLOOKUP(Z2712,'TFW Programs'!$A$2:$B$8,2,FALSE),\"\")","v":""},null,null,{"$f":"IF(LEN(A2712)>0,VLOOKUP(A2712,Subcontractors!$A$2:$B$4,2,FALSE),\"\")","v":""}]
[null,null,null,null,null,null,null,null,null,null,null,null,null,null,null,null,null,null,null,null,null,null,null,{"$f":"IF(LEN(Z2717)>0,VLOOKUP(Z2717,'TFW Programs'!$A$2:$B$8,2,FALSE),\"\")","v":""},null,null,{"$f":"IF(LEN(A2717)>0,VLOOKUP(A2717,Subcontractors!$A$2:$B$4,2,FALSE),\"\")","v":""}]
[null,null,null,null,null,null,null,null,null,null,null,null,null,null,null,null,null,null,null,null,null,null,null,{"$f":"IF(LEN(Z2718)>0,VLOOKUP(Z2718,'TFW Programs'!$A$2:$B$8,2,FALSE),\"\")","v":""},null,null,{"$f":"IF(LEN(A2718)>0,VLOOKUP(A2718,Subcontractors!$A$2:$B$4,2,FALSE),\"\")","v":""}]
[null,null,null,null,null,null,null,null,null,null,null,null,null,null,null,null,null,null,null,null,null,null,null,{"$f":"IF(LEN(Z2722)>0,VLOOKUP(Z2722,'TFW Programs'!$A$2:$B$8,2,FALSE),\"\")","v":""},null,null,{"$f":"IF(LEN(A2722)>0,VLOOKUP(A2722,Subcontractors!$A$2:$B$4,2,FALSE),\"\")","v":""}]
[null,null,null,null,null,null,null,null,null,null,null,null,null,null,null,null,null,null,null,null,null,null,null,{"$f":"IF(LEN(Z2727)>0,VLOOKUP(Z2727,'TFW Programs'!$A$2:$B$8,2,FALSE),\"\")","v":""},null,null,{"$f":"IF(LEN(A2727)>0,VLOOKUP(A2727,Subcontractors!$A$2:$B$4,2,FALSE),\"\")","v":""}]
[null,null,null,null,null,null,null,null,null,null,null,null,null,null,null,null,null,null,null,null,null,null,null,{"$f":"IF(LEN(Z2732)>0,VLOOKUP(Z2732,'TFW Programs'!$A$2:$B$8,2,FALSE),\"\")","v":""},null,null,{"$f":"IF(LEN(A2732)>0,VLOOKUP(A2732,Subcontractors!$A$2:$B$4,2,FALSE),\"\")","v":""}]
[null,null,null,null,null,null,null,null,null,null,null,null,null,null,null,null,null,null,null,null,null,null,null,{"$f":"IF(LEN(Z2733)>0,VLOOKUP(Z2733,'TFW Programs'!$A$2:$B$8,2,FALSE),\"\")","v":""},null,null,{"$f":"IF(LEN(A2733)>0,VLOOKUP(A2733,Subcontractors!$A$2:$B$4,2,FALSE),\"\")","v":""}]
[null,null,null,null,null,null,null,null,null,null,null,null,null,null,null,null,null,null,null,null,null,null,null,{"$f":"IF(LEN(Z2739)>0,VLOOKUP(Z2739,'TFW Programs'!$A$2:$B$8,2,FALSE),\"\")","v":""},null,null,{"$f":"IF(LEN(A2739)>0,VLOOKUP(A2739,Subcontractors!$A$2:$B$4,2,FALSE),\"\")","v":""}]
[null,null,null,null,null,null,null,null,null,null,null,null,null,null,null,null,null,null,null,null,null,null,null,{"$f":"IF(LEN(Z2742)>0,VLOOKUP(Z2742,'TFW Programs'!$A$2:$B$8,2,FALSE),\"\")","v":""},null,null,{"$f":"IF(LEN(A2742)>0,VLOOKUP(A2742,Subcontractors!$A$2:$B$4,2,FALSE),\"\")","v":""}]
[null,null,null,null,null,null,null,null,null,null,null,null,null,null,null,null,null,null,null,null,null,null,null,{"$f":"IF(LEN(Z2747)>0,VLOOKUP(Z2747,'TFW Programs'!$A$2:$B$8,2,FALSE),\"\")","v":""},null,null,{"$f":"IF(LEN(A2747)>0,VLOOKUP(A2747,Subcontractors!$A$2:$B$4,2,FALSE),\"\")","v":""}]
[null,null,null,null,null,null,null,null,null,null,null,null,null,null,null,null,null,null,null,null,null,null,null,{"$f":"IF(LEN(Z2748)>0,VLOOKUP(Z2748,'TFW Programs'!$A$2:$B$8,2,FALSE),\"\")","v":""},null,null,{"$f":"IF(LEN(A2748)>0,VLOOKUP(A2748,Subcontractors!$A$2:$B$4,2,FALSE),\"\")","v":""}]
[null,null,null,null,null,null,null,null,null,null,null,null,null,null,null,null,null,null,null,null,null,null,null,{"$f":"IF(LEN(Z2753)>0,VLOOKUP(Z2753,'TFW Programs'!$A$2:$B$8,2,FALSE),\"\")","v":""},null,null,{"$f":"IF(LEN(A2753)>0,VLOOKUP(A2753,Subcontractors!$A$2:$B$4,2,FALSE),\"\")","v":""}]
[null,null,null,null,null,null,null,null,null,null,null,null,null,null,null,null,null,null,null,null,null,null,null,{"$f":"IF(LEN(Z2757)>0,VLOOKUP(Z2757,'TFW Programs'!$A$2:$B$8,2,FALSE),\"\")","v":""},null,null,{"$f":"IF(LEN(A2757)>0,VLOOKUP(A2757,Subcontractors!$A$2:$B$4,2,FALSE),\"\")","v":""}]
[null,null,null,null,null,null,null,null,null,null,null,null,null,null,null,null,null,null,null,null,null,null,null,{"$f":"IF(LEN(Z2762)>0,VLOOKUP(Z2762,'TFW Programs'!$A$2:$B$8,2,FALSE),\"\")","v":""},null,null,{"$f":"IF(LEN(A2762)>0,VLOOKUP(A2762,Subcontractors!$A$2:$B$4,2,FALSE),\"\")","v":""}]
[null,null,null,null,null,null,null,null,null,null,null,null,null,null,null,null,null,null,null,null,null,null,null,{"$f":"IF(LEN(Z2763)>0,VLOOKUP(Z2763,'TFW Programs'!$A$2:$B$8,2,FALSE),\"\")","v":""},null,null,{"$f":"IF(LEN(A2763)>0,VLOOKUP(A2763,Subcontractors!$A$2:$B$4,2,FALSE),\"\")","v":""}]
[null,null,null,null,null,null,null,null,null,null,null,null,null,null,null,null,null,null,null,null,null,null,null,{"$f":"IF(LEN(Z2768)>0,VLOOKUP(Z2768,'TFW Programs'!$A$2:$B$8,2,FALSE),\"\")","v":""},null,null,{"$f":"IF(LEN(A2768)>0,VLOOKUP(A2768,Subcontractors!$A$2:$B$4,2,FALSE),\"\")","v":""}]
[null,null,null,null,null,null,null,null,null,null,null,null,null,null,null,null,null,null,null,null,null,null,null,{"$f":"IF(LEN(Z2771)>0,VLOOKUP(Z2771,'TFW Programs'!$A$2:$B$8,2,FALSE),\"\")","v":""},null,null,{"$f":"IF(LEN(A2771)>0,VLOOKUP(A2771,Subcontractors!$A$2:$B$4,2,FALSE),\"\")","v":""}]
[null,null,null,null,null,null,null,null,null,null,null,null,null,null,null,null,null,null,null,null,null,null,null,{"$f":"IF(LEN(Z2777)>0,VLOOKUP(Z2777,'TFW Programs'!$A$2:$B$8,2,FALSE),\"\")","v":""},null,null,{"$f":"IF(LEN(A2777)>0,VLOOKUP(A2777,Subcontractors!$A$2:$B$4,2,FALSE),\"\")","v":""}]
[null,null,null,null,null,null,null,null,null,null,null,null,null,null,null,null,null,null,null,null,null,null,null,{"$f":"IF(LEN(Z2778)>0,VLOOKUP(Z2778,'TFW Programs'!$A$2:$B$8,2,FALSE),\"\")","v":""},null,null,{"$f":"IF(LEN(A2778)>0,VLOOKUP(A2778,Subcontractors!$A$2:$B$4,2,FALSE),\"\")","v":""}]
[null,null,null,null,null,null,null,null,null,null,null,null,null,null,null,null,null,null,null,null,null,null,null,{"$f":"IF(LEN(Z2783)>0,VLOOKUP(Z2783,'TFW Programs'!$A$2:$B$8,2,FALSE),\"\")","v":""},null,null,{"$f":"IF(LEN(A2783)>0,VLOOKUP(A2783,Subcontractors!$A$2:$B$4,2,FALSE),\"\")","v":""}]
[null,null,null,null,null,null,null,null,null,null,null,null,null,null,null,null,null,null,null,null,null,null,null,{"$f":"IF(LEN(Z2787)>0,VLOOKUP(Z2787,'TFW Programs'!$A$2:$B$8,2,FALSE),\"\")","v":""},null,null,{"$f":"IF(LEN(A2787)>0,VLOOKUP(A2787,Subcontractors!$A$2:$B$4,2,FALSE),\"\")","v":""}]
[null,null,null,null,null,null,null,null,null,null,null,null,null,null,null,null,null,null,null,null,null,null,null,{"$f":"IF(LEN(Z2792)>0,VLOOKUP(Z2792,'TFW Programs'!$A$2:$B$8,2,FALSE),\"\")","v":""},null,null,{"$f":"IF(LEN(A2792)>0,VLOOKUP(A2792,Subcontractors!$A$2:$B$4,2,FALSE),\"\")","v":""}]
[null,null,null,null,null,null,null,null,null,null,null,null,null,null,null,null,null,null,null,null,null,null,null,{"$f":"IF(LEN(Z2793)>0,VLOOKUP(Z2793,'TFW Programs'!$A$2:$B$8,2,FALSE),\"\")","v":""},null,null,{"$f":"IF(LEN(A2793)>0,VLOOKUP(A2793,Subcontractors!$A$2:$B$4,2,FALSE),\"\")","v":""}]
[null,null,null,null,null,null,null,null,null,null,null,null,null,null,null,null,null,null,null,null,null,null,null,{"$f":"IF(LEN(Z2798)>0,VLOOKUP(Z2798,'TFW Programs'!$A$2:$B$8,2,FALSE),\"\")","v":""},null,null,{"$f":"IF(LEN(A2798)>0,VLOOKUP(A2798,Subcontractors!$A$2:$B$4,2,FALSE),\"\")","v":""}]
[null,null,null,null,null,null,null,null,null,null,null,null,null,null,null,null,null,null,null,null,null,null,null,{"$f":"IF(LEN(Z2801)>0,VLOOKUP(Z2801,'TFW Programs'!$A$2:$B$8,2,FALSE),\"\")","v":""},null,null,{"$f":"IF(LEN(A2801)>0,VLOOKUP(A2801,Subcontractors!$A$2:$B$4,2,FALSE),\"\")","v":""}]
[null,null,null,null,null,null,null,null,null,null,null,null,null,null,null,null,null,null,null,null,null,null,null,{"$f":"IF(LEN(Z2807)>0,VLOOKUP(Z2807,'TFW Programs'!$A$2:$B$8,2,FALSE),\"\")","v":""},null,null,{"$f":"IF(LEN(A2807)>0,VLOOKUP(A2807,Subcontractors!$A$2:$B$4,2,FALSE),\"\")","v":""}]
[null,null,null,null,null,null,null,null,null,null,null,null,null,null,null,null,null,null,null,null,null,null,null,{"$f":"IF(LEN(Z2808)>0,VLOOKUP(Z2808,'TFW Programs'!$A$2:$B$8,2,FALSE),\"\")","v":""},null,null,{"$f":"IF(LEN(A2808)>0,VLOOKUP(A2808,Subcontractors!$A$2:$B$4,2,FALSE),\"\")","v":""}]
[null,null,null,null,null,null,null,null,null,null,null,null,null,null,null,null,null,null,null,null,null,null,null,{"$f":"IF(LEN(Z2813)>0,VLOOKUP(Z2813,'TFW Programs'!$A$2:$B$8,2,FALSE),\"\")","v":""},null,null,{"$f":"IF(LEN(A2813)>0,VLOOKUP(A2813,Subcontractors!$A$2:$B$4,2,FALSE),\"\")","v":""}]
[null,null,null,null,null,null,null,null,null,null,null,null,null,null,null,null,null,null,null,null,null,null,null,{"$f":"IF(LEN(Z2818)>0,VLOOKUP(Z2818,'TFW Programs'!$A$2:$B$8,2,FALSE),\"\")","v":""},null,null,{"$f":"IF(LEN(A2818)>0,VLOOKUP(A2818,Subcontractors!$A$2:$B$4,2,FALSE),\"\")","v":""}]
[null,null,null,null,null,null,null,null,null,null,null,null,null,null,null,null,null,null,null,null,null,null,null,{"$f":"IF(LEN(Z2822)>0,VLOOKUP(Z2822,'TFW Programs'!$A$2:$B$8,2,FALSE),\"\")","v":""},null,null,{"$f":"IF(LEN(A2822)>0,VLOOKUP(A2822,Subcontractors!$A$2:$B$4,2,FALSE),\"\")","v":""}]
[null,null,null,null,null,null,null,null,null,null,null,null,null,null,null,null,null,null,null,null,null,null,null,{"$f":"IF(LEN(Z2823)>0,VLOOKUP(Z2823,'TFW Programs'!$A$2:$B$8,2,FALSE),\"\")","v":""},null,null,{"$f":"IF(LEN(A2823)>0,VLOOKUP(A2823,Subcontractors!$A$2:$B$4,2,FALSE),\"\")","v":""}]
[null,null,null,null,null,null,null,null,null,null,null,null,null,null,null,null,null,null,null,null,null,null,null,{"$f":"IF(LEN(Z2828)>0,VLOOKUP(Z2828,'TFW Programs'!$A$2:$B$8,2,FALSE),\"\")","v":""},null,null,{"$f":"IF(LEN(A2828)>0,VLOOKUP(A2828,Subcontractors!$A$2:$B$4,2,FALSE),\"\")","v":""}]
[null,null,null,null,null,null,null,null,null,null,null,null,null,null,null,null,null,null,null,null,null,null,null,{"$f":"IF(LEN(Z2833)>0,VLOOKUP(Z2833,'TFW Programs'!$A$2:$B$8,2,FALSE),\"\")","v":""},null,null,{"$f":"IF(LEN(A2833)>0,VLOOKUP(A2833,Subcontractors!$A$2:$B$4,2,FALSE),\"\")","v":""}]
[null,null,null,null,null,null,null,null,null,null,null,null,null,null,null,null,null,null,null,null,null,null,null,{"$f":"IF(LEN(Z2835)>0,VLOOKUP(Z2835,'TFW Programs'!$A$2:$B$8,2,FALSE),\"\")","v":""},null,null,{"$f":"IF(LEN(A2835)>0,VLOOKUP(A2835,Subcontractors!$A$2:$B$4,2,FALSE),\"\")","v":""}]
[null,null,null,null,null,null,null,null,null,null,null,null,null,null,null,null,null,null,null,null,null,null,null,{"$f":"IF(LEN(Z2838)>0,VLOOKUP(Z2838,'TFW Programs'!$A$2:$B$8,2,FALSE),\"\")","v":""},null,null,{"$f":"IF(LEN(A2838)>0,VLOOKUP(A2838,Subcontractors!$A$2:$B$4,2,FALSE),\"\")","v":""}]
[null,null,null,null,null,null,null,null,null,null,null,null,null,null,null,null,null,null,null,null,null,null,null,{"$f":"IF(LEN(Z2843)>0,VLOOKUP(Z2843,'TFW Programs'!$A$2:$B$8,2,FALSE),\"\")","v":""},null,null,{"$f":"IF(LEN(A2843)>0,VLOOKUP(A2843,Subcontractors!$A$2:$B$4,2,FALSE),\"\")","v":""}]
[null,null,null,null,null,null,null,null,null,null,null,null,null,null,null,null,null,null,null,null,null,null,null,{"$f":"IF(LEN(Z2848)>0,VLOOKUP(Z2848,'TFW Programs'!$A$2:$B$8,2,FALSE),\"\")","v":""},null,null,{"$f":"IF(LEN(A2848)>0,VLOOKUP(A2848,Subcontractors!$A$2:$B$4,2,FALSE),\"\")","v":""}]
[null,null,null,null,null,null,null,null,null,null,null,null,null,null,null,null,null,null,null,null,null,null,null,{"$f":"IF(LEN(Z2853)>0,VLOOKUP(Z2853,'TFW Programs'!$A$2:$B$8,2,FALSE),\"\")","v":""},null,null,{"$f":"IF(LEN(A2853)>0,VLOOKUP(A2853,Subcontractors!$A$2:$B$4,2,FALSE),\"\")","v":""}]
[null,null,null,null,null,null,null,null,null,null,null,null,null,null,null,null,null,null,null,null,null,null,null,{"$f":"IF(LEN(Z2856)>0,VLOOKUP(Z2856,'TFW Programs'!$A$2:$B$8,2,FALSE),\"\")","v":""},null,null,{"$f":"IF(LEN(A2856)>0,VLOOKUP(A2856,Subcontractors!$A$2:$B$4,2,FALSE),\"\")","v":""}]
[null,null,null,null,null,null,null,null,null,null,null,null,null,null,null,null,null,null,null,null,null,null,null,{"$f":"IF(LEN(Z2858)>0,VLOOKUP(Z2858,'TFW Programs'!$A$2:$B$8,2,FALSE),\"\")","v":""},null,null,{"$f":"IF(LEN(A2858)>0,VLOOKUP(A2858,Subcontractors!$A$2:$B$4,2,FALSE),\"\")","v":""}]
[null,null,null,null,null,null,null,null,null,null,null,null,null,null,null,null,null,null,null,null,null,null,null,{"$f":"IF(LEN(Z2863)>0,VLOOKUP(Z2863,'TFW Programs'!$A$2:$B$8,2,FALSE),\"\")","v":""},null,null,{"$f":"IF(LEN(A2863)>0,VLOOKUP(A2863,Subcontractors!$A$2:$B$4,2,FALSE),\"\")","v":""}]
[null,null,null,null,null,null,null,null,null,null,null,null,null,null,null,null,null,null,null,null,null,null,null,{"$f":"IF(LEN(Z2868)>0,VLOOKUP(Z2868,'TFW Programs'!$A$2:$B$8,2,FALSE),\"\")","v":""},null,null,{"$f":"IF(LEN(A2868)>0,VLOOKUP(A2868,Subcontractors!$A$2:$B$4,2,FALSE),\"\")","v":""}]
[null,null,null,null,null,null,null,null,null,null,null,null,null,null,null,null,null,null,null,null,null,null,null,{"$f":"IF(LEN(Z2870)>0,VLOOKUP(Z2870,'TFW Programs'!$A$2:$B$8,2,FALSE),\"\")","v":""},null,null,{"$f":"IF(LEN(A2870)>0,VLOOKUP(A2870,Subcontractors!$A$2:$B$4,2,FALSE),\"\")","v":""}]
[null,null,null,null,null,null,null,null,null,null,null,null,null,null,null,null,null,null,null,null,null,null,null,{"$f":"IF(LEN(Z2873)>0,VLOOKUP(Z2873,'TFW Programs'!$A$2:$B$8,2,FALSE),\"\")","v":""},null,null,{"$f":"IF(LEN(A2873)>0,VLOOKUP(A2873,Subcontractors!$A$2:$B$4,2,FALSE),\"\")","v":""}]
[null,null,null,null,null,null,null,null,null,null,null,null,null,null,null,null,null,null,null,null,null,null,null,{"$f":"IF(LEN(Z2878)>0,VLOOKUP(Z2878,'TFW Programs'!$A$2:$B$8,2,FALSE),\"\")","v":""},null,null,{"$f":"IF(LEN(A2878)>0,VLOOKUP(A2878,Subcontractors!$A$2:$B$4,2,FALSE),\"\")","v":""}]
[null,null,null,null,null,null,null,null,null,null,null,null,null,null,null,null,null,null,null,null,null,null,null,{"$f":"IF(LEN(Z2883)>0,VLOOKUP(Z2883,'TFW Programs'!$A$2:$B$8,2,FALSE),\"\")","v":""},null,null,{"$f":"IF(LEN(A2883)>0,VLOOKUP(A2883,Subcontractors!$A$2:$B$4,2,FALSE),\"\")","v":""}]
[null,null,null,null,null,null,null,null,null,null,null,null,null,null,null,null,null,null,null,null,null,null,null,{"$f":"IF(LEN(Z2884)>0,VLOOKUP(Z2884,'TFW Programs'!$A$2:$B$8,2,FALSE),\"\")","v":""},null,null,{"$f":"IF(LEN(A2884)>0,VLOOKUP(A2884,Subcontractors!$A$2:$B$4,2,FALSE),\"\")","v":""}]
[null,null,null,null,null,null,null,null,null,null,null,null,null,null,null,null,null,null,null,null,null,null,null,{"$f":"IF(LEN(Z2890)>0,VLOOKUP(Z2890,'TFW Programs'!$A$2:$B$8,2,FALSE),\"\")","v":""},null,null,{"$f":"IF(LEN(A2890)>0,VLOOKUP(A2890,Subcontractors!$A$2:$B$4,2,FALSE),\"\")","v":""}]
[null,null,null,null,null,null,null,null,null,null,null,null,null,null,null,null,null,null,null,null,null,null,null,{"$f":"IF(LEN(Z2893)>0,VLOOKUP(Z2893,'TFW Programs'!$A$2:$B$8,2,FALSE),\"\")","v":""},null,null,{"$f":"IF(LEN(A2893)>0,VLOOKUP(A2893,Subcontractors!$A$2:$B$4,2,FALSE),\"\")","v":""}]
[null,null,null,null,null,null,null,null,null,null,null,null,null,null,null,null,null,null,null,null,null,null,null,{"$f":"IF(LEN(Z2898)>0,VLOOKUP(Z2898,'TFW Programs'!$A$2:$B$8,2,FALSE),\"\")","v":""},null,null,{"$f":"IF(LEN(A2898)>0,VLOOKUP(A2898,Subcontractors!$A$2:$B$4,2,FALSE),\"\")","v":""}]
[null,null,null,null,null,null,null,null,null,null,null,null,null,null,null,null,null,null,null,null,null,null,null,{"$f":"IF(LEN(Z2899)>0,VLOOKUP(Z2899,'TFW Programs'!$A$2:$B$8,2,FALSE),\"\")","v":""},null,null,{"$f":"IF(LEN(A2899)>0,VLOOKUP(A2899,Subcontractors!$A$2:$B$4,2,FALSE),\"\")","v":""}]
[null,null,null,null,null,null,null,null,null,null,null,null,null,null,null,null,null,null,null,null,null,null,null,{"$f":"IF(LEN(Z2904)>0,VLOOKUP(Z2904,'TFW Programs'!$A$2:$B$8,2,FALSE),\"\")","v":""},null,null,{"$f":"IF(LEN(A2904)>0,VLOOKUP(A2904,Subcontractors!$A$2:$B$4,2,FALSE),\"\")","v":""}]
[null,null,null,null,null,null,null,null,null,null,null,null,null,null,null,null,null,null,null,null,null,null,null,{"$f":"IF(LEN(Z2908)>0,VLOOKUP(Z2908,'TFW Programs'!$A$2:$B$8,2,FALSE),\"\")","v":""},null,null,{"$f":"IF(LEN(A2908)>0,VLOOKUP(A2908,Subcontractors!$A$2:$B$4,2,FALSE),\"\")","v":""}]
[null,null,null,null,null,null,null,null,null,null,null,null,null,null,null,null,null,null,null,null,null,null,null,{"$f":"IF(LEN(Z2913)>0,VLOOKUP(Z2913,'TFW Programs'!$A$2:$B$8,2,FALSE),\"\")","v":""},null,null,{"$f":"IF(LEN(A2913)>0,VLOOKUP(A2913,Subcontractors!$A$2:$B$4,2,FALSE),\"\")","v":""}]
[null,null,null,null,null,null,null,null,null,null,null,null,null,null,null,null,null,null,null,null,null,null,null,{"$f":"IF(LEN(Z2914)>0,VLOOKUP(Z2914,'TFW Programs'!$A$2:$B$8,2,FALSE),\"\")","v":""},null,null,{"$f":"IF(LEN(A2914)>0,VLOOKUP(A2914,Subcontractors!$A$2:$B$4,2,FALSE),\"\")","v":""}]
[null,null,null,null,null,null,null,null,null,null,null,null,null,null,null,null,null,null,null,null,null,null,null,{"$f":"IF(LEN(Z2918)>0,VLOOKUP(Z2918,'TFW Programs'!$A$2:$B$8,2,FALSE),\"\")","v":""},null,null,{"$f":"IF(LEN(A2918)>0,VLOOKUP(A2918,Subcontractors!$A$2:$B$4,2,FALSE),\"\")","v":""}]
[null,null,null,null,null,null,null,null,null,null,null,null,null,null,null,null,null,null,null,null,null,null,null,{"$f":"IF(LEN(Z2923)>0,VLOOKUP(Z2923,'TFW Programs'!$A$2:$B$8,2,FALSE),\"\")","v":""},null,null,{"$f":"IF(LEN(A2923)>0,VLOOKUP(A2923,Subcontractors!$A$2:$B$4,2,FALSE),\"\")","v":""}]
[null,null,null,null,null,null,null,null,null,null,null,null,null,null,null,null,null,null,null,null,null,null,null,{"$f":"IF(LEN(Z2928)>0,VLOOKUP(Z2928,'TFW Programs'!$A$2:$B$8,2,FALSE),\"\")","v":""},null,null,{"$f":"IF(LEN(A2928)>0,VLOOKUP(A2928,Subcontractors!$A$2:$B$4,2,FALSE),\"\")","v":""}]
[null,null,null,null,null,null,null,null,null,null,null,null,null,null,null,null,null,null,null,null,null,null,null,{"$f":"IF(LEN(Z2929)>0,VLOOKUP(Z2929,'TFW Programs'!$A$2:$B$8,2,FALSE),\"\")","v":""},null,null,{"$f":"IF(LEN(A2929)>0,VLOOKUP(A2929,Subcontractors!$A$2:$B$4,2,FALSE),\"\")","v":""}]
[null,null,null,null,null,null,null,null,null,null,null,null,null,null,null,null,null,null,null,null,null,null,null,{"$f":"IF(LEN(Z2934)>0,VLOOKUP(Z2934,'TFW Programs'!$A$2:$B$8,2,FALSE),\"\")","v":""},null,null,{"$f":"IF(LEN(A2934)>0,VLOOKUP(A2934,Subcontractors!$A$2:$B$4,2,FALSE),\"\")","v":""}]
[null,null,null,null,null,null,null,null,null,null,null,null,null,null,null,null,null,null,null,null,null,null,null,{"$f":"IF(LEN(Z2938)>0,VLOOKUP(Z2938,'TFW Programs'!$A$2:$B$8,2,FALSE),\"\")","v":""},null,null,{"$f":"IF(LEN(A2938)>0,VLOOKUP(A2938,Subcontractors!$A$2:$B$4,2,FALSE),\"\")","v":""}]
[null,null,null,null,null,null,null,null,null,null,null,null,null,null,null,null,null,null,null,null,null,null,null,{"$f":"IF(LEN(Z2943)>0,VLOOKUP(Z2943,'TFW Programs'!$A$2:$B$8,2,FALSE),\"\")","v":""},null,null,{"$f":"IF(LEN(A2943)>0,VLOOKUP(A2943,Subcontractors!$A$2:$B$4,2,FALSE),\"\")","v":""}]
[null,null,null,null,null,null,null,null,null,null,null,null,null,null,null,null,null,null,null,null,null,null,null,{"$f":"IF(LEN(Z2944)>0,VLOOKUP(Z2944,'TFW Programs'!$A$2:$B$8,2,FALSE),\"\")","v":""},null,null,{"$f":"IF(LEN(A2944)>0,VLOOKUP(A2944,Subcontractors!$A$2:$B$4,2,FALSE),\"\")","v":""}]
[null,null,null,null,null,null,null,null,null,null,null,null,null,null,null,null,null,null,null,null,null,null,null,{"$f":"IF(LEN(Z2949)>0,VLOOKUP(Z2949,'TFW Programs'!$A$2:$B$8,2,FALSE),\"\")","v":""},null,null,{"$f":"IF(LEN(A2949)>0,VLOOKUP(A2949,Subcontractors!$A$2:$B$4,2,FALSE),\"\")","v":""}]
[null,null,null,null,null,null,null,null,null,null,null,null,null,null,null,null,null,null,null,null,null,null,null,{"$f":"IF(LEN(Z2952)>0,VLOOKUP(Z2952,'TFW Programs'!$A$2:$B$8,2,FALSE),\"\")","v":""},null,null,{"$f":"IF(LEN(A2952)>0,VLOOKUP(A2952,Subcontractors!$A$2:$B$4,2,FALSE),\"\")","v":""}]
[null,null,null,null,null,null,null,null,null,null,null,null,null,null,null,null,null,null,null,null,null,null,null,{"$f":"IF(LEN(Z2958)>0,VLOOKUP(Z2958,'TFW Programs'!$A$2:$B$8,2,FALSE),\"\")","v":""},null,null,{"$f":"IF(LEN(A2958)>0,VLOOKUP(A2958,Subcontractors!$A$2:$B$4,2,FALSE),\"\")","v":""}]
[null,null,null,null,null,null,null,null,null,null,null,null,null,null,null,null,null,null,null,null,null,null,null,{"$f":"IF(LEN(Z2959)>0,VLOOKUP(Z2959,'TFW Programs'!$A$2:$B$8,2,FALSE),\"\")","v":""},null,null,{"$f":"IF(LEN(A2959)>0,VLOOKUP(A2959,Subcontractors!$A$2:$B$4,2,FALSE),\"\")","v":""}]
[null,null,null,null,null,null,null,null,null,null,null,null,null,null,null,null,null,null,null,null,null,null,null,{"$f":"IF(LEN(Z2964)>0,VLOOKUP(Z2964,'TFW Programs'!$A$2:$B$8,2,FALSE),\"\")","v":""},null,null,{"$f":"IF(LEN(A2964)>0,VLOOKUP(A2964,Subcontractors!$A$2:$B$4,2,FALSE),\"\")","v":""}]
[null,null,null,null,null,null,null,null,null,null,null,null,null,null,null,null,null,null,null,null,null,null,null,{"$f":"IF(LEN(Z2969)>0,VLOOKUP(Z2969,'TFW Programs'!$A$2:$B$8,2,FALSE),\"\")","v":""},null,null,{"$f":"IF(LEN(A2969)>0,VLOOKUP(A2969,Subcontractors!$A$2:$B$4,2,FALSE),\"\")","v":""}]
[null,null,null,null,null,null,null,null,null,null,null,null,null,null,null,null,null,null,null,null,null,null,null,{"$f":"IF(LEN(Z2973)>0,VLOOKUP(Z2973,'TFW Programs'!$A$2:$B$8,2,FALSE),\"\")","v":""},null,null,{"$f":"IF(LEN(A2973)>0,VLOOKUP(A2973,Subcontractors!$A$2:$B$4,2,FALSE),\"\")","v":""}]
[null,null,null,null,null,null,null,null,null,null,null,null,null,null,null,null,null,null,null,null,null,null,null,{"$f":"IF(LEN(Z2974)>0,VLOOKUP(Z2974,'TFW Programs'!$A$2:$B$8,2,FALSE),\"\")","v":""},null,null,{"$f":"IF(LEN(A2974)>0,VLOOKUP(A2974,Subcontractors!$A$2:$B$4,2,FALSE),\"\")","v":""}]
[null,null,null,null,null,null,null,null,null,null,null,null,null,null,null,null,null,null,null,null,null,null,null,{"$f":"IF(LEN(Z2979)>0,VLOOKUP(Z2979,'TFW Programs'!$A$2:$B$8,2,FALSE),\"\")","v":""},null,null,{"$f":"IF(LEN(A2979)>0,VLOOKUP(A2979,Subcontractors!$A$2:$B$4,2,FALSE),\"\")","v":""}]
[null,null,null,null,null,null,null,null,null,null,null,null,null,null,null,null,null,null,null,null,null,null,null,{"$f":"IF(LEN(Z2984)>0,VLOOKUP(Z2984,'TFW Programs'!$A$2:$B$8,2,FALSE),\"\")","v":""},null,null,{"$f":"IF(LEN(A2984)>0,VLOOKUP(A2984,Subcontractors!$A$2:$B$4,2,FALSE),\"\")","v":""}]
[null,null,null,null,null,null,null,null,null,null,null,null,null,null,null,null,null,null,null,null,null,null,null,{"$f":"IF(LEN(Z2986)>0,VLOOKUP(Z2986,'TFW Programs'!$A$2:$B$8,2,FALSE),\"\")","v":""},null,null,{"$f":"IF(LEN(A2986)>0,VLOOKUP(A2986,Subcontractors!$A$2:$B$4,2,FALSE),\"\")","v":""}]
[null,null,null,null,null,null,null,null,null,null,null,null,null,null,null,null,null,null,null,null,null,null,null,{"$f":"IF(LEN(Z2989)>0,VLOOKUP(Z2989,'TFW Programs'!$A$2:$B$8,2,FALSE),\"\")","v":""},null,null,{"$f":"IF(LEN(A2989)>0,VLOOKUP(A2989,Subcontractors!$A$2:$B$4,2,FALSE),\"\")","v":""}]
[null,null,null,null,null,null,null,null,null,null,null,null,null,null,null,null,null,null,null,null,null,null,null,{"$f":"IF(LEN(Z2994)>0,VLOOKUP(Z2994,'TFW Programs'!$A$2:$B$8,2,FALSE),\"\")","v":""},null,null,{"$f":"IF(LEN(A2994)>0,VLOOKUP(A2994,Subcontractors!$A$2:$B$4,2,FALSE),\"\")","v":""}]
[null,null,null,null,null,null,null,null,null,null,null,null,null,null,null,null,null,null,null,null,null,null,null,{"$f":"IF(LEN(Z2999)>0,VLOOKUP(Z2999,'TFW Programs'!$A$2:$B$8,2,FALSE),\"\")","v":""},null,null,{"$f":"IF(LEN(A2999)>0,VLOOKUP(A2999,Subcontractors!$A$2:$B$4,2,FALSE),\"\")","v":""}]
[null,null,null,null,null,null,null,null,null,null,null,null,null,null,null,null,null,null,null,null,null,null,null,{"$f":"IF(LEN(Z3003)>0,VLOOKUP(Z3003,'TFW Programs'!$A$2:$B$8,2,FALSE),\"\")","v":""},null,null,{"$f":"IF(LEN(A3003)>0,VLOOKUP(A3003,Subcontractors!$A$2:$B$4,2,FALSE),\"\")","v":""}]
[null,null,null,null,null,null,null,null,null,null,null,null,null,null,null,null,null,null,null,null,null,null,null,{"$f":"IF(LEN(Z3004)>0,VLOOKUP(Z3004,'TFW Programs'!$A$2:$B$8,2,FALSE),\"\")","v":""},null,null,{"$f":"IF(LEN(A3004)>0,VLOOKUP(A3004,Subcontractors!$A$2:$B$4,2,FALSE),\"\")","v":""}]
[null,null,null,null,null,null,null,null,null,null,null,null,null,null,null,null,null,null,null,null,null,null,null,{"$f":"IF(LEN(Z3009)>0,VLOOKUP(Z3009,'TFW Programs'!$A$2:$B$8,2,FALSE),\"\")","v":""},null,null,{"$f":"IF(LEN(A3009)>0,VLOOKUP(A3009,Subcontractors!$A$2:$B$4,2,FALSE),\"\")","v":""}]
[null,null,null,null,null,null,null,null,null,null,null,null,null,null,null,null,null,null,null,null,null,null,null,{"$f":"IF(LEN(Z3014)>0,VLOOKUP(Z3014,'TFW Programs'!$A$2:$B$8,2,FALSE),\"\")","v":""},null,null,{"$f":"IF(LEN(A3014)>0,VLOOKUP(A3014,Subcontractors!$A$2:$B$4,2,FALSE),\"\")","v":""}]
[null,null,null,null,null,null,null,null,null,null,null,null,null,null,null,null,null,null,null,null,null,null,null,{"$f":"IF(LEN(Z3019)>0,VLOOKUP(Z3019,'TFW Programs'!$A$2:$B$8,2,FALSE),\"\")","v":""},null,null,{"$f":"IF(LEN(A3019)>0,VLOOKUP(A3019,Subcontractors!$A$2:$B$4,2,FALSE),\"\")","v":""}]
[null,null,null,null,null,null,null,null,null,null,null,null,null,null,null,null,null,null,null,null,null,null,null,{"$f":"IF(LEN(Z3021)>0,VLOOKUP(Z3021,'TFW Programs'!$A$2:$B$8,2,FALSE),\"\")","v":""},null,null,{"$f":"IF(LEN(A3021)>0,VLOOKUP(A3021,Subcontractors!$A$2:$B$4,2,FALSE),\"\")","v":""}]
[null,null,null,null,null,null,null,null,null,null,null,null,null,null,null,null,null,null,null,null,null,null,null,{"$f":"IF(LEN(Z3024)>0,VLOOKUP(Z3024,'TFW Programs'!$A$2:$B$8,2,FALSE),\"\")","v":""},null,null,{"$f":"IF(LEN(A3024)>0,VLOOKUP(A3024,Subcontractors!$A$2:$B$4,2,FALSE),\"\")","v":""}]
[null,null,null,null,null,null,null,null,null,null,null,null,null,null,null,null,null,null,null,null,null,null,null,{"$f":"IF(LEN(Z3029)>0,VLOOKUP(Z3029,'TFW Programs'!$A$2:$B$8,2,FALSE),\"\")","v":""},null,null,{"$f":"IF(LEN(A3029)>0,VLOOKUP(A3029,Subcontractors!$A$2:$B$4,2,FALSE),\"\")","v":""}]
[null,null,null,null,null,null,null,null,null,null,null,null,null,null,null,null,null,null,null,null,null,null,null,{"$f":"IF(LEN(Z3034)>0,VLOOKUP(Z3034,'TFW Programs'!$A$2:$B$8,2,FALSE),\"\")","v":""},null,null,{"$f":"IF(LEN(A3034)>0,VLOOKUP(A3034,Subcontractors!$A$2:$B$4,2,FALSE),\"\")","v":""}]
[null,null,null,null,null,null,null,null,null,null,null,null,null,null,null,null,null,null,null,null,null,null,null,{"$f":"IF(LEN(Z3037)>0,VLOOKUP(Z3037,'TFW Programs'!$A$2:$B$8,2,FALSE),\"\")","v":""},null,null,{"$f":"IF(LEN(A3037)>0,VLOOKUP(A3037,Subcontractors!$A$2:$B$4,2,FALSE),\"\")","v":""}]
[null,null,null,null,null,null,null,null,null,null,null,null,null,null,null,null,null,null,null,null,null,null,null,{"$f":"IF(LEN(Z3039)>0,VLOOKUP(Z3039,'TFW Programs'!$A$2:$B$8,2,FALSE),\"\")","v":""},null,null,{"$f":"IF(LEN(A3039)>0,VLOOKUP(A3039,Subcontractors!$A$2:$B$4,2,FALSE),\"\")","v":""}]
[null,null,null,null,null,null,null,null,null,null,null,null,null,null,null,null,null,null,null,null,null,null,null,{"$f":"IF(LEN(Z3044)>0,VLOOKUP(Z3044,'TFW Programs'!$A$2:$B$8,2,FALSE),\"\")","v":""},null,null,{"$f":"IF(LEN(A3044)>0,VLOOKUP(A3044,Subcontractors!$A$2:$B$4,2,FALSE),\"\")","v":""}]
[null,null,null,null,null,null,null,null,null,null,null,null,null,null,null,null,null,null,null,null,null,null,null,{"$f":"IF(LEN(Z3049)>0,VLOOKUP(Z3049,'TFW Programs'!$A$2:$B$8,2,FALSE),\"\")","v":""},null,null,{"$f":"IF(LEN(A3049)>0,VLOOKUP(A3049,Subcontractors!$A$2:$B$4,2,FALSE),\"\")","v":""}]
[null,null,null,null,null,null,null,null,null,null,null,null,null,null,null,null,null,null,null,null,null,null,null,{"$f":"IF(LEN(Z3050)>0,VLOOKUP(Z3050,'TFW Programs'!$A$2:$B$8,2,FALSE),\"\")","v":""},null,null,{"$f":"IF(LEN(A3050)>0,VLOOKUP(A3050,Subcontractors!$A$2:$B$4,2,FALSE),\"\")","v":""}]
[null,null,null,null,null,null,null,null,null,null,null,null,null,null,null,null,null,null,null,null,null,null,null,{"$f":"IF(LEN(Z3055)>0,VLOOKUP(Z3055,'TFW Programs'!$A$2:$B$8,2,FALSE),\"\")","v":""},null,null,{"$f":"IF(LEN(A3055)>0,VLOOKUP(A3055,Subcontractors!$A$2:$B$4,2,FALSE),\"\")","v":""}]
[null,null,null,null,null,null,null,null,null,null,null,null,null,null,null,null,null,null,null,null,null,null,null,{"$f":"IF(LEN(Z3059)>0,VLOOKUP(Z3059,'TFW Programs'!$A$2:$B$8,2,FALSE),\"\")","v":""},null,null,{"$f":"IF(LEN(A3059)>0,VLOOKUP(A3059,Subcontractors!$A$2:$B$4,2,FALSE),\"\")","v":""}]
[null,null,null,null,null,null,null,null,null,null,null,null,null,null,null,null,null,null,null,null,null,null,null,{"$f":"IF(LEN(Z3064)>0,VLOOKUP(Z3064,'TFW Programs'!$A$2:$B$8,2,FALSE),\"\")","v":""},null,null,{"$f":"IF(LEN(A3064)>0,VLOOKUP(A3064,Subcontractors!$A$2:$B$4,2,FALSE),\"\")","v":""}]
[null,null,null,null,null,null,null,null,null,null,null,null,null,null,null,null,null,null,null,null,null,null,null,{"$f":"IF(LEN(Z3065)>0,VLOOKUP(Z3065,'TFW Programs'!$A$2:$B$8,2,FALSE),\"\")","v":""},null,null,{"$f":"IF(LEN(A3065)>0,VLOOKUP(A3065,Subcontractors!$A$2:$B$4,2,FALSE),\"\")","v":""}]
[null,null,null,null,null,null,null,null,null,null,null,null,null,null,null,null,null,null,null,null,null,null,null,{"$f":"IF(LEN(Z3069)>0,VLOOKUP(Z3069,'TFW Programs'!$A$2:$B$8,2,FALSE),\"\")","v":""},null,null,{"$f":"IF(LEN(A3069)>0,VLOOKUP(A3069,Subcontractors!$A$2:$B$4,2,FALSE),\"\")","v":""}]
[null,null,null,null,null,null,null,null,null,null,null,null,null,null,null,null,null,null,null,null,null,null,null,{"$f":"IF(LEN(Z3074)>0,VLOOKUP(Z3074,'TFW Programs'!$A$2:$B$8,2,FALSE),\"\")","v":""},null,null,{"$f":"IF(LEN(A3074)>0,VLOOKUP(A3074,Subcontractors!$A$2:$B$4,2,FALSE),\"\")","v":""}]
[null,null,null,null,null,null,null,null,null,null,null,null,null,null,null,null,null,null,null,null,null,null,null,{"$f":"IF(LEN(Z3079)>0,VLOOKUP(Z3079,'TFW Programs'!$A$2:$B$8,2,FALSE),\"\")","v":""},null,null,{"$f":"IF(LEN(A3079)>0,VLOOKUP(A3079,Subcontractors!$A$2:$B$4,2,FALSE),\"\")","v":""}]
[null,null,null,null,null,null,null,null,null,null,null,null,null,null,null,null,null,null,null,null,null,null,null,{"$f":"IF(LEN(Z3080)>0,VLOOKUP(Z3080,'TFW Programs'!$A$2:$B$8,2,FALSE),\"\")","v":""},null,null,{"$f":"IF(LEN(A3080)>0,VLOOKUP(A3080,Subcontractors!$A$2:$B$4,2,FALSE),\"\")","v":""}]
[null,null,null,null,null,null,null,null,null,null,null,null,null,null,null,null,null,null,null,null,null,null,null,{"$f":"IF(LEN(Z3085)>0,VLOOKUP(Z3085,'TFW Programs'!$A$2:$B$8,2,FALSE),\"\")","v":""},null,null,{"$f":"IF(LEN(A3085)>0,VLOOKUP(A3085,Subcontractors!$A$2:$B$4,2,FALSE),\"\")","v":""}]
[null,null,null,null,null,null,null,null,null,null,null,null,null,null,null,null,null,null,null,null,null,null,null,{"$f":"IF(LEN(Z3090)>0,VLOOKUP(Z3090,'TFW Programs'!$A$2:$B$8,2,FALSE),\"\")","v":""},null,null,{"$f":"IF(LEN(A3090)>0,VLOOKUP(A3090,Subcontractors!$A$2:$B$4,2,FALSE),\"\")","v":""}]
[null,null,null,null,null,null,null,null,null,null,null,null,null,null,null,null,null,null,null,null,null,null,null,{"$f":"IF(LEN(Z3094)>0,VLOOKUP(Z3094,'TFW Programs'!$A$2:$B$8,2,FALSE),\"\")","v":""},null,null,{"$f":"IF(LEN(A3094)>0,VLOOKUP(A3094,Subcontractors!$A$2:$B$4,2,FALSE),\"\")","v":""}]
[null,null,null,null,null,null,null,null,null,null,null,null,null,null,null,null,null,null,null,null,null,null,null,{"$f":"IF(LEN(Z3095)>0,VLOOKUP(Z3095,'TFW Programs'!$A$2:$B$8,2,FALSE),\"\")","v":""},null,null,{"$f":"IF(LEN(A3095)>0,VLOOKUP(A3095,Subcontractors!$A$2:$B$4,2,FALSE),\"\")","v":""}]
[null,null,null,null,null,null,null,null,null,null,null,null,null,null,null,null,null,null,null,null,null,null,null,{"$f":"IF(LEN(Z3100)>0,VLOOKUP(Z3100,'TFW Programs'!$A$2:$B$8,2,FALSE),\"\")","v":""},null,null,{"$f":"IF(LEN(A3100)>0,VLOOKUP(A3100,Subcontractors!$A$2:$B$4,2,FALSE),\"\")","v":""}]
[null,null,null,null,null,null,null,null,null,null,null,null,null,null,null,null,null,null,null,null,null,null,null,{"$f":"IF(LEN(Z3103)>0,VLOOKUP(Z3103,'TFW Programs'!$A$2:$B$8,2,FALSE),\"\")","v":""},null,null,{"$f":"IF(LEN(A3103)>0,VLOOKUP(A3103,Subcontractors!$A$2:$B$4,2,FALSE),\"\")","v":""}]
[null,null,null,null,null,null,null,null,null,null,null,null,null,null,null,null,null,null,null,null,null,null,null,{"$f":"IF(LEN(Z3109)>0,VLOOKUP(Z3109,'TFW Programs'!$A$2:$B$8,2,FALSE),\"\")","v":""},null,null,{"$f":"IF(LEN(A3109)>0,VLOOKUP(A3109,Subcontractors!$A$2:$B$4,2,FALSE),\"\")","v":""}]
[null,null,null,null,null,null,null,null,null,null,null,null,null,null,null,null,null,null,null,null,null,null,null,{"$f":"IF(LEN(Z3110)>0,VLOOKUP(Z3110,'TFW Programs'!$A$2:$B$8,2,FALSE),\"\")","v":""},null,null,{"$f":"IF(LEN(A3110)>0,VLOOKUP(A3110,Subcontractors!$A$2:$B$4,2,FALSE),\"\")","v":""}]
[null,null,null,null,null,null,null,null,null,null,null,null,null,null,null,null,null,null,null,null,null,null,null,{"$f":"IF(LEN(Z3115)>0,VLOOKUP(Z3115,'TFW Programs'!$A$2:$B$8,2,FALSE),\"\")","v":""},null,null,{"$f":"IF(LEN(A3115)>0,VLOOKUP(A3115,Subcontractors!$A$2:$B$4,2,FALSE),\"\")","v":""}]
[null,null,null,null,null,null,null,null,null,null,null,null,null,null,null,null,null,null,null,null,null,null,null,{"$f":"IF(LEN(Z3120)>0,VLOOKUP(Z3120,'TFW Programs'!$A$2:$B$8,2,FALSE),\"\")","v":""},null,null,{"$f":"IF(LEN(A3120)>0,VLOOKUP(A3120,Subcontractors!$A$2:$B$4,2,FALSE),\"\")","v":""}]
[null,null,null,null,null,null,null,null,null,null,null,null,null,null,null,null,null,null,null,null,null,null,null,{"$f":"IF(LEN(Z3124)>0,VLOOKUP(Z3124,'TFW Programs'!$A$2:$B$8,2,FALSE),\"\")","v":""},null,null,{"$f":"IF(LEN(A3124)>0,VLOOKUP(A3124,Subcontractors!$A$2:$B$4,2,FALSE),\"\")","v":""}]
[null,null,null,null,null,null,null,null,null,null,null,null,null,null,null,null,null,null,null,null,null,null,null,{"$f":"IF(LEN(Z3125)>0,VLOOKUP(Z3125,'TFW Programs'!$A$2:$B$8,2,FALSE),\"\")","v":""},null,null,{"$f":"IF(LEN(A3125)>0,VLOOKUP(A3125,Subcontractors!$A$2:$B$4,2,FALSE),\"\")","v":""}]
[null,null,null,null,null,null,null,null,null,null,null,null,null,null,null,null,null,null,null,null,null,null,null,{"$f":"IF(LEN(Z3130)>0,VLOOKUP(Z3130,'TFW Programs'!$A$2:$B$8,2,FALSE),\"\")","v":""},null,null,{"$f":"IF(LEN(A3130)>0,VLOOKUP(A3130,Subcontractors!$A$2:$B$4,2,FALSE),\"\")","v":""}]
[null,null,null,null,null,null,null,null,null,null,null,null,null,null,null,null,null,null,null,null,null,null,null,{"$f":"IF(LEN(Z3135)>0,VLOOKUP(Z3135,'TFW Programs'!$A$2:$B$8,2,FALSE),\"\")","v":""},null,null,{"$f":"IF(LEN(A3135)>0,VLOOKUP(A3135,Subcontractors!$A$2:$B$4,2,FALSE),\"\")","v":""}]
[null,null,null,null,null,null,null,null,null,null,null,null,null,null,null,null,null,null,null,null,null,null,null,{"$f":"IF(LEN(Z3138)>0,VLOOKUP(Z3138,'TFW Programs'!$A$2:$B$8,2,FALSE),\"\")","v":""},null,null,{"$f":"IF(LEN(A3138)>0,VLOOKUP(A3138,Subcontractors!$A$2:$B$4,2,FALSE),\"\")","v":""}]
[null,null,null,null,null,null,null,null,null,null,null,null,null,null,null,null,null,null,null,null,null,null,null,{"$f":"IF(LEN(Z3140)>0,VLOOKUP(Z3140,'TFW Programs'!$A$2:$B$8,2,FALSE),\"\")","v":""},null,null,{"$f":"IF(LEN(A3140)>0,VLOOKUP(A3140,Subcontractors!$A$2:$B$4,2,FALSE),\"\")","v":""}]
[null,null,null,null,null,null,null,null,null,null,null,null,null,null,null,null,null,null,null,null,null,null,null,{"$f":"IF(LEN(Z3145)>0,VLOOKUP(Z3145,'TFW Programs'!$A$2:$B$8,2,FALSE),\"\")","v":""},null,null,{"$f":"IF(LEN(A3145)>0,VLOOKUP(A3145,Subcontractors!$A$2:$B$4,2,FALSE),\"\")","v":""}]
[null,null,null,null,null,null,null,null,null,null,null,null,null,null,null,null,null,null,null,null,null,null,null,{"$f":"IF(LEN(Z3150)>0,VLOOKUP(Z3150,'TFW Programs'!$A$2:$B$8,2,FALSE),\"\")","v":""},null,null,{"$f":"IF(LEN(A3150)>0,VLOOKUP(A3150,Subcontractors!$A$2:$B$4,2,FALSE),\"\")","v":""}]
[null,null,null,null,null,null,null,null,null,null,null,null,null,null,null,null,null,null,null,null,null,null,null,{"$f":"IF(LEN(Z3154)>0,VLOOKUP(Z3154,'TFW Programs'!$A$2:$B$8,2,FALSE),\"\")","v":""},null,null,{"$f":"IF(LEN(A3154)>0,VLOOKUP(A3154,Subcontractors!$A$2:$B$4,2,FALSE),\"\")","v":""}]
[null,null,null,null,null,null,null,null,null,null,null,null,null,null,null,null,null,null,null,null,null,null,null,{"$f":"IF(LEN(Z3155)>0,VLOOKUP(Z3155,'TFW Programs'!$A$2:$B$8,2,FALSE),\"\")","v":""},null,null,{"$f":"IF(LEN(A3155)>0,VLOOKUP(A3155,Subcontractors!$A$2:$B$4,2,FALSE),\"\")","v":""}]
[null,null,null,null,null,null,null,null,null,null,null,null,null,null,null,null,null,null,null,null,null,null,null,{"$f":"IF(LEN(Z3160)>0,VLOOKUP(Z3160,'TFW Programs'!$A$2:$B$8,2,FALSE),\"\")","v":""},null,null,{"$f":"IF(LEN(A3160)>0,VLOOKUP(A3160,Subcontractors!$A$2:$B$4,2,FALSE),\"\")","v":""}]
[null,null,null,null,null,null,null,null,null,null,null,null,null,null,null,null,null,null,null,null,null,null,null,{"$f":"IF(LEN(Z3165)>0,VLOOKUP(Z3165,'TFW Programs'!$A$2:$B$8,2,FALSE),\"\")","v":""},null,null,{"$f":"IF(LEN(A3165)>0,VLOOKUP(A3165,Subcontractors!$A$2:$B$4,2,FALSE),\"\")","v":""}]
[null,null,null,null,null,null,null,null,null,null,null,null,null,null,null,null,null,null,null,null,null,null,null,{"$f":"IF(LEN(Z3170)>0,VLOOKUP(Z3170,'TFW Programs'!$A$2:$B$8,2,FALSE),\"\")","v":""},null,null,{"$f":"IF(LEN(A3170)>0,VLOOKUP(A3170,Subcontractors!$A$2:$B$4,2,FALSE),\"\")","v":""}]
[null,null,null,null,null,null,null,null,null,null,null,null,null,null,null,null,null,null,null,null,null,null,null,{"$f":"IF(LEN(Z3172)>0,VLOOKUP(Z3172,'TFW Programs'!$A$2:$B$8,2,FALSE),\"\")","v":""},null,null,{"$f":"IF(LEN(A3172)>0,VLOOKUP(A3172,Subcontractors!$A$2:$B$4,2,FALSE),\"\")","v":""}]
[null,null,null,null,null,null,null,null,null,null,null,null,null,null,null,null,null,null,null,null,null,null,null,{"$f":"IF(LEN(Z3175)>0,VLOOKUP(Z3175,'TFW Programs'!$A$2:$B$8,2,FALSE),\"\")","v":""},null,null,{"$f":"IF(LEN(A3175)>0,VLOOKUP(A3175,Subcontractors!$A$2:$B$4,2,FALSE),\"\")","v":""}]
[null,null,null,null,null,null,null,null,null,null,null,null,null,null,null,null,null,null,null,null,null,null,null,{"$f":"IF(LEN(Z3180)>0,VLOOKUP(Z3180,'TFW Programs'!$A$2:$B$8,2,FALSE),\"\")","v":""},null,null,{"$f":"IF(LEN(A3180)>0,VLOOKUP(A3180,Subcontractors!$A$2:$B$4,2,FALSE),\"\")","v":""}]
[null,null,null,null,null,null,null,null,null,null,null,null,null,null,null,null,null,null,null,null,null,null,null,{"$f":"IF(LEN(Z3185)>0,VLOOKUP(Z3185,'TFW Programs'!$A$2:$B$8,2,FALSE),\"\")","v":""},null,null,{"$f":"IF(LEN(A3185)>0,VLOOKUP(A3185,Subcontractors!$A$2:$B$4,2,FALSE),\"\")","v":""}]
[null,null,null,null,null,null,null,null,null,null,null,null,null,null,null,null,null,null,null,null,null,null,null,{"$f":"IF(LEN(Z3186)>0,VLOOKUP(Z3186,'TFW Programs'!$A$2:$B$8,2,FALSE),\"\")","v":""},null,null,{"$f":"IF(LEN(A3186)>0,VLOOKUP(A3186,Subcontractors!$A$2:$B$4,2,FALSE),\"\")","v":""}]
[null,null,null,null,null,null,null,null,null,null,null,null,null,null,null,null,null,null,null,null,null,null,null,{"$f":"IF(LEN(Z3190)>0,VLOOKUP(Z3190,'TFW Programs'!$A$2:$B$8,2,FALSE),\"\")","v":""},null,null,{"$f":"IF(LEN(A3190)>0,VLOOKUP(A3190,Subcontractors!$A$2:$B$4,2,FALSE),\"\")","v":""}]
[null,null,null,null,null,null,null,null,null,null,null,null,null,null,null,null,null,null,null,null,null,null,null,{"$f":"IF(LEN(Z3195)>0,VLOOKUP(Z3195,'TFW Programs'!$A$2:$B$8,2,FALSE),\"\")","v":""},null,null,{"$f":"IF(LEN(A3195)>0,VLOOKUP(A3195,Subcontractors!$A$2:$B$4,2,FALSE),\"\")","v":""}]
[null,null,null,null,null,null,null,null,null,null,null,null,null,null,null,null,null,null,null,null,null,null,null,{"$f":"IF(LEN(Z3200)>0,VLOOKUP(Z3200,'TFW Programs'!$A$2:$B$8,2,FALSE),\"\")","v":""},null,null,{"$f":"IF(LEN(A3200)>0,VLOOKUP(A3200,Subcontractors!$A$2:$B$4,2,FALSE),\"\")","v":""}]
[null,null,null,null,null,null,null,null,null,null,null,null,null,null,null,null,null,null,null,null,null,null,null,{"$f":"IF(LEN(Z3201)>0,VLOOKUP(Z3201,'TFW Programs'!$A$2:$B$8,2,FALSE),\"\")","v":""},null,null,{"$f":"IF(LEN(A3201)>0,VLOOKUP(A3201,Subcontractors!$A$2:$B$4,2,FALSE),\"\")","v":""}]
[null,null,null,null,null,null,null,null,null,null,null,null,null,null,null,null,null,null,null,null,null,null,null,{"$f":"IF(LEN(Z3207)>0,VLOOKUP(Z3207,'TFW Programs'!$A$2:$B$8,2,FALSE),\"\")","v":""},null,null,{"$f":"IF(LEN(A3207)>0,VLOOKUP(A3207,Subcontractors!$A$2:$B$4,2,FALSE),\"\")","v":""}]
[null,null,null,null,null,null,null,null,null,null,null,null,null,null,null,null,null,null,null,null,null,null,null,{"$f":"IF(LEN(Z3210)>0,VLOOKUP(Z3210,'TFW Programs'!$A$2:$B$8,2,FALSE),\"\")","v":""},null,null,{"$f":"IF(LEN(A3210)>0,VLOOKUP(A3210,Subcontractors!$A$2:$B$4,2,FALSE),\"\")","v":""}]
[null,null,null,null,null,null,null,null,null,null,null,null,null,null,null,null,null,null,null,null,null,null,null,{"$f":"IF(LEN(Z3215)>0,VLOOKUP(Z3215,'TFW Programs'!$A$2:$B$8,2,FALSE),\"\")","v":""},null,null,{"$f":"IF(LEN(A3215)>0,VLOOKUP(A3215,Subcontractors!$A$2:$B$4,2,FALSE),\"\")","v":""}]
[null,null,null,null,null,null,null,null,null,null,null,null,null,null,null,null,null,null,null,null,null,null,null,{"$f":"IF(LEN(Z3216)>0,VLOOKUP(Z3216,'TFW Programs'!$A$2:$B$8,2,FALSE),\"\")","v":""},null,null,{"$f":"IF(LEN(A3216)>0,VLOOKUP(A3216,Subcontractors!$A$2:$B$4,2,FALSE),\"\")","v":""}]
[null,null,null,null,null,null,null,null,null,null,null,null,null,null,null,null,null,null,null,null,null,null,null,{"$f":"IF(LEN(Z3220)>0,VLOOKUP(Z3220,'TFW Programs'!$A$2:$B$8,2,FALSE),\"\")","v":""},null,null,{"$f":"IF(LEN(A3220)>0,VLOOKUP(A3220,Subcontractors!$A$2:$B$4,2,FALSE),\"\")","v":""}]
[null,null,null,null,null,null,null,null,null,null,null,null,null,null,null,null,null,null,null,null,null,null,null,{"$f":"IF(LEN(Z3225)>0,VLOOKUP(Z3225,'TFW Programs'!$A$2:$B$8,2,FALSE),\"\")","v":""},null,null,{"$f":"IF(LEN(A3225)>0,VLOOKUP(A3225,Subcontractors!$A$2:$B$4,2,FALSE),\"\")","v":""}]
[null,null,null,null,null,null,null,null,null,null,null,null,null,null,null,null,null,null,null,null,null,null,null,{"$f":"IF(LEN(Z3230)>0,VLOOKUP(Z3230,'TFW Programs'!$A$2:$B$8,2,FALSE),\"\")","v":""},null,null,{"$f":"IF(LEN(A3230)>0,VLOOKUP(A3230,Subcontractors!$A$2:$B$4,2,FALSE),\"\")","v":""}]
[null,null,null,null,null,null,null,null,null,null,null,null,null,null,null,null,null,null,null,null,null,null,null,{"$f":"IF(LEN(Z3231)>0,VLOOKUP(Z3231,'TFW Programs'!$A$2:$B$8,2,FALSE),\"\")","v":""},null,null,{"$f":"IF(LEN(A3231)>0,VLOOKUP(A3231,Subcontractors!$A$2:$B$4,2,FALSE),\"\")","v":""}]
[null,null,null,null,null,null,null,null,null,null,null,null,null,null,null,null,null,null,null,null,null,null,null,{"$f":"IF(LEN(Z3237)>0,VLOOKUP(Z3237,'TFW Programs'!$A$2:$B$8,2,FALSE),\"\")","v":""},null,null,{"$f":"IF(LEN(A3237)>0,VLOOKUP(A3237,Subcontractors!$A$2:$B$4,2,FALSE),\"\")","v":""}]
[null,null,null,null,null,null,null,null,null,null,null,null,null,null,null,null,null,null,null,null,null,null,null,{"$f":"IF(LEN(Z3240)>0,VLOOKUP(Z3240,'TFW Programs'!$A$2:$B$8,2,FALSE),\"\")","v":""},null,null,{"$f":"IF(LEN(A3240)>0,VLOOKUP(A3240,Subcontractors!$A$2:$B$4,2,FALSE),\"\")","v":""}]
[null,null,null,null,null,null,null,null,null,null,null,null,null,null,null,null,null,null,null,null,null,null,null,{"$f":"IF(LEN(Z3245)>0,VLOOKUP(Z3245,'TFW Programs'!$A$2:$B$8,2,FALSE),\"\")","v":""},null,null,{"$f":"IF(LEN(A3245)>0,VLOOKUP(A3245,Subcontractors!$A$2:$B$4,2,FALSE),\"\")","v":""}]
[null,null,null,null,null,null,null,null,null,null,null,null,null,null,null,null,null,null,null,null,null,null,null,{"$f":"IF(LEN(Z3246)>0,VLOOKUP(Z3246,'TFW Programs'!$A$2:$B$8,2,FALSE),\"\")","v":""},null,null,{"$f":"IF(LEN(A3246)>0,VLOOKUP(A3246,Subcontractors!$A$2:$B$4,2,FALSE),\"\")","v":""}]
[null,null,null,null,null,null,null,null,null,null,null,null,null,null,null,null,null,null,null,null,null,null,null,{"$f":"IF(LEN(Z3251)>0,VLOOKUP(Z3251,'TFW Programs'!$A$2:$B$8,2,FALSE),\"\")","v":""},null,null,{"$f":"IF(LEN(A3251)>0,VLOOKUP(A3251,Subcontractors!$A$2:$B$4,2,FALSE),\"\")","v":""}]
[null,null,null,null,null,null,null,null,null,null,null,null,null,null,null,null,null,null,null,null,null,null,null,{"$f":"IF(LEN(Z3255)>0,VLOOKUP(Z3255,'TFW Programs'!$A$2:$B$8,2,FALSE),\"\")","v":""},null,null,{"$f":"IF(LEN(A3255)>0,VLOOKUP(A3255,Subcontractors!$A$2:$B$4,2,FALSE),\"\")","v":""}]
[null,null,null,null,null,null,null,null,null,null,null,null,null,null,null,null,null,null,null,null,null,null,null,{"$f":"IF(LEN(Z3260)>0,VLOOKUP(Z3260,'TFW Programs'!$A$2:$B$8,2,FALSE),\"\")","v":""},null,null,{"$f":"IF(LEN(A3260)>0,VLOOKUP(A3260,Subcontractors!$A$2:$B$4,2,FALSE),\"\")","v":""}]
[null,null,null,null,null,null,null,null,null,null,null,null,null,null,null,null,null,null,null,null,null,null,null,{"$f":"IF(LEN(Z3261)>0,VLOOKUP(Z3261,'TFW Programs'!$A$2:$B$8,2,FALSE),\"\")","v":""},null,null,{"$f":"IF(LEN(A3261)>0,VLOOKUP(A3261,Subcontractors!$A$2:$B$4,2,FALSE),\"\")","v":""}]
[null,null,null,null,null,null,null,null,null,null,null,null,null,null,null,null,null,null,null,null,null,null,null,{"$f":"IF(LEN(Z3266)>0,VLOOKUP(Z3266,'TFW Programs'!$A$2:$B$8,2,FALSE),\"\")","v":""},null,null,{"$f":"IF(LEN(A3266)>0,VLOOKUP(A3266,Subcontractors!$A$2:$B$4,2,FALSE),\"\")","v":""}]
[null,null,null,null,null,null,null,null,null,null,null,null,null,null,null,null,null,null,null,null,null,null,null,{"$f":"IF(LEN(Z3271)>0,VLOOKUP(Z3271,'TFW Programs'!$A$2:$B$8,2,FALSE),\"\")","v":""},null,null,{"$f":"IF(LEN(A3271)>0,VLOOKUP(A3271,Subcontractors!$A$2:$B$4,2,FALSE),\"\")","v":""}]
[null,null,null,null,null,null,null,null,null,null,null,null,null,null,null,null,null,null,null,null,null,null,null,{"$f":"IF(LEN(Z3275)>0,VLOOKUP(Z3275,'TFW Programs'!$A$2:$B$8,2,FALSE),\"\")","v":""},null,null,{"$f":"IF(LEN(A3275)>0,VLOOKUP(A3275,Subcontractors!$A$2:$B$4,2,FALSE),\"\")","v":""}]
[null,null,null,null,null,null,null,null,null,null,null,null,null,null,null,null,null,null,null,null,null,null,null,{"$f":"IF(LEN(Z3276)>0,VLOOKUP(Z3276,'TFW Programs'!$A$2:$B$8,2,FALSE),\"\")","v":""},null,null,{"$f":"IF(LEN(A3276)>0,VLOOKUP(A3276,Subcontractors!$A$2:$B$4,2,FALSE),\"\")","v":""}]
[null,null,null,null,null,null,null,null,null,null,null,null,null,null,null,null,null,null,null,null,null,null,null,{"$f":"IF(LEN(Z3281)>0,VLOOKUP(Z3281,'TFW Programs'!$A$2:$B$8,2,FALSE),\"\")","v":""},null,null,{"$f":"IF(LEN(A3281)>0,VLOOKUP(A3281,Subcontractors!$A$2:$B$4,2,FALSE),\"\")","v":""}]
[null,null,null,null,null,null,null,null,null,null,null,null,null,null,null,null,null,null,null,null,null,null,null,{"$f":"IF(LEN(Z3286)>0,VLOOKUP(Z3286,'TFW Programs'!$A$2:$B$8,2,FALSE),\"\")","v":""},null,null,{"$f":"IF(LEN(A3286)>0,VLOOKUP(A3286,Subcontractors!$A$2:$B$4,2,FALSE),\"\")","v":""}]
[null,null,null,null,null,null,null,null,null,null,null,null,null,null,null,null,null,null,null,null,null,null,null,{"$f":"IF(LEN(Z3289)>0,VLOOKUP(Z3289,'TFW Programs'!$A$2:$B$8,2,FALSE),\"\")","v":""},null,null,{"$f":"IF(LEN(A3289)>0,VLOOKUP(A3289,Subcontractors!$A$2:$B$4,2,FALSE),\"\")","v":""}]
[null,null,null,null,null,null,null,null,null,null,null,null,null,null,null,null,null,null,null,null,null,null,null,{"$f":"IF(LEN(Z3291)>0,VLOOKUP(Z3291,'TFW Programs'!$A$2:$B$8,2,FALSE),\"\")","v":""},null,null,{"$f":"IF(LEN(A3291)>0,VLOOKUP(A3291,Subcontractors!$A$2:$B$4,2,FALSE),\"\")","v":""}]
[null,null,null,null,null,null,null,null,null,null,null,null,null,null,null,null,null,null,null,null,null,null,null,{"$f":"IF(LEN(Z3296)>0,VLOOKUP(Z3296,'TFW Programs'!$A$2:$B$8,2,FALSE),\"\")","v":""},null,null,{"$f":"IF(LEN(A3296)>0,VLOOKUP(A3296,Subcontractors!$A$2:$B$4,2,FALSE),\"\")","v":""}]
[null,null,null,null,null,null,null,null,null,null,null,null,null,null,null,null,null,null,null,null,null,null,null,{"$f":"IF(LEN(Z3301)>0,VLOOKUP(Z3301,'TFW Programs'!$A$2:$B$8,2,FALSE),\"\")","v":""},null,null,{"$f":"IF(LEN(A3301)>0,VLOOKUP(A3301,Subcontractors!$A$2:$B$4,2,FALSE),\"\")","v":""}]
[null,null,null,null,null,null,null,null,null,null,null,null,null,null,null,null,null,null,null,null,null,null,null,{"$f":"IF(LEN(Z3305)>0,VLOOKUP(Z3305,'TFW Programs'!$A$2:$B$8,2,FALSE),\"\")","v":""},null,null,{"$f":"IF(LEN(A3305)>0,VLOOKUP(A3305,Subcontractors!$A$2:$B$4,2,FALSE),\"\")","v":""}]
[null,null,null,null,null,null,null,null,null,null,null,null,null,null,null,null,null,null,null,null,null,null,null,{"$f":"IF(LEN(Z3306)>0,VLOOKUP(Z3306,'TFW Programs'!$A$2:$B$8,2,FALSE),\"\")","v":""},null,null,{"$f":"IF(LEN(A3306)>0,VLOOKUP(A3306,Subcontractors!$A$2:$B$4,2,FALSE),\"\")","v":""}]
[null,null,null,null,null,null,null,null,null,null,null,null,null,null,null,null,null,null,null,null,null,null,null,{"$f":"IF(LEN(Z3311)>0,VLOOKUP(Z3311,'TFW Programs'!$A$2:$B$8,2,FALSE),\"\")","v":""},null,null,{"$f":"IF(LEN(A3311)>0,VLOOKUP(A3311,Subcontractors!$A$2:$B$4,2,FALSE),\"\")","v":""}]
[null,null,null,null,null,null,null,null,null,null,null,null,null,null,null,null,null,null,null,null,null,null,null,{"$f":"IF(LEN(Z3316)>0,VLOOKUP(Z3316,'TFW Programs'!$A$2:$B$8,2,FALSE),\"\")","v":""},null,null,{"$f":"IF(LEN(A3316)>0,VLOOKUP(A3316,Subcontractors!$A$2:$B$4,2,FALSE),\"\")","v":""}]
[null,null,null,null,null,null,null,null,null,null,null,null,null,null,null,null,null,null,null,null,null,null,null,{"$f":"IF(LEN(Z3321)>0,VLOOKUP(Z3321,'TFW Programs'!$A$2:$B$8,2,FALSE),\"\")","v":""},null,null,{"$f":"IF(LEN(A3321)>0,VLOOKUP(A3321,Subcontractors!$A$2:$B$4,2,FALSE),\"\")","v":""}]
[null,null,null,null,null,null,null,null,null,null,null,null,null,null,null,null,null,null,null,null,null,null,null,{"$f":"IF(LEN(Z3323)>0,VLOOKUP(Z3323,'TFW Programs'!$A$2:$B$8,2,FALSE),\"\")","v":""},null,null,{"$f":"IF(LEN(A3323)>0,VLOOKUP(A3323,Subcontractors!$A$2:$B$4,2,FALSE),\"\")","v":""}]
[null,null,null,null,null,null,null,null,null,null,null,null,null,null,null,null,null,null,null,null,null,null,null,{"$f":"IF(LEN(Z3326)>0,VLOOKUP(Z3326,'TFW Programs'!$A$2:$B$8,2,FALSE),\"\")","v":""},null,null,{"$f":"IF(LEN(A3326)>0,VLOOKUP(A3326,Subcontractors!$A$2:$B$4,2,FALSE),\"\")","v":""}]
[null,null,null,null,null,null,null,null,null,null,null,null,null,null,null,null,null,null,null,null,null,null,null,{"$f":"IF(LEN(Z3331)>0,VLOOKUP(Z3331,'TFW Programs'!$A$2:$B$8,2,FALSE),\"\")","v":""},null,null,{"$f":"IF(LEN(A3331)>0,VLOOKUP(A3331,Subcontractors!$A$2:$B$4,2,FALSE),\"\")","v":""}]
[null,null,null,null,null,null,null,null,null,null,null,null,null,null,null,null,null,null,null,null,null,null,null,{"$f":"IF(LEN(Z3336)>0,VLOOKUP(Z3336,'TFW Programs'!$A$2:$B$8,2,FALSE),\"\")","v":""},null,null,{"$f":"IF(LEN(A3336)>0,VLOOKUP(A3336,Subcontractors!$A$2:$B$4,2,FALSE),\"\")","v":""}]
[null,null,null,null,null,null,null,null,null,null,null,null,null,null,null,null,null,null,null,null,null,null,null,{"$f":"IF(LEN(Z3337)>0,VLOOKUP(Z3337,'TFW Programs'!$A$2:$B$8,2,FALSE),\"\")","v":""},null,null,{"$f":"IF(LEN(A3337)>0,VLOOKUP(A3337,Subcontractors!$A$2:$B$4,2,FALSE),\"\")","v":""}]
[null,null,null,null,null,null,null,null,null,null,null,null,null,null,null,null,null,null,null,null,null,null,null,{"$f":"IF(LEN(Z3341)>0,VLOOKUP(Z3341,'TFW Programs'!$A$2:$B$8,2,FALSE),\"\")","v":""},null,null,{"$f":"IF(LEN(A3341)>0,VLOOKUP(A3341,Subcontractors!$A$2:$B$4,2,FALSE),\"\")","v":""}]
[null,null,null,null,null,null,null,null,null,null,null,null,null,null,null,null,null,null,null,null,null,null,null,{"$f":"IF(LEN(Z3346)>0,VLOOKUP(Z3346,'TFW Programs'!$A$2:$B$8,2,FALSE),\"\")","v":""},null,null,{"$f":"IF(LEN(A3346)>0,VLOOKUP(A3346,Subcontractors!$A$2:$B$4,2,FALSE),\"\")","v":""}]
[null,null,null,null,null,null,null,null,null,null,null,null,null,null,null,null,null,null,null,null,null,null,null,{"$f":"IF(LEN(Z3351)>0,VLOOKUP(Z3351,'TFW Programs'!$A$2:$B$8,2,FALSE),\"\")","v":""},null,null,{"$f":"IF(LEN(A3351)>0,VLOOKUP(A3351,Subcontractors!$A$2:$B$4,2,FALSE),\"\")","v":""}]
[null,null,null,null,null,null,null,null,null,null,null,null,null,null,null,null,null,null,null,null,null,null,null,{"$f":"IF(LEN(Z3353)>0,VLOOKUP(Z3353,'TFW Programs'!$A$2:$B$8,2,FALSE),\"\")","v":""},null,null,{"$f":"IF(LEN(A3353)>0,VLOOKUP(A3353,Subcontractors!$A$2:$B$4,2,FALSE),\"\")","v":""}]
[null,null,null,null,null,null,null,null,null,null,null,null,null,null,null,null,null,null,null,null,null,null,null,{"$f":"IF(LEN(Z3356)>0,VLOOKUP(Z3356,'TFW Programs'!$A$2:$B$8,2,FALSE),\"\")","v":""},null,null,{"$f":"IF(LEN(A3356)>0,VLOOKUP(A3356,Subcontractors!$A$2:$B$4,2,FALSE),\"\")","v":""}]
[null,null,null,null,null,null,null,null,null,null,null,null,null,null,null,null,null,null,null,null,null,null,null,{"$f":"IF(LEN(Z3361)>0,VLOOKUP(Z3361,'TFW Programs'!$A$2:$B$8,2,FALSE),\"\")","v":""},null,null,{"$f":"IF(LEN(A3361)>0,VLOOKUP(A3361,Subcontractors!$A$2:$B$4,2,FALSE),\"\")","v":""}]
[null,null,null,null,null,null,null,null,null,null,null,null,null,null,null,null,null,null,null,null,null,null,null,{"$f":"IF(LEN(Z3366)>0,VLOOKUP(Z3366,'TFW Programs'!$A$2:$B$8,2,FALSE),\"\")","v":""},null,null,{"$f":"IF(LEN(A3366)>0,VLOOKUP(A3366,Subcontractors!$A$2:$B$4,2,FALSE),\"\")","v":""}]
[null,null,null,null,null,null,null,null,null,null,null,null,null,null,null,null,null,null,null,null,null,null,null,{"$f":"IF(LEN(Z3367)>0,VLOOKUP(Z3367,'TFW Programs'!$A$2:$B$8,2,FALSE),\"\")","v":""},null,null,{"$f":"IF(LEN(A3367)>0,VLOOKUP(A3367,Subcontractors!$A$2:$B$4,2,FALSE),\"\")","v":""}]
[null,null,null,null,null,null,null,null,null,null,null,null,null,null,null,null,null,null,null,null,null,null,null,{"$f":"IF(LEN(Z3371)>0,VLOOKUP(Z3371,'TFW Programs'!$A$2:$B$8,2,FALSE),\"\")","v":""},null,null,{"$f":"IF(LEN(A3371)>0,VLOOKUP(A3371,Subcontractors!$A$2:$B$4,2,FALSE),\"\")","v":""}]
[null,null,null,null,null,null,null,null,null,null,null,null,null,null,null,null,null,null,null,null,null,null,null,{"$f":"IF(LEN(Z3376)>0,VLOOKUP(Z3376,'TFW Programs'!$A$2:$B$8,2,FALSE),\"\")","v":""},null,null,{"$f":"IF(LEN(A3376)>0,VLOOKUP(A3376,Subcontractors!$A$2:$B$4,2,FALSE),\"\")","v":""}]
[null,null,null,null,null,null,null,null,null,null,null,null,null,null,null,null,null,null,null,null,null,null,null,{"$f":"IF(LEN(Z3381)>0,VLOOKUP(Z3381,'TFW Programs'!$A$2:$B$8,2,FALSE),\"\")","v":""},null,null,{"$f":"IF(LEN(A3381)>0,VLOOKUP(A3381,Subcontractors!$A$2:$B$4,2,FALSE),\"\")","v":""}]
[null,null,null,null,null,null,null,null,null,null,null,null,null,null,null,null,null,null,null,null,null,null,null,{"$f":"IF(LEN(Z3382)>0,VLOOKUP(Z3382,'TFW Programs'!$A$2:$B$8,2,FALSE),\"\")","v":""},null,null,{"$f":"IF(LEN(A3382)>0,VLOOKUP(A3382,Subcontractors!$A$2:$B$4,2,FALSE),\"\")","v":""}]
[null,null,null,null,null,null,null,null,null,null,null,null,null,null,null,null,null,null,null,null,null,null,null,{"$f":"IF(LEN(Z3388)>0,VLOOKUP(Z3388,'TFW Programs'!$A$2:$B$8,2,FALSE),\"\")","v":""},null,null,{"$f":"IF(LEN(A3388)>0,VLOOKUP(A3388,Subcontractors!$A$2:$B$4,2,FALSE),\"\")","v":""}]
[null,null,null,null,null,null,null,null,null,null,null,null,null,null,null,null,null,null,null,null,null,null,null,{"$f":"IF(LEN(Z3391)>0,VLOOKUP(Z3391,'TFW Programs'!$A$2:$B$8,2,FALSE),\"\")","v":""},null,null,{"$f":"IF(LEN(A3391)>0,VLOOKUP(A3391,Subcontractors!$A$2:$B$4,2,FALSE),\"\")","v":""}]
[null,null,null,null,null,null,null,null,null,null,null,null,null,null,null,null,null,null,null,null,null,null,null,{"$f":"IF(LEN(Z3396)>0,VLOOKUP(Z3396,'TFW Programs'!$A$2:$B$8,2,FALSE),\"\")","v":""},null,null,{"$f":"IF(LEN(A3396)>0,VLOOKUP(A3396,Subcontractors!$A$2:$B$4,2,FALSE),\"\")","v":""}]
[null,null,null,null,null,null,null,null,null,null,null,null,null,null,null,null,null,null,null,null,null,null,null,{"$f":"IF(LEN(Z3397)>0,VLOOKUP(Z3397,'TFW Programs'!$A$2:$B$8,2,FALSE),\"\")","v":""},null,null,{"$f":"IF(LEN(A3397)>0,VLOOKUP(A3397,Subcontractors!$A$2:$B$4,2,FALSE),\"\")","v":""}]
[null,null,null,null,null,null,null,null,null,null,null,null,null,null,null,null,null,null,null,null,null,null,null,{"$f":"IF(LEN(Z3402)>0,VLOOKUP(Z3402,'TFW Programs'!$A$2:$B$8,2,FALSE),\"\")","v":""},null,null,{"$f":"IF(LEN(A3402)>0,VLOOKUP(A3402,Subcontractors!$A$2:$B$4,2,FALSE),\"\")","v":""}]
[null,null,null,null,null,null,null,null,null,null,null,null,null,null,null,null,null,null,null,null,null,null,null,{"$f":"IF(LEN(Z3406)>0,VLOOKUP(Z3406,'TFW Programs'!$A$2:$B$8,2,FALSE),\"\")","v":""},null,null,{"$f":"IF(LEN(A3406)>0,VLOOKUP(A3406,Subcontractors!$A$2:$B$4,2,FALSE),\"\")","v":""}]
[null,null,null,null,null,null,null,null,null,null,null,null,null,null,null,null,null,null,null,null,null,null,null,{"$f":"IF(LEN(Z3411)>0,VLOOKUP(Z3411,'TFW Programs'!$A$2:$B$8,2,FALSE),\"\")","v":""},null,null,{"$f":"IF(LEN(A3411)>0,VLOOKUP(A3411,Subcontractors!$A$2:$B$4,2,FALSE),\"\")","v":""}]
[null,null,null,null,null,null,null,null,null,null,null,null,null,null,null,null,null,null,null,null,null,null,null,{"$f":"IF(LEN(Z3412)>0,VLOOKUP(Z3412,'TFW Programs'!$A$2:$B$8,2,FALSE),\"\")","v":""},null,null,{"$f":"IF(LEN(A3412)>0,VLOOKUP(A3412,Subcontractors!$A$2:$B$4,2,FALSE),\"\")","v":""}]
[null,null,null,null,null,null,null,null,null,null,null,null,null,null,null,null,null,null,null,null,null,null,null,{"$f":"IF(LEN(Z3417)>0,VLOOKUP(Z3417,'TFW Programs'!$A$2:$B$8,2,FALSE),\"\")","v":""},null,null,{"$f":"IF(LEN(A3417)>0,VLOOKUP(A3417,Subcontractors!$A$2:$B$4,2,FALSE),\"\")","v":""}]
[null,null,null,null,null,null,null,null,null,null,null,null,null,null,null,null,null,null,null,null,null,null,null,{"$f":"IF(LEN(Z3422)>0,VLOOKUP(Z3422,'TFW Programs'!$A$2:$B$8,2,FALSE),\"\")","v":""},null,null,{"$f":"IF(LEN(A3422)>0,VLOOKUP(A3422,Subcontractors!$A$2:$B$4,2,FALSE),\"\")","v":""}]
[null,null,null,null,null,null,null,null,null,null,null,null,null,null,null,null,null,null,null,null,null,null,null,{"$f":"IF(LEN(Z3426)>0,VLOOKUP(Z3426,'TFW Programs'!$A$2:$B$8,2,FALSE),\"\")","v":""},null,null,{"$f":"IF(LEN(A3426)>0,VLOOKUP(A3426,Subcontractors!$A$2:$B$4,2,FALSE),\"\")","v":""}]
[null,null,null,null,null,null,null,null,null,null,null,null,null,null,null,null,null,null,null,null,null,null,null,{"$f":"IF(LEN(Z3427)>0,VLOOKUP(Z3427,'TFW Programs'!$A$2:$B$8,2,FALSE),\"\")","v":""},null,null,{"$f":"IF(LEN(A3427)>0,VLOOKUP(A3427,Subcontractors!$A$2:$B$4,2,FALSE),\"\")","v":""}]
[null,null,null,null,null,null,null,null,null,null,null,null,null,null,null,null,null,null,null,null,null,null,null,{"$f":"IF(LEN(Z3432)>0,VLOOKUP(Z3432,'TFW Programs'!$A$2:$B$8,2,FALSE),\"\")","v":""},null,null,{"$f":"IF(LEN(A3432)>0,VLOOKUP(A3432,Subcontractors!$A$2:$B$4,2,FALSE),\"\")","v":""}]
[null,null,null,null,null,null,null,null,null,null,null,null,null,null,null,null,null,null,null,null,null,null,null,{"$f":"IF(LEN(Z3437)>0,VLOOKUP(Z3437,'TFW Programs'!$A$2:$B$8,2,FALSE),\"\")","v":""},null,null,{"$f":"IF(LEN(A3437)>0,VLOOKUP(A3437,Subcontractors!$A$2:$B$4,2,FALSE),\"\")","v":""}]
[null,null,null,null,null,null,null,null,null,null,null,null,null,null,null,null,null,null,null,null,null,null,null,{"$f":"IF(LEN(Z3440)>0,VLOOKUP(Z3440,'TFW Programs'!$A$2:$B$8,2,FALSE),\"\")","v":""},null,null,{"$f":"IF(LEN(A3440)>0,VLOOKUP(A3440,Subcontractors!$A$2:$B$4,2,FALSE),\"\")","v":""}]
[null,null,null,null,null,null,null,null,null,null,null,null,null,null,null,null,null,null,null,null,null,null,null,{"$f":"IF(LEN(Z3442)>0,VLOOKUP(Z3442,'TFW Programs'!$A$2:$B$8,2,FALSE),\"\")","v":""},null,null,{"$f":"IF(LEN(A3442)>0,VLOOKUP(A3442,Subcontractors!$A$2:$B$4,2,FALSE),\"\")","v":""}]
[null,null,null,null,null,null,null,null,null,null,null,null,null,null,null,null,null,null,null,null,null,null,null,{"$f":"IF(LEN(Z3447)>0,VLOOKUP(Z3447,'TFW Programs'!$A$2:$B$8,2,FALSE),\"\")","v":""},null,null,{"$f":"IF(LEN(A3447)>0,VLOOKUP(A3447,Subcontractors!$A$2:$B$4,2,FALSE),\"\")","v":""}]
[null,null,null,null,null,null,null,null,null,null,null,null,null,null,null,null,null,null,null,null,null,null,null,{"$f":"IF(LEN(Z3452)>0,VLOOKUP(Z3452,'TFW Programs'!$A$2:$B$8,2,FALSE),\"\")","v":""},null,null,{"$f":"IF(LEN(A3452)>0,VLOOKUP(A3452,Subcontractors!$A$2:$B$4,2,FALSE),\"\")","v":""}]
[null,null,null,null,null,null,null,null,null,null,null,null,null,null,null,null,null,null,null,null,null,null,null,{"$f":"IF(LEN(Z3454)>0,VLOOKUP(Z3454,'TFW Programs'!$A$2:$B$8,2,FALSE),\"\")","v":""},null,null,{"$f":"IF(LEN(A3454)>0,VLOOKUP(A3454,Subcontractors!$A$2:$B$4,2,FALSE),\"\")","v":""}]
[null,null,null,null,null,null,null,null,null,null,null,null,null,null,null,null,null,null,null,null,null,null,null,{"$f":"IF(LEN(Z3457)>0,VLOOKUP(Z3457,'TFW Programs'!$A$2:$B$8,2,FALSE),\"\")","v":""},null,null,{"$f":"IF(LEN(A3457)>0,VLOOKUP(A3457,Subcontractors!$A$2:$B$4,2,FALSE),\"\")","v":""}]
[null,null,null,null,null,null,null,null,null,null,null,null,null,null,null,null,null,null,null,null,null,null,null,{"$f":"IF(LEN(Z3462)>0,VLOOKUP(Z3462,'TFW Programs'!$A$2:$B$8,2,FALSE),\"\")","v":""},null,null,{"$f":"IF(LEN(A3462)>0,VLOOKUP(A3462,Subcontractors!$A$2:$B$4,2,FALSE),\"\")","v":""}]
[null,null,null,null,null,null,null,null,null,null,null,null,null,null,null,null,null,null,null,null,null,null,null,{"$f":"IF(LEN(Z3467)>0,VLOOKUP(Z3467,'TFW Programs'!$A$2:$B$8,2,FALSE),\"\")","v":""},null,null,{"$f":"IF(LEN(A3467)>0,VLOOKUP(A3467,Subcontractors!$A$2:$B$4,2,FALSE),\"\")","v":""}]
[null,null,null,null,null,null,null,null,null,null,null,null,null,null,null,null,null,null,null,null,null,null,null,{"$f":"IF(LEN(Z3470)>0,VLOOKUP(Z3470,'TFW Programs'!$A$2:$B$8,2,FALSE),\"\")","v":""},null,null,{"$f":"IF(LEN(A3470)>0,VLOOKUP(A3470,Subcontractors!$A$2:$B$4,2,FALSE),\"\")","v":""}]
[null,null,null,null,null,null,null,null,null,null,null,null,null,null,null,null,null,null,null,null,null,null,null,{"$f":"IF(LEN(Z3472)>0,VLOOKUP(Z3472,'TFW Programs'!$A$2:$B$8,2,FALSE),\"\")","v":""},null,null,{"$f":"IF(LEN(A3472)>0,VLOOKUP(A3472,Subcontractors!$A$2:$B$4,2,FALSE),\"\")","v":""}]
[null,null,null,null,null,null,null,null,null,null,null,null,null,null,null,null,null,null,null,null,null,null,null,{"$f":"IF(LEN(Z3477)>0,VLOOKUP(Z3477,'TFW Programs'!$A$2:$B$8,2,FALSE),\"\")","v":""},null,null,{"$f":"IF(LEN(A3477)>0,VLOOKUP(A3477,Subcontractors!$A$2:$B$4,2,FALSE),\"\")","v":""}]
[null,null,null,null,null,null,null,null,null,null,null,null,null,null,null,null,null,null,null,null,null,null,null,{"$f":"IF(LEN(Z3482)>0,VLOOKUP(Z3482,'TFW Programs'!$A$2:$B$8,2,FALSE),\"\")","v":""},null,null,{"$f":"IF(LEN(A3482)>0,VLOOKUP(A3482,Subcontractors!$A$2:$B$4,2,FALSE),\"\")","v":""}]
[null,null,null,null,null,null,null,null,null,null,null,null,null,null,null,null,null,null,null,null,null,null,null,{"$f":"IF(LEN(Z3487)>0,VLOOKUP(Z3487,'TFW Programs'!$A$2:$B$8,2,FALSE),\"\")","v":""},null,null,{"$f":"IF(LEN(A3487)>0,VLOOKUP(A3487,Subcontractors!$A$2:$B$4,2,FALSE),\"\")","v":""}]
[null,null,null,null,null,null,null,null,null,null,null,null,null,null,null,null,null,null,null,null,null,null,null,{"$f":"IF(LEN(Z3488)>0,VLOOKUP(Z3488,'TFW Programs'!$A$2:$B$8,2,FALSE),\"\")","v":""},null,null,{"$f":"IF(LEN(A3488)>0,VLOOKUP(A3488,Subcontractors!$A$2:$B$4,2,FALSE),\"\")","v":""}]
[null,null,null,null,null,null,null,null,null,null,null,null,null,null,null,null,null,null,null,null,null,null,null,{"$f":"IF(LEN(Z3492)>0,VLOOKUP(Z3492,'TFW Programs'!$A$2:$B$8,2,FALSE),\"\")","v":""},null,null,{"$f":"IF(LEN(A3492)>0,VLOOKUP(A3492,Subcontractors!$A$2:$B$4,2,FALSE),\"\")","v":""}]
[null,null,null,null,null,null,null,null,null,null,null,null,null,null,null,null,null,null,null,null,null,null,null,{"$f":"IF(LEN(Z3497)>0,VLOOKUP(Z3497,'TFW Programs'!$A$2:$B$8,2,FALSE),\"\")","v":""},null,null,{"$f":"IF(LEN(A3497)>0,VLOOKUP(A3497,Subcontractors!$A$2:$B$4,2,FALSE),\"\")","v":""}]
[null,null,null,null,null,null,null,null,null,null,null,null,null,null,null,null,null,null,null,null,null,null,null,{"$f":"IF(LEN(Z3502)>0,VLOOKUP(Z3502,'TFW Programs'!$A$2:$B$8,2,FALSE),\"\")","v":""},null,null,{"$f":"IF(LEN(A3502)>0,VLOOKUP(A3502,Subcontractors!$A$2:$B$4,2,FALSE),\"\")","v":""}]
[null,null,null,null,null,null,null,null,null,null,null,null,null,null,null,null,null,null,null,null,null,null,null,{"$f":"IF(LEN(Z3505)>0,VLOOKUP(Z3505,'TFW Programs'!$A$2:$B$8,2,FALSE),\"\")","v":""},null,null,{"$f":"IF(LEN(A3505)>0,VLOOKUP(A3505,Subcontractors!$A$2:$B$4,2,FALSE),\"\")","v":""}]
[null,null,null,null,null,null,null,null,null,null,null,null,null,null,null,null,null,null,null,null,null,null,null,{"$f":"IF(LEN(Z3507)>0,VLOOKUP(Z3507,'TFW Programs'!$A$2:$B$8,2,FALSE),\"\")","v":""},null,null,{"$f":"IF(LEN(A3507)>0,VLOOKUP(A3507,Subcontractors!$A$2:$B$4,2,FALSE),\"\")","v":""}]
[null,null,null,null,null,null,null,null,null,null,null,null,null,null,null,null,null,null,null,null,null,null,null,{"$f":"IF(LEN(Z3512)>0,VLOOKUP(Z3512,'TFW Programs'!$A$2:$B$8,2,FALSE),\"\")","v":""},null,null,{"$f":"IF(LEN(A3512)>0,VLOOKUP(A3512,Subcontractors!$A$2:$B$4,2,FALSE),\"\")","v":""}]
[null,null,null,null,null,null,null,null,null,null,null,null,null,null,null,null,null,null,null,null,null,null,null,{"$f":"IF(LEN(Z3517)>0,VLOOKUP(Z3517,'TFW Programs'!$A$2:$B$8,2,FALSE),\"\")","v":""},null,null,{"$f":"IF(LEN(A3517)>0,VLOOKUP(A3517,Subcontractors!$A$2:$B$4,2,FALSE),\"\")","v":""}]
[null,null,null,null,null,null,null,null,null,null,null,null,null,null,null,null,null,null,null,null,null,null,null,{"$f":"IF(LEN(Z3518)>0,VLOOKUP(Z3518,'TFW Programs'!$A$2:$B$8,2,FALSE),\"\")","v":""},null,null,{"$f":"IF(LEN(A3518)>0,VLOOKUP(A3518,Subcontractors!$A$2:$B$4,2,FALSE),\"\")","v":""}]
[null,null,null,null,null,null,null,null,null,null,null,null,null,null,null,null,null,null,null,null,null,null,null,{"$f":"IF(LEN(Z3523)>0,VLOOKUP(Z3523,'TFW Programs'!$A$2:$B$8,2,FALSE),\"\")","v":""},null,null,{"$f":"IF(LEN(A3523)>0,VLOOKUP(A3523,Subcontractors!$A$2:$B$4,2,FALSE),\"\")","v":""}]
[null,null,null,null,null,null,null,null,null,null,null,null,null,null,null,null,null,null,null,null,null,null,null,{"$f":"IF(LEN(Z3527)>0,VLOOKUP(Z3527,'TFW Programs'!$A$2:$B$8,2,FALSE),\"\")","v":""},null,null,{"$f":"IF(LEN(A3527)>0,VLOOKUP(A3527,Subcontractors!$A$2:$B$4,2,FALSE),\"\")","v":""}]
[null,null,null,null,null,null,null,null,null,null,null,null,null,null,null,null,null,null,null,null,null,null,null,{"$f":"IF(LEN(Z3532)>0,VLOOKUP(Z3532,'TFW Programs'!$A$2:$B$8,2,FALSE),\"\")","v":""},null,null,{"$f":"IF(LEN(A3532)>0,VLOOKUP(A3532,Subcontractors!$A$2:$B$4,2,FALSE),\"\")","v":""}]
[null,null,null,null,null,null,null,null,null,null,null,null,null,null,null,null,null,null,null,null,null,null,null,{"$f":"IF(LEN(Z3533)>0,VLOOKUP(Z3533,'TFW Programs'!$A$2:$B$8,2,FALSE),\"\")","v":""},null,null,{"$f":"IF(LEN(A3533)>0,VLOOKUP(A3533,Subcontractors!$A$2:$B$4,2,FALSE),\"\")","v":""}]
[null,null,null,null,null,null,null,null,null,null,null,null,null,null,null,null,null,null,null,null,null,null,null,{"$f":"IF(LEN(Z3539)>0,VLOOKUP(Z3539,'TFW Programs'!$A$2:$B$8,2,FALSE),\"\")","v":""},null,null,{"$f":"IF(LEN(A3539)>0,VLOOKUP(A3539,Subcontractors!$A$2:$B$4,2,FALSE),\"\")","v":""}]
[null,null,null,null,null,null,null,null,null,null,null,null,null,null,null,null,null,null,null,null,null,null,null,{"$f":"IF(LEN(Z3542)>0,VLOOKUP(Z3542,'TFW Programs'!$A$2:$B$8,2,FALSE),\"\")","v":""},null,null,{"$f":"IF(LEN(A3542)>0,VLOOKUP(A3542,Subcontractors!$A$2:$B$4,2,FALSE),\"\")","v":""}]
[null,null,null,null,null,null,null,null,null,null,null,null,null,null,null,null,null,null,null,null,null,null,null,{"$f":"IF(LEN(Z3547)>0,VLOOKUP(Z3547,'TFW Programs'!$A$2:$B$8,2,FALSE),\"\")","v":""},null,null,{"$f":"IF(LEN(A3547)>0,VLOOKUP(A3547,Subcontractors!$A$2:$B$4,2,FALSE),\"\")","v":""}]
[null,null,null,null,null,null,null,null,null,null,null,null,null,null,null,null,null,null,null,null,null,null,null,{"$f":"IF(LEN(Z3548)>0,VLOOKUP(Z3548,'TFW Programs'!$A$2:$B$8,2,FALSE),\"\")","v":""},null,null,{"$f":"IF(LEN(A3548)>0,VLOOKUP(A3548,Subcontractors!$A$2:$B$4,2,FALSE),\"\")","v":""}]
[null,null,null,null,null,null,null,null,null,null,null,null,null,null,null,null,null,null,null,null,null,null,null,{"$f":"IF(LEN(Z3553)>0,VLOOKUP(Z3553,'TFW Programs'!$A$2:$B$8,2,FALSE),\"\")","v":""},null,null,{"$f":"IF(LEN(A3553)>0,VLOOKUP(A3553,Subcontractors!$A$2:$B$4,2,FALSE),\"\")","v":""}]
[null,null,null,null,null,null,null,null,null,null,null,null,null,null,null,null,null,null,null,null,null,null,null,{"$f":"IF(LEN(Z3557)>0,VLOOKUP(Z3557,'TFW Programs'!$A$2:$B$8,2,FALSE),\"\")","v":""},null,null,{"$f":"IF(LEN(A3557)>0,VLOOKUP(A3557,Subcontractors!$A$2:$B$4,2,FALSE),\"\")","v":""}]
[null,null,null,null,null,null,null,null,null,null,null,null,null,null,null,null,null,null,null,null,null,null,null,{"$f":"IF(LEN(Z3562)>0,VLOOKUP(Z3562,'TFW Programs'!$A$2:$B$8,2,FALSE),\"\")","v":""},null,null,{"$f":"IF(LEN(A3562)>0,VLOOKUP(A3562,Subcontractors!$A$2:$B$4,2,FALSE),\"\")","v":""}]
[null,null,null,null,null,null,null,null,null,null,null,null,null,null,null,null,null,null,null,null,null,null,null,{"$f":"IF(LEN(Z3563)>0,VLOOKUP(Z3563,'TFW Programs'!$A$2:$B$8,2,FALSE),\"\")","v":""},null,null,{"$f":"IF(LEN(A3563)>0,VLOOKUP(A3563,Subcontractors!$A$2:$B$4,2,FALSE),\"\")","v":""}]
[null,null,null,null,null,null,null,null,null,null,null,null,null,null,null,null,null,null,null,null,null,null,null,{"$f":"IF(LEN(Z3568)>0,VLOOKUP(Z3568,'TFW Programs'!$A$2:$B$8,2,FALSE),\"\")","v":""},null,null,{"$f":"IF(LEN(A3568)>0,VLOOKUP(A3568,Subcontractors!$A$2:$B$4,2,FALSE),\"\")","v":""}]
[null,null,null,null,null,null,null,null,null,null,null,null,null,null,null,null,null,null,null,null,null,null,null,{"$f":"IF(LEN(Z3571)>0,VLOOKUP(Z3571,'TFW Programs'!$A$2:$B$8,2,FALSE),\"\")","v":""},null,null,{"$f":"IF(LEN(A3571)>0,VLOOKUP(A3571,Subcontractors!$A$2:$B$4,2,FALSE),\"\")","v":""}]
[null,null,null,null,null,null,null,null,null,null,null,null,null,null,null,null,null,null,null,null,null,null,null,{"$f":"IF(LEN(Z3577)>0,VLOOKUP(Z3577,'TFW Programs'!$A$2:$B$8,2,FALSE),\"\")","v":""},null,null,{"$f":"IF(LEN(A3577)>0,VLOOKUP(A3577,Subcontractors!$A$2:$B$4,2,FALSE),\"\")","v":""}]
[null,null,null,null,null,null,null,null,null,null,null,null,null,null,null,null,null,null,null,null,null,null,null,{"$f":"IF(LEN(Z3578)>0,VLOOKUP(Z3578,'TFW Programs'!$A$2:$B$8,2,FALSE),\"\")","v":""},null,null,{"$f":"IF(LEN(A3578)>0,VLOOKUP(A3578,Subcontractors!$A$2:$B$4,2,FALSE),\"\")","v":""}]
[null,null,null,null,null,null,null,null,null,null,null,null,null,null,null,null,null,null,null,null,null,null,null,{"$f":"IF(LEN(Z3583)>0,VLOOKUP(Z3583,'TFW Programs'!$A$2:$B$8,2,FALSE),\"\")","v":""},null,null,{"$f":"IF(LEN(A3583)>0,VLOOKUP(A3583,Subcontractors!$A$2:$B$4,2,FALSE),\"\")","v":""}]
[null,null,null,null,null,null,null,null,null,null,null,null,null,null,null,null,null,null,null,null,null,null,null,{"$f":"IF(LEN(Z3587)>0,VLOOKUP(Z3587,'TFW Programs'!$A$2:$B$8,2,FALSE),\"\")","v":""},null,null,{"$f":"IF(LEN(A3587)>0,VLOOKUP(A3587,Subcontractors!$A$2:$B$4,2,FALSE),\"\")","v":""}]
[null,null,null,null,null,null,null,null,null,null,null,null,null,null,null,null,null,null,null,null,null,null,null,{"$f":"IF(LEN(Z3592)>0,VLOOKUP(Z3592,'TFW Programs'!$A$2:$B$8,2,FALSE),\"\")","v":""},null,null,{"$f":"IF(LEN(A3592)>0,VLOOKUP(A3592,Subcontractors!$A$2:$B$4,2,FALSE),\"\")","v":""}]
[null,null,null,null,null,null,null,null,null,null,null,null,null,null,null,null,null,null,null,null,null,null,null,{"$f":"IF(LEN(Z3593)>0,VLOOKUP(Z3593,'TFW Programs'!$A$2:$B$8,2,FALSE),\"\")","v":""},null,null,{"$f":"IF(LEN(A3593)>0,VLOOKUP(A3593,Subcontractors!$A$2:$B$4,2,FALSE),\"\")","v":""}]
[null,null,null,null,null,null,null,null,null,null,null,null,null,null,null,null,null,null,null,null,null,null,null,{"$f":"IF(LEN(Z3598)>0,VLOOKUP(Z3598,'TFW Programs'!$A$2:$B$8,2,FALSE),\"\")","v":""},null,null,{"$f":"IF(LEN(A3598)>0,VLOOKUP(A3598,Subcontractors!$A$2:$B$4,2,FALSE),\"\")","v":""}]
[null,null,null,null,null,null,null,null,null,null,null,null,null,null,null,null,null,null,null,null,null,null,null,{"$f":"IF(LEN(Z3603)>0,VLOOKUP(Z3603,'TFW Programs'!$A$2:$B$8,2,FALSE),\"\")","v":""},null,null,{"$f":"IF(LEN(A3603)>0,VLOOKUP(A3603,Subcontractors!$A$2:$B$4,2,FALSE),\"\")","v":""}]
[null,null,null,null,null,null,null,null,null,null,null,null,null,null,null,null,null,null,null,null,null,null,null,{"$f":"IF(LEN(Z3605)>0,VLOOKUP(Z3605,'TFW Programs'!$A$2:$B$8,2,FALSE),\"\")","v":""},null,null,{"$f":"IF(LEN(A3605)>0,VLOOKUP(A3605,Subcontractors!$A$2:$B$4,2,FALSE),\"\")","v":""}]
[null,null,null,null,null,null,null,null,null,null,null,null,null,null,null,null,null,null,null,null,null,null,null,{"$f":"IF(LEN(Z3608)>0,VLOOKUP(Z3608,'TFW Programs'!$A$2:$B$8,2,FALSE),\"\")","v":""},null,null,{"$f":"IF(LEN(A3608)>0,VLOOKUP(A3608,Subcontractors!$A$2:$B$4,2,FALSE),\"\")","v":""}]
[null,null,null,null,null,null,null,null,null,null,null,null,null,null,null,null,null,null,null,null,null,null,null,{"$f":"IF(LEN(Z3613)>0,VLOOKUP(Z3613,'TFW Programs'!$A$2:$B$8,2,FALSE),\"\")","v":""},null,null,{"$f":"IF(LEN(A3613)>0,VLOOKUP(A3613,Subcontractors!$A$2:$B$4,2,FALSE),\"\")","v":""}]
[null,null,null,null,null,null,null,null,null,null,null,null,null,null,null,null,null,null,null,null,null,null,null,{"$f":"IF(LEN(Z3618)>0,VLOOKUP(Z3618,'TFW Programs'!$A$2:$B$8,2,FALSE),\"\")","v":""},null,null,{"$f":"IF(LEN(A3618)>0,VLOOKUP(A3618,Subcontractors!$A$2:$B$4,2,FALSE),\"\")","v":""}]
[null,null,null,null,null,null,null,null,null,null,null,null,null,null,null,null,null,null,null,null,null,null,null,{"$f":"IF(LEN(Z3622)>0,VLOOKUP(Z3622,'TFW Programs'!$A$2:$B$8,2,FALSE),\"\")","v":""},null,null,{"$f":"IF(LEN(A3622)>0,VLOOKUP(A3622,Subcontractors!$A$2:$B$4,2,FALSE),\"\")","v":""}]
[null,null,null,null,null,null,null,null,null,null,null,null,null,null,null,null,null,null,null,null,null,null,null,{"$f":"IF(LEN(Z3623)>0,VLOOKUP(Z3623,'TFW Programs'!$A$2:$B$8,2,FALSE),\"\")","v":""},null,null,{"$f":"IF(LEN(A3623)>0,VLOOKUP(A3623,Subcontractors!$A$2:$B$4,2,FALSE),\"\")","v":""}]
[null,null,null,null,null,null,null,null,null,null,null,null,null,null,null,null,null,null,null,null,null,null,null,{"$f":"IF(LEN(Z3628)>0,VLOOKUP(Z3628,'TFW Programs'!$A$2:$B$8,2,FALSE),\"\")","v":""},null,null,{"$f":"IF(LEN(A3628)>0,VLOOKUP(A3628,Subcontractors!$A$2:$B$4,2,FALSE),\"\")","v":""}]
[null,null,null,null,null,null,null,null,null,null,null,null,null,null,null,null,null,null,null,null,null,null,null,{"$f":"IF(LEN(Z3633)>0,VLOOKUP(Z3633,'TFW Programs'!$A$2:$B$8,2,FALSE),\"\")","v":""},null,null,{"$f":"IF(LEN(A3633)>0,VLOOKUP(A3633,Subcontractors!$A$2:$B$4,2,FALSE),\"\")","v":""}]
[null,null,null,null,null,null,null,null,null,null,null,null,null,null,null,null,null,null,null,null,null,null,null,{"$f":"IF(LEN(Z3638)>0,VLOOKUP(Z3638,'TFW Programs'!$A$2:$B$8,2,FALSE),\"\")","v":""},null,null,{"$f":"IF(LEN(A3638)>0,VLOOKUP(A3638,Subcontractors!$A$2:$B$4,2,FALSE),\"\")","v":""}]
[null,null,null,null,null,null,null,null,null,null,null,null,null,null,null,null,null,null,null,null,null,null,null,{"$f":"IF(LEN(Z3639)>0,VLOOKUP(Z3639,'TFW Programs'!$A$2:$B$8,2,FALSE),\"\")","v":""},null,null,{"$f":"IF(LEN(A3639)>0,VLOOKUP(A3639,Subcontractors!$A$2:$B$4,2,FALSE),\"\")","v":""}]
[null,null,null,null,null,null,null,null,null,null,null,null,null,null,null,null,null,null,null,null,null,null,null,{"$f":"IF(LEN(Z3643)>0,VLOOKUP(Z3643,'TFW Programs'!$A$2:$B$8,2,FALSE),\"\")","v":""},null,null,{"$f":"IF(LEN(A3643)>0,VLOOKUP(A3643,Subcontractors!$A$2:$B$4,2,FALSE),\"\")","v":""}]
[null,null,null,null,null,null,null,null,null,null,null,null,null,null,null,null,null,null,null,null,null,null,null,{"$f":"IF(LEN(Z3648)>0,VLOOKUP(Z3648,'TFW Programs'!$A$2:$B$8,2,FALSE),\"\")","v":""},null,null,{"$f":"IF(LEN(A3648)>0,VLOOKUP(A3648,Subcontractors!$A$2:$B$4,2,FALSE),\"\")","v":""}]
[null,null,null,null,null,null,null,null,null,null,null,null,null,null,null,null,null,null,null,null,null,null,null,{"$f":"IF(LEN(Z3653)>0,VLOOKUP(Z3653,'TFW Programs'!$A$2:$B$8,2,FALSE),\"\")","v":""},null,null,{"$f":"IF(LEN(A3653)>0,VLOOKUP(A3653,Subcontractors!$A$2:$B$4,2,FALSE),\"\")","v":""}]
[null,null,null,null,null,null,null,null,null,null,null,null,null,null,null,null,null,null,null,null,null,null,null,{"$f":"IF(LEN(Z3656)>0,VLOOKUP(Z3656,'TFW Programs'!$A$2:$B$8,2,FALSE),\"\")","v":""},null,null,{"$f":"IF(LEN(A3656)>0,VLOOKUP(A3656,Subcontractors!$A$2:$B$4,2,FALSE),\"\")","v":""}]
[null,null,null,null,null,null,null,null,null,null,null,null,null,null,null,null,null,null,null,null,null,null,null,{"$f":"IF(LEN(Z3658)>0,VLOOKUP(Z3658,'TFW Programs'!$A$2:$B$8,2,FALSE),\"\")","v":""},null,null,{"$f":"IF(LEN(A3658)>0,VLOOKUP(A3658,Subcontractors!$A$2:$B$4,2,FALSE),\"\")","v":""}]
[null,null,null,null,null,null,null,null,null,null,null,null,null,null,null,null,null,null,null,null,null,null,null,{"$f":"IF(LEN(Z3663)>0,VLOOKUP(Z3663,'TFW Programs'!$A$2:$B$8,2,FALSE),\"\")","v":""},null,null,{"$f":"IF(LEN(A3663)>0,VLOOKUP(A3663,Subcontractors!$A$2:$B$4,2,FALSE),\"\")","v":""}]
[null,null,null,null,null,null,null,null,null,null,null,null,null,null,null,null,null,null,null,null,null,null,null,{"$f":"IF(LEN(Z3668)>0,VLOOKUP(Z3668,'TFW Programs'!$A$2:$B$8,2,FALSE),\"\")","v":""},null,null,{"$f":"IF(LEN(A3668)>0,VLOOKUP(A3668,Subcontractors!$A$2:$B$4,2,FALSE),\"\")","v":""}]
[null,null,null,null,null,null,null,null,null,null,null,null,null,null,null,null,null,null,null,null,null,null,null,{"$f":"IF(LEN(Z3670)>0,VLOOKUP(Z3670,'TFW Programs'!$A$2:$B$8,2,FALSE),\"\")","v":""},null,null,{"$f":"IF(LEN(A3670)>0,VLOOKUP(A3670,Subcontractors!$A$2:$B$4,2,FALSE),\"\")","v":""}]
[null,null,null,null,null,null,null,null,null,null,null,null,null,null,null,null,null,null,null,null,null,null,null,{"$f":"IF(LEN(Z3673)>0,VLOOKUP(Z3673,'TFW Programs'!$A$2:$B$8,2,FALSE),\"\")","v":""},null,null,{"$f":"IF(LEN(A3673)>0,VLOOKUP(A3673,Subcontractors!$A$2:$B$4,2,FALSE),\"\")","v":""}]
[null,null,null,null,null,null,null,null,null,null,null,null,null,null,null,null,null,null,null,null,null,null,null,{"$f":"IF(LEN(Z3678)>0,VLOOKUP(Z3678,'TFW Programs'!$A$2:$B$8,2,FALSE),\"\")","v":""},null,null,{"$f":"IF(LEN(A3678)>0,VLOOKUP(A3678,Subcontractors!$A$2:$B$4,2,FALSE),\"\")","v":""}]
[null,null,null,null,null,null,null,null,null,null,null,null,null,null,null,null,null,null,null,null,null,null,null,{"$f":"IF(LEN(Z3683)>0,VLOOKUP(Z3683,'TFW Programs'!$A$2:$B$8,2,FALSE),\"\")","v":""},null,null,{"$f":"IF(LEN(A3683)>0,VLOOKUP(A3683,Subcontractors!$A$2:$B$4,2,FALSE),\"\")","v":""}]
[null,null,null,null,null,null,null,null,null,null,null,null,null,null,null,null,null,null,null,null,null,null,null,{"$f":"IF(LEN(Z3684)>0,VLOOKUP(Z3684,'TFW Programs'!$A$2:$B$8,2,FALSE),\"\")","v":""},null,null,{"$f":"IF(LEN(A3684)>0,VLOOKUP(A3684,Subcontractors!$A$2:$B$4,2,FALSE),\"\")","v":""}]
[null,null,null,null,null,null,null,null,null,null,null,null,null,null,null,null,null,null,null,null,null,null,null,{"$f":"IF(LEN(Z3690)>0,VLOOKUP(Z3690,'TFW Programs'!$A$2:$B$8,2,FALSE),\"\")","v":""},null,null,{"$f":"IF(LEN(A3690)>0,VLOOKUP(A3690,Subcontractors!$A$2:$B$4,2,FALSE),\"\")","v":""}]
[null,null,null,null,null,null,null,null,null,null,null,null,null,null,null,null,null,null,null,null,null,null,null,{"$f":"IF(LEN(Z3693)>0,VLOOKUP(Z3693,'TFW Programs'!$A$2:$B$8,2,FALSE),\"\")","v":""},null,null,{"$f":"IF(LEN(A3693)>0,VLOOKUP(A3693,Subcontractors!$A$2:$B$4,2,FALSE),\"\")","v":""}]
[null,null,null,null,null,null,null,null,null,null,null,null,null,null,null,null,null,null,null,null,null,null,null,{"$f":"IF(LEN(Z3698)>0,VLOOKUP(Z3698,'TFW Programs'!$A$2:$B$8,2,FALSE),\"\")","v":""},null,null,{"$f":"IF(LEN(A3698)>0,VLOOKUP(A3698,Subcontractors!$A$2:$B$4,2,FALSE),\"\")","v":""}]
[null,null,null,null,null,null,null,null,null,null,null,null,null,null,null,null,null,null,null,null,null,null,null,{"$f":"IF(LEN(Z3699)>0,VLOOKUP(Z3699,'TFW Programs'!$A$2:$B$8,2,FALSE),\"\")","v":""},null,null,{"$f":"IF(LEN(A3699)>0,VLOOKUP(A3699,Subcontractors!$A$2:$B$4,2,FALSE),\"\")","v":""}]
[null,null,null,null,null,null,null,null,null,null,null,null,null,null,null,null,null,null,null,null,null,null,null,{"$f":"IF(LEN(Z3704)>0,VLOOKUP(Z3704,'TFW Programs'!$A$2:$B$8,2,FALSE),\"\")","v":""},null,null,{"$f":"IF(LEN(A3704)>0,VLOOKUP(A3704,Subcontractors!$A$2:$B$4,2,FALSE),\"\")","v":""}]
[null,null,null,null,null,null,null,null,null,null,null,null,null,null,null,null,null,null,null,null,null,null,null,{"$f":"IF(LEN(Z3708)>0,VLOOKUP(Z3708,'TFW Programs'!$A$2:$B$8,2,FALSE),\"\")","v":""},null,null,{"$f":"IF(LEN(A3708)>0,VLOOKUP(A3708,Subcontractors!$A$2:$B$4,2,FALSE),\"\")","v":""}]
[null,null,null,null,null,null,null,null,null,null,null,null,null,null,null,null,null,null,null,null,null,null,null,{"$f":"IF(LEN(Z3713)>0,VLOOKUP(Z3713,'TFW Programs'!$A$2:$B$8,2,FALSE),\"\")","v":""},null,null,{"$f":"IF(LEN(A3713)>0,VLOOKUP(A3713,Subcontractors!$A$2:$B$4,2,FALSE),\"\")","v":""}]
[null,null,null,null,null,null,null,null,null,null,null,null,null,null,null,null,null,null,null,null,null,null,null,{"$f":"IF(LEN(Z3714)>0,VLOOKUP(Z3714,'TFW Programs'!$A$2:$B$8,2,FALSE),\"\")","v":""},null,null,{"$f":"IF(LEN(A3714)>0,VLOOKUP(A3714,Subcontractors!$A$2:$B$4,2,FALSE),\"\")","v":""}]
[null,null,null,null,null,null,null,null,null,null,null,null,null,null,null,null,null,null,null,null,null,null,null,{"$f":"IF(LEN(Z3719)>0,VLOOKUP(Z3719,'TFW Programs'!$A$2:$B$8,2,FALSE),\"\")","v":""},null,null,{"$f":"IF(LEN(A3719)>0,VLOOKUP(A3719,Subcontractors!$A$2:$B$4,2,FALSE),\"\")","v":""}]
[null,null,null,null,null,null,null,null,null,null,null,null,null,null,null,null,null,null,null,null,null,null,null,{"$f":"IF(LEN(Z3722)>0,VLOOKUP(Z3722,'TFW Programs'!$A$2:$B$8,2,FALSE),\"\")","v":""},null,null,{"$f":"IF(LEN(A3722)>0,VLOOKUP(A3722,Subcontractors!$A$2:$B$4,2,FALSE),\"\")","v":""}]
[null,null,null,null,null,null,null,null,null,null,null,null,null,null,null,null,null,null,null,null,null,null,null,{"$f":"IF(LEN(Z3728)>0,VLOOKUP(Z3728,'TFW Programs'!$A$2:$B$8,2,FALSE),\"\")","v":""},null,null,{"$f":"IF(LEN(A3728)>0,VLOOKUP(A3728,Subcontractors!$A$2:$B$4,2,FALSE),\"\")","v":""}]
[null,null,null,null,null,null,null,null,null,null,null,null,null,null,null,null,null,null,null,null,null,null,null,{"$f":"IF(LEN(Z3729)>0,VLOOKUP(Z3729,'TFW Programs'!$A$2:$B$8,2,FALSE),\"\")","v":""},null,null,{"$f":"IF(LEN(A3729)>0,VLOOKUP(A3729,Subcontractors!$A$2:$B$4,2,FALSE),\"\")","v":""}]
[null,null,null,null,null,null,null,null,null,null,null,null,null,null,null,null,null,null,null,null,null,null,null,{"$f":"IF(LEN(Z3734)>0,VLOOKUP(Z3734,'TFW Programs'!$A$2:$B$8,2,FALSE),\"\")","v":""},null,null,{"$f":"IF(LEN(A3734)>0,VLOOKUP(A3734,Subcontractors!$A$2:$B$4,2,FALSE),\"\")","v":""}]
[null,null,null,null,null,null,null,null,null,null,null,null,null,null,null,null,null,null,null,null,null,null,null,{"$f":"IF(LEN(Z3738)>0,VLOOKUP(Z3738,'TFW Programs'!$A$2:$B$8,2,FALSE),\"\")","v":""},null,null,{"$f":"IF(LEN(A3738)>0,VLOOKUP(A3738,Subcontractors!$A$2:$B$4,2,FALSE),\"\")","v":""}]
[null,null,null,null,null,null,null,null,null,null,null,null,null,null,null,null,null,null,null,null,null,null,null,{"$f":"IF(LEN(Z3743)>0,VLOOKUP(Z3743,'TFW Programs'!$A$2:$B$8,2,FALSE),\"\")","v":""},null,null,{"$f":"IF(LEN(A3743)>0,VLOOKUP(A3743,Subcontractors!$A$2:$B$4,2,FALSE),\"\")","v":""}]
[null,null,null,null,null,null,null,null,null,null,null,null,null,null,null,null,null,null,null,null,null,null,null,{"$f":"IF(LEN(Z3744)>0,VLOOKUP(Z3744,'TFW Programs'!$A$2:$B$8,2,FALSE),\"\")","v":""},null,null,{"$f":"IF(LEN(A3744)>0,VLOOKUP(A3744,Subcontractors!$A$2:$B$4,2,FALSE),\"\")","v":""}]
[null,null,null,null,null,null,null,null,null,null,null,null,null,null,null,null,null,null,null,null,null,null,null,{"$f":"IF(LEN(Z3749)>0,VLOOKUP(Z3749,'TFW Programs'!$A$2:$B$8,2,FALSE),\"\")","v":""},null,null,{"$f":"IF(LEN(A3749)>0,VLOOKUP(A3749,Subcontractors!$A$2:$B$4,2,FALSE),\"\")","v":""}]
[null,null,null,null,null,null,null,null,null,null,null,null,null,null,null,null,null,null,null,null,null,null,null,{"$f":"IF(LEN(Z3754)>0,VLOOKUP(Z3754,'TFW Programs'!$A$2:$B$8,2,FALSE),\"\")","v":""},null,null,{"$f":"IF(LEN(A3754)>0,VLOOKUP(A3754,Subcontractors!$A$2:$B$4,2,FALSE),\"\")","v":""}]
[null,null,null,null,null,null,null,null,null,null,null,null,null,null,null,null,null,null,null,null,null,null,null,{"$f":"IF(LEN(Z3756)>0,VLOOKUP(Z3756,'TFW Programs'!$A$2:$B$8,2,FALSE),\"\")","v":""},null,null,{"$f":"IF(LEN(A3756)>0,VLOOKUP(A3756,Subcontractors!$A$2:$B$4,2,FALSE),\"\")","v":""}]
[null,null,null,null,null,null,null,null,null,null,null,null,null,null,null,null,null,null,null,null,null,null,null,{"$f":"IF(LEN(Z3759)>0,VLOOKUP(Z3759,'TFW Programs'!$A$2:$B$8,2,FALSE),\"\")","v":""},null,null,{"$f":"IF(LEN(A3759)>0,VLOOKUP(A3759,Subcontractors!$A$2:$B$4,2,FALSE),\"\")","v":""}]
[null,null,null,null,null,null,null,null,null,null,null,null,null,null,null,null,null,null,null,null,null,null,null,{"$f":"IF(LEN(Z3764)>0,VLOOKUP(Z3764,'TFW Programs'!$A$2:$B$8,2,FALSE),\"\")","v":""},null,null,{"$f":"IF(LEN(A3764)>0,VLOOKUP(A3764,Subcontractors!$A$2:$B$4,2,FALSE),\"\")","v":""}]
[null,null,null,null,null,null,null,null,null,null,null,null,null,null,null,null,null,null,null,null,null,null,null,{"$f":"IF(LEN(Z3769)>0,VLOOKUP(Z3769,'TFW Programs'!$A$2:$B$8,2,FALSE),\"\")","v":""},null,null,{"$f":"IF(LEN(A3769)>0,VLOOKUP(A3769,Subcontractors!$A$2:$B$4,2,FALSE),\"\")","v":""}]
[null,null,null,null,null,null,null,null,null,null,null,null,null,null,null,null,null,null,null,null,null,null,null,{"$f":"IF(LEN(Z3773)>0,VLOOKUP(Z3773,'TFW Programs'!$A$2:$B$8,2,FALSE),\"\")","v":""},null,null,{"$f":"IF(LEN(A3773)>0,VLOOKUP(A3773,Subcontractors!$A$2:$B$4,2,FALSE),\"\")","v":""}]
[null,null,null,null,null,null,null,null,null,null,null,null,null,null,null,null,null,null,null,null,null,null,null,{"$f":"IF(LEN(Z3774)>0,VLOOKUP(Z3774,'TFW Programs'!$A$2:$B$8,2,FALSE),\"\")","v":""},null,null,{"$f":"IF(LEN(A3774)>0,VLOOKUP(A3774,Subcontractors!$A$2:$B$4,2,FALSE),\"\")","v":""}]
[null,null,null,null,null,null,null,null,null,null,null,null,null,null,null,null,null,null,null,null,null,null,null,{"$f":"IF(LEN(Z3779)>0,VLOOKUP(Z3779,'TFW Programs'!$A$2:$B$8,2,FALSE),\"\")","v":""},null,null,{"$f":"IF(LEN(A3779)>0,VLOOKUP(A3779,Subcontractors!$A$2:$B$4,2,FALSE),\"\")","v":""}]
[null,null,null,null,null,null,null,null,null,null,null,null,null,null,null,null,null,null,null,null,null,null,null,{"$f":"IF(LEN(Z3784)>0,VLOOKUP(Z3784,'TFW Programs'!$A$2:$B$8,2,FALSE),\"\")","v":""},null,null,{"$f":"IF(LEN(A3784)>0,VLOOKUP(A3784,Subcontractors!$A$2:$B$4,2,FALSE),\"\")","v":""}]
[null,null,null,null,null,null,null,null,null,null,null,null,null,null,null,null,null,null,null,null,null,null,null,{"$f":"IF(LEN(Z3786)>0,VLOOKUP(Z3786,'TFW Programs'!$A$2:$B$8,2,FALSE),\"\")","v":""},null,null,{"$f":"IF(LEN(A3786)>0,VLOOKUP(A3786,Subcontractors!$A$2:$B$4,2,FALSE),\"\")","v":""}]
[null,null,null,null,null,null,null,null,null,null,null,null,null,null,null,null,null,null,null,null,null,null,null,{"$f":"IF(LEN(Z3789)>0,VLOOKUP(Z3789,'TFW Programs'!$A$2:$B$8,2,FALSE),\"\")","v":""},null,null,{"$f":"IF(LEN(A3789)>0,VLOOKUP(A3789,Subcontractors!$A$2:$B$4,2,FALSE),\"\")","v":""}]
[null,null,null,null,null,null,null,null,null,null,null,null,null,null,null,null,null,null,null,null,null,null,null,{"$f":"IF(LEN(Z3794)>0,VLOOKUP(Z3794,'TFW Programs'!$A$2:$B$8,2,FALSE),\"\")","v":""},null,null,{"$f":"IF(LEN(A3794)>0,VLOOKUP(A3794,Subcontractors!$A$2:$B$4,2,FALSE),\"\")","v":""}]
[null,null,null,null,null,null,null,null,null,null,null,null,null,null,null,null,null,null,null,null,null,null,null,{"$f":"IF(LEN(Z3799)>0,VLOOKUP(Z3799,'TFW Programs'!$A$2:$B$8,2,FALSE),\"\")","v":""},null,null,{"$f":"IF(LEN(A3799)>0,VLOOKUP(A3799,Subcontractors!$A$2:$B$4,2,FALSE),\"\")","v":""}]
[null,null,null,null,null,null,null,null,null,null,null,null,null,null,null,null,null,null,null,null,null,null,null,{"$f":"IF(LEN(Z3804)>0,VLOOKUP(Z3804,'TFW Programs'!$A$2:$B$8,2,FALSE),\"\")","v":""},null,null,{"$f":"IF(LEN(A3804)>0,VLOOKUP(A3804,Subcontractors!$A$2:$B$4,2,FALSE),\"\")","v":""}]
[null,null,null,null,null,null,null,null,null,null,null,null,null,null,null,null,null,null,null,null,null,null,null,{"$f":"IF(LEN(Z3807)>0,VLOOKUP(Z3807,'TFW Programs'!$A$2:$B$8,2,FALSE),\"\")","v":""},null,null,{"$f":"IF(LEN(A3807)>0,VLOOKUP(A3807,Subcontractors!$A$2:$B$4,2,FALSE),\"\")","v":""}]
[null,null,null,null,null,null,null,null,null,null,null,null,null,null,null,null,null,null,null,null,null,null,null,{"$f":"IF(LEN(Z3809)>0,VLOOKUP(Z3809,'TFW Programs'!$A$2:$B$8,2,FALSE),\"\")","v":""},null,null,{"$f":"IF(LEN(A3809)>0,VLOOKUP(A3809,Subcontractors!$A$2:$B$4,2,FALSE),\"\")","v":""}]
[null,null,null,null,null,null,null,null,null,null,null,null,null,null,null,null,null,null,null,null,null,null,null,{"$f":"IF(LEN(Z3814)>0,VLOOKUP(Z3814,'TFW Programs'!$A$2:$B$8,2,FALSE),\"\")","v":""},null,null,{"$f":"IF(LEN(A3814)>0,VLOOKUP(A3814,Subcontractors!$A$2:$B$4,2,FALSE),\"\")","v":""}]
[null,null,null,null,null,null,null,null,null,null,null,null,null,null,null,null,null,null,null,null,null,null,null,{"$f":"IF(LEN(Z3819)>0,VLOOKUP(Z3819,'TFW Programs'!$A$2:$B$8,2,FALSE),\"\")","v":""},null,null,{"$f":"IF(LEN(A3819)>0,VLOOKUP(A3819,Subcontractors!$A$2:$B$4,2,FALSE),\"\")","v":""}]
[null,null,null,null,null,null,null,null,null,null,null,null,null,null,null,null,null,null,null,null,null,null,null,{"$f":"IF(LEN(Z3821)>0,VLOOKUP(Z3821,'TFW Programs'!$A$2:$B$8,2,FALSE),\"\")","v":""},null,null,{"$f":"IF(LEN(A3821)>0,VLOOKUP(A3821,Subcontractors!$A$2:$B$4,2,FALSE),\"\")","v":""}]
[null,null,null,null,null,null,null,null,null,null,null,null,null,null,null,null,null,null,null,null,null,null,null,{"$f":"IF(LEN(Z3824)>0,VLOOKUP(Z3824,'TFW Programs'!$A$2:$B$8,2,FALSE),\"\")","v":""},null,null,{"$f":"IF(LEN(A3824)>0,VLOOKUP(A3824,Subcontractors!$A$2:$B$4,2,FALSE),\"\")","v":""}]
[null,null,null,null,null,null,null,null,null,null,null,null,null,null,null,null,null,null,null,null,null,null,null,{"$f":"IF(LEN(Z3829)>0,VLOOKUP(Z3829,'TFW Programs'!$A$2:$B$8,2,FALSE),\"\")","v":""},null,null,{"$f":"IF(LEN(A3829)>0,VLOOKUP(A3829,Subcontractors!$A$2:$B$4,2,FALSE),\"\")","v":""}]
[null,null,null,null,null,null,null,null,null,null,null,null,null,null,null,null,null,null,null,null,null,null,null,{"$f":"IF(LEN(Z3834)>0,VLOOKUP(Z3834,'TFW Programs'!$A$2:$B$8,2,FALSE),\"\")","v":""},null,null,{"$f":"IF(LEN(A3834)>0,VLOOKUP(A3834,Subcontractors!$A$2:$B$4,2,FALSE),\"\")","v":""}]
[null,null,null,null,null,null,null,null,null,null,null,null,null,null,null,null,null,null,null,null,null,null,null,{"$f":"IF(LEN(Z3835)>0,VLOOKUP(Z3835,'TFW Programs'!$A$2:$B$8,2,FALSE),\"\")","v":""},null,null,{"$f":"IF(LEN(A3835)>0,VLOOKUP(A3835,Subcontractors!$A$2:$B$4,2,FALSE),\"\")","v":""}]
[null,null,null,null,null,null,null,null,null,null,null,null,null,null,null,null,null,null,null,null,null,null,null,{"$f":"IF(LEN(Z3839)>0,VLOOKUP(Z3839,'TFW Programs'!$A$2:$B$8,2,FALSE),\"\")","v":""},null,null,{"$f":"IF(LEN(A3839)>0,VLOOKUP(A3839,Subcontractors!$A$2:$B$4,2,FALSE),\"\")","v":""}]
[null,null,null,null,null,null,null,null,null,null,null,null,null,null,null,null,null,null,null,null,null,null,null,{"$f":"IF(LEN(Z3844)>0,VLOOKUP(Z3844,'TFW Programs'!$A$2:$B$8,2,FALSE),\"\")","v":""},null,null,{"$f":"IF(LEN(A3844)>0,VLOOKUP(A3844,Subcontractors!$A$2:$B$4,2,FALSE),\"\")","v":""}]
[null,null,null,null,null,null,null,null,null,null,null,null,null,null,null,null,null,null,null,null,null,null,null,{"$f":"IF(LEN(Z3849)>0,VLOOKUP(Z3849,'TFW Programs'!$A$2:$B$8,2,FALSE),\"\")","v":""},null,null,{"$f":"IF(LEN(A3849)>0,VLOOKUP(A3849,Subcontractors!$A$2:$B$4,2,FALSE),\"\")","v":""}]
[null,null,null,null,null,null,null,null,null,null,null,null,null,null,null,null,null,null,null,null,null,null,null,{"$f":"IF(LEN(Z3850)>0,VLOOKUP(Z3850,'TFW Programs'!$A$2:$B$8,2,FALSE),\"\")","v":""},null,null,{"$f":"IF(LEN(A3850)>0,VLOOKUP(A3850,Subcontractors!$A$2:$B$4,2,FALSE),\"\")","v":""}]
[null,null,null,null,null,null,null,null,null,null,null,null,null,null,null,null,null,null,null,null,null,null,null,{"$f":"IF(LEN(Z3855)>0,VLOOKUP(Z3855,'TFW Programs'!$A$2:$B$8,2,FALSE),\"\")","v":""},null,null,{"$f":"IF(LEN(A3855)>0,VLOOKUP(A3855,Subcontractors!$A$2:$B$4,2,FALSE),\"\")","v":""}]
[null,null,null,null,null,null,null,null,null,null,null,null,null,null,null,null,null,null,null,null,null,null,null,{"$f":"IF(LEN(Z3859)>0,VLOOKUP(Z3859,'TFW Programs'!$A$2:$B$8,2,FALSE),\"\")","v":""},null,null,{"$f":"IF(LEN(A3859)>0,VLOOKUP(A3859,Subcontractors!$A$2:$B$4,2,FALSE),\"\")","v":""}]
[null,null,null,null,null,null,null,null,null,null,null,null,null,null,null,null,null,null,null,null,null,null,null,{"$f":"IF(LEN(Z3864)>0,VLOOKUP(Z3864,'TFW Programs'!$A$2:$B$8,2,FALSE),\"\")","v":""},null,null,{"$f":"IF(LEN(A3864)>0,VLOOKUP(A3864,Subcontractors!$A$2:$B$4,2,FALSE),\"\")","v":""}]
[null,null,null,null,null,null,null,null,null,null,null,null,null,null,null,null,null,null,null,null,null,null,null,{"$f":"IF(LEN(Z3865)>0,VLOOKUP(Z3865,'TFW Programs'!$A$2:$B$8,2,FALSE),\"\")","v":""},null,null,{"$f":"IF(LEN(A3865)>0,VLOOKUP(A3865,Subcontractors!$A$2:$B$4,2,FALSE),\"\")","v":""}]
[null,null,null,null,null,null,null,null,null,null,null,null,null,null,null,null,null,null,null,null,null,null,null,{"$f":"IF(LEN(Z3870)>0,VLOOKUP(Z3870,'TFW Programs'!$A$2:$B$8,2,FALSE),\"\")","v":""},null,null,{"$f":"IF(LEN(A3870)>0,VLOOKUP(A3870,Subcontractors!$A$2:$B$4,2,FALSE),\"\")","v":""}]
[null,null,null,null,null,null,null,null,null,null,null,null,null,null,null,null,null,null,null,null,null,null,null,{"$f":"IF(LEN(Z3873)>0,VLOOKUP(Z3873,'TFW Programs'!$A$2:$B$8,2,FALSE),\"\")","v":""},null,null,{"$f":"IF(LEN(A3873)>0,VLOOKUP(A3873,Subcontractors!$A$2:$B$4,2,FALSE),\"\")","v":""}]
[null,null,null,null,null,null,null,null,null,null,null,null,null,null,null,null,null,null,null,null,null,null,null,{"$f":"IF(LEN(Z3879)>0,VLOOKUP(Z3879,'TFW Programs'!$A$2:$B$8,2,FALSE),\"\")","v":""},null,null,{"$f":"IF(LEN(A3879)>0,VLOOKUP(A3879,Subcontractors!$A$2:$B$4,2,FALSE),\"\")","v":""}]
[null,null,null,null,null,null,null,null,null,null,null,null,null,null,null,null,null,null,null,null,null,null,null,{"$f":"IF(LEN(Z3880)>0,VLOOKUP(Z3880,'TFW Programs'!$A$2:$B$8,2,FALSE),\"\")","v":""},null,null,{"$f":"IF(LEN(A3880)>0,VLOOKUP(A3880,Subcontractors!$A$2:$B$4,2,FALSE),\"\")","v":""}]
[null,null,null,null,null,null,null,null,null,null,null,null,null,null,null,null,null,null,null,null,null,null,null,{"$f":"IF(LEN(Z3885)>0,VLOOKUP(Z3885,'TFW Programs'!$A$2:$B$8,2,FALSE),\"\")","v":""},null,null,{"$f":"IF(LEN(A3885)>0,VLOOKUP(A3885,Subcontractors!$A$2:$B$4,2,FALSE),\"\")","v":""}]
[null,null,null,null,null,null,null,null,null,null,null,null,null,null,null,null,null,null,null,null,null,null,null,{"$f":"IF(LEN(Z3890)>0,VLOOKUP(Z3890,'TFW Programs'!$A$2:$B$8,2,FALSE),\"\")","v":""},null,null,{"$f":"IF(LEN(A3890)>0,VLOOKUP(A3890,Subcontractors!$A$2:$B$4,2,FALSE),\"\")","v":""}]
[null,null,null,null,null,null,null,null,null,null,null,null,null,null,null,null,null,null,null,null,null,null,null,{"$f":"IF(LEN(Z3894)>0,VLOOKUP(Z3894,'TFW Programs'!$A$2:$B$8,2,FALSE),\"\")","v":""},null,null,{"$f":"IF(LEN(A3894)>0,VLOOKUP(A3894,Subcontractors!$A$2:$B$4,2,FALSE),\"\")","v":""}]
[null,null,null,null,null,null,null,null,null,null,null,null,null,null,null,null,null,null,null,null,null,null,null,{"$f":"IF(LEN(Z3895)>0,VLOOKUP(Z3895,'TFW Programs'!$A$2:$B$8,2,FALSE),\"\")","v":""},null,null,{"$f":"IF(LEN(A3895)>0,VLOOKUP(A3895,Subcontractors!$A$2:$B$4,2,FALSE),\"\")","v":""}]
[null,null,null,null,null,null,null,null,null,null,null,null,null,null,null,null,null,null,null,null,null,null,null,{"$f":"IF(LEN(Z3900)>0,VLOOKUP(Z3900,'TFW Programs'!$A$2:$B$8,2,FALSE),\"\")","v":""},null,null,{"$f":"IF(LEN(A3900)>0,VLOOKUP(A3900,Subcontractors!$A$2:$B$4,2,FALSE),\"\")","v":""}]
[null,null,null,null,null,null,null,null,null,null,null,null,null,null,null,null,null,null,null,null,null,null,null,{"$f":"IF(LEN(Z3903)>0,VLOOKUP(Z3903,'TFW Programs'!$A$2:$B$8,2,FALSE),\"\")","v":""},null,null,{"$f":"IF(LEN(A3903)>0,VLOOKUP(A3903,Subcontractors!$A$2:$B$4,2,FALSE),\"\")","v":""}]
[null,null,null,null,null,null,null,null,null,null,null,null,null,null,null,null,null,null,null,null,null,null,null,{"$f":"IF(LEN(Z3909)>0,VLOOKUP(Z3909,'TFW Programs'!$A$2:$B$8,2,FALSE),\"\")","v":""},null,null,{"$f":"IF(LEN(A3909)>0,VLOOKUP(A3909,Subcontractors!$A$2:$B$4,2,FALSE),\"\")","v":""}]
[null,null,null,null,null,null,null,null,null,null,null,null,null,null,null,null,null,null,null,null,null,null,null,{"$f":"IF(LEN(Z3910)>0,VLOOKUP(Z3910,'TFW Programs'!$A$2:$B$8,2,FALSE),\"\")","v":""},null,null,{"$f":"IF(LEN(A3910)>0,VLOOKUP(A3910,Subcontractors!$A$2:$B$4,2,FALSE),\"\")","v":""}]
[null,null,null,null,null,null,null,null,null,null,null,null,null,null,null,null,null,null,null,null,null,null,null,{"$f":"IF(LEN(Z3915)>0,VLOOKUP(Z3915,'TFW Programs'!$A$2:$B$8,2,FALSE),\"\")","v":""},null,null,{"$f":"IF(LEN(A3915)>0,VLOOKUP(A3915,Subcontractors!$A$2:$B$4,2,FALSE),\"\")","v":""}]
[null,null,null,null,null,null,null,null,null,null,null,null,null,null,null,null,null,null,null,null,null,null,null,{"$f":"IF(LEN(Z3920)>0,VLOOKUP(Z3920,'TFW Programs'!$A$2:$B$8,2,FALSE),\"\")","v":""},null,null,{"$f":"IF(LEN(A3920)>0,VLOOKUP(A3920,Subcontractors!$A$2:$B$4,2,FALSE),\"\")","v":""}]
[null,null,null,null,null,null,null,null,null,null,null,null,null,null,null,null,null,null,null,null,null,null,null,{"$f":"IF(LEN(Z3924)>0,VLOOKUP(Z3924,'TFW Programs'!$A$2:$B$8,2,FALSE),\"\")","v":""},null,null,{"$f":"IF(LEN(A3924)>0,VLOOKUP(A3924,Subcontractors!$A$2:$B$4,2,FALSE),\"\")","v":""}]
[null,null,null,null,null,null,null,null,null,null,null,null,null,null,null,null,null,null,null,null,null,null,null,{"$f":"IF(LEN(Z3925)>0,VLOOKUP(Z3925,'TFW Programs'!$A$2:$B$8,2,FALSE),\"\")","v":""},null,null,{"$f":"IF(LEN(A3925)>0,VLOOKUP(A3925,Subcontractors!$A$2:$B$4,2,FALSE),\"\")","v":""}]
[null,null,null,null,null,null,null,null,null,null,null,null,null,null,null,null,null,null,null,null,null,null,null,{"$f":"IF(LEN(Z3930)>0,VLOOKUP(Z3930,'TFW Programs'!$A$2:$B$8,2,FALSE),\"\")","v":""},null,null,{"$f":"IF(LEN(A3930)>0,VLOOKUP(A3930,Subcontractors!$A$2:$B$4,2,FALSE),\"\")","v":""}]
[null,null,null,null,null,null,null,null,null,null,null,null,null,null,null,null,null,null,null,null,null,null,null,{"$f":"IF(LEN(Z3935)>0,VLOOKUP(Z3935,'TFW Programs'!$A$2:$B$8,2,FALSE),\"\")","v":""},null,null,{"$f":"IF(LEN(A3935)>0,VLOOKUP(A3935,Subcontractors!$A$2:$B$4,2,FALSE),\"\")","v":""}]
[null,null,null,null,null,null,null,null,null,null,null,null,null,null,null,null,null,null,null,null,null,null,null,{"$f":"IF(LEN(Z3938)>0,VLOOKUP(Z3938,'TFW Programs'!$A$2:$B$8,2,FALSE),\"\")","v":""},null,null,{"$f":"IF(LEN(A3938)>0,VLOOKUP(A3938,Subcontractors!$A$2:$B$4,2,FALSE),\"\")","v":""}]
[null,null,null,null,null,null,null,null,null,null,null,null,null,null,null,null,null,null,null,null,null,null,null,{"$f":"IF(LEN(Z3940)>0,VLOOKUP(Z3940,'TFW Programs'!$A$2:$B$8,2,FALSE),\"\")","v":""},null,null,{"$f":"IF(LEN(A3940)>0,VLOOKUP(A3940,Subcontractors!$A$2:$B$4,2,FALSE),\"\")","v":""}]
[null,null,null,null,null,null,null,null,null,null,null,null,null,null,null,null,null,null,null,null,null,null,null,{"$f":"IF(LEN(Z3945)>0,VLOOKUP(Z3945,'TFW Programs'!$A$2:$B$8,2,FALSE),\"\")","v":""},null,null,{"$f":"IF(LEN(A3945)>0,VLOOKUP(A3945,Subcontractors!$A$2:$B$4,2,FALSE),\"\")","v":""}]
[null,null,null,null,null,null,null,null,null,null,null,null,null,null,null,null,null,null,null,null,null,null,null,{"$f":"IF(LEN(Z3950)>0,VLOOKUP(Z3950,'TFW Programs'!$A$2:$B$8,2,FALSE),\"\")","v":""},null,null,{"$f":"IF(LEN(A3950)>0,VLOOKUP(A3950,Subcontractors!$A$2:$B$4,2,FALSE),\"\")","v":""}]
[null,null,null,null,null,null,null,null,null,null,null,null,null,null,null,null,null,null,null,null,null,null,null,{"$f":"IF(LEN(Z3955)>0,VLOOKUP(Z3955,'TFW Programs'!$A$2:$B$8,2,FALSE),\"\")","v":""},null,null,{"$f":"IF(LEN(A3955)>0,VLOOKUP(A3955,Subcontractors!$A$2:$B$4,2,FALSE),\"\")","v":""}]
[null,null,null,null,null,null,null,null,null,null,null,null,null,null,null,null,null,null,null,null,null,null,null,{"$f":"IF(LEN(Z3956)>0,VLOOKUP(Z3956,'TFW Programs'!$A$2:$B$8,2,FALSE),\"\")","v":""},null,null,{"$f":"IF(LEN(A3956)>0,VLOOKUP(A3956,Subcontractors!$A$2:$B$4,2,FALSE),\"\")","v":""}]
[null,null,null,null,null,null,null,null,null,null,null,null,null,null,null,null,null,null,null,null,null,null,null,{"$f":"IF(LEN(Z3960)>0,VLOOKUP(Z3960,'TFW Programs'!$A$2:$B$8,2,FALSE),\"\")","v":""},null,null,{"$f":"IF(LEN(A3960)>0,VLOOKUP(A3960,Subcontractors!$A$2:$B$4,2,FALSE),\"\")","v":""}]
[null,null,null,null,null,null,null,null,null,null,null,null,null,null,null,null,null,null,null,null,null,null,null,{"$f":"IF(LEN(Z3965)>0,VLOOKUP(Z3965,'TFW Programs'!$A$2:$B$8,2,FALSE),\"\")","v":""},null,null,{"$f":"IF(LEN(A3965)>0,VLOOKUP(A3965,Subcontractors!$A$2:$B$4,2,FALSE),\"\")","v":""}]
[null,null,null,null,null,null,null,null,null,null,null,null,null,null,null,null,null,null,null,null,null,null,null,{"$f":"IF(LEN(Z3970)>0,VLOOKUP(Z3970,'TFW Programs'!$A$2:$B$8,2,FALSE),\"\")","v":""},null,null,{"$f":"IF(LEN(A3970)>0,VLOOKUP(A3970,Subcontractors!$A$2:$B$4,2,FALSE),\"\")","v":""}]
[null,null,null,null,null,null,null,null,null,null,null,null,null,null,null,null,null,null,null,null,null,null,null,{"$f":"IF(LEN(Z3972)>0,VLOOKUP(Z3972,'TFW Programs'!$A$2:$B$8,2,FALSE),\"\")","v":""},null,null,{"$f":"IF(LEN(A3972)>0,VLOOKUP(A3972,Subcontractors!$A$2:$B$4,2,FALSE),\"\")","v":""}]
[null,null,null,null,null,null,null,null,null,null,null,null,null,null,null,null,null,null,null,null,null,null,null,{"$f":"IF(LEN(Z3975)>0,VLOOKUP(Z3975,'TFW Programs'!$A$2:$B$8,2,FALSE),\"\")","v":""},null,null,{"$f":"IF(LEN(A3975)>0,VLOOKUP(A3975,Subcontractors!$A$2:$B$4,2,FALSE),\"\")","v":""}]
[null,null,null,null,null,null,null,null,null,null,null,null,null,null,null,null,null,null,null,null,null,null,null,{"$f":"IF(LEN(Z3980)>0,VLOOKUP(Z3980,'TFW Programs'!$A$2:$B$8,2,FALSE),\"\")","v":""},null,null,{"$f":"IF(LEN(A3980)>0,VLOOKUP(A3980,Subcontractors!$A$2:$B$4,2,FALSE),\"\")","v":""}]
[null,null,null,null,null,null,null,null,null,null,null,null,null,null,null,null,null,null,null,null,null,null,null,{"$f":"IF(LEN(Z3985)>0,VLOOKUP(Z3985,'TFW Programs'!$A$2:$B$8,2,FALSE),\"\")","v":""},null,null,{"$f":"IF(LEN(A3985)>0,VLOOKUP(A3985,Subcontractors!$A$2:$B$4,2,FALSE),\"\")","v":""}]
[null,null,null,null,null,null,null,null,null,null,null,null,null,null,null,null,null,null,null,null,null,null,null,{"$f":"IF(LEN(Z3986)>0,VLOOKUP(Z3986,'TFW Programs'!$A$2:$B$8,2,FALSE),\"\")","v":""},null,null,{"$f":"IF(LEN(A3986)>0,VLOOKUP(A3986,Subcontractors!$A$2:$B$4,2,FALSE),\"\")","v":""}]
[null,null,null,null,null,null,null,null,null,null,null,null,null,null,null,null,null,null,null,null,null,null,null,{"$f":"IF(LEN(Z3990)>0,VLOOKUP(Z3990,'TFW Programs'!$A$2:$B$8,2,FALSE),\"\")","v":""},null,null,{"$f":"IF(LEN(A3990)>0,VLOOKUP(A3990,Subcontractors!$A$2:$B$4,2,FALSE),\"\")","v":""}]
[null,null,null,null,null,null,null,null,null,null,null,null,null,null,null,null,null,null,null,null,null,null,null,{"$f":"IF(LEN(Z3995)>0,VLOOKUP(Z3995,'TFW Programs'!$A$2:$B$8,2,FALSE),\"\")","v":""},null,null,{"$f":"IF(LEN(A3995)>0,VLOOKUP(A3995,Subcontractors!$A$2:$B$4,2,FALSE),\"\")","v":""}]
[null,null,null,null,null,null,null,null,null,null,null,null,null,null,null,null,null,null,null,null,null,null,null,{"$f":"IF(LEN(Z4000)>0,VLOOKUP(Z4000,'TFW Programs'!$A$2:$B$8,2,FALSE),\"\")","v":""},null,null,{"$f":"IF(LEN(A4000)>0,VLOOKUP(A4000,Subcontractors!$A$2:$B$4,2,FALSE),\"\")","v":""}]
[null,null,null,null,null,null,null,null,null,null,null,null,null,null,null,null,null,null,null,null,null,null,null,{"$f":"IF(LEN(Z4001)>0,VLOOKUP(Z4001,'TFW Programs'!$A$2:$B$8,2,FALSE),\"\")","v":""},null,null,{"$f":"IF(LEN(A4001)>0,VLOOKUP(A4001,Subcontractors!$A$2:$B$4,2,FALSE),\"\")","v":""}]
[null,null,null,null,null,null,null,null,null,null,null,null,null,null,null,null,null,null,null,null,null,null,null,{"$f":"IF(LEN(Z4007)>0,VLOOKUP(Z4007,'TFW Programs'!$A$2:$B$8,2,FALSE),\"\")","v":""},null,null,{"$f":"IF(LEN(A4007)>0,VLOOKUP(A4007,Subcontractors!$A$2:$B$4,2,FALSE),\"\")","v":""}]
[null,null,null,null,null,null,null,null,null,null,null,null,null,null,null,null,null,null,null,null,null,null,null,{"$f":"IF(LEN(Z4010)>0,VLOOKUP(Z4010,'TFW Programs'!$A$2:$B$8,2,FALSE),\"\")","v":""},null,null,{"$f":"IF(LEN(A4010)>0,VLOOKUP(A4010,Subcontractors!$A$2:$B$4,2,FALSE),\"\")","v":""}]
[null,null,null,null,null,null,null,null,null,null,null,null,null,null,null,null,null,null,null,null,null,null,null,{"$f":"IF(LEN(Z4015)>0,VLOOKUP(Z4015,'TFW Programs'!$A$2:$B$8,2,FALSE),\"\")","v":""},null,null,{"$f":"IF(LEN(A4015)>0,VLOOKUP(A4015,Subcontractors!$A$2:$B$4,2,FALSE),\"\")","v":""}]
[null,null,null,null,null,null,null,null,null,null,null,null,null,null,null,null,null,null,null,null,null,null,null,{"$f":"IF(LEN(Z4016)>0,VLOOKUP(Z4016,'TFW Programs'!$A$2:$B$8,2,FALSE),\"\")","v":""},null,null,{"$f":"IF(LEN(A4016)>0,VLOOKUP(A4016,Subcontractors!$A$2:$B$4,2,FALSE),\"\")","v":""}]
[null,null,null,null,null,null,null,null,null,null,null,null,null,null,null,null,null,null,null,null,null,null,null,{"$f":"IF(LEN(Z4020)>0,VLOOKUP(Z4020,'TFW Programs'!$A$2:$B$8,2,FALSE),\"\")","v":""},null,null,{"$f":"IF(LEN(A4020)>0,VLOOKUP(A4020,Subcontractors!$A$2:$B$4,2,FALSE),\"\")","v":""}]
[null,null,null,null,null,null,null,null,null,null,null,null,null,null,null,null,null,null,null,null,null,null,null,{"$f":"IF(LEN(Z4025)>0,VLOOKUP(Z4025,'TFW Programs'!$A$2:$B$8,2,FALSE),\"\")","v":""},null,null,{"$f":"IF(LEN(A4025)>0,VLOOKUP(A4025,Subcontractors!$A$2:$B$4,2,FALSE),\"\")","v":""}]
[null,null,null,null,null,null,null,null,null,null,null,null,null,null,null,null,null,null,null,null,null,null,null,{"$f":"IF(LEN(Z4030)>0,VLOOKUP(Z4030,'TFW Programs'!$A$2:$B$8,2,FALSE),\"\")","v":""},null,null,{"$f":"IF(LEN(A4030)>0,VLOOKUP(A4030,Subcontractors!$A$2:$B$4,2,FALSE),\"\")","v":""}]
[null,null,null,null,null,null,null,null,null,null,null,null,null,null,null,null,null,null,null,null,null,null,null,{"$f":"IF(LEN(Z4031)>0,VLOOKUP(Z4031,'TFW Programs'!$A$2:$B$8,2,FALSE),\"\")","v":""},null,null,{"$f":"IF(LEN(A4031)>0,VLOOKUP(A4031,Subcontractors!$A$2:$B$4,2,FALSE),\"\")","v":""}]
[null,null,null,null,null,null,null,null,null,null,null,null,null,null,null,null,null,null,null,null,null,null,null,{"$f":"IF(LEN(Z4036)>0,VLOOKUP(Z4036,'TFW Programs'!$A$2:$B$8,2,FALSE),\"\")","v":""},null,null,{"$f":"IF(LEN(A4036)>0,VLOOKUP(A4036,Subcontractors!$A$2:$B$4,2,FALSE),\"\")","v":""}]
[null,null,null,null,null,null,null,null,null,null,null,null,null,null,null,null,null,null,null,null,null,null,null,{"$f":"IF(LEN(Z4041)>0,VLOOKUP(Z4041,'TFW Programs'!$A$2:$B$8,2,FALSE),\"\")","v":""},null,null,{"$f":"IF(LEN(A4041)>0,VLOOKUP(A4041,Subcontractors!$A$2:$B$4,2,FALSE),\"\")","v":""}]
[null,null,null,null,null,null,null,null,null,null,null,null,null,null,null,null,null,null,null,null,null,null,null,{"$f":"IF(LEN(Z4045)>0,VLOOKUP(Z4045,'TFW Programs'!$A$2:$B$8,2,FALSE),\"\")","v":""},null,null,{"$f":"IF(LEN(A4045)>0,VLOOKUP(A4045,Subcontractors!$A$2:$B$4,2,FALSE),\"\")","v":""}]
[null,null,null,null,null,null,null,null,null,null,null,null,null,null,null,null,null,null,null,null,null,null,null,{"$f":"IF(LEN(Z4046)>0,VLOOKUP(Z4046,'TFW Programs'!$A$2:$B$8,2,FALSE),\"\")","v":""},null,null,{"$f":"IF(LEN(A4046)>0,VLOOKUP(A4046,Subcontractors!$A$2:$B$4,2,FALSE),\"\")","v":""}]
[null,null,null,null,null,null,null,null,null,null,null,null,null,null,null,null,null,null,null,null,null,null,null,{"$f":"IF(LEN(Z4051)>0,VLOOKUP(Z4051,'TFW Programs'!$A$2:$B$8,2,FALSE),\"\")","v":""},null,null,{"$f":"IF(LEN(A4051)>0,VLOOKUP(A4051,Subcontractors!$A$2:$B$4,2,FALSE),\"\")","v":""}]
[null,null,null,null,null,null,null,null,null,null,null,null,null,null,null,null,null,null,null,null,null,null,null,{"$f":"IF(LEN(Z4055)>0,VLOOKUP(Z4055,'TFW Programs'!$A$2:$B$8,2,FALSE),\"\")","v":""},null,null,{"$f":"IF(LEN(A4055)>0,VLOOKUP(A4055,Subcontractors!$A$2:$B$4,2,FALSE),\"\")","v":""}]
[null,null,null,null,null,null,null,null,null,null,null,null,null,null,null,null,null,null,null,null,null,null,null,{"$f":"IF(LEN(Z4060)>0,VLOOKUP(Z4060,'TFW Programs'!$A$2:$B$8,2,FALSE),\"\")","v":""},null,null,{"$f":"IF(LEN(A4060)>0,VLOOKUP(A4060,Subcontractors!$A$2:$B$4,2,FALSE),\"\")","v":""}]
[null,null,null,null,null,null,null,null,null,null,null,null,null,null,null,null,null,null,null,null,null,null,null,{"$f":"IF(LEN(Z4061)>0,VLOOKUP(Z4061,'TFW Programs'!$A$2:$B$8,2,FALSE),\"\")","v":""},null,null,{"$f":"IF(LEN(A4061)>0,VLOOKUP(A4061,Subcontractors!$A$2:$B$4,2,FALSE),\"\")","v":""}]
[null,null,null,null,null,null,null,null,null,null,null,null,null,null,null,null,null,null,null,null,null,null,null,{"$f":"IF(LEN(Z4066)>0,VLOOKUP(Z4066,'TFW Programs'!$A$2:$B$8,2,FALSE),\"\")","v":""},null,null,{"$f":"IF(LEN(A4066)>0,VLOOKUP(A4066,Subcontractors!$A$2:$B$4,2,FALSE),\"\")","v":""}]
[null,null,null,null,null,null,null,null,null,null,null,null,null,null,null,null,null,null,null,null,null,null,null,{"$f":"IF(LEN(Z4071)>0,VLOOKUP(Z4071,'TFW Programs'!$A$2:$B$8,2,FALSE),\"\")","v":""},null,null,{"$f":"IF(LEN(A4071)>0,VLOOKUP(A4071,Subcontractors!$A$2:$B$4,2,FALSE),\"\")","v":""}]
[null,null,null,null,null,null,null,null,null,null,null,null,null,null,null,null,null,null,null,null,null,null,null,{"$f":"IF(LEN(Z4075)>0,VLOOKUP(Z4075,'TFW Programs'!$A$2:$B$8,2,FALSE),\"\")","v":""},null,null,{"$f":"IF(LEN(A4075)>0,VLOOKUP(A4075,Subcontractors!$A$2:$B$4,2,FALSE),\"\")","v":""}]
[null,null,null,null,null,null,null,null,null,null,null,null,null,null,null,null,null,null,null,null,null,null,null,{"$f":"IF(LEN(Z4076)>0,VLOOKUP(Z4076,'TFW Programs'!$A$2:$B$8,2,FALSE),\"\")","v":""},null,null,{"$f":"IF(LEN(A4076)>0,VLOOKUP(A4076,Subcontractors!$A$2:$B$4,2,FALSE),\"\")","v":""}]
[null,null,null,null,null,null,null,null,null,null,null,null,null,null,null,null,null,null,null,null,null,null,null,{"$f":"IF(LEN(Z4081)>0,VLOOKUP(Z4081,'TFW Programs'!$A$2:$B$8,2,FALSE),\"\")","v":""},null,null,{"$f":"IF(LEN(A4081)>0,VLOOKUP(A4081,Subcontractors!$A$2:$B$4,2,FALSE),\"\")","v":""}]
[null,null,null,null,null,null,null,null,null,null,null,null,null,null,null,null,null,null,null,null,null,null,null,{"$f":"IF(LEN(Z4086)>0,VLOOKUP(Z4086,'TFW Programs'!$A$2:$B$8,2,FALSE),\"\")","v":""},null,null,{"$f":"IF(LEN(A4086)>0,VLOOKUP(A4086,Subcontractors!$A$2:$B$4,2,FALSE),\"\")","v":""}]
[null,null,null,null,null,null,null,null,null,null,null,null,null,null,null,null,null,null,null,null,null,null,null,{"$f":"IF(LEN(Z4089)>0,VLOOKUP(Z4089,'TFW Programs'!$A$2:$B$8,2,FALSE),\"\")","v":""},null,null,{"$f":"IF(LEN(A4089)>0,VLOOKUP(A4089,Subcontractors!$A$2:$B$4,2,FALSE),\"\")","v":""}]
[null,null,null,null,null,null,null,null,null,null,null,null,null,null,null,null,null,null,null,null,null,null,null,{"$f":"IF(LEN(Z4091)>0,VLOOKUP(Z4091,'TFW Programs'!$A$2:$B$8,2,FALSE),\"\")","v":""},null,null,{"$f":"IF(LEN(A4091)>0,VLOOKUP(A4091,Subcontractors!$A$2:$B$4,2,FALSE),\"\")","v":""}]
[null,null,null,null,null,null,null,null,null,null,null,null,null,null,null,null,null,null,null,null,null,null,null,{"$f":"IF(LEN(Z4096)>0,VLOOKUP(Z4096,'TFW Programs'!$A$2:$B$8,2,FALSE),\"\")","v":""},null,null,{"$f":"IF(LEN(A4096)>0,VLOOKUP(A4096,Subcontractors!$A$2:$B$4,2,FALSE),\"\")","v":""}]
[null,null,null,null,null,null,null,null,null,null,null,null,null,null,null,null,null,null,null,null,null,null,null,{"$f":"IF(LEN(Z4101)>0,VLOOKUP(Z4101,'TFW Programs'!$A$2:$B$8,2,FALSE),\"\")","v":""},null,null,{"$f":"IF(LEN(A4101)>0,VLOOKUP(A4101,Subcontractors!$A$2:$B$4,2,FALSE),\"\")","v":""}]
[null,null,null,null,null,null,null,null,null,null,null,null,null,null,null,null,null,null,null,null,null,null,null,{"$f":"IF(LEN(Z4106)>0,VLOOKUP(Z4106,'TFW Programs'!$A$2:$B$8,2,FALSE),\"\")","v":""},null,null,{"$f":"IF(LEN(A4106)>0,VLOOKUP(A4106,Subcontractors!$A$2:$B$4,2,FALSE),\"\")","v":""}]
[null,null,null,null,null,null,null,null,null,null,null,null,null,null,null,null,null,null,null,null,null,null,null,{"$f":"IF(LEN(Z4107)>0,VLOOKUP(Z4107,'TFW Programs'!$A$2:$B$8,2,FALSE),\"\")","v":""},null,null,{"$f":"IF(LEN(A4107)>0,VLOOKUP(A4107,Subcontractors!$A$2:$B$4,2,FALSE),\"\")","v":""}]
[null,null,null,null,null,null,null,null,null,null,null,null,null,null,null,null,null,null,null,null,null,null,null,{"$f":"IF(LEN(Z4111)>0,VLOOKUP(Z4111,'TFW Programs'!$A$2:$B$8,2,FALSE),\"\")","v":""},null,null,{"$f":"IF(LEN(A4111)>0,VLOOKUP(A4111,Subcontractors!$A$2:$B$4,2,FALSE),\"\")","v":""}]
[null,null,null,null,null,null,null,null,null,null,null,null,null,null,null,null,null,null,null,null,null,null,null,{"$f":"IF(LEN(Z4116)>0,VLOOKUP(Z4116,'TFW Programs'!$A$2:$B$8,2,FALSE),\"\")","v":""},null,null,{"$f":"IF(LEN(A4116)>0,VLOOKUP(A4116,Subcontractors!$A$2:$B$4,2,FALSE),\"\")","v":""}]
[null,null,null,null,null,null,null,null,null,null,null,null,null,null,null,null,null,null,null,null,null,null,null,{"$f":"IF(LEN(Z4121)>0,VLOOKUP(Z4121,'TFW Programs'!$A$2:$B$8,2,FALSE),\"\")","v":""},null,null,{"$f":"IF(LEN(A4121)>0,VLOOKUP(A4121,Subcontractors!$A$2:$B$4,2,FALSE),\"\")","v":""}]
[null,null,null,null,null,null,null,null,null,null,null,null,null,null,null,null,null,null,null,null,null,null,null,{"$f":"IF(LEN(Z4123)>0,VLOOKUP(Z4123,'TFW Programs'!$A$2:$B$8,2,FALSE),\"\")","v":""},null,null,{"$f":"IF(LEN(A4123)>0,VLOOKUP(A4123,Subcontractors!$A$2:$B$4,2,FALSE),\"\")","v":""}]
[null,null,null,null,null,null,null,null,null,null,null,null,null,null,null,null,null,null,null,null,null,null,null,{"$f":"IF(LEN(Z4126)>0,VLOOKUP(Z4126,'TFW Programs'!$A$2:$B$8,2,FALSE),\"\")","v":""},null,null,{"$f":"IF(LEN(A4126)>0,VLOOKUP(A4126,Subcontractors!$A$2:$B$4,2,FALSE),\"\")","v":""}]
[null,null,null,null,null,null,null,null,null,null,null,null,null,null,null,null,null,null,null,null,null,null,null,{"$f":"IF(LEN(Z4131)>0,VLOOKUP(Z4131,'TFW Programs'!$A$2:$B$8,2,FALSE),\"\")","v":""},null,null,{"$f":"IF(LEN(A4131)>0,VLOOKUP(A4131,Subcontractors!$A$2:$B$4,2,FALSE),\"\")","v":""}]
[null,null,null,null,null,null,null,null,null,null,null,null,null,null,null,null,null,null,null,null,null,null,null,{"$f":"IF(LEN(Z4136)>0,VLOOKUP(Z4136,'TFW Programs'!$A$2:$B$8,2,FALSE),\"\")","v":""},null,null,{"$f":"IF(LEN(A4136)>0,VLOOKUP(A4136,Subcontractors!$A$2:$B$4,2,FALSE),\"\")","v":""}]
[null,null,null,null,null,null,null,null,null,null,null,null,null,null,null,null,null,null,null,null,null,null,null,{"$f":"IF(LEN(Z4137)>0,VLOOKUP(Z4137,'TFW Programs'!$A$2:$B$8,2,FALSE),\"\")","v":""},null,null,{"$f":"IF(LEN(A4137)>0,VLOOKUP(A4137,Subcontractors!$A$2:$B$4,2,FALSE),\"\")","v":""}]
[null,null,null,null,null,null,null,null,null,null,null,null,null,null,null,null,null,null,null,null,null,null,null,{"$f":"IF(LEN(Z4141)>0,VLOOKUP(Z4141,'TFW Programs'!$A$2:$B$8,2,FALSE),\"\")","v":""},null,null,{"$f":"IF(LEN(A4141)>0,VLOOKUP(A4141,Subcontractors!$A$2:$B$4,2,FALSE),\"\")","v":""}]
[null,null,null,null,null,null,null,null,null,null,null,null,null,null,null,null,null,null,null,null,null,null,null,{"$f":"IF(LEN(Z4146)>0,VLOOKUP(Z4146,'TFW Programs'!$A$2:$B$8,2,FALSE),\"\")","v":""},null,null,{"$f":"IF(LEN(A4146)>0,VLOOKUP(A4146,Subcontractors!$A$2:$B$4,2,FALSE),\"\")","v":""}]
[null,null,null,null,null,null,null,null,null,null,null,null,null,null,null,null,null,null,null,null,null,null,null,{"$f":"IF(LEN(Z4151)>0,VLOOKUP(Z4151,'TFW Programs'!$A$2:$B$8,2,FALSE),\"\")","v":""},null,null,{"$f":"IF(LEN(A4151)>0,VLOOKUP(A4151,Subcontractors!$A$2:$B$4,2,FALSE),\"\")","v":""}]
[null,null,null,null,null,null,null,null,null,null,null,null,null,null,null,null,null,null,null,null,null,null,null,{"$f":"IF(LEN(Z4152)>0,VLOOKUP(Z4152,'TFW Programs'!$A$2:$B$8,2,FALSE),\"\")","v":""},null,null,{"$f":"IF(LEN(A4152)>0,VLOOKUP(A4152,Subcontractors!$A$2:$B$4,2,FALSE),\"\")","v":""}]
[null,null,null,null,null,null,null,null,null,null,null,null,null,null,null,null,null,null,null,null,null,null,null,{"$f":"IF(LEN(Z4158)>0,VLOOKUP(Z4158,'TFW Programs'!$A$2:$B$8,2,FALSE),\"\")","v":""},null,null,{"$f":"IF(LEN(A4158)>0,VLOOKUP(A4158,Subcontractors!$A$2:$B$4,2,FALSE),\"\")","v":""}]
[null,null,null,null,null,null,null,null,null,null,null,null,null,null,null,null,null,null,null,null,null,null,null,{"$f":"IF(LEN(Z4161)>0,VLOOKUP(Z4161,'TFW Programs'!$A$2:$B$8,2,FALSE),\"\")","v":""},null,null,{"$f":"IF(LEN(A4161)>0,VLOOKUP(A4161,Subcontractors!$A$2:$B$4,2,FALSE),\"\")","v":""}]
[null,null,null,null,null,null,null,null,null,null,null,null,null,null,null,null,null,null,null,null,null,null,null,{"$f":"IF(LEN(Z4166)>0,VLOOKUP(Z4166,'TFW Programs'!$A$2:$B$8,2,FALSE),\"\")","v":""},null,null,{"$f":"IF(LEN(A4166)>0,VLOOKUP(A4166,Subcontractors!$A$2:$B$4,2,FALSE),\"\")","v":""}]
[null,null,null,null,null,null,null,null,null,null,null,null,null,null,null,null,null,null,null,null,null,null,null,{"$f":"IF(LEN(Z4167)>0,VLOOKUP(Z4167,'TFW Programs'!$A$2:$B$8,2,FALSE),\"\")","v":""},null,null,{"$f":"IF(LEN(A4167)>0,VLOOKUP(A4167,Subcontractors!$A$2:$B$4,2,FALSE),\"\")","v":""}]
[null,null,null,null,null,null,null,null,null,null,null,null,null,null,null,null,null,null,null,null,null,null,null,{"$f":"IF(LEN(Z4171)>0,VLOOKUP(Z4171,'TFW Programs'!$A$2:$B$8,2,FALSE),\"\")","v":""},null,null,{"$f":"IF(LEN(A4171)>0,VLOOKUP(A4171,Subcontractors!$A$2:$B$4,2,FALSE),\"\")","v":""}]
[null,null,null,null,null,null,null,null,null,null,null,null,null,null,null,null,null,null,null,null,null,null,null,{"$f":"IF(LEN(Z4176)>0,VLOOKUP(Z4176,'TFW Programs'!$A$2:$B$8,2,FALSE),\"\")","v":""},null,null,{"$f":"IF(LEN(A4176)>0,VLOOKUP(A4176,Subcontractors!$A$2:$B$4,2,FALSE),\"\")","v":""}]
[null,null,null,null,null,null,null,null,null,null,null,null,null,null,null,null,null,null,null,null,null,null,null,{"$f":"IF(LEN(Z4181)>0,VLOOKUP(Z4181,'TFW Programs'!$A$2:$B$8,2,FALSE),\"\")","v":""},null,null,{"$f":"IF(LEN(A4181)>0,VLOOKUP(A4181,Subcontractors!$A$2:$B$4,2,FALSE),\"\")","v":""}]
[null,null,null,null,null,null,null,null,null,null,null,null,null,null,null,null,null,null,null,null,null,null,null,{"$f":"IF(LEN(Z4182)>0,VLOOKUP(Z4182,'TFW Programs'!$A$2:$B$8,2,FALSE),\"\")","v":""},null,null,{"$f":"IF(LEN(A4182)>0,VLOOKUP(A4182,Subcontractors!$A$2:$B$4,2,FALSE),\"\")","v":""}]
[null,null,null,null,null,null,null,null,null,null,null,null,null,null,null,null,null,null,null,null,null,null,null,{"$f":"IF(LEN(Z4187)>0,VLOOKUP(Z4187,'TFW Programs'!$A$2:$B$8,2,FALSE),\"\")","v":""},null,null,{"$f":"IF(LEN(A4187)>0,VLOOKUP(A4187,Subcontractors!$A$2:$B$4,2,FALSE),\"\")","v":""}]
[null,null,null,null,null,null,null,null,null,null,null,null,null,null,null,null,null,null,null,null,null,null,null,{"$f":"IF(LEN(Z4192)>0,VLOOKUP(Z4192,'TFW Programs'!$A$2:$B$8,2,FALSE),\"\")","v":""},null,null,{"$f":"IF(LEN(A4192)>0,VLOOKUP(A4192,Subcontractors!$A$2:$B$4,2,FALSE),\"\")","v":""}]
[null,null,null,null,null,null,null,null,null,null,null,null,null,null,null,null,null,null,null,null,null,null,null,{"$f":"IF(LEN(Z4196)>0,VLOOKUP(Z4196,'TFW Programs'!$A$2:$B$8,2,FALSE),\"\")","v":""},null,null,{"$f":"IF(LEN(A4196)>0,VLOOKUP(A4196,Subcontractors!$A$2:$B$4,2,FALSE),\"\")","v":""}]
[null,null,null,null,null,null,null,null,null,null,null,null,null,null,null,null,null,null,null,null,null,null,null,{"$f":"IF(LEN(Z4197)>0,VLOOKUP(Z4197,'TFW Programs'!$A$2:$B$8,2,FALSE),\"\")","v":""},null,null,{"$f":"IF(LEN(A4197)>0,VLOOKUP(A4197,Subcontractors!$A$2:$B$4,2,FALSE),\"\")","v":""}]
[null,null,null,null,null,null,null,null,null,null,null,null,null,null,null,null,null,null,null,null,null,null,null,{"$f":"IF(LEN(Z4202)>0,VLOOKUP(Z4202,'TFW Programs'!$A$2:$B$8,2,FALSE),\"\")","v":""},null,null,{"$f":"IF(LEN(A4202)>0,VLOOKUP(A4202,Subcontractors!$A$2:$B$4,2,FALSE),\"\")","v":""}]
[null,null,null,null,null,null,null,null,null,null,null,null,null,null,null,null,null,null,null,null,null,null,null,{"$f":"IF(LEN(Z4206)>0,VLOOKUP(Z4206,'TFW Programs'!$A$2:$B$8,2,FALSE),\"\")","v":""},null,null,{"$f":"IF(LEN(A4206)>0,VLOOKUP(A4206,Subcontractors!$A$2:$B$4,2,FALSE),\"\")","v":""}]
[null,null,null,null,null,null,null,null,null,null,null,null,null,null,null,null,null,null,null,null,null,null,null,{"$f":"IF(LEN(Z4211)>0,VLOOKUP(Z4211,'TFW Programs'!$A$2:$B$8,2,FALSE),\"\")","v":""},null,null,{"$f":"IF(LEN(A4211)>0,VLOOKUP(A4211,Subcontractors!$A$2:$B$4,2,FALSE),\"\")","v":""}]
[null,null,null,null,null,null,null,null,null,null,null,null,null,null,null,null,null,null,null,null,null,null,null,{"$f":"IF(LEN(Z4212)>0,VLOOKUP(Z4212,'TFW Programs'!$A$2:$B$8,2,FALSE),\"\")","v":""},null,null,{"$f":"IF(LEN(A4212)>0,VLOOKUP(A4212,Subcontractors!$A$2:$B$4,2,FALSE),\"\")","v":""}]
[null,null,null,null,null,null,null,null,null,null,null,null,null,null,null,null,null,null,null,null,null,null,null,{"$f":"IF(LEN(Z4217)>0,VLOOKUP(Z4217,'TFW Programs'!$A$2:$B$8,2,FALSE),\"\")","v":""},null,null,{"$f":"IF(LEN(A4217)>0,VLOOKUP(A4217,Subcontractors!$A$2:$B$4,2,FALSE),\"\")","v":""}]
[null,null,null,null,null,null,null,null,null,null,null,null,null,null,null,null,null,null,null,null,null,null,null,{"$f":"IF(LEN(Z4222)>0,VLOOKUP(Z4222,'TFW Programs'!$A$2:$B$8,2,FALSE),\"\")","v":""},null,null,{"$f":"IF(LEN(A4222)>0,VLOOKUP(A4222,Subcontractors!$A$2:$B$4,2,FALSE),\"\")","v":""}]
[null,null,null,null,null,null,null,null,null,null,null,null,null,null,null,null,null,null,null,null,null,null,null,{"$f":"IF(LEN(Z4226)>0,VLOOKUP(Z4226,'TFW Programs'!$A$2:$B$8,2,FALSE),\"\")","v":""},null,null,{"$f":"IF(LEN(A4226)>0,VLOOKUP(A4226,Subcontractors!$A$2:$B$4,2,FALSE),\"\")","v":""}]
[null,null,null,null,null,null,null,null,null,null,null,null,null,null,null,null,null,null,null,null,null,null,null,{"$f":"IF(LEN(Z4227)>0,VLOOKUP(Z4227,'TFW Programs'!$A$2:$B$8,2,FALSE),\"\")","v":""},null,null,{"$f":"IF(LEN(A4227)>0,VLOOKUP(A4227,Subcontractors!$A$2:$B$4,2,FALSE),\"\")","v":""}]
[null,null,null,null,null,null,null,null,null,null,null,null,null,null,null,null,null,null,null,null,null,null,null,{"$f":"IF(LEN(Z4232)>0,VLOOKUP(Z4232,'TFW Programs'!$A$2:$B$8,2,FALSE),\"\")","v":""},null,null,{"$f":"IF(LEN(A4232)>0,VLOOKUP(A4232,Subcontractors!$A$2:$B$4,2,FALSE),\"\")","v":""}]
[null,null,null,null,null,null,null,null,null,null,null,null,null,null,null,null,null,null,null,null,null,null,null,{"$f":"IF(LEN(Z4237)>0,VLOOKUP(Z4237,'TFW Programs'!$A$2:$B$8,2,FALSE),\"\")","v":""},null,null,{"$f":"IF(LEN(A4237)>0,VLOOKUP(A4237,Subcontractors!$A$2:$B$4,2,FALSE),\"\")","v":""}]
[null,null,null,null,null,null,null,null,null,null,null,null,null,null,null,null,null,null,null,null,null,null,null,{"$f":"IF(LEN(Z4240)>0,VLOOKUP(Z4240,'TFW Programs'!$A$2:$B$8,2,FALSE),\"\")","v":""},null,null,{"$f":"IF(LEN(A4240)>0,VLOOKUP(A4240,Subcontractors!$A$2:$B$4,2,FALSE),\"\")","v":""}]
[null,null,null,null,null,null,null,null,null,null,null,null,null,null,null,null,null,null,null,null,null,null,null,{"$f":"IF(LEN(Z4242)>0,VLOOKUP(Z4242,'TFW Programs'!$A$2:$B$8,2,FALSE),\"\")","v":""},null,null,{"$f":"IF(LEN(A4242)>0,VLOOKUP(A4242,Subcontractors!$A$2:$B$4,2,FALSE),\"\")","v":""}]
[null,null,null,null,null,null,null,null,null,null,null,null,null,null,null,null,null,null,null,null,null,null,null,{"$f":"IF(LEN(Z4247)>0,VLOOKUP(Z4247,'TFW Programs'!$A$2:$B$8,2,FALSE),\"\")","v":""},null,null,{"$f":"IF(LEN(A4247)>0,VLOOKUP(A4247,Subcontractors!$A$2:$B$4,2,FALSE),\"\")","v":""}]
[null,null,null,null,null,null,null,null,null,null,null,null,null,null,null,null,null,null,null,null,null,null,null,{"$f":"IF(LEN(Z4252)>0,VLOOKUP(Z4252,'TFW Programs'!$A$2:$B$8,2,FALSE),\"\")","v":""},null,null,{"$f":"IF(LEN(A4252)>0,VLOOKUP(A4252,Subcontractors!$A$2:$B$4,2,FALSE),\"\")","v":""}]
[null,null,null,null,null,null,null,null,null,null,null,null,null,null,null,null,null,null,null,null,null,null,null,{"$f":"IF(LEN(Z4254)>0,VLOOKUP(Z4254,'TFW Programs'!$A$2:$B$8,2,FALSE),\"\")","v":""},null,null,{"$f":"IF(LEN(A4254)>0,VLOOKUP(A4254,Subcontractors!$A$2:$B$4,2,FALSE),\"\")","v":""}]
[null,null,null,null,null,null,null,null,null,null,null,null,null,null,null,null,null,null,null,null,null,null,null,{"$f":"IF(LEN(Z4257)>0,VLOOKUP(Z4257,'TFW Programs'!$A$2:$B$8,2,FALSE),\"\")","v":""},null,null,{"$f":"IF(LEN(A4257)>0,VLOOKUP(A4257,Subcontractors!$A$2:$B$4,2,FALSE),\"\")","v":""}]
[null,null,null,null,null,null,null,null,null,null,null,null,null,null,null,null,null,null,null,null,null,null,null,{"$f":"IF(LEN(Z4262)>0,VLOOKUP(Z4262,'TFW Programs'!$A$2:$B$8,2,FALSE),\"\")","v":""},null,null,{"$f":"IF(LEN(A4262)>0,VLOOKUP(A4262,Subcontractors!$A$2:$B$4,2,FALSE),\"\")","v":""}]
[null,null,null,null,null,null,null,null,null,null,null,null,null,null,null,null,null,null,null,null,null,null,null,{"$f":"IF(LEN(Z4267)>0,VLOOKUP(Z4267,'TFW Programs'!$A$2:$B$8,2,FALSE),\"\")","v":""},null,null,{"$f":"IF(LEN(A4267)>0,VLOOKUP(A4267,Subcontractors!$A$2:$B$4,2,FALSE),\"\")","v":""}]
[null,null,null,null,null,null,null,null,null,null,null,null,null,null,null,null,null,null,null,null,null,null,null,{"$f":"IF(LEN(Z4272)>0,VLOOKUP(Z4272,'TFW Programs'!$A$2:$B$8,2,FALSE),\"\")","v":""},null,null,{"$f":"IF(LEN(A4272)>0,VLOOKUP(A4272,Subcontractors!$A$2:$B$4,2,FALSE),\"\")","v":""}]
[null,null,null,null,null,null,null,null,null,null,null,null,null,null,null,null,null,null,null,null,null,null,null,{"$f":"IF(LEN(Z4275)>0,VLOOKUP(Z4275,'TFW Programs'!$A$2:$B$8,2,FALSE),\"\")","v":""},null,null,{"$f":"IF(LEN(A4275)>0,VLOOKUP(A4275,Subcontractors!$A$2:$B$4,2,FALSE),\"\")","v":""}]
[null,null,null,null,null,null,null,null,null,null,null,null,null,null,null,null,null,null,null,null,null,null,null,{"$f":"IF(LEN(Z4277)>0,VLOOKUP(Z4277,'TFW Programs'!$A$2:$B$8,2,FALSE),\"\")","v":""},null,null,{"$f":"IF(LEN(A4277)>0,VLOOKUP(A4277,Subcontractors!$A$2:$B$4,2,FALSE),\"\")","v":""}]
[null,null,null,null,null,null,null,null,null,null,null,null,null,null,null,null,null,null,null,null,null,null,null,{"$f":"IF(LEN(Z4282)>0,VLOOKUP(Z4282,'TFW Programs'!$A$2:$B$8,2,FALSE),\"\")","v":""},null,null,{"$f":"IF(LEN(A4282)>0,VLOOKUP(A4282,Subcontractors!$A$2:$B$4,2,FALSE),\"\")","v":""}]
[null,null,null,null,null,null,null,null,null,null,null,null,null,null,null,null,null,null,null,null,null,null,null,{"$f":"IF(LEN(Z4287)>0,VLOOKUP(Z4287,'TFW Programs'!$A$2:$B$8,2,FALSE),\"\")","v":""},null,null,{"$f":"IF(LEN(A4287)>0,VLOOKUP(A4287,Subcontractors!$A$2:$B$4,2,FALSE),\"\")","v":""}]
[null,null,null,null,null,null,null,null,null,null,null,null,null,null,null,null,null,null,null,null,null,null,null,{"$f":"IF(LEN(Z4288)>0,VLOOKUP(Z4288,'TFW Programs'!$A$2:$B$8,2,FALSE),\"\")","v":""},null,null,{"$f":"IF(LEN(A4288)>0,VLOOKUP(A4288,Subcontractors!$A$2:$B$4,2,FALSE),\"\")","v":""}]
[null,null,null,null,null,null,null,null,null,null,null,null,null,null,null,null,null,null,null,null,null,null,null,{"$f":"IF(LEN(Z4292)>0,VLOOKUP(Z4292,'TFW Programs'!$A$2:$B$8,2,FALSE),\"\")","v":""},null,null,{"$f":"IF(LEN(A4292)>0,VLOOKUP(A4292,Subcontractors!$A$2:$B$4,2,FALSE),\"\")","v":""}]
[null,null,null,null,null,null,null,null,null,null,null,null,null,null,null,null,null,null,null,null,null,null,null,{"$f":"IF(LEN(Z4297)>0,VLOOKUP(Z4297,'TFW Programs'!$A$2:$B$8,2,FALSE),\"\")","v":""},null,null,{"$f":"IF(LEN(A4297)>0,VLOOKUP(A4297,Subcontractors!$A$2:$B$4,2,FALSE),\"\")","v":""}]
[null,null,null,null,null,null,null,null,null,null,null,null,null,null,null,null,null,null,null,null,null,null,null,{"$f":"IF(LEN(Z4302)>0,VLOOKUP(Z4302,'TFW Programs'!$A$2:$B$8,2,FALSE),\"\")","v":""},null,null,{"$f":"IF(LEN(A4302)>0,VLOOKUP(A4302,Subcontractors!$A$2:$B$4,2,FALSE),\"\")","v":""}]
[null,null,null,null,null,null,null,null,null,null,null,null,null,null,null,null,null,null,null,null,null,null,null,{"$f":"IF(LEN(Z4303)>0,VLOOKUP(Z4303,'TFW Programs'!$A$2:$B$8,2,FALSE),\"\")","v":""},null,null,{"$f":"IF(LEN(A4303)>0,VLOOKUP(A4303,Subcontractors!$A$2:$B$4,2,FALSE),\"\")","v":""}]
[null,null,null,null,null,null,null,null,null,null,null,null,null,null,null,null,null,null,null,null,null,null,null,{"$f":"IF(LEN(Z4309)>0,VLOOKUP(Z4309,'TFW Programs'!$A$2:$B$8,2,FALSE),\"\")","v":""},null,null,{"$f":"IF(LEN(A4309)>0,VLOOKUP(A4309,Subcontractors!$A$2:$B$4,2,FALSE),\"\")","v":""}]
[null,null,null,null,null,null,null,null,null,null,null,null,null,null,null,null,null,null,null,null,null,null,null,{"$f":"IF(LEN(Z4312)>0,VLOOKUP(Z4312,'TFW Programs'!$A$2:$B$8,2,FALSE),\"\")","v":""},null,null,{"$f":"IF(LEN(A4312)>0,VLOOKUP(A4312,Subcontractors!$A$2:$B$4,2,FALSE),\"\")","v":""}]
[null,null,null,null,null,null,null,null,null,null,null,null,null,null,null,null,null,null,null,null,null,null,null,{"$f":"IF(LEN(Z4317)>0,VLOOKUP(Z4317,'TFW Programs'!$A$2:$B$8,2,FALSE),\"\")","v":""},null,null,{"$f":"IF(LEN(A4317)>0,VLOOKUP(A4317,Subcontractors!$A$2:$B$4,2,FALSE),\"\")","v":""}]
[null,null,null,null,null,null,null,null,null,null,null,null,null,null,null,null,null,null,null,null,null,null,null,{"$f":"IF(LEN(Z4318)>0,VLOOKUP(Z4318,'TFW Programs'!$A$2:$B$8,2,FALSE),\"\")","v":""},null,null,{"$f":"IF(LEN(A4318)>0,VLOOKUP(A4318,Subcontractors!$A$2:$B$4,2,FALSE),\"\")","v":""}]
[null,null,null,null,null,null,null,null,null,null,null,null,null,null,null,null,null,null,null,null,null,null,null,{"$f":"IF(LEN(Z4323)>0,VLOOKUP(Z4323,'TFW Programs'!$A$2:$B$8,2,FALSE),\"\")","v":""},null,null,{"$f":"IF(LEN(A4323)>0,VLOOKUP(A4323,Subcontractors!$A$2:$B$4,2,FALSE),\"\")","v":""}]
[null,null,null,null,null,null,null,null,null,null,null,null,null,null,null,null,null,null,null,null,null,null,null,{"$f":"IF(LEN(Z4327)>0,VLOOKUP(Z4327,'TFW Programs'!$A$2:$B$8,2,FALSE),\"\")","v":""},null,null,{"$f":"IF(LEN(A4327)>0,VLOOKUP(A4327,Subcontractors!$A$2:$B$4,2,FALSE),\"\")","v":""}]
[null,null,null,null,null,null,null,null,null,null,null,null,null,null,null,null,null,null,null,null,null,null,null,{"$f":"IF(LEN(Z4332)>0,VLOOKUP(Z4332,'TFW Programs'!$A$2:$B$8,2,FALSE),\"\")","v":""},null,null,{"$f":"IF(LEN(A4332)>0,VLOOKUP(A4332,Subcontractors!$A$2:$B$4,2,FALSE),\"\")","v":""}]
[null,null,null,null,null,null,null,null,null,null,null,null,null,null,null,null,null,null,null,null,null,null,null,{"$f":"IF(LEN(Z4333)>0,VLOOKUP(Z4333,'TFW Programs'!$A$2:$B$8,2,FALSE),\"\")","v":""},null,null,{"$f":"IF(LEN(A4333)>0,VLOOKUP(A4333,Subcontractors!$A$2:$B$4,2,FALSE),\"\")","v":""}]
[null,null,null,null,null,null,null,null,null,null,null,null,null,null,null,null,null,null,null,null,null,null,null,{"$f":"IF(LEN(Z4339)>0,VLOOKUP(Z4339,'TFW Programs'!$A$2:$B$8,2,FALSE),\"\")","v":""},null,null,{"$f":"IF(LEN(A4339)>0,VLOOKUP(A4339,Subcontractors!$A$2:$B$4,2,FALSE),\"\")","v":""}]
[null,null,null,null,null,null,null,null,null,null,null,null,null,null,null,null,null,null,null,null,null,null,null,{"$f":"IF(LEN(Z4342)>0,VLOOKUP(Z4342,'TFW Programs'!$A$2:$B$8,2,FALSE),\"\")","v":""},null,null,{"$f":"IF(LEN(A4342)>0,VLOOKUP(A4342,Subcontractors!$A$2:$B$4,2,FALSE),\"\")","v":""}]
[null,null,null,null,null,null,null,null,null,null,null,null,null,null,null,null,null,null,null,null,null,null,null,{"$f":"IF(LEN(Z4347)>0,VLOOKUP(Z4347,'TFW Programs'!$A$2:$B$8,2,FALSE),\"\")","v":""},null,null,{"$f":"IF(LEN(A4347)>0,VLOOKUP(A4347,Subcontractors!$A$2:$B$4,2,FALSE),\"\")","v":""}]
[null,null,null,null,null,null,null,null,null,null,null,null,null,null,null,null,null,null,null,null,null,null,null,{"$f":"IF(LEN(Z4348)>0,VLOOKUP(Z4348,'TFW Programs'!$A$2:$B$8,2,FALSE),\"\")","v":""},null,null,{"$f":"IF(LEN(A4348)>0,VLOOKUP(A4348,Subcontractors!$A$2:$B$4,2,FALSE),\"\")","v":""}]
[null,null,null,null,null,null,null,null,null,null,null,null,null,null,null,null,null,null,null,null,null,null,null,{"$f":"IF(LEN(Z4353)>0,VLOOKUP(Z4353,'TFW Programs'!$A$2:$B$8,2,FALSE),\"\")","v":""},null,null,{"$f":"IF(LEN(A4353)>0,VLOOKUP(A4353,Subcontractors!$A$2:$B$4,2,FALSE),\"\")","v":""}]
[null,null,null,null,null,null,null,null,null,null,null,null,null,null,null,null,null,null,null,null,null,null,null,{"$f":"IF(LEN(Z4357)>0,VLOOKUP(Z4357,'TFW Programs'!$A$2:$B$8,2,FALSE),\"\")","v":""},null,null,{"$f":"IF(LEN(A4357)>0,VLOOKUP(A4357,Subcontractors!$A$2:$B$4,2,FALSE),\"\")","v":""}]
[null,null,null,null,null,null,null,null,null,null,null,null,null,null,null,null,null,null,null,null,null,null,null,{"$f":"IF(LEN(Z4362)>0,VLOOKUP(Z4362,'TFW Programs'!$A$2:$B$8,2,FALSE),\"\")","v":""},null,null,{"$f":"IF(LEN(A4362)>0,VLOOKUP(A4362,Subcontractors!$A$2:$B$4,2,FALSE),\"\")","v":""}]
[null,null,null,null,null,null,null,null,null,null,null,null,null,null,null,null,null,null,null,null,null,null,null,{"$f":"IF(LEN(Z4363)>0,VLOOKUP(Z4363,'TFW Programs'!$A$2:$B$8,2,FALSE),\"\")","v":""},null,null,{"$f":"IF(LEN(A4363)>0,VLOOKUP(A4363,Subcontractors!$A$2:$B$4,2,FALSE),\"\")","v":""}]
[null,null,null,null,null,null,null,null,null,null,null,null,null,null,null,null,null,null,null,null,null,null,null,{"$f":"IF(LEN(Z4368)>0,VLOOKUP(Z4368,'TFW Programs'!$A$2:$B$8,2,FALSE),\"\")","v":""},null,null,{"$f":"IF(LEN(A4368)>0,VLOOKUP(A4368,Subcontractors!$A$2:$B$4,2,FALSE),\"\")","v":""}]
[null,null,null,null,null,null,null,null,null,null,null,null,null,null,null,null,null,null,null,null,null,null,null,{"$f":"IF(LEN(Z4371)>0,VLOOKUP(Z4371,'TFW Programs'!$A$2:$B$8,2,FALSE),\"\")","v":""},null,null,{"$f":"IF(LEN(A4371)>0,VLOOKUP(A4371,Subcontractors!$A$2:$B$4,2,FALSE),\"\")","v":""}]
[null,null,null,null,null,null,null,null,null,null,null,null,null,null,null,null,null,null,null,null,null,null,null,{"$f":"IF(LEN(Z4377)>0,VLOOKUP(Z4377,'TFW Programs'!$A$2:$B$8,2,FALSE),\"\")","v":""},null,null,{"$f":"IF(LEN(A4377)>0,VLOOKUP(A4377,Subcontractors!$A$2:$B$4,2,FALSE),\"\")","v":""}]
[null,null,null,null,null,null,null,null,null,null,null,null,null,null,null,null,null,null,null,null,null,null,null,{"$f":"IF(LEN(Z4378)>0,VLOOKUP(Z4378,'TFW Programs'!$A$2:$B$8,2,FALSE),\"\")","v":""},null,null,{"$f":"IF(LEN(A4378)>0,VLOOKUP(A4378,Subcontractors!$A$2:$B$4,2,FALSE),\"\")","v":""}]
[null,null,null,null,null,null,null,null,null,null,null,null,null,null,null,null,null,null,null,null,null,null,null,{"$f":"IF(LEN(Z4383)>0,VLOOKUP(Z4383,'TFW Programs'!$A$2:$B$8,2,FALSE),\"\")","v":""},null,null,{"$f":"IF(LEN(A4383)>0,VLOOKUP(A4383,Subcontractors!$A$2:$B$4,2,FALSE),\"\")","v":""}]
[null,null,null,null,null,null,null,null,null,null,null,null,null,null,null,null,null,null,null,null,null,null,null,{"$f":"IF(LEN(Z4388)>0,VLOOKUP(Z4388,'TFW Programs'!$A$2:$B$8,2,FALSE),\"\")","v":""},null,null,{"$f":"IF(LEN(A4388)>0,VLOOKUP(A4388,Subcontractors!$A$2:$B$4,2,FALSE),\"\")","v":""}]
[null,null,null,null,null,null,null,null,null,null,null,null,null,null,null,null,null,null,null,null,null,null,null,{"$f":"IF(LEN(Z4392)>0,VLOOKUP(Z4392,'TFW Programs'!$A$2:$B$8,2,FALSE),\"\")","v":""},null,null,{"$f":"IF(LEN(A4392)>0,VLOOKUP(A4392,Subcontractors!$A$2:$B$4,2,FALSE),\"\")","v":""}]
[null,null,null,null,null,null,null,null,null,null,null,null,null,null,null,null,null,null,null,null,null,null,null,{"$f":"IF(LEN(Z4393)>0,VLOOKUP(Z4393,'TFW Programs'!$A$2:$B$8,2,FALSE),\"\")","v":""},null,null,{"$f":"IF(LEN(A4393)>0,VLOOKUP(A4393,Subcontractors!$A$2:$B$4,2,FALSE),\"\")","v":""}]
[null,null,null,null,null,null,null,null,null,null,null,null,null,null,null,null,null,null,null,null,null,null,null,{"$f":"IF(LEN(Z4398)>0,VLOOKUP(Z4398,'TFW Programs'!$A$2:$B$8,2,FALSE),\"\")","v":""},null,null,{"$f":"IF(LEN(A4398)>0,VLOOKUP(A4398,Subcontractors!$A$2:$B$4,2,FALSE),\"\")","v":""}]
[null,null,null,null,null,null,null,null,null,null,null,null,null,null,null,null,null,null,null,null,null,null,null,{"$f":"IF(LEN(Z4403)>0,VLOOKUP(Z4403,'TFW Programs'!$A$2:$B$8,2,FALSE),\"\")","v":""},null,null,{"$f":"IF(LEN(A4403)>0,VLOOKUP(A4403,Subcontractors!$A$2:$B$4,2,FALSE),\"\")","v":""}]
[null,null,null,null,null,null,null,null,null,null,null,null,null,null,null,null,null,null,null,null,null,null,null,{"$f":"IF(LEN(Z4405)>0,VLOOKUP(Z4405,'TFW Programs'!$A$2:$B$8,2,FALSE),\"\")","v":""},null,null,{"$f":"IF(LEN(A4405)>0,VLOOKUP(A4405,Subcontractors!$A$2:$B$4,2,FALSE),\"\")","v":""}]
[null,null,null,null,null,null,null,null,null,null,null,null,null,null,null,null,null,null,null,null,null,null,null,{"$f":"IF(LEN(Z4408)>0,VLOOKUP(Z4408,'TFW Programs'!$A$2:$B$8,2,FALSE),\"\")","v":""},null,null,{"$f":"IF(LEN(A4408)>0,VLOOKUP(A4408,Subcontractors!$A$2:$B$4,2,FALSE),\"\")","v":""}]
[null,null,null,null,null,null,null,null,null,null,null,null,null,null,null,null,null,null,null,null,null,null,null,{"$f":"IF(LEN(Z4413)>0,VLOOKUP(Z4413,'TFW Programs'!$A$2:$B$8,2,FALSE),\"\")","v":""},null,null,{"$f":"IF(LEN(A4413)>0,VLOOKUP(A4413,Subcontractors!$A$2:$B$4,2,FALSE),\"\")","v":""}]
[null,null,null,null,null,null,null,null,null,null,null,null,null,null,null,null,null,null,null,null,null,null,null,{"$f":"IF(LEN(Z4418)>0,VLOOKUP(Z4418,'TFW Programs'!$A$2:$B$8,2,FALSE),\"\")","v":""},null,null,{"$f":"IF(LEN(A4418)>0,VLOOKUP(A4418,Subcontractors!$A$2:$B$4,2,FALSE),\"\")","v":""}]
[null,null,null,null,null,null,null,null,null,null,null,null,null,null,null,null,null,null,null,null,null,null,null,{"$f":"IF(LEN(Z4423)>0,VLOOKUP(Z4423,'TFW Programs'!$A$2:$B$8,2,FALSE),\"\")","v":""},null,null,{"$f":"IF(LEN(A4423)>0,VLOOKUP(A4423,Subcontractors!$A$2:$B$4,2,FALSE),\"\")","v":""}]
[null,null,null,null,null,null,null,null,null,null,null,null,null,null,null,null,null,null,null,null,null,null,null,{"$f":"IF(LEN(Z4426)>0,VLOOKUP(Z4426,'TFW Programs'!$A$2:$B$8,2,FALSE),\"\")","v":""},null,null,{"$f":"IF(LEN(A4426)>0,VLOOKUP(A4426,Subcontractors!$A$2:$B$4,2,FALSE),\"\")","v":""}]
[null,null,null,null,null,null,null,null,null,null,null,null,null,null,null,null,null,null,null,null,null,null,null,{"$f":"IF(LEN(Z4428)>0,VLOOKUP(Z4428,'TFW Programs'!$A$2:$B$8,2,FALSE),\"\")","v":""},null,null,{"$f":"IF(LEN(A4428)>0,VLOOKUP(A4428,Subcontractors!$A$2:$B$4,2,FALSE),\"\")","v":""}]
[null,null,null,null,null,null,null,null,null,null,null,null,null,null,null,null,null,null,null,null,null,null,null,{"$f":"IF(LEN(Z4433)>0,VLOOKUP(Z4433,'TFW Programs'!$A$2:$B$8,2,FALSE),\"\")","v":""},null,null,{"$f":"IF(LEN(A4433)>0,VLOOKUP(A4433,Subcontractors!$A$2:$B$4,2,FALSE),\"\")","v":""}]
[null,null,null,null,null,null,null,null,null,null,null,null,null,null,null,null,null,null,null,null,null,null,null,{"$f":"IF(LEN(Z4438)>0,VLOOKUP(Z4438,'TFW Programs'!$A$2:$B$8,2,FALSE),\"\")","v":""},null,null,{"$f":"IF(LEN(A4438)>0,VLOOKUP(A4438,Subcontractors!$A$2:$B$4,2,FALSE),\"\")","v":""}]
[null,null,null,null,null,null,null,null,null,null,null,null,null,null,null,null,null,null,null,null,null,null,null,{"$f":"IF(LEN(Z4439)>0,VLOOKUP(Z4439,'TFW Programs'!$A$2:$B$8,2,FALSE),\"\")","v":""},null,null,{"$f":"IF(LEN(A4439)>0,VLOOKUP(A4439,Subcontractors!$A$2:$B$4,2,FALSE),\"\")","v":""}]
[null,null,null,null,null,null,null,null,null,null,null,null,null,null,null,null,null,null,null,null,null,null,null,{"$f":"IF(LEN(Z4443)>0,VLOOKUP(Z4443,'TFW Programs'!$A$2:$B$8,2,FALSE),\"\")","v":""},null,null,{"$f":"IF(LEN(A4443)>0,VLOOKUP(A4443,Subcontractors!$A$2:$B$4,2,FALSE),\"\")","v":""}]
[null,null,null,null,null,null,null,null,null,null,null,null,null,null,null,null,null,null,null,null,null,null,null,{"$f":"IF(LEN(Z4448)>0,VLOOKUP(Z4448,'TFW Programs'!$A$2:$B$8,2,FALSE),\"\")","v":""},null,null,{"$f":"IF(LEN(A4448)>0,VLOOKUP(A4448,Subcontractors!$A$2:$B$4,2,FALSE),\"\")","v":""}]
[null,null,null,null,null,null,null,null,null,null,null,null,null,null,null,null,null,null,null,null,null,null,null,{"$f":"IF(LEN(Z4453)>0,VLOOKUP(Z4453,'TFW Programs'!$A$2:$B$8,2,FALSE),\"\")","v":""},null,null,{"$f":"IF(LEN(A4453)>0,VLOOKUP(A4453,Subcontractors!$A$2:$B$4,2,FALSE),\"\")","v":""}]
[null,null,null,null,null,null,null,null,null,null,null,null,null,null,null,null,null,null,null,null,null,null,null,{"$f":"IF(LEN(Z4456)>0,VLOOKUP(Z4456,'TFW Programs'!$A$2:$B$8,2,FALSE),\"\")","v":""},null,null,{"$f":"IF(LEN(A4456)>0,VLOOKUP(A4456,Subcontractors!$A$2:$B$4,2,FALSE),\"\")","v":""}]
[null,null,null,null,null,null,null,null,null,null,null,null,null,null,null,null,null,null,null,null,null,null,null,{"$f":"IF(LEN(Z4458)>0,VLOOKUP(Z4458,'TFW Programs'!$A$2:$B$8,2,FALSE),\"\")","v":""},null,null,{"$f":"IF(LEN(A4458)>0,VLOOKUP(A4458,Subcontractors!$A$2:$B$4,2,FALSE),\"\")","v":""}]
[null,null,null,null,null,null,null,null,null,null,null,null,null,null,null,null,null,null,null,null,null,null,null,{"$f":"IF(LEN(Z4463)>0,VLOOKUP(Z4463,'TFW Programs'!$A$2:$B$8,2,FALSE),\"\")","v":""},null,null,{"$f":"IF(LEN(A4463)>0,VLOOKUP(A4463,Subcontractors!$A$2:$B$4,2,FALSE),\"\")","v":""}]
[null,null,null,null,null,null,null,null,null,null,null,null,null,null,null,null,null,null,null,null,null,null,null,{"$f":"IF(LEN(Z4468)>0,VLOOKUP(Z4468,'TFW Programs'!$A$2:$B$8,2,FALSE),\"\")","v":""},null,null,{"$f":"IF(LEN(A4468)>0,VLOOKUP(A4468,Subcontractors!$A$2:$B$4,2,FALSE),\"\")","v":""}]
[null,null,null,null,null,null,null,null,null,null,null,null,null,null,null,null,null,null,null,null,null,null,null,{"$f":"IF(LEN(Z4469)>0,VLOOKUP(Z4469,'TFW Programs'!$A$2:$B$8,2,FALSE),\"\")","v":""},null,null,{"$f":"IF(LEN(A4469)>0,VLOOKUP(A4469,Subcontractors!$A$2:$B$4,2,FALSE),\"\")","v":""}]
[null,null,null,null,null,null,null,null,null,null,null,null,null,null,null,null,null,null,null,null,null,null,null,{"$f":"IF(LEN(Z4474)>0,VLOOKUP(Z4474,'TFW Programs'!$A$2:$B$8,2,FALSE),\"\")","v":""},null,null,{"$f":"IF(LEN(A4474)>0,VLOOKUP(A4474,Subcontractors!$A$2:$B$4,2,FALSE),\"\")","v":""}]
[null,null,null,null,null,null,null,null,null,null,null,null,null,null,null,null,null,null,null,null,null,null,null,{"$f":"IF(LEN(Z4478)>0,VLOOKUP(Z4478,'TFW Programs'!$A$2:$B$8,2,FALSE),\"\")","v":""},null,null,{"$f":"IF(LEN(A4478)>0,VLOOKUP(A4478,Subcontractors!$A$2:$B$4,2,FALSE),\"\")","v":""}]
[null,null,null,null,null,null,null,null,null,null,null,null,null,null,null,null,null,null,null,null,null,null,null,{"$f":"IF(LEN(Z4483)>0,VLOOKUP(Z4483,'TFW Programs'!$A$2:$B$8,2,FALSE),\"\")","v":""},null,null,{"$f":"IF(LEN(A4483)>0,VLOOKUP(A4483,Subcontractors!$A$2:$B$4,2,FALSE),\"\")","v":""}]
[null,null,null,null,null,null,null,null,null,null,null,null,null,null,null,null,null,null,null,null,null,null,null,{"$f":"IF(LEN(Z4484)>0,VLOOKUP(Z4484,'TFW Programs'!$A$2:$B$8,2,FALSE),\"\")","v":""},null,null,{"$f":"IF(LEN(A4484)>0,VLOOKUP(A4484,Subcontractors!$A$2:$B$4,2,FALSE),\"\")","v":""}]
[null,null,null,null,null,null,null,null,null,null,null,null,null,null,null,null,null,null,null,null,null,null,null,{"$f":"IF(LEN(Z4490)>0,VLOOKUP(Z4490,'TFW Programs'!$A$2:$B$8,2,FALSE),\"\")","v":""},null,null,{"$f":"IF(LEN(A4490)>0,VLOOKUP(A4490,Subcontractors!$A$2:$B$4,2,FALSE),\"\")","v":""}]
[null,null,null,null,null,null,null,null,null,null,null,null,null,null,null,null,null,null,null,null,null,null,null,{"$f":"IF(LEN(Z4493)>0,VLOOKUP(Z4493,'TFW Programs'!$A$2:$B$8,2,FALSE),\"\")","v":""},null,null,{"$f":"IF(LEN(A4493)>0,VLOOKUP(A4493,Subcontractors!$A$2:$B$4,2,FALSE),\"\")","v":""}]
[null,null,null,null,null,null,null,null,null,null,null,null,null,null,null,null,null,null,null,null,null,null,null,{"$f":"IF(LEN(Z4498)>0,VLOOKUP(Z4498,'TFW Programs'!$A$2:$B$8,2,FALSE),\"\")","v":""},null,null,{"$f":"IF(LEN(A4498)>0,VLOOKUP(A4498,Subcontractors!$A$2:$B$4,2,FALSE),\"\")","v":""}]
[null,null,null,null,null,null,null,null,null,null,null,null,null,null,null,null,null,null,null,null,null,null,null,{"$f":"IF(LEN(Z4499)>0,VLOOKUP(Z4499,'TFW Programs'!$A$2:$B$8,2,FALSE),\"\")","v":""},null,null,{"$f":"IF(LEN(A4499)>0,VLOOKUP(A4499,Subcontractors!$A$2:$B$4,2,FALSE),\"\")","v":""}]
[null,null,null,null,null,null,null,null,null,null,null,null,null,null,null,null,null,null,null,null,null,null,null,{"$f":"IF(LEN(Z4504)>0,VLOOKUP(Z4504,'TFW Programs'!$A$2:$B$8,2,FALSE),\"\")","v":""},null,null,{"$f":"IF(LEN(A4504)>0,VLOOKUP(A4504,Subcontractors!$A$2:$B$4,2,FALSE),\"\")","v":""}]
[null,null,null,null,null,null,null,null,null,null,null,null,null,null,null,null,null,null,null,null,null,null,null,{"$f":"IF(LEN(Z4508)>0,VLOOKUP(Z4508,'TFW Programs'!$A$2:$B$8,2,FALSE),\"\")","v":""},null,null,{"$f":"IF(LEN(A4508)>0,VLOOKUP(A4508,Subcontractors!$A$2:$B$4,2,FALSE),\"\")","v":""}]
[null,null,null,null,null,null,null,null,null,null,null,null,null,null,null,null,null,null,null,null,null,null,null,{"$f":"IF(LEN(Z4513)>0,VLOOKUP(Z4513,'TFW Programs'!$A$2:$B$8,2,FALSE),\"\")","v":""},null,null,{"$f":"IF(LEN(A4513)>0,VLOOKUP(A4513,Subcontractors!$A$2:$B$4,2,FALSE),\"\")","v":""}]
[null,null,null,null,null,null,null,null,null,null,null,null,null,null,null,null,null,null,null,null,null,null,null,{"$f":"IF(LEN(Z4514)>0,VLOOKUP(Z4514,'TFW Programs'!$A$2:$B$8,2,FALSE),\"\")","v":""},null,null,{"$f":"IF(LEN(A4514)>0,VLOOKUP(A4514,Subcontractors!$A$2:$B$4,2,FALSE),\"\")","v":""}]
[null,null,null,null,null,null,null,null,null,null,null,null,null,null,null,null,null,null,null,null,null,null,null,{"$f":"IF(LEN(Z4519)>0,VLOOKUP(Z4519,'TFW Programs'!$A$2:$B$8,2,FALSE),\"\")","v":""},null,null,{"$f":"IF(LEN(A4519)>0,VLOOKUP(A4519,Subcontractors!$A$2:$B$4,2,FALSE),\"\")","v":""}]
[null,null,null,null,null,null,null,null,null,null,null,null,null,null,null,null,null,null,null,null,null,null,null,{"$f":"IF(LEN(Z4522)>0,VLOOKUP(Z4522,'TFW Programs'!$A$2:$B$8,2,FALSE),\"\")","v":""},null,null,{"$f":"IF(LEN(A4522)>0,VLOOKUP(A4522,Subcontractors!$A$2:$B$4,2,FALSE),\"\")","v":""}]
[null,null,null,null,null,null,null,null,null,null,null,null,null,null,null,null,null,null,null,null,null,null,null,{"$f":"IF(LEN(Z4528)>0,VLOOKUP(Z4528,'TFW Programs'!$A$2:$B$8,2,FALSE),\"\")","v":""},null,null,{"$f":"IF(LEN(A4528)>0,VLOOKUP(A4528,Subcontractors!$A$2:$B$4,2,FALSE),\"\")","v":""}]
[null,null,null,null,null,null,null,null,null,null,null,null,null,null,null,null,null,null,null,null,null,null,null,{"$f":"IF(LEN(Z4529)>0,VLOOKUP(Z4529,'TFW Programs'!$A$2:$B$8,2,FALSE),\"\")","v":""},null,null,{"$f":"IF(LEN(A4529)>0,VLOOKUP(A4529,Subcontractors!$A$2:$B$4,2,FALSE),\"\")","v":""}]
[null,null,null,null,null,null,null,null,null,null,null,null,null,null,null,null,null,null,null,null,null,null,null,{"$f":"IF(LEN(Z4534)>0,VLOOKUP(Z4534,'TFW Programs'!$A$2:$B$8,2,FALSE),\"\")","v":""},null,null,{"$f":"IF(LEN(A4534)>0,VLOOKUP(A4534,Subcontractors!$A$2:$B$4,2,FALSE),\"\")","v":""}]
[null,null,null,null,null,null,null,null,null,null,null,null,null,null,null,null,null,null,null,null,null,null,null,{"$f":"IF(LEN(Z4539)>0,VLOOKUP(Z4539,'TFW Programs'!$A$2:$B$8,2,FALSE),\"\")","v":""},null,null,{"$f":"IF(LEN(A4539)>0,VLOOKUP(A4539,Subcontractors!$A$2:$B$4,2,FALSE),\"\")","v":""}]
[null,null,null,null,null,null,null,null,null,null,null,null,null,null,null,null,null,null,null,null,null,null,null,{"$f":"IF(LEN(Z4543)>0,VLOOKUP(Z4543,'TFW Programs'!$A$2:$B$8,2,FALSE),\"\")","v":""},null,null,{"$f":"IF(LEN(A4543)>0,VLOOKUP(A4543,Subcontractors!$A$2:$B$4,2,FALSE),\"\")","v":""}]
[null,null,null,null,null,null,null,null,null,null,null,null,null,null,null,null,null,null,null,null,null,null,null,{"$f":"IF(LEN(Z4544)>0,VLOOKUP(Z4544,'TFW Programs'!$A$2:$B$8,2,FALSE),\"\")","v":""},null,null,{"$f":"IF(LEN(A4544)>0,VLOOKUP(A4544,Subcontractors!$A$2:$B$4,2,FALSE),\"\")","v":""}]
[null,null,null,null,null,null,null,null,null,null,null,null,null,null,null,null,null,null,null,null,null,null,null,{"$f":"IF(LEN(Z4549)>0,VLOOKUP(Z4549,'TFW Programs'!$A$2:$B$8,2,FALSE),\"\")","v":""},null,null,{"$f":"IF(LEN(A4549)>0,VLOOKUP(A4549,Subcontractors!$A$2:$B$4,2,FALSE),\"\")","v":""}]
[null,null,null,null,null,null,null,null,null,null,null,null,null,null,null,null,null,null,null,null,null,null,null,{"$f":"IF(LEN(Z4554)>0,VLOOKUP(Z4554,'TFW Programs'!$A$2:$B$8,2,FALSE),\"\")","v":""},null,null,{"$f":"IF(LEN(A4554)>0,VLOOKUP(A4554,Subcontractors!$A$2:$B$4,2,FALSE),\"\")","v":""}]
[null,null,null,null,null,null,null,null,null,null,null,null,null,null,null,null,null,null,null,null,null,null,null,{"$f":"IF(LEN(Z4556)>0,VLOOKUP(Z4556,'TFW Programs'!$A$2:$B$8,2,FALSE),\"\")","v":""},null,null,{"$f":"IF(LEN(A4556)>0,VLOOKUP(A4556,Subcontractors!$A$2:$B$4,2,FALSE),\"\")","v":""}]
[null,null,null,null,null,null,null,null,null,null,null,null,null,null,null,null,null,null,null,null,null,null,null,{"$f":"IF(LEN(Z4559)>0,VLOOKUP(Z4559,'TFW Programs'!$A$2:$B$8,2,FALSE),\"\")","v":""},null,null,{"$f":"IF(LEN(A4559)>0,VLOOKUP(A4559,Subcontractors!$A$2:$B$4,2,FALSE),\"\")","v":""}]
[null,null,null,null,null,null,null,null,null,null,null,null,null,null,null,null,null,null,null,null,null,null,null,{"$f":"IF(LEN(Z4564)>0,VLOOKUP(Z4564,'TFW Programs'!$A$2:$B$8,2,FALSE),\"\")","v":""},null,null,{"$f":"IF(LEN(A4564)>0,VLOOKUP(A4564,Subcontractors!$A$2:$B$4,2,FALSE),\"\")","v":""}]
[null,null,null,null,null,null,null,null,null,null,null,null,null,null,null,null,null,null,null,null,null,null,null,{"$f":"IF(LEN(Z4569)>0,VLOOKUP(Z4569,'TFW Programs'!$A$2:$B$8,2,FALSE),\"\")","v":""},null,null,{"$f":"IF(LEN(A4569)>0,VLOOKUP(A4569,Subcontractors!$A$2:$B$4,2,FALSE),\"\")","v":""}]
[null,null,null,null,null,null,null,null,null,null,null,null,null,null,null,null,null,null,null,null,null,null,null,{"$f":"IF(LEN(Z4573)>0,VLOOKUP(Z4573,'TFW Programs'!$A$2:$B$8,2,FALSE),\"\")","v":""},null,null,{"$f":"IF(LEN(A4573)>0,VLOOKUP(A4573,Subcontractors!$A$2:$B$4,2,FALSE),\"\")","v":""}]
[null,null,null,null,null,null,null,null,null,null,null,null,null,null,null,null,null,null,null,null,null,null,null,{"$f":"IF(LEN(Z4574)>0,VLOOKUP(Z4574,'TFW Programs'!$A$2:$B$8,2,FALSE),\"\")","v":""},null,null,{"$f":"IF(LEN(A4574)>0,VLOOKUP(A4574,Subcontractors!$A$2:$B$4,2,FALSE),\"\")","v":""}]
[null,null,null,null,null,null,null,null,null,null,null,null,null,null,null,null,null,null,null,null,null,null,null,{"$f":"IF(LEN(Z4579)>0,VLOOKUP(Z4579,'TFW Programs'!$A$2:$B$8,2,FALSE),\"\")","v":""},null,null,{"$f":"IF(LEN(A4579)>0,VLOOKUP(A4579,Subcontractors!$A$2:$B$4,2,FALSE),\"\")","v":""}]
[null,null,null,null,null,null,null,null,null,null,null,null,null,null,null,null,null,null,null,null,null,null,null,{"$f":"IF(LEN(Z4584)>0,VLOOKUP(Z4584,'TFW Programs'!$A$2:$B$8,2,FALSE),\"\")","v":""},null,null,{"$f":"IF(LEN(A4584)>0,VLOOKUP(A4584,Subcontractors!$A$2:$B$4,2,FALSE),\"\")","v":""}]
[null,null,null,null,null,null,null,null,null,null,null,null,null,null,null,null,null,null,null,null,null,null,null,{"$f":"IF(LEN(Z4589)>0,VLOOKUP(Z4589,'TFW Programs'!$A$2:$B$8,2,FALSE),\"\")","v":""},null,null,{"$f":"IF(LEN(A4589)>0,VLOOKUP(A4589,Subcontractors!$A$2:$B$4,2,FALSE),\"\")","v":""}]
[null,null,null,null,null,null,null,null,null,null,null,null,null,null,null,null,null,null,null,null,null,null,null,{"$f":"IF(LEN(Z4591)>0,VLOOKUP(Z4591,'TFW Programs'!$A$2:$B$8,2,FALSE),\"\")","v":""},null,null,{"$f":"IF(LEN(A4591)>0,VLOOKUP(A4591,Subcontractors!$A$2:$B$4,2,FALSE),\"\")","v":""}]
[null,null,null,null,null,null,null,null,null,null,null,null,null,null,null,null,null,null,null,null,null,null,null,{"$f":"IF(LEN(Z4594)>0,VLOOKUP(Z4594,'TFW Programs'!$A$2:$B$8,2,FALSE),\"\")","v":""},null,null,{"$f":"IF(LEN(A4594)>0,VLOOKUP(A4594,Subcontractors!$A$2:$B$4,2,FALSE),\"\")","v":""}]
[null,null,null,null,null,null,null,null,null,null,null,null,null,null,null,null,null,null,null,null,null,null,null,{"$f":"IF(LEN(Z4599)>0,VLOOKUP(Z4599,'TFW Programs'!$A$2:$B$8,2,FALSE),\"\")","v":""},null,null,{"$f":"IF(LEN(A4599)>0,VLOOKUP(A4599,Subcontractors!$A$2:$B$4,2,FALSE),\"\")","v":""}]
[null,null,null,null,null,null,null,null,null,null,null,null,null,null,null,null,null,null,null,null,null,null,null,{"$f":"IF(LEN(Z4604)>0,VLOOKUP(Z4604,'TFW Programs'!$A$2:$B$8,2,FALSE),\"\")","v":""},null,null,{"$f":"IF(LEN(A4604)>0,VLOOKUP(A4604,Subcontractors!$A$2:$B$4,2,FALSE),\"\")","v":""}]
[null,null,null,null,null,null,null,null,null,null,null,null,null,null,null,null,null,null,null,null,null,null,null,{"$f":"IF(LEN(Z4607)>0,VLOOKUP(Z4607,'TFW Programs'!$A$2:$B$8,2,FALSE),\"\")","v":""},null,null,{"$f":"IF(LEN(A4607)>0,VLOOKUP(A4607,Subcontractors!$A$2:$B$4,2,FALSE),\"\")","v":""}]
[null,null,null,null,null,null,null,null,null,null,null,null,null,null,null,null,null,null,null,null,null,null,null,{"$f":"IF(LEN(Z4609)>0,VLOOKUP(Z4609,'TFW Programs'!$A$2:$B$8,2,FALSE),\"\")","v":""},null,null,{"$f":"IF(LEN(A4609)>0,VLOOKUP(A4609,Subcontractors!$A$2:$B$4,2,FALSE),\"\")","v":""}]
[null,null,null,null,null,null,null,null,null,null,null,null,null,null,null,null,null,null,null,null,null,null,null,{"$f":"IF(LEN(Z4614)>0,VLOOKUP(Z4614,'TFW Programs'!$A$2:$B$8,2,FALSE),\"\")","v":""},null,null,{"$f":"IF(LEN(A4614)>0,VLOOKUP(A4614,Subcontractors!$A$2:$B$4,2,FALSE),\"\")","v":""}]
[null,null,null,null,null,null,null,null,null,null,null,null,null,null,null,null,null,null,null,null,null,null,null,{"$f":"IF(LEN(Z4619)>0,VLOOKUP(Z4619,'TFW Programs'!$A$2:$B$8,2,FALSE),\"\")","v":""},null,null,{"$f":"IF(LEN(A4619)>0,VLOOKUP(A4619,Subcontractors!$A$2:$B$4,2,FALSE),\"\")","v":""}]
[null,null,null,null,null,null,null,null,null,null,null,null,null,null,null,null,null,null,null,null,null,null,null,{"$f":"IF(LEN(Z4620)>0,VLOOKUP(Z4620,'TFW Programs'!$A$2:$B$8,2,FALSE),\"\")","v":""},null,null,{"$f":"IF(LEN(A4620)>0,VLOOKUP(A4620,Subcontractors!$A$2:$B$4,2,FALSE),\"\")","v":""}]
[null,null,null,null,null,null,null,null,null,null,null,null,null,null,null,null,null,null,null,null,null,null,null,{"$f":"IF(LEN(Z4625)>0,VLOOKUP(Z4625,'TFW Programs'!$A$2:$B$8,2,FALSE),\"\")","v":""},null,null,{"$f":"IF(LEN(A4625)>0,VLOOKUP(A4625,Subcontractors!$A$2:$B$4,2,FALSE),\"\")","v":""}]
[null,null,null,null,null,null,null,null,null,null,null,null,null,null,null,null,null,null,null,null,null,null,null,{"$f":"IF(LEN(Z4629)>0,VLOOKUP(Z4629,'TFW Programs'!$A$2:$B$8,2,FALSE),\"\")","v":""},null,null,{"$f":"IF(LEN(A4629)>0,VLOOKUP(A4629,Subcontractors!$A$2:$B$4,2,FALSE),\"\")","v":""}]
[null,null,null,null,null,null,null,null,null,null,null,null,null,null,null,null,null,null,null,null,null,null,null,{"$f":"IF(LEN(Z4634)>0,VLOOKUP(Z4634,'TFW Programs'!$A$2:$B$8,2,FALSE),\"\")","v":""},null,null,{"$f":"IF(LEN(A4634)>0,VLOOKUP(A4634,Subcontractors!$A$2:$B$4,2,FALSE),\"\")","v":""}]
[null,null,null,null,null,null,null,null,null,null,null,null,null,null,null,null,null,null,null,null,null,null,null,{"$f":"IF(LEN(Z4635)>0,VLOOKUP(Z4635,'TFW Programs'!$A$2:$B$8,2,FALSE),\"\")","v":""},null,null,{"$f":"IF(LEN(A4635)>0,VLOOKUP(A4635,Subcontractors!$A$2:$B$4,2,FALSE),\"\")","v":""}]
[null,null,null,null,null,null,null,null,null,null,null,null,null,null,null,null,null,null,null,null,null,null,null,{"$f":"IF(LEN(Z4639)>0,VLOOKUP(Z4639,'TFW Programs'!$A$2:$B$8,2,FALSE),\"\")","v":""},null,null,{"$f":"IF(LEN(A4639)>0,VLOOKUP(A4639,Subcontractors!$A$2:$B$4,2,FALSE),\"\")","v":""}]
[null,null,null,null,null,null,null,null,null,null,null,null,null,null,null,null,null,null,null,null,null,null,null,{"$f":"IF(LEN(Z4644)>0,VLOOKUP(Z4644,'TFW Programs'!$A$2:$B$8,2,FALSE),\"\")","v":""},null,null,{"$f":"IF(LEN(A4644)>0,VLOOKUP(A4644,Subcontractors!$A$2:$B$4,2,FALSE),\"\")","v":""}]
[null,null,null,null,null,null,null,null,null,null,null,null,null,null,null,null,null,null,null,null,null,null,null,{"$f":"IF(LEN(Z4649)>0,VLOOKUP(Z4649,'TFW Programs'!$A$2:$B$8,2,FALSE),\"\")","v":""},null,null,{"$f":"IF(LEN(A4649)>0,VLOOKUP(A4649,Subcontractors!$A$2:$B$4,2,FALSE),\"\")","v":""}]
[null,null,null,null,null,null,null,null,null,null,null,null,null,null,null,null,null,null,null,null,null,null,null,{"$f":"IF(LEN(Z4650)>0,VLOOKUP(Z4650,'TFW Programs'!$A$2:$B$8,2,FALSE),\"\")","v":""},null,null,{"$f":"IF(LEN(A4650)>0,VLOOKUP(A4650,Subcontractors!$A$2:$B$4,2,FALSE),\"\")","v":""}]
[null,null,null,null,null,null,null,null,null,null,null,null,null,null,null,null,null,null,null,null,null,null,null,{"$f":"IF(LEN(Z4655)>0,VLOOKUP(Z4655,'TFW Programs'!$A$2:$B$8,2,FALSE),\"\")","v":""},null,null,{"$f":"IF(LEN(A4655)>0,VLOOKUP(A4655,Subcontractors!$A$2:$B$4,2,FALSE),\"\")","v":""}]
[null,null,null,null,null,null,null,null,null,null,null,null,null,null,null,null,null,null,null,null,null,null,null,{"$f":"IF(LEN(Z4660)>0,VLOOKUP(Z4660,'TFW Programs'!$A$2:$B$8,2,FALSE),\"\")","v":""},null,null,{"$f":"IF(LEN(A4660)>0,VLOOKUP(A4660,Subcontractors!$A$2:$B$4,2,FALSE),\"\")","v":""}]
[null,null,null,null,null,null,null,null,null,null,null,null,null,null,null,null,null,null,null,null,null,null,null,{"$f":"IF(LEN(Z4664)>0,VLOOKUP(Z4664,'TFW Programs'!$A$2:$B$8,2,FALSE),\"\")","v":""},null,null,{"$f":"IF(LEN(A4664)>0,VLOOKUP(A4664,Subcontractors!$A$2:$B$4,2,FALSE),\"\")","v":""}]
[null,null,null,null,null,null,null,null,null,null,null,null,null,null,null,null,null,null,null,null,null,null,null,{"$f":"IF(LEN(Z4665)>0,VLOOKUP(Z4665,'TFW Programs'!$A$2:$B$8,2,FALSE),\"\")","v":""},null,null,{"$f":"IF(LEN(A4665)>0,VLOOKUP(A4665,Subcontractors!$A$2:$B$4,2,FALSE),\"\")","v":""}]
[null,null,null,null,null,null,null,null,null,null,null,null,null,null,null,null,null,null,null,null,null,null,null,{"$f":"IF(LEN(Z4670)>0,VLOOKUP(Z4670,'TFW Programs'!$A$2:$B$8,2,FALSE),\"\")","v":""},null,null,{"$f":"IF(LEN(A4670)>0,VLOOKUP(A4670,Subcontractors!$A$2:$B$4,2,FALSE),\"\")","v":""}]
[null,null,null,null,null,null,null,null,null,null,null,null,null,null,null,null,null,null,null,null,null,null,null,{"$f":"IF(LEN(Z4673)>0,VLOOKUP(Z4673,'TFW Programs'!$A$2:$B$8,2,FALSE),\"\")","v":""},null,null,{"$f":"IF(LEN(A4673)>0,VLOOKUP(A4673,Subcontractors!$A$2:$B$4,2,FALSE),\"\")","v":""}]
[null,null,null,null,null,null,null,null,null,null,null,null,null,null,null,null,null,null,null,null,null,null,null,{"$f":"IF(LEN(Z4679)>0,VLOOKUP(Z4679,'TFW Programs'!$A$2:$B$8,2,FALSE),\"\")","v":""},null,null,{"$f":"IF(LEN(A4679)>0,VLOOKUP(A4679,Subcontractors!$A$2:$B$4,2,FALSE),\"\")","v":""}]
[null,null,null,null,null,null,null,null,null,null,null,null,null,null,null,null,null,null,null,null,null,null,null,{"$f":"IF(LEN(Z4680)>0,VLOOKUP(Z4680,'TFW Programs'!$A$2:$B$8,2,FALSE),\"\")","v":""},null,null,{"$f":"IF(LEN(A4680)>0,VLOOKUP(A4680,Subcontractors!$A$2:$B$4,2,FALSE),\"\")","v":""}]
[null,null,null,null,null,null,null,null,null,null,null,null,null,null,null,null,null,null,null,null,null,null,null,{"$f":"IF(LEN(Z4685)>0,VLOOKUP(Z4685,'TFW Programs'!$A$2:$B$8,2,FALSE),\"\")","v":""},null,null,{"$f":"IF(LEN(A4685)>0,VLOOKUP(A4685,Subcontractors!$A$2:$B$4,2,FALSE),\"\")","v":""}]
[null,null,null,null,null,null,null,null,null,null,null,null,null,null,null,null,null,null,null,null,null,null,null,{"$f":"IF(LEN(Z4690)>0,VLOOKUP(Z4690,'TFW Programs'!$A$2:$B$8,2,FALSE),\"\")","v":""},null,null,{"$f":"IF(LEN(A4690)>0,VLOOKUP(A4690,Subcontractors!$A$2:$B$4,2,FALSE),\"\")","v":""}]
[null,null,null,null,null,null,null,null,null,null,null,null,null,null,null,null,null,null,null,null,null,null,null,{"$f":"IF(LEN(Z4694)>0,VLOOKUP(Z4694,'TFW Programs'!$A$2:$B$8,2,FALSE),\"\")","v":""},null,null,{"$f":"IF(LEN(A4694)>0,VLOOKUP(A4694,Subcontractors!$A$2:$B$4,2,FALSE),\"\")","v":""}]
[null,null,null,null,null,null,null,null,null,null,null,null,null,null,null,null,null,null,null,null,null,null,null,{"$f":"IF(LEN(Z4695)>0,VLOOKUP(Z4695,'TFW Programs'!$A$2:$B$8,2,FALSE),\"\")","v":""},null,null,{"$f":"IF(LEN(A4695)>0,VLOOKUP(A4695,Subcontractors!$A$2:$B$4,2,FALSE),\"\")","v":""}]
[null,null,null,null,null,null,null,null,null,null,null,null,null,null,null,null,null,null,null,null,null,null,null,{"$f":"IF(LEN(Z4700)>0,VLOOKUP(Z4700,'TFW Programs'!$A$2:$B$8,2,FALSE),\"\")","v":""},null,null,{"$f":"IF(LEN(A4700)>0,VLOOKUP(A4700,Subcontractors!$A$2:$B$4,2,FALSE),\"\")","v":""}]
[null,null,null,null,null,null,null,null,null,null,null,null,null,null,null,null,null,null,null,null,null,null,null,{"$f":"IF(LEN(Z4705)>0,VLOOKUP(Z4705,'TFW Programs'!$A$2:$B$8,2,FALSE),\"\")","v":""},null,null,{"$f":"IF(LEN(A4705)>0,VLOOKUP(A4705,Subcontractors!$A$2:$B$4,2,FALSE),\"\")","v":""}]
[null,null,null,null,null,null,null,null,null,null,null,null,null,null,null,null,null,null,null,null,null,null,null,{"$f":"IF(LEN(Z4708)>0,VLOOKUP(Z4708,'TFW Programs'!$A$2:$B$8,2,FALSE),\"\")","v":""},null,null,{"$f":"IF(LEN(A4708)>0,VLOOKUP(A4708,Subcontractors!$A$2:$B$4,2,FALSE),\"\")","v":""}]
[null,null,null,null,null,null,null,null,null,null,null,null,null,null,null,null,null,null,null,null,null,null,null,{"$f":"IF(LEN(Z4710)>0,VLOOKUP(Z4710,'TFW Programs'!$A$2:$B$8,2,FALSE),\"\")","v":""},null,null,{"$f":"IF(LEN(A4710)>0,VLOOKUP(A4710,Subcontractors!$A$2:$B$4,2,FALSE),\"\")","v":""}]
[null,null,null,null,null,null,null,null,null,null,null,null,null,null,null,null,null,null,null,null,null,null,null,{"$f":"IF(LEN(Z4715)>0,VLOOKUP(Z4715,'TFW Programs'!$A$2:$B$8,2,FALSE),\"\")","v":""},null,null,{"$f":"IF(LEN(A4715)>0,VLOOKUP(A4715,Subcontractors!$A$2:$B$4,2,FALSE),\"\")","v":""}]
[null,null,null,null,null,null,null,null,null,null,null,null,null,null,null,null,null,null,null,null,null,null,null,{"$f":"IF(LEN(Z4720)>0,VLOOKUP(Z4720,'TFW Programs'!$A$2:$B$8,2,FALSE),\"\")","v":""},null,null,{"$f":"IF(LEN(A4720)>0,VLOOKUP(A4720,Subcontractors!$A$2:$B$4,2,FALSE),\"\")","v":""}]
[null,null,null,null,null,null,null,null,null,null,null,null,null,null,null,null,null,null,null,null,null,null,null,{"$f":"IF(LEN(Z4724)>0,VLOOKUP(Z4724,'TFW Programs'!$A$2:$B$8,2,FALSE),\"\")","v":""},null,null,{"$f":"IF(LEN(A4724)>0,VLOOKUP(A4724,Subcontractors!$A$2:$B$4,2,FALSE),\"\")","v":""}]
[null,null,null,null,null,null,null,null,null,null,null,null,null,null,null,null,null,null,null,null,null,null,null,{"$f":"IF(LEN(Z4725)>0,VLOOKUP(Z4725,'TFW Programs'!$A$2:$B$8,2,FALSE),\"\")","v":""},null,null,{"$f":"IF(LEN(A4725)>0,VLOOKUP(A4725,Subcontractors!$A$2:$B$4,2,FALSE),\"\")","v":""}]
[null,null,null,null,null,null,null,null,null,null,null,null,null,null,null,null,null,null,null,null,null,null,null,{"$f":"IF(LEN(Z4730)>0,VLOOKUP(Z4730,'TFW Programs'!$A$2:$B$8,2,FALSE),\"\")","v":""},null,null,{"$f":"IF(LEN(A4730)>0,VLOOKUP(A4730,Subcontractors!$A$2:$B$4,2,FALSE),\"\")","v":""}]
[null,null,null,null,null,null,null,null,null,null,null,null,null,null,null,null,null,null,null,null,null,null,null,{"$f":"IF(LEN(Z4735)>0,VLOOKUP(Z4735,'TFW Programs'!$A$2:$B$8,2,FALSE),\"\")","v":""},null,null,{"$f":"IF(LEN(A4735)>0,VLOOKUP(A4735,Subcontractors!$A$2:$B$4,2,FALSE),\"\")","v":""}]
[null,null,null,null,null,null,null,null,null,null,null,null,null,null,null,null,null,null,null,null,null,null,null,{"$f":"IF(LEN(Z4740)>0,VLOOKUP(Z4740,'TFW Programs'!$A$2:$B$8,2,FALSE),\"\")","v":""},null,null,{"$f":"IF(LEN(A4740)>0,VLOOKUP(A4740,Subcontractors!$A$2:$B$4,2,FALSE),\"\")","v":""}]
[null,null,null,null,null,null,null,null,null,null,null,null,null,null,null,null,null,null,null,null,null,null,null,{"$f":"IF(LEN(Z4742)>0,VLOOKUP(Z4742,'TFW Programs'!$A$2:$B$8,2,FALSE),\"\")","v":""},null,null,{"$f":"IF(LEN(A4742)>0,VLOOKUP(A4742,Subcontractors!$A$2:$B$4,2,FALSE),\"\")","v":""}]
[null,null,null,null,null,null,null,null,null,null,null,null,null,null,null,null,null,null,null,null,null,null,null,{"$f":"IF(LEN(Z4745)>0,VLOOKUP(Z4745,'TFW Programs'!$A$2:$B$8,2,FALSE),\"\")","v":""},null,null,{"$f":"IF(LEN(A4745)>0,VLOOKUP(A4745,Subcontractors!$A$2:$B$4,2,FALSE),\"\")","v":""}]
[null,null,null,null,null,null,null,null,null,null,null,null,null,null,null,null,null,null,null,null,null,null,null,{"$f":"IF(LEN(Z4750)>0,VLOOKUP(Z4750,'TFW Programs'!$A$2:$B$8,2,FALSE),\"\")","v":""},null,null,{"$f":"IF(LEN(A4750)>0,VLOOKUP(A4750,Subcontractors!$A$2:$B$4,2,FALSE),\"\")","v":""}]
[null,null,null,null,null,null,null,null,null,null,null,null,null,null,null,null,null,null,null,null,null,null,null,{"$f":"IF(LEN(Z4755)>0,VLOOKUP(Z4755,'TFW Programs'!$A$2:$B$8,2,FALSE),\"\")","v":""},null,null,{"$f":"IF(LEN(A4755)>0,VLOOKUP(A4755,Subcontractors!$A$2:$B$4,2,FALSE),\"\")","v":""}]
[null,null,null,null,null,null,null,null,null,null,null,null,null,null,null,null,null,null,null,null,null,null,null,{"$f":"IF(LEN(Z4756)>0,VLOOKUP(Z4756,'TFW Programs'!$A$2:$B$8,2,FALSE),\"\")","v":""},null,null,{"$f":"IF(LEN(A4756)>0,VLOOKUP(A4756,Subcontractors!$A$2:$B$4,2,FALSE),\"\")","v":""}]
[null,null,null,null,null,null,null,null,null,null,null,null,null,null,null,null,null,null,null,null,null,null,null,{"$f":"IF(LEN(Z4760)>0,VLOOKUP(Z4760,'TFW Programs'!$A$2:$B$8,2,FALSE),\"\")","v":""},null,null,{"$f":"IF(LEN(A4760)>0,VLOOKUP(A4760,Subcontractors!$A$2:$B$4,2,FALSE),\"\")","v":""}]
[null,null,null,null,null,null,null,null,null,null,null,null,null,null,null,null,null,null,null,null,null,null,null,{"$f":"IF(LEN(Z4765)>0,VLOOKUP(Z4765,'TFW Programs'!$A$2:$B$8,2,FALSE),\"\")","v":""},null,null,{"$f":"IF(LEN(A4765)>0,VLOOKUP(A4765,Subcontractors!$A$2:$B$4,2,FALSE),\"\")","v":""}]
[null,null,null,null,null,null,null,null,null,null,null,null,null,null,null,null,null,null,null,null,null,null,null,{"$f":"IF(LEN(Z4770)>0,VLOOKUP(Z4770,'TFW Programs'!$A$2:$B$8,2,FALSE),\"\")","v":""},null,null,{"$f":"IF(LEN(A4770)>0,VLOOKUP(A4770,Subcontractors!$A$2:$B$4,2,FALSE),\"\")","v":""}]
[null,null,null,null,null,null,null,null,null,null,null,null,null,null,null,null,null,null,null,null,null,null,null,{"$f":"IF(LEN(Z4771)>0,VLOOKUP(Z4771,'TFW Programs'!$A$2:$B$8,2,FALSE),\"\")","v":""},null,null,{"$f":"IF(LEN(A4771)>0,VLOOKUP(A4771,Subcontractors!$A$2:$B$4,2,FALSE),\"\")","v":""}]
[null,null,null,null,null,null,null,null,null,null,null,null,null,null,null,null,null,null,null,null,null,null,null,{"$f":"IF(LEN(Z4775)>0,VLOOKUP(Z4775,'TFW Programs'!$A$2:$B$8,2,FALSE),\"\")","v":""},null,null,{"$f":"IF(LEN(A4775)>0,VLOOKUP(A4775,Subcontractors!$A$2:$B$4,2,FALSE),\"\")","v":""}]
[null,null,null,null,null,null,null,null,null,null,null,null,null,null,null,null,null,null,null,null,null,null,null,{"$f":"IF(LEN(Z4776)>0,VLOOKUP(Z4776,'TFW Programs'!$A$2:$B$8,2,FALSE),\"\")","v":""},null,null,{"$f":"IF(LEN(A4776)>0,VLOOKUP(A4776,Subcontractors!$A$2:$B$4,2,FALSE),\"\")","v":""}]
[null,null,null,null,null,null,null,null,null,null,null,null,null,null,null,null,null,null,null,null,null,null,null,{"$f":"IF(LEN(Z4777)>0,VLOOKUP(Z4777,'TFW Programs'!$A$2:$B$8,2,FALSE),\"\")","v":""},null,null,{"$f":"IF(LEN(A4777)>0,VLOOKUP(A4777,Subcontractors!$A$2:$B$4,2,FALSE),\"\")","v":""}]
[null,null,null,null,null,null,null,null,null,null,null,null,null,null,null,null,null,null,null,null,null,null,null,{"$f":"IF(LEN(Z4778)>0,VLOOKUP(Z4778,'TFW Programs'!$A$2:$B$8,2,FALSE),\"\")","v":""},null,null,{"$f":"IF(LEN(A4778)>0,VLOOKUP(A4778,Subcontractors!$A$2:$B$4,2,FALSE),\"\")","v":""}]
[null,null,null,null,null,null,null,null,null,null,null,null,null,null,null,null,null,null,null,null,null,null,null,{"$f":"IF(LEN(Z4779)>0,VLOOKUP(Z4779,'TFW Programs'!$A$2:$B$8,2,FALSE),\"\")","v":""},null,null,{"$f":"IF(LEN(A4779)>0,VLOOKUP(A4779,Subcontractors!$A$2:$B$4,2,FALSE),\"\")","v":""}]
[null,null,null,null,null,null,null,null,null,null,null,null,null,null,null,null,null,null,null,null,null,null,null,{"$f":"IF(LEN(Z4780)>0,VLOOKUP(Z4780,'TFW Programs'!$A$2:$B$8,2,FALSE),\"\")","v":""},null,null,{"$f":"IF(LEN(A4780)>0,VLOOKUP(A4780,Subcontractors!$A$2:$B$4,2,FALSE),\"\")","v":""}]
[null,null,null,null,null,null,null,null,null,null,null,null,null,null,null,null,null,null,null,null,null,null,null,{"$f":"IF(LEN(Z4781)>0,VLOOKUP(Z4781,'TFW Programs'!$A$2:$B$8,2,FALSE),\"\")","v":""},null,null,{"$f":"IF(LEN(A4781)>0,VLOOKUP(A4781,Subcontractors!$A$2:$B$4,2,FALSE),\"\")","v":""}]
[null,null,null,null,null,null,null,null,null,null,null,null,null,null,null,null,null,null,null,null,null,null,null,{"$f":"IF(LEN(Z4782)>0,VLOOKUP(Z4782,'TFW Programs'!$A$2:$B$8,2,FALSE),\"\")","v":""},null,null,{"$f":"IF(LEN(A4782)>0,VLOOKUP(A4782,Subcontractors!$A$2:$B$4,2,FALSE),\"\")","v":""}]
[null,null,null,null,null,null,null,null,null,null,null,null,null,null,null,null,null,null,null,null,null,null,null,{"$f":"IF(LEN(Z4783)>0,VLOOKUP(Z4783,'TFW Programs'!$A$2:$B$8,2,FALSE),\"\")","v":""},null,null,{"$f":"IF(LEN(A4783)>0,VLOOKUP(A4783,Subcontractors!$A$2:$B$4,2,FALSE),\"\")","v":""}]
[null,null,null,null,null,null,null,null,null,null,null,null,null,null,null,null,null,null,null,null,null,null,null,{"$f":"IF(LEN(Z4784)>0,VLOOKUP(Z4784,'TFW Programs'!$A$2:$B$8,2,FALSE),\"\")","v":""},null,null,{"$f":"IF(LEN(A4784)>0,VLOOKUP(A4784,Subcontractors!$A$2:$B$4,2,FALSE),\"\")","v":""}]
[null,null,null,null,null,null,null,null,null,null,null,null,null,null,null,null,null,null,null,null,null,null,null,{"$f":"IF(LEN(Z4785)>0,VLOOKUP(Z4785,'TFW Programs'!$A$2:$B$8,2,FALSE),\"\")","v":""},null,null,{"$f":"IF(LEN(A4785)>0,VLOOKUP(A4785,Subcontractors!$A$2:$B$4,2,FALSE),\"\")","v":""}]
[null,null,null,null,null,null,null,null,null,null,null,null,null,null,null,null,null,null,null,null,null,null,null,{"$f":"IF(LEN(Z4786)>0,VLOOKUP(Z4786,'TFW Programs'!$A$2:$B$8,2,FALSE),\"\")","v":""},null,null,{"$f":"IF(LEN(A4786)>0,VLOOKUP(A4786,Subcontractors!$A$2:$B$4,2,FALSE),\"\")","v":""}]
[null,null,null,null,null,null,null,null,null,null,null,null,null,null,null,null,null,null,null,null,null,null,null,{"$f":"IF(LEN(Z4787)>0,VLOOKUP(Z4787,'TFW Programs'!$A$2:$B$8,2,FALSE),\"\")","v":""},null,null,{"$f":"IF(LEN(A4787)>0,VLOOKUP(A4787,Subcontractors!$A$2:$B$4,2,FALSE),\"\")","v":""}]
[null,null,null,null,null,null,null,null,null,null,null,null,null,null,null,null,null,null,null,null,null,null,null,{"$f":"IF(LEN(Z4788)>0,VLOOKUP(Z4788,'TFW Programs'!$A$2:$B$8,2,FALSE),\"\")","v":""},null,null,{"$f":"IF(LEN(A4788)>0,VLOOKUP(A4788,Subcontractors!$A$2:$B$4,2,FALSE),\"\")","v":""}]
[null,null,null,null,null,null,null,null,null,null,null,null,null,null,null,null,null,null,null,null,null,null,null,{"$f":"IF(LEN(Z4789)>0,VLOOKUP(Z4789,'TFW Programs'!$A$2:$B$8,2,FALSE),\"\")","v":""},null,null,{"$f":"IF(LEN(A4789)>0,VLOOKUP(A4789,Subcontractors!$A$2:$B$4,2,FALSE),\"\")","v":""}]
[null,null,null,null,null,null,null,null,null,null,null,null,null,null,null,null,null,null,null,null,null,null,null,{"$f":"IF(LEN(Z4790)>0,VLOOKUP(Z4790,'TFW Programs'!$A$2:$B$8,2,FALSE),\"\")","v":""},null,null,{"$f":"IF(LEN(A4790)>0,VLOOKUP(A4790,Subcontractors!$A$2:$B$4,2,FALSE),\"\")","v":""}]
[null,null,null,null,null,null,null,null,null,null,null,null,null,null,null,null,null,null,null,null,null,null,null,{"$f":"IF(LEN(Z4791)>0,VLOOKUP(Z4791,'TFW Programs'!$A$2:$B$8,2,FALSE),\"\")","v":""},null,null,{"$f":"IF(LEN(A4791)>0,VLOOKUP(A4791,Subcontractors!$A$2:$B$4,2,FALSE),\"\")","v":""}]
[null,null,null,null,null,null,null,null,null,null,null,null,null,null,null,null,null,null,null,null,null,null,null,{"$f":"IF(LEN(Z4792)>0,VLOOKUP(Z4792,'TFW Programs'!$A$2:$B$8,2,FALSE),\"\")","v":""},null,null,{"$f":"IF(LEN(A4792)>0,VLOOKUP(A4792,Subcontractors!$A$2:$B$4,2,FALSE),\"\")","v":""}]
[null,null,null,null,null,null,null,null,null,null,null,null,null,null,null,null,null,null,null,null,null,null,null,{"$f":"IF(LEN(Z4793)>0,VLOOKUP(Z4793,'TFW Programs'!$A$2:$B$8,2,FALSE),\"\")","v":""},null,null,{"$f":"IF(LEN(A4793)>0,VLOOKUP(A4793,Subcontractors!$A$2:$B$4,2,FALSE),\"\")","v":""}]
[null,null,null,null,null,null,null,null,null,null,null,null,null,null,null,null,null,null,null,null,null,null,null,{"$f":"IF(LEN(Z4794)>0,VLOOKUP(Z4794,'TFW Programs'!$A$2:$B$8,2,FALSE),\"\")","v":""},null,null,{"$f":"IF(LEN(A4794)>0,VLOOKUP(A4794,Subcontractors!$A$2:$B$4,2,FALSE),\"\")","v":""}]
[null,null,null,null,null,null,null,null,null,null,null,null,null,null,null,null,null,null,null,null,null,null,null,{"$f":"IF(LEN(Z4795)>0,VLOOKUP(Z4795,'TFW Programs'!$A$2:$B$8,2,FALSE),\"\")","v":""},null,null,{"$f":"IF(LEN(A4795)>0,VLOOKUP(A4795,Subcontractors!$A$2:$B$4,2,FALSE),\"\")","v":""}]
[null,null,null,null,null,null,null,null,null,null,null,null,null,null,null,null,null,null,null,null,null,null,null,{"$f":"IF(LEN(Z4796)>0,VLOOKUP(Z4796,'TFW Programs'!$A$2:$B$8,2,FALSE),\"\")","v":""},null,null,{"$f":"IF(LEN(A4796)>0,VLOOKUP(A4796,Subcontractors!$A$2:$B$4,2,FALSE),\"\")","v":""}]
[null,null,null,null,null,null,null,null,null,null,null,null,null,null,null,null,null,null,null,null,null,null,null,{"$f":"IF(LEN(Z4797)>0,VLOOKUP(Z4797,'TFW Programs'!$A$2:$B$8,2,FALSE),\"\")","v":""},null,null,{"$f":"IF(LEN(A4797)>0,VLOOKUP(A4797,Subcontractors!$A$2:$B$4,2,FALSE),\"\")","v":""}]
[null,null,null,null,null,null,null,null,null,null,null,null,null,null,null,null,null,null,null,null,null,null,null,{"$f":"IF(LEN(Z4798)>0,VLOOKUP(Z4798,'TFW Programs'!$A$2:$B$8,2,FALSE),\"\")","v":""},null,null,{"$f":"IF(LEN(A4798)>0,VLOOKUP(A4798,Subcontractors!$A$2:$B$4,2,FALSE),\"\")","v":""}]
[null,null,null,null,null,null,null,null,null,null,null,null,null,null,null,null,null,null,null,null,null,null,null,{"$f":"IF(LEN(Z4799)>0,VLOOKUP(Z4799,'TFW Programs'!$A$2:$B$8,2,FALSE),\"\")","v":""},null,null,{"$f":"IF(LEN(A4799)>0,VLOOKUP(A4799,Subcontractors!$A$2:$B$4,2,FALSE),\"\")","v":""}]
[null,null,null,null,null,null,null,null,null,null,null,null,null,null,null,null,null,null,null,null,null,null,null,{"$f":"IF(LEN(Z4800)>0,VLOOKUP(Z4800,'TFW Programs'!$A$2:$B$8,2,FALSE),\"\")","v":""},null,null,{"$f":"IF(LEN(A4800)>0,VLOOKUP(A4800,Subcontractors!$A$2:$B$4,2,FALSE),\"\")","v":""}]
[null,null,null,null,null,null,null,null,null,null,null,null,null,null,null,null,null,null,null,null,null,null,null,{"$f":"IF(LEN(Z4801)>0,VLOOKUP(Z4801,'TFW Programs'!$A$2:$B$8,2,FALSE),\"\")","v":""},null,null,{"$f":"IF(LEN(A4801)>0,VLOOKUP(A4801,Subcontractors!$A$2:$B$4,2,FALSE),\"\")","v":""}]
[null,null,null,null,null,null,null,null,null,null,null,null,null,null,null,null,null,null,null,null,null,null,null,{"$f":"IF(LEN(Z4802)>0,VLOOKUP(Z4802,'TFW Programs'!$A$2:$B$8,2,FALSE),\"\")","v":""},null,null,{"$f":"IF(LEN(A4802)>0,VLOOKUP(A4802,Subcontractors!$A$2:$B$4,2,FALSE),\"\")","v":""}]
[null,null,null,null,null,null,null,null,null,null,null,null,null,null,null,null,null,null,null,null,null,null,null,{"$f":"IF(LEN(Z4803)>0,VLOOKUP(Z4803,'TFW Programs'!$A$2:$B$8,2,FALSE),\"\")","v":""},null,null,{"$f":"IF(LEN(A4803)>0,VLOOKUP(A4803,Subcontractors!$A$2:$B$4,2,FALSE),\"\")","v":""}]
[null,null,null,null,null,null,null,null,null,null,null,null,null,null,null,null,null,null,null,null,null,null,null,{"$f":"IF(LEN(Z4804)>0,VLOOKUP(Z4804,'TFW Programs'!$A$2:$B$8,2,FALSE),\"\")","v":""},null,null,{"$f":"IF(LEN(A4804)>0,VLOOKUP(A4804,Subcontractors!$A$2:$B$4,2,FALSE),\"\")","v":""}]
[null,null,null,null,null,null,null,null,null,null,null,null,null,null,null,null,null,null,null,null,null,null,null,{"$f":"IF(LEN(Z4805)>0,VLOOKUP(Z4805,'TFW Programs'!$A$2:$B$8,2,FALSE),\"\")","v":""},null,null,{"$f":"IF(LEN(A4805)>0,VLOOKUP(A4805,Subcontractors!$A$2:$B$4,2,FALSE),\"\")","v":""}]
[null,null,null,null,null,null,null,null,null,null,null,null,null,null,null,null,null,null,null,null,null,null,null,{"$f":"IF(LEN(Z4806)>0,VLOOKUP(Z4806,'TFW Programs'!$A$2:$B$8,2,FALSE),\"\")","v":""},null,null,{"$f":"IF(LEN(A4806)>0,VLOOKUP(A4806,Subcontractors!$A$2:$B$4,2,FALSE),\"\")","v":""}]
[null,null,null,null,null,null,null,null,null,null,null,null,null,null,null,null,null,null,null,null,null,null,null,{"$f":"IF(LEN(Z4807)>0,VLOOKUP(Z4807,'TFW Programs'!$A$2:$B$8,2,FALSE),\"\")","v":""},null,null,{"$f":"IF(LEN(A4807)>0,VLOOKUP(A4807,Subcontractors!$A$2:$B$4,2,FALSE),\"\")","v":""}]
[null,null,null,null,null,null,null,null,null,null,null,null,null,null,null,null,null,null,null,null,null,null,null,{"$f":"IF(LEN(Z4808)>0,VLOOKUP(Z4808,'TFW Programs'!$A$2:$B$8,2,FALSE),\"\")","v":""},null,null,{"$f":"IF(LEN(A4808)>0,VLOOKUP(A4808,Subcontractors!$A$2:$B$4,2,FALSE),\"\")","v":""}]
[null,null,null,null,null,null,null,null,null,null,null,null,null,null,null,null,null,null,null,null,null,null,null,{"$f":"IF(LEN(Z4809)>0,VLOOKUP(Z4809,'TFW Programs'!$A$2:$B$8,2,FALSE),\"\")","v":""},null,null,{"$f":"IF(LEN(A4809)>0,VLOOKUP(A4809,Subcontractors!$A$2:$B$4,2,FALSE),\"\")","v":""}]
[null,null,null,null,null,null,null,null,null,null,null,null,null,null,null,null,null,null,null,null,null,null,null,{"$f":"IF(LEN(Z4810)>0,VLOOKUP(Z4810,'TFW Programs'!$A$2:$B$8,2,FALSE),\"\")","v":""},null,null,{"$f":"IF(LEN(A4810)>0,VLOOKUP(A4810,Subcontractors!$A$2:$B$4,2,FALSE),\"\")","v":""}]
[null,null,null,null,null,null,null,null,null,null,null,null,null,null,null,null,null,null,null,null,null,null,null,{"$f":"IF(LEN(Z4811)>0,VLOOKUP(Z4811,'TFW Programs'!$A$2:$B$8,2,FALSE),\"\")","v":""},null,null,{"$f":"IF(LEN(A4811)>0,VLOOKUP(A4811,Subcontractors!$A$2:$B$4,2,FALSE),\"\")","v":""}]
[null,null,null,null,null,null,null,null,null,null,null,null,null,null,null,null,null,null,null,null,null,null,null,{"$f":"IF(LEN(Z4812)>0,VLOOKUP(Z4812,'TFW Programs'!$A$2:$B$8,2,FALSE),\"\")","v":""},null,null,{"$f":"IF(LEN(A4812)>0,VLOOKUP(A4812,Subcontractors!$A$2:$B$4,2,FALSE),\"\")","v":""}]
[null,null,null,null,null,null,null,null,null,null,null,null,null,null,null,null,null,null,null,null,null,null,null,{"$f":"IF(LEN(Z4813)>0,VLOOKUP(Z4813,'TFW Programs'!$A$2:$B$8,2,FALSE),\"\")","v":""},null,null,{"$f":"IF(LEN(A4813)>0,VLOOKUP(A4813,Subcontractors!$A$2:$B$4,2,FALSE),\"\")","v":""}]
[null,null,null,null,null,null,null,null,null,null,null,null,null,null,null,null,null,null,null,null,null,null,null,{"$f":"IF(LEN(Z4814)>0,VLOOKUP(Z4814,'TFW Programs'!$A$2:$B$8,2,FALSE),\"\")","v":""},null,null,{"$f":"IF(LEN(A4814)>0,VLOOKUP(A4814,Subcontractors!$A$2:$B$4,2,FALSE),\"\")","v":""}]
[null,null,null,null,null,null,null,null,null,null,null,null,null,null,null,null,null,null,null,null,null,null,null,{"$f":"IF(LEN(Z4815)>0,VLOOKUP(Z4815,'TFW Programs'!$A$2:$B$8,2,FALSE),\"\")","v":""},null,null,{"$f":"IF(LEN(A4815)>0,VLOOKUP(A4815,Subcontractors!$A$2:$B$4,2,FALSE),\"\")","v":""}]
[null,null,null,null,null,null,null,null,null,null,null,null,null,null,null,null,null,null,null,null,null,null,null,{"$f":"IF(LEN(Z4816)>0,VLOOKUP(Z4816,'TFW Programs'!$A$2:$B$8,2,FALSE),\"\")","v":""},null,null,{"$f":"IF(LEN(A4816)>0,VLOOKUP(A4816,Subcontractors!$A$2:$B$4,2,FALSE),\"\")","v":""}]
[null,null,null,null,null,null,null,null,null,null,null,null,null,null,null,null,null,null,null,null,null,null,null,{"$f":"IF(LEN(Z4817)>0,VLOOKUP(Z4817,'TFW Programs'!$A$2:$B$8,2,FALSE),\"\")","v":""},null,null,{"$f":"IF(LEN(A4817)>0,VLOOKUP(A4817,Subcontractors!$A$2:$B$4,2,FALSE),\"\")","v":""}]
[null,null,null,null,null,null,null,null,null,null,null,null,null,null,null,null,null,null,null,null,null,null,null,{"$f":"IF(LEN(Z4818)>0,VLOOKUP(Z4818,'TFW Programs'!$A$2:$B$8,2,FALSE),\"\")","v":""},null,null,{"$f":"IF(LEN(A4818)>0,VLOOKUP(A4818,Subcontractors!$A$2:$B$4,2,FALSE),\"\")","v":""}]
[null,null,null,null,null,null,null,null,null,null,null,null,null,null,null,null,null,null,null,null,null,null,null,{"$f":"IF(LEN(Z4819)>0,VLOOKUP(Z4819,'TFW Programs'!$A$2:$B$8,2,FALSE),\"\")","v":""},null,null,{"$f":"IF(LEN(A4819)>0,VLOOKUP(A4819,Subcontractors!$A$2:$B$4,2,FALSE),\"\")","v":""}]
[null,null,null,null,null,null,null,null,null,null,null,null,null,null,null,null,null,null,null,null,null,null,null,{"$f":"IF(LEN(Z4820)>0,VLOOKUP(Z4820,'TFW Programs'!$A$2:$B$8,2,FALSE),\"\")","v":""},null,null,{"$f":"IF(LEN(A4820)>0,VLOOKUP(A4820,Subcontractors!$A$2:$B$4,2,FALSE),\"\")","v":""}]
[null,null,null,null,null,null,null,null,null,null,null,null,null,null,null,null,null,null,null,null,null,null,null,{"$f":"IF(LEN(Z4821)>0,VLOOKUP(Z4821,'TFW Programs'!$A$2:$B$8,2,FALSE),\"\")","v":""},null,null,{"$f":"IF(LEN(A4821)>0,VLOOKUP(A4821,Subcontractors!$A$2:$B$4,2,FALSE),\"\")","v":""}]
[null,null,null,null,null,null,null,null,null,null,null,null,null,null,null,null,null,null,null,null,null,null,null,{"$f":"IF(LEN(Z4822)>0,VLOOKUP(Z4822,'TFW Programs'!$A$2:$B$8,2,FALSE),\"\")","v":""},null,null,{"$f":"IF(LEN(A4822)>0,VLOOKUP(A4822,Subcontractors!$A$2:$B$4,2,FALSE),\"\")","v":""}]
[null,null,null,null,null,null,null,null,null,null,null,null,null,null,null,null,null,null,null,null,null,null,null,{"$f":"IF(LEN(Z4823)>0,VLOOKUP(Z4823,'TFW Programs'!$A$2:$B$8,2,FALSE),\"\")","v":""},null,null,{"$f":"IF(LEN(A4823)>0,VLOOKUP(A4823,Subcontractors!$A$2:$B$4,2,FALSE),\"\")","v":""}]
[null,null,null,null,null,null,null,null,null,null,null,null,null,null,null,null,null,null,null,null,null,null,null,{"$f":"IF(LEN(Z4824)>0,VLOOKUP(Z4824,'TFW Programs'!$A$2:$B$8,2,FALSE),\"\")","v":""},null,null,{"$f":"IF(LEN(A4824)>0,VLOOKUP(A4824,Subcontractors!$A$2:$B$4,2,FALSE),\"\")","v":""}]
[null,null,null,null,null,null,null,null,null,null,null,null,null,null,null,null,null,null,null,null,null,null,null,{"$f":"IF(LEN(Z4825)>0,VLOOKUP(Z4825,'TFW Programs'!$A$2:$B$8,2,FALSE),\"\")","v":""},null,null,{"$f":"IF(LEN(A4825)>0,VLOOKUP(A4825,Subcontractors!$A$2:$B$4,2,FALSE),\"\")","v":""}]
[null,null,null,null,null,null,null,null,null,null,null,null,null,null,null,null,null,null,null,null,null,null,null,{"$f":"IF(LEN(Z4826)>0,VLOOKUP(Z4826,'TFW Programs'!$A$2:$B$8,2,FALSE),\"\")","v":""},null,null,{"$f":"IF(LEN(A4826)>0,VLOOKUP(A4826,Subcontractors!$A$2:$B$4,2,FALSE),\"\")","v":""}]
[null,null,null,null,null,null,null,null,null,null,null,null,null,null,null,null,null,null,null,null,null,null,null,{"$f":"IF(LEN(Z4827)>0,VLOOKUP(Z4827,'TFW Programs'!$A$2:$B$8,2,FALSE),\"\")","v":""},null,null,{"$f":"IF(LEN(A4827)>0,VLOOKUP(A4827,Subcontractors!$A$2:$B$4,2,FALSE),\"\")","v":""}]
[null,null,null,null,null,null,null,null,null,null,null,null,null,null,null,null,null,null,null,null,null,null,null,{"$f":"IF(LEN(Z4828)>0,VLOOKUP(Z4828,'TFW Programs'!$A$2:$B$8,2,FALSE),\"\")","v":""},null,null,{"$f":"IF(LEN(A4828)>0,VLOOKUP(A4828,Subcontractors!$A$2:$B$4,2,FALSE),\"\")","v":""}]
[null,null,null,null,null,null,null,null,null,null,null,null,null,null,null,null,null,null,null,null,null,null,null,{"$f":"IF(LEN(Z4829)>0,VLOOKUP(Z4829,'TFW Programs'!$A$2:$B$8,2,FALSE),\"\")","v":""},null,null,{"$f":"IF(LEN(A4829)>0,VLOOKUP(A4829,Subcontractors!$A$2:$B$4,2,FALSE),\"\")","v":""}]
[null,null,null,null,null,null,null,null,null,null,null,null,null,null,null,null,null,null,null,null,null,null,null,{"$f":"IF(LEN(Z4830)>0,VLOOKUP(Z4830,'TFW Programs'!$A$2:$B$8,2,FALSE),\"\")","v":""},null,null,{"$f":"IF(LEN(A4830)>0,VLOOKUP(A4830,Subcontractors!$A$2:$B$4,2,FALSE),\"\")","v":""}]
[null,null,null,null,null,null,null,null,null,null,null,null,null,null,null,null,null,null,null,null,null,null,null,{"$f":"IF(LEN(Z4831)>0,VLOOKUP(Z4831,'TFW Programs'!$A$2:$B$8,2,FALSE),\"\")","v":""},null,null,{"$f":"IF(LEN(A4831)>0,VLOOKUP(A4831,Subcontractors!$A$2:$B$4,2,FALSE),\"\")","v":""}]
[null,null,null,null,null,null,null,null,null,null,null,null,null,null,null,null,null,null,null,null,null,null,null,{"$f":"IF(LEN(Z4832)>0,VLOOKUP(Z4832,'TFW Programs'!$A$2:$B$8,2,FALSE),\"\")","v":""},null,null,{"$f":"IF(LEN(A4832)>0,VLOOKUP(A4832,Subcontractors!$A$2:$B$4,2,FALSE),\"\")","v":""}]
[null,null,null,null,null,null,null,null,null,null,null,null,null,null,null,null,null,null,null,null,null,null,null,{"$f":"IF(LEN(Z4833)>0,VLOOKUP(Z4833,'TFW Programs'!$A$2:$B$8,2,FALSE),\"\")","v":""},null,null,{"$f":"IF(LEN(A4833)>0,VLOOKUP(A4833,Subcontractors!$A$2:$B$4,2,FALSE),\"\")","v":""}]
[null,null,null,null,null,null,null,null,null,null,null,null,null,null,null,null,null,null,null,null,null,null,null,{"$f":"IF(LEN(Z4834)>0,VLOOKUP(Z4834,'TFW Programs'!$A$2:$B$8,2,FALSE),\"\")","v":""},null,null,{"$f":"IF(LEN(A4834)>0,VLOOKUP(A4834,Subcontractors!$A$2:$B$4,2,FALSE),\"\")","v":""}]
[null,null,null,null,null,null,null,null,null,null,null,null,null,null,null,null,null,null,null,null,null,null,null,{"$f":"IF(LEN(Z4835)>0,VLOOKUP(Z4835,'TFW Programs'!$A$2:$B$8,2,FALSE),\"\")","v":""},null,null,{"$f":"IF(LEN(A4835)>0,VLOOKUP(A4835,Subcontractors!$A$2:$B$4,2,FALSE),\"\")","v":""}]
[null,null,null,null,null,null,null,null,null,null,null,null,null,null,null,null,null,null,null,null,null,null,null,{"$f":"IF(LEN(Z4836)>0,VLOOKUP(Z4836,'TFW Programs'!$A$2:$B$8,2,FALSE),\"\")","v":""},null,null,{"$f":"IF(LEN(A4836)>0,VLOOKUP(A4836,Subcontractors!$A$2:$B$4,2,FALSE),\"\")","v":""}]
[null,null,null,null,null,null,null,null,null,null,null,null,null,null,null,null,null,null,null,null,null,null,null,{"$f":"IF(LEN(Z4837)>0,VLOOKUP(Z4837,'TFW Programs'!$A$2:$B$8,2,FALSE),\"\")","v":""},null,null,{"$f":"IF(LEN(A4837)>0,VLOOKUP(A4837,Subcontractors!$A$2:$B$4,2,FALSE),\"\")","v":""}]
[null,null,null,null,null,null,null,null,null,null,null,null,null,null,null,null,null,null,null,null,null,null,null,{"$f":"IF(LEN(Z4838)>0,VLOOKUP(Z4838,'TFW Programs'!$A$2:$B$8,2,FALSE),\"\")","v":""},null,null,{"$f":"IF(LEN(A4838)>0,VLOOKUP(A4838,Subcontractors!$A$2:$B$4,2,FALSE),\"\")","v":""}]
[null,null,null,null,null,null,null,null,null,null,null,null,null,null,null,null,null,null,null,null,null,null,null,{"$f":"IF(LEN(Z4839)>0,VLOOKUP(Z4839,'TFW Programs'!$A$2:$B$8,2,FALSE),\"\")","v":""},null,null,{"$f":"IF(LEN(A4839)>0,VLOOKUP(A4839,Subcontractors!$A$2:$B$4,2,FALSE),\"\")","v":""}]
[null,null,null,null,null,null,null,null,null,null,null,null,null,null,null,null,null,null,null,null,null,null,null,{"$f":"IF(LEN(Z4840)>0,VLOOKUP(Z4840,'TFW Programs'!$A$2:$B$8,2,FALSE),\"\")","v":""},null,null,{"$f":"IF(LEN(A4840)>0,VLOOKUP(A4840,Subcontractors!$A$2:$B$4,2,FALSE),\"\")","v":""}]
[null,null,null,null,null,null,null,null,null,null,null,null,null,null,null,null,null,null,null,null,null,null,null,{"$f":"IF(LEN(Z4841)>0,VLOOKUP(Z4841,'TFW Programs'!$A$2:$B$8,2,FALSE),\"\")","v":""},null,null,{"$f":"IF(LEN(A4841)>0,VLOOKUP(A4841,Subcontractors!$A$2:$B$4,2,FALSE),\"\")","v":""}]
[null,null,null,null,null,null,null,null,null,null,null,null,null,null,null,null,null,null,null,null,null,null,null,{"$f":"IF(LEN(Z4842)>0,VLOOKUP(Z4842,'TFW Programs'!$A$2:$B$8,2,FALSE),\"\")","v":""},null,null,{"$f":"IF(LEN(A4842)>0,VLOOKUP(A4842,Subcontractors!$A$2:$B$4,2,FALSE),\"\")","v":""}]
[null,null,null,null,null,null,null,null,null,null,null,null,null,null,null,null,null,null,null,null,null,null,null,{"$f":"IF(LEN(Z4843)>0,VLOOKUP(Z4843,'TFW Programs'!$A$2:$B$8,2,FALSE),\"\")","v":""},null,null,{"$f":"IF(LEN(A4843)>0,VLOOKUP(A4843,Subcontractors!$A$2:$B$4,2,FALSE),\"\")","v":""}]
[null,null,null,null,null,null,null,null,null,null,null,null,null,null,null,null,null,null,null,null,null,null,null,{"$f":"IF(LEN(Z4844)>0,VLOOKUP(Z4844,'TFW Programs'!$A$2:$B$8,2,FALSE),\"\")","v":""},null,null,{"$f":"IF(LEN(A4844)>0,VLOOKUP(A4844,Subcontractors!$A$2:$B$4,2,FALSE),\"\")","v":""}]
[null,null,null,null,null,null,null,null,null,null,null,null,null,null,null,null,null,null,null,null,null,null,null,{"$f":"IF(LEN(Z4845)>0,VLOOKUP(Z4845,'TFW Programs'!$A$2:$B$8,2,FALSE),\"\")","v":""},null,null,{"$f":"IF(LEN(A4845)>0,VLOOKUP(A4845,Subcontractors!$A$2:$B$4,2,FALSE),\"\")","v":""}]
[null,null,null,null,null,null,null,null,null,null,null,null,null,null,null,null,null,null,null,null,null,null,null,{"$f":"IF(LEN(Z4846)>0,VLOOKUP(Z4846,'TFW Programs'!$A$2:$B$8,2,FALSE),\"\")","v":""},null,null,{"$f":"IF(LEN(A4846)>0,VLOOKUP(A4846,Subcontractors!$A$2:$B$4,2,FALSE),\"\")","v":""}]
[null,null,null,null,null,null,null,null,null,null,null,null,null,null,null,null,null,null,null,null,null,null,null,{"$f":"IF(LEN(Z4847)>0,VLOOKUP(Z4847,'TFW Programs'!$A$2:$B$8,2,FALSE),\"\")","v":""},null,null,{"$f":"IF(LEN(A4847)>0,VLOOKUP(A4847,Subcontractors!$A$2:$B$4,2,FALSE),\"\")","v":""}]
[null,null,null,null,null,null,null,null,null,null,null,null,null,null,null,null,null,null,null,null,null,null,null,{"$f":"IF(LEN(Z4848)>0,VLOOKUP(Z4848,'TFW Programs'!$A$2:$B$8,2,FALSE),\"\")","v":""},null,null,{"$f":"IF(LEN(A4848)>0,VLOOKUP(A4848,Subcontractors!$A$2:$B$4,2,FALSE),\"\")","v":""}]
[null,null,null,null,null,null,null,null,null,null,null,null,null,null,null,null,null,null,null,null,null,null,null,{"$f":"IF(LEN(Z4849)>0,VLOOKUP(Z4849,'TFW Programs'!$A$2:$B$8,2,FALSE),\"\")","v":""},null,null,{"$f":"IF(LEN(A4849)>0,VLOOKUP(A4849,Subcontractors!$A$2:$B$4,2,FALSE),\"\")","v":""}]
[null,null,null,null,null,null,null,null,null,null,null,null,null,null,null,null,null,null,null,null,null,null,null,{"$f":"IF(LEN(Z4850)>0,VLOOKUP(Z4850,'TFW Programs'!$A$2:$B$8,2,FALSE),\"\")","v":""},null,null,{"$f":"IF(LEN(A4850)>0,VLOOKUP(A4850,Subcontractors!$A$2:$B$4,2,FALSE),\"\")","v":""}]
[null,null,null,null,null,null,null,null,null,null,null,null,null,null,null,null,null,null,null,null,null,null,null,{"$f":"IF(LEN(Z4851)>0,VLOOKUP(Z4851,'TFW Programs'!$A$2:$B$8,2,FALSE),\"\")","v":""},null,null,{"$f":"IF(LEN(A4851)>0,VLOOKUP(A4851,Subcontractors!$A$2:$B$4,2,FALSE),\"\")","v":""}]
[null,null,null,null,null,null,null,null,null,null,null,null,null,null,null,null,null,null,null,null,null,null,null,{"$f":"IF(LEN(Z4852)>0,VLOOKUP(Z4852,'TFW Programs'!$A$2:$B$8,2,FALSE),\"\")","v":""},null,null,{"$f":"IF(LEN(A4852)>0,VLOOKUP(A4852,Subcontractors!$A$2:$B$4,2,FALSE),\"\")","v":""}]
[null,null,null,null,null,null,null,null,null,null,null,null,null,null,null,null,null,null,null,null,null,null,null,{"$f":"IF(LEN(Z4853)>0,VLOOKUP(Z4853,'TFW Programs'!$A$2:$B$8,2,FALSE),\"\")","v":""},null,null,{"$f":"IF(LEN(A4853)>0,VLOOKUP(A4853,Subcontractors!$A$2:$B$4,2,FALSE),\"\")","v":""}]
[null,null,null,null,null,null,null,null,null,null,null,null,null,null,null,null,null,null,null,null,null,null,null,{"$f":"IF(LEN(Z4854)>0,VLOOKUP(Z4854,'TFW Programs'!$A$2:$B$8,2,FALSE),\"\")","v":""},null,null,{"$f":"IF(LEN(A4854)>0,VLOOKUP(A4854,Subcontractors!$A$2:$B$4,2,FALSE),\"\")","v":""}]
[null,null,null,null,null,null,null,null,null,null,null,null,null,null,null,null,null,null,null,null,null,null,null,{"$f":"IF(LEN(Z4855)>0,VLOOKUP(Z4855,'TFW Programs'!$A$2:$B$8,2,FALSE),\"\")","v":""},null,null,{"$f":"IF(LEN(A4855)>0,VLOOKUP(A4855,Subcontractors!$A$2:$B$4,2,FALSE),\"\")","v":""}]
[null,null,null,null,null,null,null,null,null,null,null,null,null,null,null,null,null,null,null,null,null,null,null,{"$f":"IF(LEN(Z4856)>0,VLOOKUP(Z4856,'TFW Programs'!$A$2:$B$8,2,FALSE),\"\")","v":""},null,null,{"$f":"IF(LEN(A4856)>0,VLOOKUP(A4856,Subcontractors!$A$2:$B$4,2,FALSE),\"\")","v":""}]
[null,null,null,null,null,null,null,null,null,null,null,null,null,null,null,null,null,null,null,null,null,null,null,{"$f":"IF(LEN(Z4857)>0,VLOOKUP(Z4857,'TFW Programs'!$A$2:$B$8,2,FALSE),\"\")","v":""},null,null,{"$f":"IF(LEN(A4857)>0,VLOOKUP(A4857,Subcontractors!$A$2:$B$4,2,FALSE),\"\")","v":""}]
[null,null,null,null,null,null,null,null,null,null,null,null,null,null,null,null,null,null,null,null,null,null,null,{"$f":"IF(LEN(Z4858)>0,VLOOKUP(Z4858,'TFW Programs'!$A$2:$B$8,2,FALSE),\"\")","v":""},null,null,{"$f":"IF(LEN(A4858)>0,VLOOKUP(A4858,Subcontractors!$A$2:$B$4,2,FALSE),\"\")","v":""}]
[null,null,null,null,null,null,null,null,null,null,null,null,null,null,null,null,null,null,null,null,null,null,null,{"$f":"IF(LEN(Z4859)>0,VLOOKUP(Z4859,'TFW Programs'!$A$2:$B$8,2,FALSE),\"\")","v":""},null,null,{"$f":"IF(LEN(A4859)>0,VLOOKUP(A4859,Subcontractors!$A$2:$B$4,2,FALSE),\"\")","v":""}]
[null,null,null,null,null,null,null,null,null,null,null,null,null,null,null,null,null,null,null,null,null,null,null,{"$f":"IF(LEN(Z4860)>0,VLOOKUP(Z4860,'TFW Programs'!$A$2:$B$8,2,FALSE),\"\")","v":""},null,null,{"$f":"IF(LEN(A4860)>0,VLOOKUP(A4860,Subcontractors!$A$2:$B$4,2,FALSE),\"\")","v":""}]
[null,null,null,null,null,null,null,null,null,null,null,null,null,null,null,null,null,null,null,null,null,null,null,{"$f":"IF(LEN(Z4861)>0,VLOOKUP(Z4861,'TFW Programs'!$A$2:$B$8,2,FALSE),\"\")","v":""},null,null,{"$f":"IF(LEN(A4861)>0,VLOOKUP(A4861,Subcontractors!$A$2:$B$4,2,FALSE),\"\")","v":""}]
[null,null,null,null,null,null,null,null,null,null,null,null,null,null,null,null,null,null,null,null,null,null,null,{"$f":"IF(LEN(Z4862)>0,VLOOKUP(Z4862,'TFW Programs'!$A$2:$B$8,2,FALSE),\"\")","v":""},null,null,{"$f":"IF(LEN(A4862)>0,VLOOKUP(A4862,Subcontractors!$A$2:$B$4,2,FALSE),\"\")","v":""}]
[null,null,null,null,null,null,null,null,null,null,null,null,null,null,null,null,null,null,null,null,null,null,null,{"$f":"IF(LEN(Z4863)>0,VLOOKUP(Z4863,'TFW Programs'!$A$2:$B$8,2,FALSE),\"\")","v":""},null,null,{"$f":"IF(LEN(A4863)>0,VLOOKUP(A4863,Subcontractors!$A$2:$B$4,2,FALSE),\"\")","v":""}]
[null,null,null,null,null,null,null,null,null,null,null,null,null,null,null,null,null,null,null,null,null,null,null,{"$f":"IF(LEN(Z4864)>0,VLOOKUP(Z4864,'TFW Programs'!$A$2:$B$8,2,FALSE),\"\")","v":""},null,null,{"$f":"IF(LEN(A4864)>0,VLOOKUP(A4864,Subcontractors!$A$2:$B$4,2,FALSE),\"\")","v":""}]
[null,null,null,null,null,null,null,null,null,null,null,null,null,null,null,null,null,null,null,null,null,null,null,{"$f":"IF(LEN(Z4865)>0,VLOOKUP(Z4865,'TFW Programs'!$A$2:$B$8,2,FALSE),\"\")","v":""},null,null,{"$f":"IF(LEN(A4865)>0,VLOOKUP(A4865,Subcontractors!$A$2:$B$4,2,FALSE),\"\")","v":""}]
[null,null,null,null,null,null,null,null,null,null,null,null,null,null,null,null,null,null,null,null,null,null,null,{"$f":"IF(LEN(Z4866)>0,VLOOKUP(Z4866,'TFW Programs'!$A$2:$B$8,2,FALSE),\"\")","v":""},null,null,{"$f":"IF(LEN(A4866)>0,VLOOKUP(A4866,Subcontractors!$A$2:$B$4,2,FALSE),\"\")","v":""}]
[null,null,null,null,null,null,null,null,null,null,null,null,null,null,null,null,null,null,null,null,null,null,null,{"$f":"IF(LEN(Z4867)>0,VLOOKUP(Z4867,'TFW Programs'!$A$2:$B$8,2,FALSE),\"\")","v":""},null,null,{"$f":"IF(LEN(A4867)>0,VLOOKUP(A4867,Subcontractors!$A$2:$B$4,2,FALSE),\"\")","v":""}]
[null,null,null,null,null,null,null,null,null,null,null,null,null,null,null,null,null,null,null,null,null,null,null,{"$f":"IF(LEN(Z4868)>0,VLOOKUP(Z4868,'TFW Programs'!$A$2:$B$8,2,FALSE),\"\")","v":""},null,null,{"$f":"IF(LEN(A4868)>0,VLOOKUP(A4868,Subcontractors!$A$2:$B$4,2,FALSE),\"\")","v":""}]
[null,null,null,null,null,null,null,null,null,null,null,null,null,null,null,null,null,null,null,null,null,null,null,{"$f":"IF(LEN(Z4869)>0,VLOOKUP(Z4869,'TFW Programs'!$A$2:$B$8,2,FALSE),\"\")","v":""},null,null,{"$f":"IF(LEN(A4869)>0,VLOOKUP(A4869,Subcontractors!$A$2:$B$4,2,FALSE),\"\")","v":""}]
[null,null,null,null,null,null,null,null,null,null,null,null,null,null,null,null,null,null,null,null,null,null,null,{"$f":"IF(LEN(Z4870)>0,VLOOKUP(Z4870,'TFW Programs'!$A$2:$B$8,2,FALSE),\"\")","v":""},null,null,{"$f":"IF(LEN(A4870)>0,VLOOKUP(A4870,Subcontractors!$A$2:$B$4,2,FALSE),\"\")","v":""}]
[null,null,null,null,null,null,null,null,null,null,null,null,null,null,null,null,null,null,null,null,null,null,null,{"$f":"IF(LEN(Z4871)>0,VLOOKUP(Z4871,'TFW Programs'!$A$2:$B$8,2,FALSE),\"\")","v":""},null,null,{"$f":"IF(LEN(A4871)>0,VLOOKUP(A4871,Subcontractors!$A$2:$B$4,2,FALSE),\"\")","v":""}]
[null,null,null,null,null,null,null,null,null,null,null,null,null,null,null,null,null,null,null,null,null,null,null,{"$f":"IF(LEN(Z4872)>0,VLOOKUP(Z4872,'TFW Programs'!$A$2:$B$8,2,FALSE),\"\")","v":""},null,null,{"$f":"IF(LEN(A4872)>0,VLOOKUP(A4872,Subcontractors!$A$2:$B$4,2,FALSE),\"\")","v":""}]
[null,null,null,null,null,null,null,null,null,null,null,null,null,null,null,null,null,null,null,null,null,null,null,{"$f":"IF(LEN(Z4873)>0,VLOOKUP(Z4873,'TFW Programs'!$A$2:$B$8,2,FALSE),\"\")","v":""},null,null,{"$f":"IF(LEN(A4873)>0,VLOOKUP(A4873,Subcontractors!$A$2:$B$4,2,FALSE),\"\")","v":""}]
[null,null,null,null,null,null,null,null,null,null,null,null,null,null,null,null,null,null,null,null,null,null,null,{"$f":"IF(LEN(Z4874)>0,VLOOKUP(Z4874,'TFW Programs'!$A$2:$B$8,2,FALSE),\"\")","v":""},null,null,{"$f":"IF(LEN(A4874)>0,VLOOKUP(A4874,Subcontractors!$A$2:$B$4,2,FALSE),\"\")","v":""}]
[null,null,null,null,null,null,null,null,null,null,null,null,null,null,null,null,null,null,null,null,null,null,null,{"$f":"IF(LEN(Z4875)>0,VLOOKUP(Z4875,'TFW Programs'!$A$2:$B$8,2,FALSE),\"\")","v":""},null,null,{"$f":"IF(LEN(A4875)>0,VLOOKUP(A4875,Subcontractors!$A$2:$B$4,2,FALSE),\"\")","v":""}]
[null,null,null,null,null,null,null,null,null,null,null,null,null,null,null,null,null,null,null,null,null,null,null,{"$f":"IF(LEN(Z4876)>0,VLOOKUP(Z4876,'TFW Programs'!$A$2:$B$8,2,FALSE),\"\")","v":""},null,null,{"$f":"IF(LEN(A4876)>0,VLOOKUP(A4876,Subcontractors!$A$2:$B$4,2,FALSE),\"\")","v":""}]
[null,null,null,null,null,null,null,null,null,null,null,null,null,null,null,null,null,null,null,null,null,null,null,{"$f":"IF(LEN(Z4877)>0,VLOOKUP(Z4877,'TFW Programs'!$A$2:$B$8,2,FALSE),\"\")","v":""},null,null,{"$f":"IF(LEN(A4877)>0,VLOOKUP(A4877,Subcontractors!$A$2:$B$4,2,FALSE),\"\")","v":""}]
[null,null,null,null,null,null,null,null,null,null,null,null,null,null,null,null,null,null,null,null,null,null,null,{"$f":"IF(LEN(Z4878)>0,VLOOKUP(Z4878,'TFW Programs'!$A$2:$B$8,2,FALSE),\"\")","v":""},null,null,{"$f":"IF(LEN(A4878)>0,VLOOKUP(A4878,Subcontractors!$A$2:$B$4,2,FALSE),\"\")","v":""}]
[null,null,null,null,null,null,null,null,null,null,null,null,null,null,null,null,null,null,null,null,null,null,null,{"$f":"IF(LEN(Z4879)>0,VLOOKUP(Z4879,'TFW Programs'!$A$2:$B$8,2,FALSE),\"\")","v":""},null,null,{"$f":"IF(LEN(A4879)>0,VLOOKUP(A4879,Subcontractors!$A$2:$B$4,2,FALSE),\"\")","v":""}]
[null,null,null,null,null,null,null,null,null,null,null,null,null,null,null,null,null,null,null,null,null,null,null,{"$f":"IF(LEN(Z4880)>0,VLOOKUP(Z4880,'TFW Programs'!$A$2:$B$8,2,FALSE),\"\")","v":""},null,null,{"$f":"IF(LEN(A4880)>0,VLOOKUP(A4880,Subcontractors!$A$2:$B$4,2,FALSE),\"\")","v":""}]
[null,null,null,null,null,null,null,null,null,null,null,null,null,null,null,null,null,null,null,null,null,null,null,{"$f":"IF(LEN(Z4881)>0,VLOOKUP(Z4881,'TFW Programs'!$A$2:$B$8,2,FALSE),\"\")","v":""},null,null,{"$f":"IF(LEN(A4881)>0,VLOOKUP(A4881,Subcontractors!$A$2:$B$4,2,FALSE),\"\")","v":""}]
[null,null,null,null,null,null,null,null,null,null,null,null,null,null,null,null,null,null,null,null,null,null,null,{"$f":"IF(LEN(Z4882)>0,VLOOKUP(Z4882,'TFW Programs'!$A$2:$B$8,2,FALSE),\"\")","v":""},null,null,{"$f":"IF(LEN(A4882)>0,VLOOKUP(A4882,Subcontractors!$A$2:$B$4,2,FALSE),\"\")","v":""}]
[null,null,null,null,null,null,null,null,null,null,null,null,null,null,null,null,null,null,null,null,null,null,null,{"$f":"IF(LEN(Z4883)>0,VLOOKUP(Z4883,'TFW Programs'!$A$2:$B$8,2,FALSE),\"\")","v":""},null,null,{"$f":"IF(LEN(A4883)>0,VLOOKUP(A4883,Subcontractors!$A$2:$B$4,2,FALSE),\"\")","v":""}]
[null,null,null,null,null,null,null,null,null,null,null,null,null,null,null,null,null,null,null,null,null,null,null,{"$f":"IF(LEN(Z4884)>0,VLOOKUP(Z4884,'TFW Programs'!$A$2:$B$8,2,FALSE),\"\")","v":""},null,null,{"$f":"IF(LEN(A4884)>0,VLOOKUP(A4884,Subcontractors!$A$2:$B$4,2,FALSE),\"\")","v":""}]
[null,null,null,null,null,null,null,null,null,null,null,null,null,null,null,null,null,null,null,null,null,null,null,{"$f":"IF(LEN(Z4885)>0,VLOOKUP(Z4885,'TFW Programs'!$A$2:$B$8,2,FALSE),\"\")","v":""},null,null,{"$f":"IF(LEN(A4885)>0,VLOOKUP(A4885,Subcontractors!$A$2:$B$4,2,FALSE),\"\")","v":""}]
[null,null,null,null,null,null,null,null,null,null,null,null,null,null,null,null,null,null,null,null,null,null,null,{"$f":"IF(LEN(Z4886)>0,VLOOKUP(Z4886,'TFW Programs'!$A$2:$B$8,2,FALSE),\"\")","v":""},null,null,{"$f":"IF(LEN(A4886)>0,VLOOKUP(A4886,Subcontractors!$A$2:$B$4,2,FALSE),\"\")","v":""}]
[null,null,null,null,null,null,null,null,null,null,null,null,null,null,null,null,null,null,null,null,null,null,null,{"$f":"IF(LEN(Z4887)>0,VLOOKUP(Z4887,'TFW Programs'!$A$2:$B$8,2,FALSE),\"\")","v":""},null,null,{"$f":"IF(LEN(A4887)>0,VLOOKUP(A4887,Subcontractors!$A$2:$B$4,2,FALSE),\"\")","v":""}]
[null,null,null,null,null,null,null,null,null,null,null,null,null,null,null,null,null,null,null,null,null,null,null,{"$f":"IF(LEN(Z4888)>0,VLOOKUP(Z4888,'TFW Programs'!$A$2:$B$8,2,FALSE),\"\")","v":""},null,null,{"$f":"IF(LEN(A4888)>0,VLOOKUP(A4888,Subcontractors!$A$2:$B$4,2,FALSE),\"\")","v":""}]
[null,null,null,null,null,null,null,null,null,null,null,null,null,null,null,null,null,null,null,null,null,null,null,{"$f":"IF(LEN(Z4889)>0,VLOOKUP(Z4889,'TFW Programs'!$A$2:$B$8,2,FALSE),\"\")","v":""},null,null,{"$f":"IF(LEN(A4889)>0,VLOOKUP(A4889,Subcontractors!$A$2:$B$4,2,FALSE),\"\")","v":""}]
[null,null,null,null,null,null,null,null,null,null,null,null,null,null,null,null,null,null,null,null,null,null,null,{"$f":"IF(LEN(Z4890)>0,VLOOKUP(Z4890,'TFW Programs'!$A$2:$B$8,2,FALSE),\"\")","v":""},null,null,{"$f":"IF(LEN(A4890)>0,VLOOKUP(A4890,Subcontractors!$A$2:$B$4,2,FALSE),\"\")","v":""}]
[null,null,null,null,null,null,null,null,null,null,null,null,null,null,null,null,null,null,null,null,null,null,null,{"$f":"IF(LEN(Z4891)>0,VLOOKUP(Z4891,'TFW Programs'!$A$2:$B$8,2,FALSE),\"\")","v":""},null,null,{"$f":"IF(LEN(A4891)>0,VLOOKUP(A4891,Subcontractors!$A$2:$B$4,2,FALSE),\"\")","v":""}]
[null,null,null,null,null,null,null,null,null,null,null,null,null,null,null,null,null,null,null,null,null,null,null,{"$f":"IF(LEN(Z4892)>0,VLOOKUP(Z4892,'TFW Programs'!$A$2:$B$8,2,FALSE),\"\")","v":""},null,null,{"$f":"IF(LEN(A4892)>0,VLOOKUP(A4892,Subcontractors!$A$2:$B$4,2,FALSE),\"\")","v":""}]
[null,null,null,null,null,null,null,null,null,null,null,null,null,null,null,null,null,null,null,null,null,null,null,{"$f":"IF(LEN(Z4893)>0,VLOOKUP(Z4893,'TFW Programs'!$A$2:$B$8,2,FALSE),\"\")","v":""},null,null,{"$f":"IF(LEN(A4893)>0,VLOOKUP(A4893,Subcontractors!$A$2:$B$4,2,FALSE),\"\")","v":""}]
[null,null,null,null,null,null,null,null,null,null,null,null,null,null,null,null,null,null,null,null,null,null,null,{"$f":"IF(LEN(Z4894)>0,VLOOKUP(Z4894,'TFW Programs'!$A$2:$B$8,2,FALSE),\"\")","v":""},null,null,{"$f":"IF(LEN(A4894)>0,VLOOKUP(A4894,Subcontractors!$A$2:$B$4,2,FALSE),\"\")","v":""}]
[null,null,null,null,null,null,null,null,null,null,null,null,null,null,null,null,null,null,null,null,null,null,null,{"$f":"IF(LEN(Z4895)>0,VLOOKUP(Z4895,'TFW Programs'!$A$2:$B$8,2,FALSE),\"\")","v":""},null,null,{"$f":"IF(LEN(A4895)>0,VLOOKUP(A4895,Subcontractors!$A$2:$B$4,2,FALSE),\"\")","v":""}]
[null,null,null,null,null,null,null,null,null,null,null,null,null,null,null,null,null,null,null,null,null,null,null,{"$f":"IF(LEN(Z4896)>0,VLOOKUP(Z4896,'TFW Programs'!$A$2:$B$8,2,FALSE),\"\")","v":""},null,null,{"$f":"IF(LEN(A4896)>0,VLOOKUP(A4896,Subcontractors!$A$2:$B$4,2,FALSE),\"\")","v":""}]
[null,null,null,null,null,null,null,null,null,null,null,null,null,null,null,null,null,null,null,null,null,null,null,{"$f":"IF(LEN(Z4897)>0,VLOOKUP(Z4897,'TFW Programs'!$A$2:$B$8,2,FALSE),\"\")","v":""},null,null,{"$f":"IF(LEN(A4897)>0,VLOOKUP(A4897,Subcontractors!$A$2:$B$4,2,FALSE),\"\")","v":""}]
[null,null,null,null,null,null,null,null,null,null,null,null,null,null,null,null,null,null,null,null,null,null,null,{"$f":"IF(LEN(Z4898)>0,VLOOKUP(Z4898,'TFW Programs'!$A$2:$B$8,2,FALSE),\"\")","v":""},null,null,{"$f":"IF(LEN(A4898)>0,VLOOKUP(A4898,Subcontractors!$A$2:$B$4,2,FALSE),\"\")","v":""}]
[null,null,null,null,null,null,null,null,null,null,null,null,null,null,null,null,null,null,null,null,null,null,null,{"$f":"IF(LEN(Z4899)>0,VLOOKUP(Z4899,'TFW Programs'!$A$2:$B$8,2,FALSE),\"\")","v":""},null,null,{"$f":"IF(LEN(A4899)>0,VLOOKUP(A4899,Subcontractors!$A$2:$B$4,2,FALSE),\"\")","v":""}]
[null,null,null,null,null,null,null,null,null,null,null,null,null,null,null,null,null,null,null,null,null,null,null,{"$f":"IF(LEN(Z4900)>0,VLOOKUP(Z4900,'TFW Programs'!$A$2:$B$8,2,FALSE),\"\")","v":""},null,null,{"$f":"IF(LEN(A4900)>0,VLOOKUP(A4900,Subcontractors!$A$2:$B$4,2,FALSE),\"\")","v":""}]
[null,null,null,null,null,null,null,null,null,null,null,null,null,null,null,null,null,null,null,null,null,null,null,{"$f":"IF(LEN(Z4901)>0,VLOOKUP(Z4901,'TFW Programs'!$A$2:$B$8,2,FALSE),\"\")","v":""},null,null,{"$f":"IF(LEN(A4901)>0,VLOOKUP(A4901,Subcontractors!$A$2:$B$4,2,FALSE),\"\")","v":""}]
[null,null,null,null,null,null,null,null,null,null,null,null,null,null,null,null,null,null,null,null,null,null,null,{"$f":"IF(LEN(Z4902)>0,VLOOKUP(Z4902,'TFW Programs'!$A$2:$B$8,2,FALSE),\"\")","v":""},null,null,{"$f":"IF(LEN(A4902)>0,VLOOKUP(A4902,Subcontractors!$A$2:$B$4,2,FALSE),\"\")","v":""}]
[null,null,null,null,null,null,null,null,null,null,null,null,null,null,null,null,null,null,null,null,null,null,null,{"$f":"IF(LEN(Z4903)>0,VLOOKUP(Z4903,'TFW Programs'!$A$2:$B$8,2,FALSE),\"\")","v":""},null,null,{"$f":"IF(LEN(A4903)>0,VLOOKUP(A4903,Subcontractors!$A$2:$B$4,2,FALSE),\"\")","v":""}]
[null,null,null,null,null,null,null,null,null,null,null,null,null,null,null,null,null,null,null,null,null,null,null,{"$f":"IF(LEN(Z4904)>0,VLOOKUP(Z4904,'TFW Programs'!$A$2:$B$8,2,FALSE),\"\")","v":""},null,null,{"$f":"IF(LEN(A4904)>0,VLOOKUP(A4904,Subcontractors!$A$2:$B$4,2,FALSE),\"\")","v":""}]
[null,null,null,null,null,null,null,null,null,null,null,null,null,null,null,null,null,null,null,null,null,null,null,{"$f":"IF(LEN(Z4905)>0,VLOOKUP(Z4905,'TFW Programs'!$A$2:$B$8,2,FALSE),\"\")","v":""},null,null,{"$f":"IF(LEN(A4905)>0,VLOOKUP(A4905,Subcontractors!$A$2:$B$4,2,FALSE),\"\")","v":""}]
[null,null,null,null,null,null,null,null,null,null,null,null,null,null,null,null,null,null,null,null,null,null,null,{"$f":"IF(LEN(Z4906)>0,VLOOKUP(Z4906,'TFW Programs'!$A$2:$B$8,2,FALSE),\"\")","v":""},null,null,{"$f":"IF(LEN(A4906)>0,VLOOKUP(A4906,Subcontractors!$A$2:$B$4,2,FALSE),\"\")","v":""}]
[null,null,null,null,null,null,null,null,null,null,null,null,null,null,null,null,null,null,null,null,null,null,null,{"$f":"IF(LEN(Z4907)>0,VLOOKUP(Z4907,'TFW Programs'!$A$2:$B$8,2,FALSE),\"\")","v":""},null,null,{"$f":"IF(LEN(A4907)>0,VLOOKUP(A4907,Subcontractors!$A$2:$B$4,2,FALSE),\"\")","v":""}]
[null,null,null,null,null,null,null,null,null,null,null,null,null,null,null,null,null,null,null,null,null,null,null,{"$f":"IF(LEN(Z4908)>0,VLOOKUP(Z4908,'TFW Programs'!$A$2:$B$8,2,FALSE),\"\")","v":""},null,null,{"$f":"IF(LEN(A4908)>0,VLOOKUP(A4908,Subcontractors!$A$2:$B$4,2,FALSE),\"\")","v":""}]
[null,null,null,null,null,null,null,null,null,null,null,null,null,null,null,null,null,null,null,null,null,null,null,{"$f":"IF(LEN(Z4909)>0,VLOOKUP(Z4909,'TFW Programs'!$A$2:$B$8,2,FALSE),\"\")","v":""},null,null,{"$f":"IF(LEN(A4909)>0,VLOOKUP(A4909,Subcontractors!$A$2:$B$4,2,FALSE),\"\")","v":""}]
[null,null,null,null,null,null,null,null,null,null,null,null,null,null,null,null,null,null,null,null,null,null,null,{"$f":"IF(LEN(Z4910)>0,VLOOKUP(Z4910,'TFW Programs'!$A$2:$B$8,2,FALSE),\"\")","v":""},null,null,{"$f":"IF(LEN(A4910)>0,VLOOKUP(A4910,Subcontractors!$A$2:$B$4,2,FALSE),\"\")","v":""}]
[null,null,null,null,null,null,null,null,null,null,null,null,null,null,null,null,null,null,null,null,null,null,null,{"$f":"IF(LEN(Z4911)>0,VLOOKUP(Z4911,'TFW Programs'!$A$2:$B$8,2,FALSE),\"\")","v":""},null,null,{"$f":"IF(LEN(A4911)>0,VLOOKUP(A4911,Subcontractors!$A$2:$B$4,2,FALSE),\"\")","v":""}]
[null,null,null,null,null,null,null,null,null,null,null,null,null,null,null,null,null,null,null,null,null,null,null,{"$f":"IF(LEN(Z4912)>0,VLOOKUP(Z4912,'TFW Programs'!$A$2:$B$8,2,FALSE),\"\")","v":""},null,null,{"$f":"IF(LEN(A4912)>0,VLOOKUP(A4912,Subcontractors!$A$2:$B$4,2,FALSE),\"\")","v":""}]
[null,null,null,null,null,null,null,null,null,null,null,null,null,null,null,null,null,null,null,null,null,null,null,{"$f":"IF(LEN(Z4913)>0,VLOOKUP(Z4913,'TFW Programs'!$A$2:$B$8,2,FALSE),\"\")","v":""},null,null,{"$f":"IF(LEN(A4913)>0,VLOOKUP(A4913,Subcontractors!$A$2:$B$4,2,FALSE),\"\")","v":""}]
[null,null,null,null,null,null,null,null,null,null,null,null,null,null,null,null,null,null,null,null,null,null,null,{"$f":"IF(LEN(Z4914)>0,VLOOKUP(Z4914,'TFW Programs'!$A$2:$B$8,2,FALSE),\"\")","v":""},null,null,{"$f":"IF(LEN(A4914)>0,VLOOKUP(A4914,Subcontractors!$A$2:$B$4,2,FALSE),\"\")","v":""}]
[null,null,null,null,null,null,null,null,null,null,null,null,null,null,null,null,null,null,null,null,null,null,null,{"$f":"IF(LEN(Z4915)>0,VLOOKUP(Z4915,'TFW Programs'!$A$2:$B$8,2,FALSE),\"\")","v":""},null,null,{"$f":"IF(LEN(A4915)>0,VLOOKUP(A4915,Subcontractors!$A$2:$B$4,2,FALSE),\"\")","v":""}]
[null,null,null,null,null,null,null,null,null,null,null,null,null,null,null,null,null,null,null,null,null,null,null,{"$f":"IF(LEN(Z4916)>0,VLOOKUP(Z4916,'TFW Programs'!$A$2:$B$8,2,FALSE),\"\")","v":""},null,null,{"$f":"IF(LEN(A4916)>0,VLOOKUP(A4916,Subcontractors!$A$2:$B$4,2,FALSE),\"\")","v":""}]
[null,null,null,null,null,null,null,null,null,null,null,null,null,null,null,null,null,null,null,null,null,null,null,{"$f":"IF(LEN(Z4917)>0,VLOOKUP(Z4917,'TFW Programs'!$A$2:$B$8,2,FALSE),\"\")","v":""},null,null,{"$f":"IF(LEN(A4917)>0,VLOOKUP(A4917,Subcontractors!$A$2:$B$4,2,FALSE),\"\")","v":""}]
[null,null,null,null,null,null,null,null,null,null,null,null,null,null,null,null,null,null,null,null,null,null,null,{"$f":"IF(LEN(Z4918)>0,VLOOKUP(Z4918,'TFW Programs'!$A$2:$B$8,2,FALSE),\"\")","v":""},null,null,{"$f":"IF(LEN(A4918)>0,VLOOKUP(A4918,Subcontractors!$A$2:$B$4,2,FALSE),\"\")","v":""}]
[null,null,null,null,null,null,null,null,null,null,null,null,null,null,null,null,null,null,null,null,null,null,null,{"$f":"IF(LEN(Z4919)>0,VLOOKUP(Z4919,'TFW Programs'!$A$2:$B$8,2,FALSE),\"\")","v":""},null,null,{"$f":"IF(LEN(A4919)>0,VLOOKUP(A4919,Subcontractors!$A$2:$B$4,2,FALSE),\"\")","v":""}]
[null,null,null,null,null,null,null,null,null,null,null,null,null,null,null,null,null,null,null,null,null,null,null,{"$f":"IF(LEN(Z4920)>0,VLOOKUP(Z4920,'TFW Programs'!$A$2:$B$8,2,FALSE),\"\")","v":""},null,null,{"$f":"IF(LEN(A4920)>0,VLOOKUP(A4920,Subcontractors!$A$2:$B$4,2,FALSE),\"\")","v":""}]
[null,null,null,null,null,null,null,null,null,null,null,null,null,null,null,null,null,null,null,null,null,null,null,{"$f":"IF(LEN(Z4921)>0,VLOOKUP(Z4921,'TFW Programs'!$A$2:$B$8,2,FALSE),\"\")","v":""},null,null,{"$f":"IF(LEN(A4921)>0,VLOOKUP(A4921,Subcontractors!$A$2:$B$4,2,FALSE),\"\")","v":""}]
[null,null,null,null,null,null,null,null,null,null,null,null,null,null,null,null,null,null,null,null,null,null,null,{"$f":"IF(LEN(Z4922)>0,VLOOKUP(Z4922,'TFW Programs'!$A$2:$B$8,2,FALSE),\"\")","v":""},null,null,{"$f":"IF(LEN(A4922)>0,VLOOKUP(A4922,Subcontractors!$A$2:$B$4,2,FALSE),\"\")","v":""}]
[null,null,null,null,null,null,null,null,null,null,null,null,null,null,null,null,null,null,null,null,null,null,null,{"$f":"IF(LEN(Z4923)>0,VLOOKUP(Z4923,'TFW Programs'!$A$2:$B$8,2,FALSE),\"\")","v":""},null,null,{"$f":"IF(LEN(A4923)>0,VLOOKUP(A4923,Subcontractors!$A$2:$B$4,2,FALSE),\"\")","v":""}]
[null,null,null,null,null,null,null,null,null,null,null,null,null,null,null,null,null,null,null,null,null,null,null,{"$f":"IF(LEN(Z4924)>0,VLOOKUP(Z4924,'TFW Programs'!$A$2:$B$8,2,FALSE),\"\")","v":""},null,null,{"$f":"IF(LEN(A4924)>0,VLOOKUP(A4924,Subcontractors!$A$2:$B$4,2,FALSE),\"\")","v":""}]
[null,null,null,null,null,null,null,null,null,null,null,null,null,null,null,null,null,null,null,null,null,null,null,{"$f":"IF(LEN(Z4925)>0,VLOOKUP(Z4925,'TFW Programs'!$A$2:$B$8,2,FALSE),\"\")","v":""},null,null,{"$f":"IF(LEN(A4925)>0,VLOOKUP(A4925,Subcontractors!$A$2:$B$4,2,FALSE),\"\")","v":""}]
[null,null,null,null,null,null,null,null,null,null,null,null,null,null,null,null,null,null,null,null,null,null,null,{"$f":"IF(LEN(Z4926)>0,VLOOKUP(Z4926,'TFW Programs'!$A$2:$B$8,2,FALSE),\"\")","v":""},null,null,{"$f":"IF(LEN(A4926)>0,VLOOKUP(A4926,Subcontractors!$A$2:$B$4,2,FALSE),\"\")","v":""}]
[null,null,null,null,null,null,null,null,null,null,null,null,null,null,null,null,null,null,null,null,null,null,null,{"$f":"IF(LEN(Z4927)>0,VLOOKUP(Z4927,'TFW Programs'!$A$2:$B$8,2,FALSE),\"\")","v":""},null,null,{"$f":"IF(LEN(A4927)>0,VLOOKUP(A4927,Subcontractors!$A$2:$B$4,2,FALSE),\"\")","v":""}]
[null,null,null,null,null,null,null,null,null,null,null,null,null,null,null,null,null,null,null,null,null,null,null,{"$f":"IF(LEN(Z4928)>0,VLOOKUP(Z4928,'TFW Programs'!$A$2:$B$8,2,FALSE),\"\")","v":""},null,null,{"$f":"IF(LEN(A4928)>0,VLOOKUP(A4928,Subcontractors!$A$2:$B$4,2,FALSE),\"\")","v":""}]
[null,null,null,null,null,null,null,null,null,null,null,null,null,null,null,null,null,null,null,null,null,null,null,{"$f":"IF(LEN(Z4929)>0,VLOOKUP(Z4929,'TFW Programs'!$A$2:$B$8,2,FALSE),\"\")","v":""},null,null,{"$f":"IF(LEN(A4929)>0,VLOOKUP(A4929,Subcontractors!$A$2:$B$4,2,FALSE),\"\")","v":""}]
[null,null,null,null,null,null,null,null,null,null,null,null,null,null,null,null,null,null,null,null,null,null,null,{"$f":"IF(LEN(Z4930)>0,VLOOKUP(Z4930,'TFW Programs'!$A$2:$B$8,2,FALSE),\"\")","v":""},null,null,{"$f":"IF(LEN(A4930)>0,VLOOKUP(A4930,Subcontractors!$A$2:$B$4,2,FALSE),\"\")","v":""}]
[null,null,null,null,null,null,null,null,null,null,null,null,null,null,null,null,null,null,null,null,null,null,null,{"$f":"IF(LEN(Z4931)>0,VLOOKUP(Z4931,'TFW Programs'!$A$2:$B$8,2,FALSE),\"\")","v":""},null,null,{"$f":"IF(LEN(A4931)>0,VLOOKUP(A4931,Subcontractors!$A$2:$B$4,2,FALSE),\"\")","v":""}]
[null,null,null,null,null,null,null,null,null,null,null,null,null,null,null,null,null,null,null,null,null,null,null,{"$f":"IF(LEN(Z4932)>0,VLOOKUP(Z4932,'TFW Programs'!$A$2:$B$8,2,FALSE),\"\")","v":""},null,null,{"$f":"IF(LEN(A4932)>0,VLOOKUP(A4932,Subcontractors!$A$2:$B$4,2,FALSE),\"\")","v":""}]
[null,null,null,null,null,null,null,null,null,null,null,null,null,null,null,null,null,null,null,null,null,null,null,{"$f":"IF(LEN(Z4933)>0,VLOOKUP(Z4933,'TFW Programs'!$A$2:$B$8,2,FALSE),\"\")","v":""},null,null,{"$f":"IF(LEN(A4933)>0,VLOOKUP(A4933,Subcontractors!$A$2:$B$4,2,FALSE),\"\")","v":""}]
[null,null,null,null,null,null,null,null,null,null,null,null,null,null,null,null,null,null,null,null,null,null,null,{"$f":"IF(LEN(Z4934)>0,VLOOKUP(Z4934,'TFW Programs'!$A$2:$B$8,2,FALSE),\"\")","v":""},null,null,{"$f":"IF(LEN(A4934)>0,VLOOKUP(A4934,Subcontractors!$A$2:$B$4,2,FALSE),\"\")","v":""}]
[null,null,null,null,null,null,null,null,null,null,null,null,null,null,null,null,null,null,null,null,null,null,null,{"$f":"IF(LEN(Z4935)>0,VLOOKUP(Z4935,'TFW Programs'!$A$2:$B$8,2,FALSE),\"\")","v":""},null,null,{"$f":"IF(LEN(A4935)>0,VLOOKUP(A4935,Subcontractors!$A$2:$B$4,2,FALSE),\"\")","v":""}]
[null,null,null,null,null,null,null,null,null,null,null,null,null,null,null,null,null,null,null,null,null,null,null,{"$f":"IF(LEN(Z4936)>0,VLOOKUP(Z4936,'TFW Programs'!$A$2:$B$8,2,FALSE),\"\")","v":""},null,null,{"$f":"IF(LEN(A4936)>0,VLOOKUP(A4936,Subcontractors!$A$2:$B$4,2,FALSE),\"\")","v":""}]
[null,null,null,null,null,null,null,null,null,null,null,null,null,null,null,null,null,null,null,null,null,null,null,{"$f":"IF(LEN(Z4937)>0,VLOOKUP(Z4937,'TFW Programs'!$A$2:$B$8,2,FALSE),\"\")","v":""},null,null,{"$f":"IF(LEN(A4937)>0,VLOOKUP(A4937,Subcontractors!$A$2:$B$4,2,FALSE),\"\")","v":""}]
[null,null,null,null,null,null,null,null,null,null,null,null,null,null,null,null,null,null,null,null,null,null,null,{"$f":"IF(LEN(Z4938)>0,VLOOKUP(Z4938,'TFW Programs'!$A$2:$B$8,2,FALSE),\"\")","v":""},null,null,{"$f":"IF(LEN(A4938)>0,VLOOKUP(A4938,Subcontractors!$A$2:$B$4,2,FALSE),\"\")","v":""}]
[null,null,null,null,null,null,null,null,null,null,null,null,null,null,null,null,null,null,null,null,null,null,null,{"$f":"IF(LEN(Z4939)>0,VLOOKUP(Z4939,'TFW Programs'!$A$2:$B$8,2,FALSE),\"\")","v":""},null,null,{"$f":"IF(LEN(A4939)>0,VLOOKUP(A4939,Subcontractors!$A$2:$B$4,2,FALSE),\"\")","v":""}]
[null,null,null,null,null,null,null,null,null,null,null,null,null,null,null,null,null,null,null,null,null,null,null,{"$f":"IF(LEN(Z4940)>0,VLOOKUP(Z4940,'TFW Programs'!$A$2:$B$8,2,FALSE),\"\")","v":""},null,null,{"$f":"IF(LEN(A4940)>0,VLOOKUP(A4940,Subcontractors!$A$2:$B$4,2,FALSE),\"\")","v":""}]
[null,null,null,null,null,null,null,null,null,null,null,null,null,null,null,null,null,null,null,null,null,null,null,{"$f":"IF(LEN(Z4941)>0,VLOOKUP(Z4941,'TFW Programs'!$A$2:$B$8,2,FALSE),\"\")","v":""},null,null,{"$f":"IF(LEN(A4941)>0,VLOOKUP(A4941,Subcontractors!$A$2:$B$4,2,FALSE),\"\")","v":""}]
[null,null,null,null,null,null,null,null,null,null,null,null,null,null,null,null,null,null,null,null,null,null,null,{"$f":"IF(LEN(Z4942)>0,VLOOKUP(Z4942,'TFW Programs'!$A$2:$B$8,2,FALSE),\"\")","v":""},null,null,{"$f":"IF(LEN(A4942)>0,VLOOKUP(A4942,Subcontractors!$A$2:$B$4,2,FALSE),\"\")","v":""}]
[null,null,null,null,null,null,null,null,null,null,null,null,null,null,null,null,null,null,null,null,null,null,null,{"$f":"IF(LEN(Z4943)>0,VLOOKUP(Z4943,'TFW Programs'!$A$2:$B$8,2,FALSE),\"\")","v":""},null,null,{"$f":"IF(LEN(A4943)>0,VLOOKUP(A4943,Subcontractors!$A$2:$B$4,2,FALSE),\"\")","v":""}]
[null,null,null,null,null,null,null,null,null,null,null,null,null,null,null,null,null,null,null,null,null,null,null,{"$f":"IF(LEN(Z4944)>0,VLOOKUP(Z4944,'TFW Programs'!$A$2:$B$8,2,FALSE),\"\")","v":""},null,null,{"$f":"IF(LEN(A4944)>0,VLOOKUP(A4944,Subcontractors!$A$2:$B$4,2,FALSE),\"\")","v":""}]
[null,null,null,null,null,null,null,null,null,null,null,null,null,null,null,null,null,null,null,null,null,null,null,{"$f":"IF(LEN(Z4945)>0,VLOOKUP(Z4945,'TFW Programs'!$A$2:$B$8,2,FALSE),\"\")","v":""},null,null,{"$f":"IF(LEN(A4945)>0,VLOOKUP(A4945,Subcontractors!$A$2:$B$4,2,FALSE),\"\")","v":""}]
[null,null,null,null,null,null,null,null,null,null,null,null,null,null,null,null,null,null,null,null,null,null,null,{"$f":"IF(LEN(Z4946)>0,VLOOKUP(Z4946,'TFW Programs'!$A$2:$B$8,2,FALSE),\"\")","v":""},null,null,{"$f":"IF(LEN(A4946)>0,VLOOKUP(A4946,Subcontractors!$A$2:$B$4,2,FALSE),\"\")","v":""}]
[null,null,null,null,null,null,null,null,null,null,null,null,null,null,null,null,null,null,null,null,null,null,null,{"$f":"IF(LEN(Z4947)>0,VLOOKUP(Z4947,'TFW Programs'!$A$2:$B$8,2,FALSE),\"\")","v":""},null,null,{"$f":"IF(LEN(A4947)>0,VLOOKUP(A4947,Subcontractors!$A$2:$B$4,2,FALSE),\"\")","v":""}]
[null,null,null,null,null,null,null,null,null,null,null,null,null,null,null,null,null,null,null,null,null,null,null,{"$f":"IF(LEN(Z4948)>0,VLOOKUP(Z4948,'TFW Programs'!$A$2:$B$8,2,FALSE),\"\")","v":""},null,null,{"$f":"IF(LEN(A4948)>0,VLOOKUP(A4948,Subcontractors!$A$2:$B$4,2,FALSE),\"\")","v":""}]
[null,null,null,null,null,null,null,null,null,null,null,null,null,null,null,null,null,null,null,null,null,null,null,{"$f":"IF(LEN(Z4949)>0,VLOOKUP(Z4949,'TFW Programs'!$A$2:$B$8,2,FALSE),\"\")","v":""},null,null,{"$f":"IF(LEN(A4949)>0,VLOOKUP(A4949,Subcontractors!$A$2:$B$4,2,FALSE),\"\")","v":""}]
[null,null,null,null,null,null,null,null,null,null,null,null,null,null,null,null,null,null,null,null,null,null,null,{"$f":"IF(LEN(Z4950)>0,VLOOKUP(Z4950,'TFW Programs'!$A$2:$B$8,2,FALSE),\"\")","v":""},null,null,{"$f":"IF(LEN(A4950)>0,VLOOKUP(A4950,Subcontractors!$A$2:$B$4,2,FALSE),\"\")","v":""}]
[null,null,null,null,null,null,null,null,null,null,null,null,null,null,null,null,null,null,null,null,null,null,null,{"$f":"IF(LEN(Z4951)>0,VLOOKUP(Z4951,'TFW Programs'!$A$2:$B$8,2,FALSE),\"\")","v":""},null,null,{"$f":"IF(LEN(A4951)>0,VLOOKUP(A4951,Subcontractors!$A$2:$B$4,2,FALSE),\"\")","v":""}]
[null,null,null,null,null,null,null,null,null,null,null,null,null,null,null,null,null,null,null,null,null,null,null,{"$f":"IF(LEN(Z4952)>0,VLOOKUP(Z4952,'TFW Programs'!$A$2:$B$8,2,FALSE),\"\")","v":""},null,null,{"$f":"IF(LEN(A4952)>0,VLOOKUP(A4952,Subcontractors!$A$2:$B$4,2,FALSE),\"\")","v":""}]
[null,null,null,null,null,null,null,null,null,null,null,null,null,null,null,null,null,null,null,null,null,null,null,{"$f":"IF(LEN(Z4953)>0,VLOOKUP(Z4953,'TFW Programs'!$A$2:$B$8,2,FALSE),\"\")","v":""},null,null,{"$f":"IF(LEN(A4953)>0,VLOOKUP(A4953,Subcontractors!$A$2:$B$4,2,FALSE),\"\")","v":""}]
[null,null,null,null,null,null,null,null,null,null,null,null,null,null,null,null,null,null,null,null,null,null,null,{"$f":"IF(LEN(Z4954)>0,VLOOKUP(Z4954,'TFW Programs'!$A$2:$B$8,2,FALSE),\"\")","v":""},null,null,{"$f":"IF(LEN(A4954)>0,VLOOKUP(A4954,Subcontractors!$A$2:$B$4,2,FALSE),\"\")","v":""}]
[null,null,null,null,null,null,null,null,null,null,null,null,null,null,null,null,null,null,null,null,null,null,null,{"$f":"IF(LEN(Z4955)>0,VLOOKUP(Z4955,'TFW Programs'!$A$2:$B$8,2,FALSE),\"\")","v":""},null,null,{"$f":"IF(LEN(A4955)>0,VLOOKUP(A4955,Subcontractors!$A$2:$B$4,2,FALSE),\"\")","v":""}]
[null,null,null,null,null,null,null,null,null,null,null,null,null,null,null,null,null,null,null,null,null,null,null,{"$f":"IF(LEN(Z4956)>0,VLOOKUP(Z4956,'TFW Programs'!$A$2:$B$8,2,FALSE),\"\")","v":""},null,null,{"$f":"IF(LEN(A4956)>0,VLOOKUP(A4956,Subcontractors!$A$2:$B$4,2,FALSE),\"\")","v":""}]
[null,null,null,null,null,null,null,null,null,null,null,null,null,null,null,null,null,null,null,null,null,null,null,{"$f":"IF(LEN(Z4957)>0,VLOOKUP(Z4957,'TFW Programs'!$A$2:$B$8,2,FALSE),\"\")","v":""},null,null,{"$f":"IF(LEN(A4957)>0,VLOOKUP(A4957,Subcontractors!$A$2:$B$4,2,FALSE),\"\")","v":""}]
[null,null,null,null,null,null,null,null,null,null,null,null,null,null,null,null,null,null,null,null,null,null,null,{"$f":"IF(LEN(Z4958)>0,VLOOKUP(Z4958,'TFW Programs'!$A$2:$B$8,2,FALSE),\"\")","v":""},null,null,{"$f":"IF(LEN(A4958)>0,VLOOKUP(A4958,Subcontractors!$A$2:$B$4,2,FALSE),\"\")","v":""}]
[null,null,null,null,null,null,null,null,null,null,null,null,null,null,null,null,null,null,null,null,null,null,null,{"$f":"IF(LEN(Z4959)>0,VLOOKUP(Z4959,'TFW Programs'!$A$2:$B$8,2,FALSE),\"\")","v":""},null,null,{"$f":"IF(LEN(A4959)>0,VLOOKUP(A4959,Subcontractors!$A$2:$B$4,2,FALSE),\"\")","v":""}]
[null,null,null,null,null,null,null,null,null,null,null,null,null,null,null,null,null,null,null,null,null,null,null,{"$f":"IF(LEN(Z4960)>0,VLOOKUP(Z4960,'TFW Programs'!$A$2:$B$8,2,FALSE),\"\")","v":""},null,null,{"$f":"IF(LEN(A4960)>0,VLOOKUP(A4960,Subcontractors!$A$2:$B$4,2,FALSE),\"\")","v":""}]
[null,null,null,null,null,null,null,null,null,null,null,null,null,null,null,null,null,null,null,null,null,null,null,{"$f":"IF(LEN(Z4961)>0,VLOOKUP(Z4961,'TFW Programs'!$A$2:$B$8,2,FALSE),\"\")","v":""},null,null,{"$f":"IF(LEN(A4961)>0,VLOOKUP(A4961,Subcontractors!$A$2:$B$4,2,FALSE),\"\")","v":""}]
[null,null,null,null,null,null,null,null,null,null,null,null,null,null,null,null,null,null,null,null,null,null,null,{"$f":"IF(LEN(Z4962)>0,VLOOKUP(Z4962,'TFW Programs'!$A$2:$B$8,2,FALSE),\"\")","v":""},null,null,{"$f":"IF(LEN(A4962)>0,VLOOKUP(A4962,Subcontractors!$A$2:$B$4,2,FALSE),\"\")","v":""}]
[null,null,null,null,null,null,null,null,null,null,null,null,null,null,null,null,null,null,null,null,null,null,null,{"$f":"IF(LEN(Z4963)>0,VLOOKUP(Z4963,'TFW Programs'!$A$2:$B$8,2,FALSE),\"\")","v":""},null,null,{"$f":"IF(LEN(A4963)>0,VLOOKUP(A4963,Subcontractors!$A$2:$B$4,2,FALSE),\"\")","v":""}]
[null,null,null,null,null,null,null,null,null,null,null,null,null,null,null,null,null,null,null,null,null,null,null,{"$f":"IF(LEN(Z4964)>0,VLOOKUP(Z4964,'TFW Programs'!$A$2:$B$8,2,FALSE),\"\")","v":""},null,null,{"$f":"IF(LEN(A4964)>0,VLOOKUP(A4964,Subcontractors!$A$2:$B$4,2,FALSE),\"\")","v":""}]
[null,null,null,null,null,null,null,null,null,null,null,null,null,null,null,null,null,null,null,null,null,null,null,{"$f":"IF(LEN(Z4965)>0,VLOOKUP(Z4965,'TFW Programs'!$A$2:$B$8,2,FALSE),\"\")","v":""},null,null,{"$f":"IF(LEN(A4965)>0,VLOOKUP(A4965,Subcontractors!$A$2:$B$4,2,FALSE),\"\")","v":""}]
[null,null,null,null,null,null,null,null,null,null,null,null,null,null,null,null,null,null,null,null,null,null,null,{"$f":"IF(LEN(Z4966)>0,VLOOKUP(Z4966,'TFW Programs'!$A$2:$B$8,2,FALSE),\"\")","v":""},null,null,{"$f":"IF(LEN(A4966)>0,VLOOKUP(A4966,Subcontractors!$A$2:$B$4,2,FALSE),\"\")","v":""}]
[null,null,null,null,null,null,null,null,null,null,null,null,null,null,null,null,null,null,null,null,null,null,null,{"$f":"IF(LEN(Z4967)>0,VLOOKUP(Z4967,'TFW Programs'!$A$2:$B$8,2,FALSE),\"\")","v":""},null,null,{"$f":"IF(LEN(A4967)>0,VLOOKUP(A4967,Subcontractors!$A$2:$B$4,2,FALSE),\"\")","v":""}]
[null,null,null,null,null,null,null,null,null,null,null,null,null,null,null,null,null,null,null,null,null,null,null,{"$f":"IF(LEN(Z4968)>0,VLOOKUP(Z4968,'TFW Programs'!$A$2:$B$8,2,FALSE),\"\")","v":""},null,null,{"$f":"IF(LEN(A4968)>0,VLOOKUP(A4968,Subcontractors!$A$2:$B$4,2,FALSE),\"\")","v":""}]
[null,null,null,null,null,null,null,null,null,null,null,null,null,null,null,null,null,null,null,null,null,null,null,{"$f":"IF(LEN(Z4969)>0,VLOOKUP(Z4969,'TFW Programs'!$A$2:$B$8,2,FALSE),\"\")","v":""},null,null,{"$f":"IF(LEN(A4969)>0,VLOOKUP(A4969,Subcontractors!$A$2:$B$4,2,FALSE),\"\")","v":""}]
[null,null,null,null,null,null,null,null,null,null,null,null,null,null,null,null,null,null,null,null,null,null,null,{"$f":"IF(LEN(Z4970)>0,VLOOKUP(Z4970,'TFW Programs'!$A$2:$B$8,2,FALSE),\"\")","v":""},null,null,{"$f":"IF(LEN(A4970)>0,VLOOKUP(A4970,Subcontractors!$A$2:$B$4,2,FALSE),\"\")","v":""}]
[null,null,null,null,null,null,null,null,null,null,null,null,null,null,null,null,null,null,null,null,null,null,null,{"$f":"IF(LEN(Z4971)>0,VLOOKUP(Z4971,'TFW Programs'!$A$2:$B$8,2,FALSE),\"\")","v":""},null,null,{"$f":"IF(LEN(A4971)>0,VLOOKUP(A4971,Subcontractors!$A$2:$B$4,2,FALSE),\"\")","v":""}]
[null,null,null,null,null,null,null,null,null,null,null,null,null,null,null,null,null,null,null,null,null,null,null,{"$f":"IF(LEN(Z4972)>0,VLOOKUP(Z4972,'TFW Programs'!$A$2:$B$8,2,FALSE),\"\")","v":""},null,null,{"$f":"IF(LEN(A4972)>0,VLOOKUP(A4972,Subcontractors!$A$2:$B$4,2,FALSE),\"\")","v":""}]
[null,null,null,null,null,null,null,null,null,null,null,null,null,null,null,null,null,null,null,null,null,null,null,{"$f":"IF(LEN(Z4973)>0,VLOOKUP(Z4973,'TFW Programs'!$A$2:$B$8,2,FALSE),\"\")","v":""},null,null,{"$f":"IF(LEN(A4973)>0,VLOOKUP(A4973,Subcontractors!$A$2:$B$4,2,FALSE),\"\")","v":""}]
[null,null,null,null,null,null,null,null,null,null,null,null,null,null,null,null,null,null,null,null,null,null,null,{"$f":"IF(LEN(Z4974)>0,VLOOKUP(Z4974,'TFW Programs'!$A$2:$B$8,2,FALSE),\"\")","v":""},null,null,{"$f":"IF(LEN(A4974)>0,VLOOKUP(A4974,Subcontractors!$A$2:$B$4,2,FALSE),\"\")","v":""}]
[null,null,null,null,null,null,null,null,null,null,null,null,null,null,null,null,null,null,null,null,null,null,null,{"$f":"IF(LEN(Z4975)>0,VLOOKUP(Z4975,'TFW Programs'!$A$2:$B$8,2,FALSE),\"\")","v":""},null,null,{"$f":"IF(LEN(A4975)>0,VLOOKUP(A4975,Subcontractors!$A$2:$B$4,2,FALSE),\"\")","v":""}]
[null,null,null,null,null,null,null,null,null,null,null,null,null,null,null,null,null,null,null,null,null,null,null,{"$f":"IF(LEN(Z4976)>0,VLOOKUP(Z4976,'TFW Programs'!$A$2:$B$8,2,FALSE),\"\")","v":""},null,null,{"$f":"IF(LEN(A4976)>0,VLOOKUP(A4976,Subcontractors!$A$2:$B$4,2,FALSE),\"\")","v":""}]
[null,null,null,null,null,null,null,null,null,null,null,null,null,null,null,null,null,null,null,null,null,null,null,{"$f":"IF(LEN(Z4977)>0,VLOOKUP(Z4977,'TFW Programs'!$A$2:$B$8,2,FALSE),\"\")","v":""},null,null,{"$f":"IF(LEN(A4977)>0,VLOOKUP(A4977,Subcontractors!$A$2:$B$4,2,FALSE),\"\")","v":""}]
[null,null,null,null,null,null,null,null,null,null,null,null,null,null,null,null,null,null,null,null,null,null,null,{"$f":"IF(LEN(Z4978)>0,VLOOKUP(Z4978,'TFW Programs'!$A$2:$B$8,2,FALSE),\"\")","v":""},null,null,{"$f":"IF(LEN(A4978)>0,VLOOKUP(A4978,Subcontractors!$A$2:$B$4,2,FALSE),\"\")","v":""}]
[null,null,null,null,null,null,null,null,null,null,null,null,null,null,null,null,null,null,null,null,null,null,null,{"$f":"IF(LEN(Z4979)>0,VLOOKUP(Z4979,'TFW Programs'!$A$2:$B$8,2,FALSE),\"\")","v":""},null,null,{"$f":"IF(LEN(A4979)>0,VLOOKUP(A4979,Subcontractors!$A$2:$B$4,2,FALSE),\"\")","v":""}]
[null,null,null,null,null,null,null,null,null,null,null,null,null,null,null,null,null,null,null,null,null,null,null,{"$f":"IF(LEN(Z4980)>0,VLOOKUP(Z4980,'TFW Programs'!$A$2:$B$8,2,FALSE),\"\")","v":""},null,null,{"$f":"IF(LEN(A4980)>0,VLOOKUP(A4980,Subcontractors!$A$2:$B$4,2,FALSE),\"\")","v":""}]
[null,null,null,null,null,null,null,null,null,null,null,null,null,null,null,null,null,null,null,null,null,null,null,{"$f":"IF(LEN(Z4981)>0,VLOOKUP(Z4981,'TFW Programs'!$A$2:$B$8,2,FALSE),\"\")","v":""},null,null,{"$f":"IF(LEN(A4981)>0,VLOOKUP(A4981,Subcontractors!$A$2:$B$4,2,FALSE),\"\")","v":""}]
[null,null,null,null,null,null,null,null,null,null,null,null,null,null,null,null,null,null,null,null,null,null,null,{"$f":"IF(LEN(Z4982)>0,VLOOKUP(Z4982,'TFW Programs'!$A$2:$B$8,2,FALSE),\"\")","v":""},null,null,{"$f":"IF(LEN(A4982)>0,VLOOKUP(A4982,Subcontractors!$A$2:$B$4,2,FALSE),\"\")","v":""}]
[null,null,null,null,null,null,null,null,null,null,null,null,null,null,null,null,null,null,null,null,null,null,null,{"$f":"IF(LEN(Z4983)>0,VLOOKUP(Z4983,'TFW Programs'!$A$2:$B$8,2,FALSE),\"\")","v":""},null,null,{"$f":"IF(LEN(A4983)>0,VLOOKUP(A4983,Subcontractors!$A$2:$B$4,2,FALSE),\"\")","v":""}]
[null,null,null,null,null,null,null,null,null,null,null,null,null,null,null,null,null,null,null,null,null,null,null,{"$f":"IF(LEN(Z4984)>0,VLOOKUP(Z4984,'TFW Programs'!$A$2:$B$8,2,FALSE),\"\")","v":""},null,null,{"$f":"IF(LEN(A4984)>0,VLOOKUP(A4984,Subcontractors!$A$2:$B$4,2,FALSE),\"\")","v":""}]
[null,null,null,null,null,null,null,null,null,null,null,null,null,null,null,null,null,null,null,null,null,null,null,{"$f":"IF(LEN(Z4985)>0,VLOOKUP(Z4985,'TFW Programs'!$A$2:$B$8,2,FALSE),\"\")","v":""},null,null,{"$f":"IF(LEN(A4985)>0,VLOOKUP(A4985,Subcontractors!$A$2:$B$4,2,FALSE),\"\")","v":""}]
[null,null,null,null,null,null,null,null,null,null,null,null,null,null,null,null,null,null,null,null,null,null,null,{"$f":"IF(LEN(Z4986)>0,VLOOKUP(Z4986,'TFW Programs'!$A$2:$B$8,2,FALSE),\"\")","v":""},null,null,{"$f":"IF(LEN(A4986)>0,VLOOKUP(A4986,Subcontractors!$A$2:$B$4,2,FALSE),\"\")","v":""}]
[null,null,null,null,null,null,null,null,null,null,null,null,null,null,null,null,null,null,null,null,null,null,null,{"$f":"IF(LEN(Z4987)>0,VLOOKUP(Z4987,'TFW Programs'!$A$2:$B$8,2,FALSE),\"\")","v":""},null,null,{"$f":"IF(LEN(A4987)>0,VLOOKUP(A4987,Subcontractors!$A$2:$B$4,2,FALSE),\"\")","v":""}]
[null,null,null,null,null,null,null,null,null,null,null,null,null,null,null,null,null,null,null,null,null,null,null,{"$f":"IF(LEN(Z4988)>0,VLOOKUP(Z4988,'TFW Programs'!$A$2:$B$8,2,FALSE),\"\")","v":""},null,null,{"$f":"IF(LEN(A4988)>0,VLOOKUP(A4988,Subcontractors!$A$2:$B$4,2,FALSE),\"\")","v":""}]
[null,null,null,null,null,null,null,null,null,null,null,null,null,null,null,null,null,null,null,null,null,null,null,{"$f":"IF(LEN(Z4989)>0,VLOOKUP(Z4989,'TFW Programs'!$A$2:$B$8,2,FALSE),\"\")","v":""},null,null,{"$f":"IF(LEN(A4989)>0,VLOOKUP(A4989,Subcontractors!$A$2:$B$4,2,FALSE),\"\")","v":""}]
[null,null,null,null,null,null,null,null,null,null,null,null,null,null,null,null,null,null,null,null,null,null,null,{"$f":"IF(LEN(Z4990)>0,VLOOKUP(Z4990,'TFW Programs'!$A$2:$B$8,2,FALSE),\"\")","v":""},null,null,{"$f":"IF(LEN(A4990)>0,VLOOKUP(A4990,Subcontractors!$A$2:$B$4,2,FALSE),\"\")","v":""}]
[null,null,null,null,null,null,null,null,null,null,null,null,null,null,null,null,null,null,null,null,null,null,null,{"$f":"IF(LEN(Z4991)>0,VLOOKUP(Z4991,'TFW Programs'!$A$2:$B$8,2,FALSE),\"\")","v":""},null,null,{"$f":"IF(LEN(A4991)>0,VLOOKUP(A4991,Subcontractors!$A$2:$B$4,2,FALSE),\"\")","v":""}]
[null,null,null,null,null,null,null,null,null,null,null,null,null,null,null,null,null,null,null,null,null,null,null,{"$f":"IF(LEN(Z4992)>0,VLOOKUP(Z4992,'TFW Programs'!$A$2:$B$8,2,FALSE),\"\")","v":""},null,null,{"$f":"IF(LEN(A4992)>0,VLOOKUP(A4992,Subcontractors!$A$2:$B$4,2,FALSE),\"\")","v":""}]
[null,null,null,null,null,null,null,null,null,null,null,null,null,null,null,null,null,null,null,null,null,null,null,{"$f":"IF(LEN(Z4993)>0,VLOOKUP(Z4993,'TFW Programs'!$A$2:$B$8,2,FALSE),\"\")","v":""},null,null,{"$f":"IF(LEN(A4993)>0,VLOOKUP(A4993,Subcontractors!$A$2:$B$4,2,FALSE),\"\")","v":""}]
[null,null,null,null,null,null,null,null,null,null,null,null,null,null,null,null,null,null,null,null,null,null,null,{"$f":"IF(LEN(Z4994)>0,VLOOKUP(Z4994,'TFW Programs'!$A$2:$B$8,2,FALSE),\"\")","v":""},null,null,{"$f":"IF(LEN(A4994)>0,VLOOKUP(A4994,Subcontractors!$A$2:$B$4,2,FALSE),\"\")","v":""}]
[null,null,null,null,null,null,null,null,null,null,null,null,null,null,null,null,null,null,null,null,null,null,null,{"$f":"IF(LEN(Z4995)>0,VLOOKUP(Z4995,'TFW Programs'!$A$2:$B$8,2,FALSE),\"\")","v":""},null,null,{"$f":"IF(LEN(A4995)>0,VLOOKUP(A4995,Subcontractors!$A$2:$B$4,2,FALSE),\"\")","v":""}]
[null,null,null,null,null,null,null,null,null,null,null,null,null,null,null,null,null,null,null,null,null,null,null,{"$f":"IF(LEN(Z4996)>0,VLOOKUP(Z4996,'TFW Programs'!$A$2:$B$8,2,FALSE),\"\")","v":""},null,null,{"$f":"IF(LEN(A4996)>0,VLOOKUP(A4996,Subcontractors!$A$2:$B$4,2,FALSE),\"\")","v":""}]
[null,null,null,null,null,null,null,null,null,null,null,null,null,null,null,null,null,null,null,null,null,null,null,{"$f":"IF(LEN(Z4997)>0,VLOOKUP(Z4997,'TFW Programs'!$A$2:$B$8,2,FALSE),\"\")","v":""},null,null,{"$f":"IF(LEN(A4997)>0,VLOOKUP(A4997,Subcontractors!$A$2:$B$4,2,FALSE),\"\")","v":""}]
[null,null,null,null,null,null,null,null,null,null,null,null,null,null,null,null,null,null,null,null,null,null,null,{"$f":"IF(LEN(Z4998)>0,VLOOKUP(Z4998,'TFW Programs'!$A$2:$B$8,2,FALSE),\"\")","v":""},null,null,{"$f":"IF(LEN(A4998)>0,VLOOKUP(A4998,Subcontractors!$A$2:$B$4,2,FALSE),\"\")","v":""}]
[null,null,null,null,null,null,null,null,null,null,null,null,null,null,null,null,null,null,null,null,null,null,null,{"$f":"IF(LEN(Z4999)>0,VLOOKUP(Z4999,'TFW Programs'!$A$2:$B$8,2,FALSE),\"\")","v":""},null,null,{"$f":"IF(LEN(A4999)>0,VLOOKUP(A4999,Subcontractors!$A$2:$B$4,2,FALSE),\"\")","v":""}]
[null,null,null,null,null,null,null,null,null,null,null,null,null,null,null,null,null,null,null,null,null,null,null,{"$f":"IF(LEN(Z5000)>0,VLOOKUP(Z5000,'TFW Programs'!$A$2:$B$8,2,FALSE),\"\")","v":""},null,null,{"$f":"IF(LEN(A5000)>0,VLOOKUP(A5000,Subcontractors!$A$2:$B$4,2,FALSE),\"\")","v":""}]
[null,null,null,null,null,null,null,null,null,null,null,null,null,null,null,null,null,null,null,null,null,null,null,{"$f":"IF(LEN(Z5001)>0,VLOOKUP(Z5001,'TFW Programs'!$A$2:$B$8,2,FALSE),\"\")","v":""},null,null,{"$f":"IF(LEN(A5001)>0,VLOOKUP(A5001,Subcontractors!$A$2:$B$4,2,FALSE),\"\")","v":""}]
[null,null,null,null,null,null,null,null,null,null,null,null,null,null,null,null,null,null,null,null,null,null,null,{"$f":"IF(LEN(Z5002)>0,VLOOKUP(Z5002,'TFW Programs'!$A$2:$B$8,2,FALSE),\"\")","v":""},null,null,{"$f":"IF(LEN(A5002)>0,VLOOKUP(A5002,Subcontractors!$A$2:$B$4,2,FALSE),\"\")","v":""}]
[null,null,null,null,null,null,null,null,null,null,null,null,null,null,null,null,null,null,null,null,null,null,null,{"$f":"IF(LEN(Z5003)>0,VLOOKUP(Z5003,'TFW Programs'!$A$2:$B$8,2,FALSE),\"\")","v":""},null,null,{"$f":"IF(LEN(A5003)>0,VLOOKUP(A5003,Subcontractors!$A$2:$B$4,2,FALSE),\"\")","v":""}]
[null,null,null,null,null,null,null,null,null,null,null,null,null,null,null,null,null,null,null,null,null,null,null,{"$f":"IF(LEN(Z5004)>0,VLOOKUP(Z5004,'TFW Programs'!$A$2:$B$8,2,FALSE),\"\")","v":""},null,null,{"$f":"IF(LEN(A5004)>0,VLOOKUP(A5004,Subcontractors!$A$2:$B$4,2,FALSE),\"\")","v":""}]
[null,null,null,null,null,null,null,null,null,null,null,null,null,null,null,null,null,null,null,null,null,null,null,{"$f":"IF(LEN(Z5005)>0,VLOOKUP(Z5005,'TFW Programs'!$A$2:$B$8,2,FALSE),\"\")","v":""},null,null,{"$f":"IF(LEN(A5005)>0,VLOOKUP(A5005,Subcontractors!$A$2:$B$4,2,FALSE),\"\")","v":""}]
[null,null,null,null,null,null,null,null,null,null,null,null,null,null,null,null,null,null,null,null,null,null,null,{"$f":"IF(LEN(Z5006)>0,VLOOKUP(Z5006,'TFW Programs'!$A$2:$B$8,2,FALSE),\"\")","v":""},null,null,{"$f":"IF(LEN(A5006)>0,VLOOKUP(A5006,Subcontractors!$A$2:$B$4,2,FALSE),\"\")","v":""}]
[null,null,null,null,null,null,null,null,null,null,null,null,null,null,null,null,null,null,null,null,null,null,null,{"$f":"IF(LEN(Z5007)>0,VLOOKUP(Z5007, 'TFW Programs'!$A$2:$B$8,2,FALSE),\"\")","v":""}]
[null,null,null,null,null,null,null,null,null,null,null,null,null,null,null,null,null,null,null,null,null,null,null,{"$f":"IF(LEN(Z5008)>0,VLOOKUP(Z5008, 'TFW Programs'!$A$2:$B$8,2,FALSE),\"\")","v":""}]
[null,null,null,null,null,null,null,null,null,null,null,null,null,null,null,null,null,null,null,null,null,null,null,{"$f":"IF(LEN(Z5009)>0,VLOOKUP(Z5009, 'TFW Programs'!$A$2:$B$8,2,FALSE),\"\")","v":""}]
[null,null,null,null,null,null,null,null,null,null,null,null,null,null,null,null,null,null,null,null,null,null,null,{"$f":"IF(LEN(Z5010)>0,VLOOKUP(Z5010, 'TFW Programs'!$A$2:$B$8,2,FALSE),\"\")","v":""}]
[null,null,null,null,null,null,null,null,null,null,null,null,null,null,null,null,null,null,null,null,null,null,null,{"$f":"IF(LEN(Z5011)>0,VLOOKUP(Z5011, 'TFW Programs'!$A$2:$B$8,2,FALSE),\"\")","v":""}]
[null,null,null,null,null,null,null,null,null,null,null,null,null,null,null,null,null,null,null,null,null,null,null,{"$f":"IF(LEN(Z5012)>0,VLOOKUP(Z5012, 'TFW Programs'!$A$2:$B$8,2,FALSE),\"\")","v":""}]
[null,null,null,null,null,null,null,null,null,null,null,null,null,null,null,null,null,null,null,null,null,null,null,{"$f":"IF(LEN(Z5013)>0,VLOOKUP(Z5013, 'TFW Programs'!$A$2:$B$8,2,FALSE),\"\")","v":""}]
[null,null,null,null,null,null,null,null,null,null,null,null,null,null,null,null,null,null,null,null,null,null,null,{"$f":"IF(LEN(Z5014)>0,VLOOKUP(Z5014, 'TFW Programs'!$A$2:$B$8,2,FALSE),\"\")","v":""}]
[null,null,null,null,null,null,null,null,null,null,null,null,null,null,null,null,null,null,null,null,null,null,null,{"$f":"IF(LEN(Z5015)>0,VLOOKUP(Z5015, 'TFW Programs'!$A$2:$B$8,2,FALSE),\"\")","v":""}]
[null,null,null,null,null,null,null,null,null,null,null,null,null,null,null,null,null,null,null,null,null,null,null,{"$f":"IF(LEN(Z5016)>0,VLOOKUP(Z5016, 'TFW Programs'!$A$2:$B$8,2,FALSE),\"\")","v":""}]
[null,null,null,null,null,null,null,null,null,null,null,null,null,null,null,null,null,null,null,null,null,null,null,{"$f":"IF(LEN(Z5017)>0,VLOOKUP(Z5017, 'TFW Programs'!$A$2:$B$8,2,FALSE),\"\")","v":""}]
[null,null,null,null,null,null,null,null,null,null,null,null,null,null,null,null,null,null,null,null,null,null,null,{"$f":"IF(LEN(Z5018)>0,VLOOKUP(Z5018, 'TFW Programs'!$A$2:$B$8,2,FALSE),\"\")","v":""}]
[null,null,null,null,null,null,null,null,null,null,null,null,null,null,null,null,null,null,null,null,null,null,null,{"$f":"IF(LEN(Z5019)>0,VLOOKUP(Z5019, 'TFW Programs'!$A$2:$B$8,2,FALSE),\"\")","v":""}]
[null,null,null,null,null,null,null,null,null,null,null,null,null,null,null,null,null,null,null,null,null,null,null,{"$f":"IF(LEN(Z5020)>0,VLOOKUP(Z5020, 'TFW Programs'!$A$2:$B$8,2,FALSE),\"\")","v":""}]
[null,null,null,null,null,null,null,null,null,null,null,null,null,null,null,null,null,null,null,null,null,null,null,{"$f":"IF(LEN(Z5021)>0,VLOOKUP(Z5021, 'TFW Programs'!$A$2:$B$8,2,FALSE),\"\")","v":""}]
[null,null,null,null,null,null,null,null,null,null,null,null,null,null,null,null,null,null,null,null,null,null,null,{"$f":"IF(LEN(Z5022)>0,VLOOKUP(Z5022, 'TFW Programs'!$A$2:$B$8,2,FALSE),\"\")","v":""}]
[null,null,null,null,null,null,null,null,null,null,null,null,null,null,null,null,null,null,null,null,null,null,null,{"$f":"IF(LEN(Z5023)>0,VLOOKUP(Z5023, 'TFW Programs'!$A$2:$B$8,2,FALSE),\"\")","v":""}]
[null,null,null,null,null,null,null,null,null,null,null,null,null,null,null,null,null,null,null,null,null,null,null,{"$f":"IF(LEN(Z5024)>0,VLOOKUP(Z5024, 'TFW Programs'!$A$2:$B$8,2,FALSE),\"\")","v":""}]

{"sheet":"Materials","index":3,"n_rows":3,"n_cols":16,"rows_kept":3,"cut":false,"hidden":false,"merged":[]}
[]
["Nom de fournisseur","Type de materiaux","Coût, tax incluse","Devise","Ville","Province/ État","Pays","Code Postal/Zip","Non","Femmes",null,"Minorité visible","Autochtone - Première Nation (CAN)","Vétéran ","Communauté Autochtone","Autre Communauté Autochtone"]
["Supplier Name","Material Type","Cost Incl Tax","Currency","City/ Town","Province/ State","Country","Postal/ Zip Code","No","Women","LGBT","Visible Minority  (CAN)","Indigenous (CAN)","Veteran","Indigenous/Tribal Community","Other Indigenous/Tribal Community"]

{"sheet":"Expenses","index":4,"n_rows":3,"n_cols":6,"rows_kept":3,"cut":false,"hidden":false,"merged":[]}
[]
["\n\nDépenses totales","Devise","Ville","Province/État","Pays","Code Postal/Zip"]
["Total Expenses ","Currency","City/ Town","Province/ State","Country","Postal/ Zip Code"]

{"sheet":"Subcontractor Spend","index":5,"n_rows":500,"n_cols":7,"rows_kept":500,"cut":false,"hidden":false,"merged":[]}
[]
["Sous-traitant","Dépenses totales","Heures travaillées","Dépenses totales","Devise","Les études traditionnelles"]
["Subcontractor","Service Type","Hours Worked","Total Spend","Currency","Traditional Studies","Phase Subcontractor"]
[null,null,null,null,null,null,{"$f":"IF(LEN(A4)>0,VLOOKUP(A4,Subcontractors!$A$2:$B$4,2,FALSE),\"\")","v":""}]
[null,null,null,null,null,null,{"$f":"IF(LEN(A5)>0,VLOOKUP(A5,Subcontractors!$A$2:$B$4,2,FALSE),\"\")","v":""}]
[null,null,null,null,null,null,{"$f":"IF(LEN(A6)>0,VLOOKUP(A6,Subcontractors!$A$2:$B$4,2,FALSE),\"\")","v":""}]
[null,null,null,null,null,null,{"$f":"IF(LEN(A7)>0,VLOOKUP(A7,Subcontractors!$A$2:$B$4,2,FALSE),\"\")","v":""}]
[null,null,null,null,null,null,{"$f":"IF(LEN(A8)>0,VLOOKUP(A8,Subcontractors!$A$2:$B$4,2,FALSE),\"\")","v":""}]
[null,null,null,null,null,null,{"$f":"IF(LEN(A9)>0,VLOOKUP(A9,Subcontractors!$A$2:$B$4,2,FALSE),\"\")","v":""}]
[null,null,null,null,null,null,{"$f":"IF(LEN(A10)>0,VLOOKUP(A10,Subcontractors!$A$2:$B$4,2,FALSE),\"\")","v":""}]
[null,null,null,null,null,null,{"$f":"IF(LEN(A11)>0,VLOOKUP(A11,Subcontractors!$A$2:$B$4,2,FALSE),\"\")","v":""}]
[null,null,null,null,null,null,{"$f":"IF(LEN(A12)>0,VLOOKUP(A12,Subcontractors!$A$2:$B$4,2,FALSE),\"\")","v":""}]
[null,null,null,null,null,null,{"$f":"IF(LEN(A13)>0,VLOOKUP(A13,Subcontractors!$A$2:$B$4,2,FALSE),\"\")","v":""}]
[null,null,null,null,null,null,{"$f":"IF(LEN(A14)>0,VLOOKUP(A14,Subcontractors!$A$2:$B$4,2,FALSE),\"\")","v":""}]
[null,null,null,null,null,null,{"$f":"IF(LEN(A15)>0,VLOOKUP(A15,Subcontractors!$A$2:$B$4,2,FALSE),\"\")","v":""}]
[null,null,null,null,null,null,{"$f":"IF(LEN(A16)>0,VLOOKUP(A16,Subcontractors!$A$2:$B$4,2,FALSE),\"\")","v":""}]
[null,null,null,null,null,null,{"$f":"IF(LEN(A17)>0,VLOOKUP(A17,Subcontractors!$A$2:$B$4,2,FALSE),\"\")","v":""}]
[null,null,null,null,null,null,{"$f":"IF(LEN(A18)>0,VLOOKUP(A18,Subcontractors!$A$2:$B$4,2,FALSE),\"\")","v":""}]
[null,null,null,null,null,null,{"$f":"IF(LEN(A19)>0,VLOOKUP(A19,Subcontractors!$A$2:$B$4,2,FALSE),\"\")","v":""}]
[null,null,null,null,null,null,{"$f":"IF(LEN(A20)>0,VLOOKUP(A20,Subcontractors!$A$2:$B$4,2,FALSE),\"\")","v":""}]
[null,null,null,null,null,null,{"$f":"IF(LEN(A21)>0,VLOOKUP(A21,Subcontractors!$A$2:$B$4,2,FALSE),\"\")","v":""}]
[null,null,null,null,null,null,{"$f":"IF(LEN(A22)>0,VLOOKUP(A22,Subcontractors!$A$2:$B$4,2,FALSE),\"\")","v":""}]
[null,null,null,null,null,null,{"$f":"IF(LEN(A23)>0,VLOOKUP(A23,Subcontractors!$A$2:$B$4,2,FALSE),\"\")","v":""}]
[null,null,null,null,null,null,{"$f":"IF(LEN(A24)>0,VLOOKUP(A24,Subcontractors!$A$2:$B$4,2,FALSE),\"\")","v":""}]
[null,null,null,null,null,null,{"$f":"IF(LEN(A25)>0,VLOOKUP(A25,Subcontractors!$A$2:$B$4,2,FALSE),\"\")","v":""}]
[null,null,null,null,null,null,{"$f":"IF(LEN(A26)>0,VLOOKUP(A26,Subcontractors!$A$2:$B$4,2,FALSE),\"\")","v":""}]
[null,null,null,null,null,null,{"$f":"IF(LEN(A27)>0,VLOOKUP(A27,Subcontractors!$A$2:$B$4,2,FALSE),\"\")","v":""}]
[null,null,null,null,null,null,{"$f":"IF(LEN(A28)>0,VLOOKUP(A28,Subcontractors!$A$2:$B$4,2,FALSE),\"\")","v":""}]
[null,null,null,null,null,null,{"$f":"IF(LEN(A29)>0,VLOOKUP(A29,Subcontractors!$A$2:$B$4,2,FALSE),\"\")","v":""}]
[null,null,null,null,null,null,{"$f":"IF(LEN(A30)>0,VLOOKUP(A30,Subcontractors!$A$2:$B$4,2,FALSE),\"\")","v":""}]
[null,null,null,null,null,null,{"$f":"IF(LEN(A31)>0,VLOOKUP(A31,Subcontractors!$A$2:$B$4,2,FALSE),\"\")","v":""}]
[null,null,null,null,null,null,{"$f":"IF(LEN(A32)>0,VLOOKUP(A32,Subcontractors!$A$2:$B$4,2,FALSE),\"\")","v":""}]
[null,null,null,null,null,null,{"$f":"IF(LEN(A33)>0,VLOOKUP(A33,Subcontractors!$A$2:$B$4,2,FALSE),\"\")","v":""}]
[null,null,null,null,null,null,{"$f":"IF(LEN(A34)>0,VLOOKUP(A34,Subcontractors!$A$2:$B$4,2,FALSE),\"\")","v":""}]
[null,null,null,null,null,null,{"$f":"IF(LEN(A35)>0,VLOOKUP(A35,Subcontractors!$A$2:$B$4,2,FALSE),\"\")","v":""}]
[null,null,null,null,null,null,{"$f":"IF(LEN(A36)>0,VLOOKUP(A36,Subcontractors!$A$2:$B$4,2,FALSE),\"\")","v":""}]
[null,null,null,null,null,null,{"$f":"IF(LEN(A37)>0,VLOOKUP(A37,Subcontractors!$A$2:$B$4,2,FALSE),\"\")","v":""}]
[null,null,null,null,null,null,{"$f":"IF(LEN(A38)>0,VLOOKUP(A38,Subcontractors!$A$2:$B$4,2,FALSE),\"\")","v":""}]
[null,null,null,null,null,null,{"$f":"IF(LEN(A39)>0,VLOOKUP(A39,Subcontractors!$A$2:$B$4,2,FALSE),\"\")","v":""}]
[null,null,null,null,null,null,{"$f":"IF(LEN(A40)>0,VLOOKUP(A40,Subcontractors!$A$2:$B$4,2,FALSE),\"\")","v":""}]
[null,null,null,null,null,null,{"$f":"IF(LEN(A41)>0,VLOOKUP(A41,Subcontractors!$A$2:$B$4,2,FALSE),\"\")","v":""}]
[null,null,null,null,null,null,{"$f":"IF(LEN(A42)>0,VLOOKUP(A42,Subcontractors!$A$2:$B$4,2,FALSE),\"\")","v":""}]
[null,null,null,null,null,null,{"$f":"IF(LEN(A43)>0,VLOOKUP(A43,Subcontractors!$A$2:$B$4,2,FALSE),\"\")","v":""}]
[null,null,null,null,null,null,{"$f":"IF(LEN(A44)>0,VLOOKUP(A44,Subcontractors!$A$2:$B$4,2,FALSE),\"\")","v":""}]
[null,null,null,null,null,null,{"$f":"IF(LEN(A45)>0,VLOOKUP(A45,Subcontractors!$A$2:$B$4,2,FALSE),\"\")","v":""}]
[null,null,null,null,null,null,{"$f":"IF(LEN(A46)>0,VLOOKUP(A46,Subcontractors!$A$2:$B$4,2,FALSE),\"\")","v":""}]
[null,null,null,null,null,null,{"$f":"IF(LEN(A47)>0,VLOOKUP(A47,Subcontractors!$A$2:$B$4,2,FALSE),\"\")","v":""}]
[null,null,null,null,null,null,{"$f":"IF(LEN(A48)>0,VLOOKUP(A48,Subcontractors!$A$2:$B$4,2,FALSE),\"\")","v":""}]
[null,null,null,null,null,null,{"$f":"IF(LEN(A49)>0,VLOOKUP(A49,Subcontractors!$A$2:$B$4,2,FALSE),\"\")","v":""}]
[null,null,null,null,null,null,{"$f":"IF(LEN(A50)>0,VLOOKUP(A50,Subcontractors!$A$2:$B$4,2,FALSE),\"\")","v":""}]
[null,null,null,null,null,null,{"$f":"IF(LEN(A51)>0,VLOOKUP(A51,Subcontractors!$A$2:$B$4,2,FALSE),\"\")","v":""}]
[null,null,null,null,null,null,{"$f":"IF(LEN(A52)>0,VLOOKUP(A52,Subcontractors!$A$2:$B$4,2,FALSE),\"\")","v":""}]
[null,null,null,null,null,null,{"$f":"IF(LEN(A53)>0,VLOOKUP(A53,Subcontractors!$A$2:$B$4,2,FALSE),\"\")","v":""}]
[null,null,null,null,null,null,{"$f":"IF(LEN(A54)>0,VLOOKUP(A54,Subcontractors!$A$2:$B$4,2,FALSE),\"\")","v":""}]
[null,null,null,null,null,null,{"$f":"IF(LEN(A55)>0,VLOOKUP(A55,Subcontractors!$A$2:$B$4,2,FALSE),\"\")","v":""}]
[null,null,null,null,null,null,{"$f":"IF(LEN(A56)>0,VLOOKUP(A56,Subcontractors!$A$2:$B$4,2,FALSE),\"\")","v":""}]
[null,null,null,null,null,null,{"$f":"IF(LEN(A57)>0,VLOOKUP(A57,Subcontractors!$A$2:$B$4,2,FALSE),\"\")","v":""}]
[null,null,null,null,null,null,{"$f":"IF(LEN(A58)>0,VLOOKUP(A58,Subcontractors!$A$2:$B$4,2,FALSE),\"\")","v":""}]
[null,null,null,null,null,null,{"$f":"IF(LEN(A59)>0,VLOOKUP(A59,Subcontractors!$A$2:$B$4,2,FALSE),\"\")","v":""}]
[null,null,null,null,null,null,{"$f":"IF(LEN(A60)>0,VLOOKUP(A60,Subcontractors!$A$2:$B$4,2,FALSE),\"\")","v":""}]
[null,null,null,null,null,null,{"$f":"IF(LEN(A61)>0,VLOOKUP(A61,Subcontractors!$A$2:$B$4,2,FALSE),\"\")","v":""}]
[null,null,null,null,null,null,{"$f":"IF(LEN(A62)>0,VLOOKUP(A62,Subcontractors!$A$2:$B$4,2,FALSE),\"\")","v":""}]
[null,null,null,null,null,null,{"$f":"IF(LEN(A63)>0,VLOOKUP(A63,Subcontractors!$A$2:$B$4,2,FALSE),\"\")","v":""}]
[null,null,null,null,null,null,{"$f":"IF(LEN(A64)>0,VLOOKUP(A64,Subcontractors!$A$2:$B$4,2,FALSE),\"\")","v":""}]
[null,null,null,null,null,null,{"$f":"IF(LEN(A65)>0,VLOOKUP(A65,Subcontractors!$A$2:$B$4,2,FALSE),\"\")","v":""}]
[null,null,null,null,null,null,{"$f":"IF(LEN(A66)>0,VLOOKUP(A66,Subcontractors!$A$2:$B$4,2,FALSE),\"\")","v":""}]
[null,null,null,null,null,null,{"$f":"IF(LEN(A67)>0,VLOOKUP(A67,Subcontractors!$A$2:$B$4,2,FALSE),\"\")","v":""}]
[null,null,null,null,null,null,{"$f":"IF(LEN(A68)>0,VLOOKUP(A68,Subcontractors!$A$2:$B$4,2,FALSE),\"\")","v":""}]
[null,null,null,null,null,null,{"$f":"IF(LEN(A69)>0,VLOOKUP(A69,Subcontractors!$A$2:$B$4,2,FALSE),\"\")","v":""}]
[null,null,null,null,null,null,{"$f":"IF(LEN(A70)>0,VLOOKUP(A70,Subcontractors!$A$2:$B$4,2,FALSE),\"\")","v":""}]
[null,null,null,null,null,null,{"$f":"IF(LEN(A71)>0,VLOOKUP(A71,Subcontractors!$A$2:$B$4,2,FALSE),\"\")","v":""}]
[null,null,null,null,null,null,{"$f":"IF(LEN(A72)>0,VLOOKUP(A72,Subcontractors!$A$2:$B$4,2,FALSE),\"\")","v":""}]
[null,null,null,null,null,null,{"$f":"IF(LEN(A73)>0,VLOOKUP(A73,Subcontractors!$A$2:$B$4,2,FALSE),\"\")","v":""}]
[null,null,null,null,null,null,{"$f":"IF(LEN(A74)>0,VLOOKUP(A74,Subcontractors!$A$2:$B$4,2,FALSE),\"\")","v":""}]
[null,null,null,null,null,null,{"$f":"IF(LEN(A75)>0,VLOOKUP(A75,Subcontractors!$A$2:$B$4,2,FALSE),\"\")","v":""}]
[null,null,null,null,null,null,{"$f":"IF(LEN(A76)>0,VLOOKUP(A76,Subcontractors!$A$2:$B$4,2,FALSE),\"\")","v":""}]
[null,null,null,null,null,null,{"$f":"IF(LEN(A77)>0,VLOOKUP(A77,Subcontractors!$A$2:$B$4,2,FALSE),\"\")","v":""}]
[null,null,null,null,null,null,{"$f":"IF(LEN(A78)>0,VLOOKUP(A78,Subcontractors!$A$2:$B$4,2,FALSE),\"\")","v":""}]
[null,null,null,null,null,null,{"$f":"IF(LEN(A79)>0,VLOOKUP(A79,Subcontractors!$A$2:$B$4,2,FALSE),\"\")","v":""}]
[null,null,null,null,null,null,{"$f":"IF(LEN(A80)>0,VLOOKUP(A80,Subcontractors!$A$2:$B$4,2,FALSE),\"\")","v":""}]
[null,null,null,null,null,null,{"$f":"IF(LEN(A81)>0,VLOOKUP(A81,Subcontractors!$A$2:$B$4,2,FALSE),\"\")","v":""}]
[null,null,null,null,null,null,{"$f":"IF(LEN(A82)>0,VLOOKUP(A82,Subcontractors!$A$2:$B$4,2,FALSE),\"\")","v":""}]
[null,null,null,null,null,null,{"$f":"IF(LEN(A83)>0,VLOOKUP(A83,Subcontractors!$A$2:$B$4,2,FALSE),\"\")","v":""}]
[null,null,null,null,null,null,{"$f":"IF(LEN(A84)>0,VLOOKUP(A84,Subcontractors!$A$2:$B$4,2,FALSE),\"\")","v":""}]
[null,null,null,null,null,null,{"$f":"IF(LEN(A85)>0,VLOOKUP(A85,Subcontractors!$A$2:$B$4,2,FALSE),\"\")","v":""}]
[null,null,null,null,null,null,{"$f":"IF(LEN(A86)>0,VLOOKUP(A86,Subcontractors!$A$2:$B$4,2,FALSE),\"\")","v":""}]
[null,null,null,null,null,null,{"$f":"IF(LEN(A87)>0,VLOOKUP(A87,Subcontractors!$A$2:$B$4,2,FALSE),\"\")","v":""}]
[null,null,null,null,null,null,{"$f":"IF(LEN(A88)>0,VLOOKUP(A88,Subcontractors!$A$2:$B$4,2,FALSE),\"\")","v":""}]
[null,null,null,null,null,null,{"$f":"IF(LEN(A89)>0,VLOOKUP(A89,Subcontractors!$A$2:$B$4,2,FALSE),\"\")","v":""}]
[null,null,null,null,null,null,{"$f":"IF(LEN(A90)>0,VLOOKUP(A90,Subcontractors!$A$2:$B$4,2,FALSE),\"\")","v":""}]
[null,null,null,null,null,null,{"$f":"IF(LEN(A91)>0,VLOOKUP(A91,Subcontractors!$A$2:$B$4,2,FALSE),\"\")","v":""}]
[null,null,null,null,null,null,{"$f":"IF(LEN(A92)>0,VLOOKUP(A92,Subcontractors!$A$2:$B$4,2,FALSE),\"\")","v":""}]
[null,null,null,null,null,null,{"$f":"IF(LEN(A93)>0,VLOOKUP(A93,Subcontractors!$A$2:$B$4,2,FALSE),\"\")","v":""}]
[null,null,null,null,null,null,{"$f":"IF(LEN(A94)>0,VLOOKUP(A94,Subcontractors!$A$2:$B$4,2,FALSE),\"\")","v":""}]
[null,null,null,null,null,null,{"$f":"IF(LEN(A95)>0,VLOOKUP(A95,Subcontractors!$A$2:$B$4,2,FALSE),\"\")","v":""}]
[null,null,null,null,null,null,{"$f":"IF(LEN(A96)>0,VLOOKUP(A96,Subcontractors!$A$2:$B$4,2,FALSE),\"\")","v":""}]
[null,null,null,null,null,null,{"$f":"IF(LEN(A97)>0,VLOOKUP(A97,Subcontractors!$A$2:$B$4,2,FALSE),\"\")","v":""}]
[null,null,null,null,null,null,{"$f":"IF(LEN(A98)>0,VLOOKUP(A98,Subcontractors!$A$2:$B$4,2,FALSE),\"\")","v":""}]
[null,null,null,null,null,null,{"$f":"IF(LEN(A99)>0,VLOOKUP(A99,Subcontractors!$A$2:$B$4,2,FALSE),\"\")","v":""}]
[null,null,null,null,null,null,{"$f":"IF(LEN(A100)>0,VLOOKUP(A100,Subcontractors!$A$2:$B$4,2,FALSE),\"\")","v":""}]
[null,null,null,null,null,null,{"$f":"IF(LEN(A101)>0,VLOOKUP(A101,Subcontractors!$A$2:$B$4,2,FALSE),\"\")","v":""}]
[null,null,null,null,null,null,{"$f":"IF(LEN(A102)>0,VLOOKUP(A102,Subcontractors!$A$2:$B$4,2,FALSE),\"\")","v":""}]
[null,null,null,null,null,null,{"$f":"IF(LEN(A103)>0,VLOOKUP(A103,Subcontractors!$A$2:$B$4,2,FALSE),\"\")","v":""}]
[null,null,null,null,null,null,{"$f":"IF(LEN(A104)>0,VLOOKUP(A104,Subcontractors!$A$2:$B$4,2,FALSE),\"\")","v":""}]
[null,null,null,null,null,null,{"$f":"IF(LEN(A105)>0,VLOOKUP(A105,Subcontractors!$A$2:$B$4,2,FALSE),\"\")","v":""}]
[null,null,null,null,null,null,{"$f":"IF(LEN(A106)>0,VLOOKUP(A106,Subcontractors!$A$2:$B$4,2,FALSE),\"\")","v":""}]
[null,null,null,null,null,null,{"$f":"IF(LEN(A107)>0,VLOOKUP(A107,Subcontractors!$A$2:$B$4,2,FALSE),\"\")","v":""}]
[null,null,null,null,null,null,{"$f":"IF(LEN(A108)>0,VLOOKUP(A108,Subcontractors!$A$2:$B$4,2,FALSE),\"\")","v":""}]
[null,null,null,null,null,null,{"$f":"IF(LEN(A109)>0,VLOOKUP(A109,Subcontractors!$A$2:$B$4,2,FALSE),\"\")","v":""}]
[null,null,null,null,null,null,{"$f":"IF(LEN(A110)>0,VLOOKUP(A110,Subcontractors!$A$2:$B$4,2,FALSE),\"\")","v":""}]
[null,null,null,null,null,null,{"$f":"IF(LEN(A111)>0,VLOOKUP(A111,Subcontractors!$A$2:$B$4,2,FALSE),\"\")","v":""}]
[null,null,null,null,null,null,{"$f":"IF(LEN(A112)>0,VLOOKUP(A112,Subcontractors!$A$2:$B$4,2,FALSE),\"\")","v":""}]
[null,null,null,null,null,null,{"$f":"IF(LEN(A113)>0,VLOOKUP(A113,Subcontractors!$A$2:$B$4,2,FALSE),\"\")","v":""}]
[null,null,null,null,null,null,{"$f":"IF(LEN(A114)>0,VLOOKUP(A114,Subcontractors!$A$2:$B$4,2,FALSE),\"\")","v":""}]
[null,null,null,null,null,null,{"$f":"IF(LEN(A115)>0,VLOOKUP(A115,Subcontractors!$A$2:$B$4,2,FALSE),\"\")","v":""}]
[null,null,null,null,null,null,{"$f":"IF(LEN(A116)>0,VLOOKUP(A116,Subcontractors!$A$2:$B$4,2,FALSE),\"\")","v":""}]
[null,null,null,null,null,null,{"$f":"IF(LEN(A117)>0,VLOOKUP(A117,Subcontractors!$A$2:$B$4,2,FALSE),\"\")","v":""}]
[null,null,null,null,null,null,{"$f":"IF(LEN(A118)>0,VLOOKUP(A118,Subcontractors!$A$2:$B$4,2,FALSE),\"\")","v":""}]
[null,null,null,null,null,null,{"$f":"IF(LEN(A119)>0,VLOOKUP(A119,Subcontractors!$A$2:$B$4,2,FALSE),\"\")","v":""}]
[null,null,null,null,null,null,{"$f":"IF(LEN(A120)>0,VLOOKUP(A120,Subcontractors!$A$2:$B$4,2,FALSE),\"\")","v":""}]
[null,null,null,null,null,null,{"$f":"IF(LEN(A121)>0,VLOOKUP(A121,Subcontractors!$A$2:$B$4,2,FALSE),\"\")","v":""}]
[null,null,null,null,null,null,{"$f":"IF(LEN(A122)>0,VLOOKUP(A122,Subcontractors!$A$2:$B$4,2,FALSE),\"\")","v":""}]
[null,null,null,null,null,null,{"$f":"IF(LEN(A123)>0,VLOOKUP(A123,Subcontractors!$A$2:$B$4,2,FALSE),\"\")","v":""}]
[null,null,null,null,null,null,{"$f":"IF(LEN(A124)>0,VLOOKUP(A124,Subcontractors!$A$2:$B$4,2,FALSE),\"\")","v":""}]
[null,null,null,null,null,null,{"$f":"IF(LEN(A125)>0,VLOOKUP(A125,Subcontractors!$A$2:$B$4,2,FALSE),\"\")","v":""}]
[null,null,null,null,null,null,{"$f":"IF(LEN(A126)>0,VLOOKUP(A126,Subcontractors!$A$2:$B$4,2,FALSE),\"\")","v":""}]
[null,null,null,null,null,null,{"$f":"IF(LEN(A127)>0,VLOOKUP(A127,Subcontractors!$A$2:$B$4,2,FALSE),\"\")","v":""}]
[null,null,null,null,null,null,{"$f":"IF(LEN(A128)>0,VLOOKUP(A128,Subcontractors!$A$2:$B$4,2,FALSE),\"\")","v":""}]
[null,null,null,null,null,null,{"$f":"IF(LEN(A129)>0,VLOOKUP(A129,Subcontractors!$A$2:$B$4,2,FALSE),\"\")","v":""}]
[null,null,null,null,null,null,{"$f":"IF(LEN(A130)>0,VLOOKUP(A130,Subcontractors!$A$2:$B$4,2,FALSE),\"\")","v":""}]
[null,null,null,null,null,null,{"$f":"IF(LEN(A131)>0,VLOOKUP(A131,Subcontractors!$A$2:$B$4,2,FALSE),\"\")","v":""}]
[null,null,null,null,null,null,{"$f":"IF(LEN(A132)>0,VLOOKUP(A132,Subcontractors!$A$2:$B$4,2,FALSE),\"\")","v":""}]
[null,null,null,null,null,null,{"$f":"IF(LEN(A133)>0,VLOOKUP(A133,Subcontractors!$A$2:$B$4,2,FALSE),\"\")","v":""}]
[null,null,null,null,null,null,{"$f":"IF(LEN(A134)>0,VLOOKUP(A134,Subcontractors!$A$2:$B$4,2,FALSE),\"\")","v":""}]
[null,null,null,null,null,null,{"$f":"IF(LEN(A135)>0,VLOOKUP(A135,Subcontractors!$A$2:$B$4,2,FALSE),\"\")","v":""}]
[null,null,null,null,null,null,{"$f":"IF(LEN(A136)>0,VLOOKUP(A136,Subcontractors!$A$2:$B$4,2,FALSE),\"\")","v":""}]
[null,null,null,null,null,null,{"$f":"IF(LEN(A137)>0,VLOOKUP(A137,Subcontractors!$A$2:$B$4,2,FALSE),\"\")","v":""}]
[null,null,null,null,null,null,{"$f":"IF(LEN(A138)>0,VLOOKUP(A138,Subcontractors!$A$2:$B$4,2,FALSE),\"\")","v":""}]
[null,null,null,null,null,null,{"$f":"IF(LEN(A139)>0,VLOOKUP(A139,Subcontractors!$A$2:$B$4,2,FALSE),\"\")","v":""}]
[null,null,null,null,null,null,{"$f":"IF(LEN(A140)>0,VLOOKUP(A140,Subcontractors!$A$2:$B$4,2,FALSE),\"\")","v":""}]
[null,null,null,null,null,null,{"$f":"IF(LEN(A141)>0,VLOOKUP(A141,Subcontractors!$A$2:$B$4,2,FALSE),\"\")","v":""}]
[null,null,null,null,null,null,{"$f":"IF(LEN(A142)>0,VLOOKUP(A142,Subcontractors!$A$2:$B$4,2,FALSE),\"\")","v":""}]
[null,null,null,null,null,null,{"$f":"IF(LEN(A143)>0,VLOOKUP(A143,Subcontractors!$A$2:$B$4,2,FALSE),\"\")","v":""}]
[null,null,null,null,null,null,{"$f":"IF(LEN(A144)>0,VLOOKUP(A144,Subcontractors!$A$2:$B$4,2,FALSE),\"\")","v":""}]
[null,null,null,null,null,null,{"$f":"IF(LEN(A145)>0,VLOOKUP(A145,Subcontractors!$A$2:$B$4,2,FALSE),\"\")","v":""}]
[null,null,null,null,null,null,{"$f":"IF(LEN(A146)>0,VLOOKUP(A146,Subcontractors!$A$2:$B$4,2,FALSE),\"\")","v":""}]
[null,null,null,null,null,null,{"$f":"IF(LEN(A147)>0,VLOOKUP(A147,Subcontractors!$A$2:$B$4,2,FALSE),\"\")","v":""}]
[null,null,null,null,null,null,{"$f":"IF(LEN(A148)>0,VLOOKUP(A148,Subcontractors!$A$2:$B$4,2,FALSE),\"\")","v":""}]
[null,null,null,null,null,null,{"$f":"IF(LEN(A149)>0,VLOOKUP(A149,Subcontractors!$A$2:$B$4,2,FALSE),\"\")","v":""}]
[null,null,null,null,null,null,{"$f":"IF(LEN(A150)>0,VLOOKUP(A150,Subcontractors!$A$2:$B$4,2,FALSE),\"\")","v":""}]
[null,null,null,null,null,null,{"$f":"IF(LEN(A151)>0,VLOOKUP(A151,Subcontractors!$A$2:$B$4,2,FALSE),\"\")","v":""}]
[null,null,null,null,null,null,{"$f":"IF(LEN(A152)>0,VLOOKUP(A152,Subcontractors!$A$2:$B$4,2,FALSE),\"\")","v":""}]
[null,null,null,null,null,null,{"$f":"IF(LEN(A153)>0,VLOOKUP(A153,Subcontractors!$A$2:$B$4,2,FALSE),\"\")","v":""}]
[null,null,null,null,null,null,{"$f":"IF(LEN(A154)>0,VLOOKUP(A154,Subcontractors!$A$2:$B$4,2,FALSE),\"\")","v":""}]
[null,null,null,null,null,null,{"$f":"IF(LEN(A155)>0,VLOOKUP(A155,Subcontractors!$A$2:$B$4,2,FALSE),\"\")","v":""}]
[null,null,null,null,null,null,{"$f":"IF(LEN(A156)>0,VLOOKUP(A156,Subcontractors!$A$2:$B$4,2,FALSE),\"\")","v":""}]
[null,null,null,null,null,null,{"$f":"IF(LEN(A157)>0,VLOOKUP(A157,Subcontractors!$A$2:$B$4,2,FALSE),\"\")","v":""}]
[null,null,null,null,null,null,{"$f":"IF(LEN(A158)>0,VLOOKUP(A158,Subcontractors!$A$2:$B$4,2,FALSE),\"\")","v":""}]
[null,null,null,null,null,null,{"$f":"IF(LEN(A159)>0,VLOOKUP(A159,Subcontractors!$A$2:$B$4,2,FALSE),\"\")","v":""}]
[null,null,null,null,null,null,{"$f":"IF(LEN(A160)>0,VLOOKUP(A160,Subcontractors!$A$2:$B$4,2,FALSE),\"\")","v":""}]
[null,null,null,null,null,null,{"$f":"IF(LEN(A161)>0,VLOOKUP(A161,Subcontractors!$A$2:$B$4,2,FALSE),\"\")","v":""}]
[null,null,null,null,null,null,{"$f":"IF(LEN(A162)>0,VLOOKUP(A162,Subcontractors!$A$2:$B$4,2,FALSE),\"\")","v":""}]
[null,null,null,null,null,null,{"$f":"IF(LEN(A163)>0,VLOOKUP(A163,Subcontractors!$A$2:$B$4,2,FALSE),\"\")","v":""}]
[null,null,null,null,null,null,{"$f":"IF(LEN(A164)>0,VLOOKUP(A164,Subcontractors!$A$2:$B$4,2,FALSE),\"\")","v":""}]
[null,null,null,null,null,null,{"$f":"IF(LEN(A165)>0,VLOOKUP(A165,Subcontractors!$A$2:$B$4,2,FALSE),\"\")","v":""}]
[null,null,null,null,null,null,{"$f":"IF(LEN(A166)>0,VLOOKUP(A166,Subcontractors!$A$2:$B$4,2,FALSE),\"\")","v":""}]
[null,null,null,null,null,null,{"$f":"IF(LEN(A167)>0,VLOOKUP(A167,Subcontractors!$A$2:$B$4,2,FALSE),\"\")","v":""}]
[null,null,null,null,null,null,{"$f":"IF(LEN(A168)>0,VLOOKUP(A168,Subcontractors!$A$2:$B$4,2,FALSE),\"\")","v":""}]
[null,null,null,null,null,null,{"$f":"IF(LEN(A169)>0,VLOOKUP(A169,Subcontractors!$A$2:$B$4,2,FALSE),\"\")","v":""}]
[null,null,null,null,null,null,{"$f":"IF(LEN(A170)>0,VLOOKUP(A170,Subcontractors!$A$2:$B$4,2,FALSE),\"\")","v":""}]
[null,null,null,null,null,null,{"$f":"IF(LEN(A171)>0,VLOOKUP(A171,Subcontractors!$A$2:$B$4,2,FALSE),\"\")","v":""}]
[null,null,null,null,null,null,{"$f":"IF(LEN(A172)>0,VLOOKUP(A172,Subcontractors!$A$2:$B$4,2,FALSE),\"\")","v":""}]
[null,null,null,null,null,null,{"$f":"IF(LEN(A173)>0,VLOOKUP(A173,Subcontractors!$A$2:$B$4,2,FALSE),\"\")","v":""}]
[null,null,null,null,null,null,{"$f":"IF(LEN(A174)>0,VLOOKUP(A174,Subcontractors!$A$2:$B$4,2,FALSE),\"\")","v":""}]
[null,null,null,null,null,null,{"$f":"IF(LEN(A175)>0,VLOOKUP(A175,Subcontractors!$A$2:$B$4,2,FALSE),\"\")","v":""}]
[null,null,null,null,null,null,{"$f":"IF(LEN(A176)>0,VLOOKUP(A176,Subcontractors!$A$2:$B$4,2,FALSE),\"\")","v":""}]
[null,null,null,null,null,null,{"$f":"IF(LEN(A177)>0,VLOOKUP(A177,Subcontractors!$A$2:$B$4,2,FALSE),\"\")","v":""}]
[null,null,null,null,null,null,{"$f":"IF(LEN(A178)>0,VLOOKUP(A178,Subcontractors!$A$2:$B$4,2,FALSE),\"\")","v":""}]
[null,null,null,null,null,null,{"$f":"IF(LEN(A179)>0,VLOOKUP(A179,Subcontractors!$A$2:$B$4,2,FALSE),\"\")","v":""}]
[null,null,null,null,null,null,{"$f":"IF(LEN(A180)>0,VLOOKUP(A180,Subcontractors!$A$2:$B$4,2,FALSE),\"\")","v":""}]
[null,null,null,null,null,null,{"$f":"IF(LEN(A181)>0,VLOOKUP(A181,Subcontractors!$A$2:$B$4,2,FALSE),\"\")","v":""}]
[null,null,null,null,null,null,{"$f":"IF(LEN(A182)>0,VLOOKUP(A182,Subcontractors!$A$2:$B$4,2,FALSE),\"\")","v":""}]
[null,null,null,null,null,null,{"$f":"IF(LEN(A183)>0,VLOOKUP(A183,Subcontractors!$A$2:$B$4,2,FALSE),\"\")","v":""}]
[null,null,null,null,null,null,{"$f":"IF(LEN(A184)>0,VLOOKUP(A184,Subcontractors!$A$2:$B$4,2,FALSE),\"\")","v":""}]
[null,null,null,null,null,null,{"$f":"IF(LEN(A185)>0,VLOOKUP(A185,Subcontractors!$A$2:$B$4,2,FALSE),\"\")","v":""}]
[null,null,null,null,null,null,{"$f":"IF(LEN(A186)>0,VLOOKUP(A186,Subcontractors!$A$2:$B$4,2,FALSE),\"\")","v":""}]
[null,null,null,null,null,null,{"$f":"IF(LEN(A187)>0,VLOOKUP(A187,Subcontractors!$A$2:$B$4,2,FALSE),\"\")","v":""}]
[null,null,null,null,null,null,{"$f":"IF(LEN(A188)>0,VLOOKUP(A188,Subcontractors!$A$2:$B$4,2,FALSE),\"\")","v":""}]
[null,null,null,null,null,null,{"$f":"IF(LEN(A189)>0,VLOOKUP(A189,Subcontractors!$A$2:$B$4,2,FALSE),\"\")","v":""}]
[null,null,null,null,null,null,{"$f":"IF(LEN(A190)>0,VLOOKUP(A190,Subcontractors!$A$2:$B$4,2,FALSE),\"\")","v":""}]
[null,null,null,null,null,null,{"$f":"IF(LEN(A191)>0,VLOOKUP(A191,Subcontractors!$A$2:$B$4,2,FALSE),\"\")","v":""}]
[null,null,null,null,null,null,{"$f":"IF(LEN(A192)>0,VLOOKUP(A192,Subcontractors!$A$2:$B$4,2,FALSE),\"\")","v":""}]
[null,null,null,null,null,null,{"$f":"IF(LEN(A193)>0,VLOOKUP(A193,Subcontractors!$A$2:$B$4,2,FALSE),\"\")","v":""}]
[null,null,null,null,null,null,{"$f":"IF(LEN(A194)>0,VLOOKUP(A194,Subcontractors!$A$2:$B$4,2,FALSE),\"\")","v":""}]
[null,null,null,null,null,null,{"$f":"IF(LEN(A195)>0,VLOOKUP(A195,Subcontractors!$A$2:$B$4,2,FALSE),\"\")","v":""}]
[null,null,null,null,null,null,{"$f":"IF(LEN(A196)>0,VLOOKUP(A196,Subcontractors!$A$2:$B$4,2,FALSE),\"\")","v":""}]
[null,null,null,null,null,null,{"$f":"IF(LEN(A197)>0,VLOOKUP(A197,Subcontractors!$A$2:$B$4,2,FALSE),\"\")","v":""}]
[null,null,null,null,null,null,{"$f":"IF(LEN(A198)>0,VLOOKUP(A198,Subcontractors!$A$2:$B$4,2,FALSE),\"\")","v":""}]
[null,null,null,null,null,null,{"$f":"IF(LEN(A199)>0,VLOOKUP(A199,Subcontractors!$A$2:$B$4,2,FALSE),\"\")","v":""}]
[null,null,null,null,null,null,{"$f":"IF(LEN(A200)>0,VLOOKUP(A200,Subcontractors!$A$2:$B$4,2,FALSE),\"\")","v":""}]
[null,null,null,null,null,null,{"$f":"IF(LEN(A201)>0,VLOOKUP(A201,Subcontractors!$A$2:$B$4,2,FALSE),\"\")","v":""}]
[null,null,null,null,null,null,{"$f":"IF(LEN(A202)>0,VLOOKUP(A202,Subcontractors!$A$2:$B$4,2,FALSE),\"\")","v":""}]
[null,null,null,null,null,null,{"$f":"IF(LEN(A203)>0,VLOOKUP(A203,Subcontractors!$A$2:$B$4,2,FALSE),\"\")","v":""}]
[null,null,null,null,null,null,{"$f":"IF(LEN(A204)>0,VLOOKUP(A204,Subcontractors!$A$2:$B$4,2,FALSE),\"\")","v":""}]
[null,null,null,null,null,null,{"$f":"IF(LEN(A205)>0,VLOOKUP(A205,Subcontractors!$A$2:$B$4,2,FALSE),\"\")","v":""}]
[null,null,null,null,null,null,{"$f":"IF(LEN(A206)>0,VLOOKUP(A206,Subcontractors!$A$2:$B$4,2,FALSE),\"\")","v":""}]
[null,null,null,null,null,null,{"$f":"IF(LEN(A207)>0,VLOOKUP(A207,Subcontractors!$A$2:$B$4,2,FALSE),\"\")","v":""}]
[null,null,null,null,null,null,{"$f":"IF(LEN(A208)>0,VLOOKUP(A208,Subcontractors!$A$2:$B$4,2,FALSE),\"\")","v":""}]
[null,null,null,null,null,null,{"$f":"IF(LEN(A209)>0,VLOOKUP(A209,Subcontractors!$A$2:$B$4,2,FALSE),\"\")","v":""}]
[null,null,null,null,null,null,{"$f":"IF(LEN(A210)>0,VLOOKUP(A210,Subcontractors!$A$2:$B$4,2,FALSE),\"\")","v":""}]
[null,null,null,null,null,null,{"$f":"IF(LEN(A211)>0,VLOOKUP(A211,Subcontractors!$A$2:$B$4,2,FALSE),\"\")","v":""}]
[null,null,null,null,null,null,{"$f":"IF(LEN(A212)>0,VLOOKUP(A212,Subcontractors!$A$2:$B$4,2,FALSE),\"\")","v":""}]
[null,null,null,null,null,null,{"$f":"IF(LEN(A213)>0,VLOOKUP(A213,Subcontractors!$A$2:$B$4,2,FALSE),\"\")","v":""}]
[null,null,null,null,null,null,{"$f":"IF(LEN(A214)>0,VLOOKUP(A214,Subcontractors!$A$2:$B$4,2,FALSE),\"\")","v":""}]
[null,null,null,null,null,null,{"$f":"IF(LEN(A215)>0,VLOOKUP(A215,Subcontractors!$A$2:$B$4,2,FALSE),\"\")","v":""}]
[null,null,null,null,null,null,{"$f":"IF(LEN(A216)>0,VLOOKUP(A216,Subcontractors!$A$2:$B$4,2,FALSE),\"\")","v":""}]
[null,null,null,null,null,null,{"$f":"IF(LEN(A217)>0,VLOOKUP(A217,Subcontractors!$A$2:$B$4,2,FALSE),\"\")","v":""}]
[null,null,null,null,null,null,{"$f":"IF(LEN(A218)>0,VLOOKUP(A218,Subcontractors!$A$2:$B$4,2,FALSE),\"\")","v":""}]
[null,null,null,null,null,null,{"$f":"IF(LEN(A219)>0,VLOOKUP(A219,Subcontractors!$A$2:$B$4,2,FALSE),\"\")","v":""}]
[null,null,null,null,null,null,{"$f":"IF(LEN(A220)>0,VLOOKUP(A220,Subcontractors!$A$2:$B$4,2,FALSE),\"\")","v":""}]
[null,null,null,null,null,null,{"$f":"IF(LEN(A221)>0,VLOOKUP(A221,Subcontractors!$A$2:$B$4,2,FALSE),\"\")","v":""}]
[null,null,null,null,null,null,{"$f":"IF(LEN(A222)>0,VLOOKUP(A222,Subcontractors!$A$2:$B$4,2,FALSE),\"\")","v":""}]
[null,null,null,null,null,null,{"$f":"IF(LEN(A223)>0,VLOOKUP(A223,Subcontractors!$A$2:$B$4,2,FALSE),\"\")","v":""}]
[null,null,null,null,null,null,{"$f":"IF(LEN(A224)>0,VLOOKUP(A224,Subcontractors!$A$2:$B$4,2,FALSE),\"\")","v":""}]
[null,null,null,null,null,null,{"$f":"IF(LEN(A225)>0,VLOOKUP(A225,Subcontractors!$A$2:$B$4,2,FALSE),\"\")","v":""}]
[null,null,null,null,null,null,{"$f":"IF(LEN(A226)>0,VLOOKUP(A226,Subcontractors!$A$2:$B$4,2,FALSE),\"\")","v":""}]
[null,null,null,null,null,null,{"$f":"IF(LEN(A227)>0,VLOOKUP(A227,Subcontractors!$A$2:$B$4,2,FALSE),\"\")","v":""}]
[null,null,null,null,null,null,{"$f":"IF(LEN(A228)>0,VLOOKUP(A228,Subcontractors!$A$2:$B$4,2,FALSE),\"\")","v":""}]
[null,null,null,null,null,null,{"$f":"IF(LEN(A229)>0,VLOOKUP(A229,Subcontractors!$A$2:$B$4,2,FALSE),\"\")","v":""}]
[null,null,null,null,null,null,{"$f":"IF(LEN(A230)>0,VLOOKUP(A230,Subcontractors!$A$2:$B$4,2,FALSE),\"\")","v":""}]
[null,null,null,null,null,null,{"$f":"IF(LEN(A231)>0,VLOOKUP(A231,Subcontractors!$A$2:$B$4,2,FALSE),\"\")","v":""}]
[null,null,null,null,null,null,{"$f":"IF(LEN(A232)>0,VLOOKUP(A232,Subcontractors!$A$2:$B$4,2,FALSE),\"\")","v":""}]
[null,null,null,null,null,null,{"$f":"IF(LEN(A233)>0,VLOOKUP(A233,Subcontractors!$A$2:$B$4,2,FALSE),\"\")","v":""}]
[null,null,null,null,null,null,{"$f":"IF(LEN(A234)>0,VLOOKUP(A234,Subcontractors!$A$2:$B$4,2,FALSE),\"\")","v":""}]
[null,null,null,null,null,null,{"$f":"IF(LEN(A235)>0,VLOOKUP(A235,Subcontractors!$A$2:$B$4,2,FALSE),\"\")","v":""}]
[null,null,null,null,null,null,{"$f":"IF(LEN(A236)>0,VLOOKUP(A236,Subcontractors!$A$2:$B$4,2,FALSE),\"\")","v":""}]
[null,null,null,null,null,null,{"$f":"IF(LEN(A237)>0,VLOOKUP(A237,Subcontractors!$A$2:$B$4,2,FALSE),\"\")","v":""}]
[null,null,null,null,null,null,{"$f":"IF(LEN(A238)>0,VLOOKUP(A238,Subcontractors!$A$2:$B$4,2,FALSE),\"\")","v":""}]
[null,null,null,null,null,null,{"$f":"IF(LEN(A239)>0,VLOOKUP(A239,Subcontractors!$A$2:$B$4,2,FALSE),\"\")","v":""}]
[null,null,null,null,null,null,{"$f":"IF(LEN(A240)>0,VLOOKUP(A240,Subcontractors!$A$2:$B$4,2,FALSE),\"\")","v":""}]
[null,null,null,null,null,null,{"$f":"IF(LEN(A241)>0,VLOOKUP(A241,Subcontractors!$A$2:$B$4,2,FALSE),\"\")","v":""}]
[null,null,null,null,null,null,{"$f":"IF(LEN(A242)>0,VLOOKUP(A242,Subcontractors!$A$2:$B$4,2,FALSE),\"\")","v":""}]
[null,null,null,null,null,null,{"$f":"IF(LEN(A243)>0,VLOOKUP(A243,Subcontractors!$A$2:$B$4,2,FALSE),\"\")","v":""}]
[null,null,null,null,null,null,{"$f":"IF(LEN(A244)>0,VLOOKUP(A244,Subcontractors!$A$2:$B$4,2,FALSE),\"\")","v":""}]
[null,null,null,null,null,null,{"$f":"IF(LEN(A245)>0,VLOOKUP(A245,Subcontractors!$A$2:$B$4,2,FALSE),\"\")","v":""}]
[null,null,null,null,null,null,{"$f":"IF(LEN(A246)>0,VLOOKUP(A246,Subcontractors!$A$2:$B$4,2,FALSE),\"\")","v":""}]
[null,null,null,null,null,null,{"$f":"IF(LEN(A247)>0,VLOOKUP(A247,Subcontractors!$A$2:$B$4,2,FALSE),\"\")","v":""}]
[null,null,null,null,null,null,{"$f":"IF(LEN(A248)>0,VLOOKUP(A248,Subcontractors!$A$2:$B$4,2,FALSE),\"\")","v":""}]
[null,null,null,null,null,null,{"$f":"IF(LEN(A249)>0,VLOOKUP(A249,Subcontractors!$A$2:$B$4,2,FALSE),\"\")","v":""}]
[null,null,null,null,null,null,{"$f":"IF(LEN(A250)>0,VLOOKUP(A250,Subcontractors!$A$2:$B$4,2,FALSE),\"\")","v":""}]
[null,null,null,null,null,null,{"$f":"IF(LEN(A251)>0,VLOOKUP(A251,Subcontractors!$A$2:$B$4,2,FALSE),\"\")","v":""}]
[null,null,null,null,null,null,{"$f":"IF(LEN(A252)>0,VLOOKUP(A252,Subcontractors!$A$2:$B$4,2,FALSE),\"\")","v":""}]
[null,null,null,null,null,null,{"$f":"IF(LEN(A253)>0,VLOOKUP(A253,Subcontractors!$A$2:$B$4,2,FALSE),\"\")","v":""}]
[null,null,null,null,null,null,{"$f":"IF(LEN(A254)>0,VLOOKUP(A254,Subcontractors!$A$2:$B$4,2,FALSE),\"\")","v":""}]
[null,null,null,null,null,null,{"$f":"IF(LEN(A255)>0,VLOOKUP(A255,Subcontractors!$A$2:$B$4,2,FALSE),\"\")","v":""}]
[null,null,null,null,null,null,{"$f":"IF(LEN(A256)>0,VLOOKUP(A256,Subcontractors!$A$2:$B$4,2,FALSE),\"\")","v":""}]
[null,null,null,null,null,null,{"$f":"IF(LEN(A257)>0,VLOOKUP(A257,Subcontractors!$A$2:$B$4,2,FALSE),\"\")","v":""}]
[null,null,null,null,null,null,{"$f":"IF(LEN(A258)>0,VLOOKUP(A258,Subcontractors!$A$2:$B$4,2,FALSE),\"\")","v":""}]
[null,null,null,null,null,null,{"$f":"IF(LEN(A259)>0,VLOOKUP(A259,Subcontractors!$A$2:$B$4,2,FALSE),\"\")","v":""}]
[null,null,null,null,null,null,{"$f":"IF(LEN(A260)>0,VLOOKUP(A260,Subcontractors!$A$2:$B$4,2,FALSE),\"\")","v":""}]
[null,null,null,null,null,null,{"$f":"IF(LEN(A261)>0,VLOOKUP(A261,Subcontractors!$A$2:$B$4,2,FALSE),\"\")","v":""}]
[null,null,null,null,null,null,{"$f":"IF(LEN(A262)>0,VLOOKUP(A262,Subcontractors!$A$2:$B$4,2,FALSE),\"\")","v":""}]
[null,null,null,null,null,null,{"$f":"IF(LEN(A263)>0,VLOOKUP(A263,Subcontractors!$A$2:$B$4,2,FALSE),\"\")","v":""}]
[null,null,null,null,null,null,{"$f":"IF(LEN(A264)>0,VLOOKUP(A264,Subcontractors!$A$2:$B$4,2,FALSE),\"\")","v":""}]
[null,null,null,null,null,null,{"$f":"IF(LEN(A265)>0,VLOOKUP(A265,Subcontractors!$A$2:$B$4,2,FALSE),\"\")","v":""}]
[null,null,null,null,null,null,{"$f":"IF(LEN(A266)>0,VLOOKUP(A266,Subcontractors!$A$2:$B$4,2,FALSE),\"\")","v":""}]
[null,null,null,null,null,null,{"$f":"IF(LEN(A267)>0,VLOOKUP(A267,Subcontractors!$A$2:$B$4,2,FALSE),\"\")","v":""}]
[null,null,null,null,null,null,{"$f":"IF(LEN(A268)>0,VLOOKUP(A268,Subcontractors!$A$2:$B$4,2,FALSE),\"\")","v":""}]
[null,null,null,null,null,null,{"$f":"IF(LEN(A269)>0,VLOOKUP(A269,Subcontractors!$A$2:$B$4,2,FALSE),\"\")","v":""}]
[null,null,null,null,null,null,{"$f":"IF(LEN(A270)>0,VLOOKUP(A270,Subcontractors!$A$2:$B$4,2,FALSE),\"\")","v":""}]
[null,null,null,null,null,null,{"$f":"IF(LEN(A271)>0,VLOOKUP(A271,Subcontractors!$A$2:$B$4,2,FALSE),\"\")","v":""}]
[null,null,null,null,null,null,{"$f":"IF(LEN(A272)>0,VLOOKUP(A272,Subcontractors!$A$2:$B$4,2,FALSE),\"\")","v":""}]
[null,null,null,null,null,null,{"$f":"IF(LEN(A273)>0,VLOOKUP(A273,Subcontractors!$A$2:$B$4,2,FALSE),\"\")","v":""}]
[null,null,null,null,null,null,{"$f":"IF(LEN(A274)>0,VLOOKUP(A274,Subcontractors!$A$2:$B$4,2,FALSE),\"\")","v":""}]
[null,null,null,null,null,null,{"$f":"IF(LEN(A275)>0,VLOOKUP(A275,Subcontractors!$A$2:$B$4,2,FALSE),\"\")","v":""}]
[null,null,null,null,null,null,{"$f":"IF(LEN(A276)>0,VLOOKUP(A276,Subcontractors!$A$2:$B$4,2,FALSE),\"\")","v":""}]
[null,null,null,null,null,null,{"$f":"IF(LEN(A277)>0,VLOOKUP(A277,Subcontractors!$A$2:$B$4,2,FALSE),\"\")","v":""}]
[null,null,null,null,null,null,{"$f":"IF(LEN(A278)>0,VLOOKUP(A278,Subcontractors!$A$2:$B$4,2,FALSE),\"\")","v":""}]
[null,null,null,null,null,null,{"$f":"IF(LEN(A279)>0,VLOOKUP(A279,Subcontractors!$A$2:$B$4,2,FALSE),\"\")","v":""}]
[null,null,null,null,null,null,{"$f":"IF(LEN(A280)>0,VLOOKUP(A280,Subcontractors!$A$2:$B$4,2,FALSE),\"\")","v":""}]
[null,null,null,null,null,null,{"$f":"IF(LEN(A281)>0,VLOOKUP(A281,Subcontractors!$A$2:$B$4,2,FALSE),\"\")","v":""}]
[null,null,null,null,null,null,{"$f":"IF(LEN(A282)>0,VLOOKUP(A282,Subcontractors!$A$2:$B$4,2,FALSE),\"\")","v":""}]
[null,null,null,null,null,null,{"$f":"IF(LEN(A283)>0,VLOOKUP(A283,Subcontractors!$A$2:$B$4,2,FALSE),\"\")","v":""}]
[null,null,null,null,null,null,{"$f":"IF(LEN(A284)>0,VLOOKUP(A284,Subcontractors!$A$2:$B$4,2,FALSE),\"\")","v":""}]
[null,null,null,null,null,null,{"$f":"IF(LEN(A285)>0,VLOOKUP(A285,Subcontractors!$A$2:$B$4,2,FALSE),\"\")","v":""}]
[null,null,null,null,null,null,{"$f":"IF(LEN(A286)>0,VLOOKUP(A286,Subcontractors!$A$2:$B$4,2,FALSE),\"\")","v":""}]
[null,null,null,null,null,null,{"$f":"IF(LEN(A287)>0,VLOOKUP(A287,Subcontractors!$A$2:$B$4,2,FALSE),\"\")","v":""}]
[null,null,null,null,null,null,{"$f":"IF(LEN(A288)>0,VLOOKUP(A288,Subcontractors!$A$2:$B$4,2,FALSE),\"\")","v":""}]
[null,null,null,null,null,null,{"$f":"IF(LEN(A289)>0,VLOOKUP(A289,Subcontractors!$A$2:$B$4,2,FALSE),\"\")","v":""}]
[null,null,null,null,null,null,{"$f":"IF(LEN(A290)>0,VLOOKUP(A290,Subcontractors!$A$2:$B$4,2,FALSE),\"\")","v":""}]
[null,null,null,null,null,null,{"$f":"IF(LEN(A291)>0,VLOOKUP(A291,Subcontractors!$A$2:$B$4,2,FALSE),\"\")","v":""}]
[null,null,null,null,null,null,{"$f":"IF(LEN(A292)>0,VLOOKUP(A292,Subcontractors!$A$2:$B$4,2,FALSE),\"\")","v":""}]
[null,null,null,null,null,null,{"$f":"IF(LEN(A293)>0,VLOOKUP(A293,Subcontractors!$A$2:$B$4,2,FALSE),\"\")","v":""}]
[null,null,null,null,null,null,{"$f":"IF(LEN(A294)>0,VLOOKUP(A294,Subcontractors!$A$2:$B$4,2,FALSE),\"\")","v":""}]
[null,null,null,null,null,null,{"$f":"IF(LEN(A295)>0,VLOOKUP(A295,Subcontractors!$A$2:$B$4,2,FALSE),\"\")","v":""}]
[null,null,null,null,null,null,{"$f":"IF(LEN(A296)>0,VLOOKUP(A296,Subcontractors!$A$2:$B$4,2,FALSE),\"\")","v":""}]
[null,null,null,null,null,null,{"$f":"IF(LEN(A297)>0,VLOOKUP(A297,Subcontractors!$A$2:$B$4,2,FALSE),\"\")","v":""}]
[null,null,null,null,null,null,{"$f":"IF(LEN(A298)>0,VLOOKUP(A298,Subcontractors!$A$2:$B$4,2,FALSE),\"\")","v":""}]
[null,null,null,null,null,null,{"$f":"IF(LEN(A299)>0,VLOOKUP(A299,Subcontractors!$A$2:$B$4,2,FALSE),\"\")","v":""}]
[null,null,null,null,null,null,{"$f":"IF(LEN(A300)>0,VLOOKUP(A300,Subcontractors!$A$2:$B$4,2,FALSE),\"\")","v":""}]
[null,null,null,null,null,null,{"$f":"IF(LEN(A301)>0,VLOOKUP(A301,Subcontractors!$A$2:$B$4,2,FALSE),\"\")","v":""}]
[null,null,null,null,null,null,{"$f":"IF(LEN(A302)>0,VLOOKUP(A302,Subcontractors!$A$2:$B$4,2,FALSE),\"\")","v":""}]
[null,null,null,null,null,null,{"$f":"IF(LEN(A303)>0,VLOOKUP(A303,Subcontractors!$A$2:$B$4,2,FALSE),\"\")","v":""}]
[null,null,null,null,null,null,{"$f":"IF(LEN(A304)>0,VLOOKUP(A304,Subcontractors!$A$2:$B$4,2,FALSE),\"\")","v":""}]
[null,null,null,null,null,null,{"$f":"IF(LEN(A305)>0,VLOOKUP(A305,Subcontractors!$A$2:$B$4,2,FALSE),\"\")","v":""}]
[null,null,null,null,null,null,{"$f":"IF(LEN(A306)>0,VLOOKUP(A306,Subcontractors!$A$2:$B$4,2,FALSE),\"\")","v":""}]
[null,null,null,null,null,null,{"$f":"IF(LEN(A307)>0,VLOOKUP(A307,Subcontractors!$A$2:$B$4,2,FALSE),\"\")","v":""}]
[null,null,null,null,null,null,{"$f":"IF(LEN(A308)>0,VLOOKUP(A308,Subcontractors!$A$2:$B$4,2,FALSE),\"\")","v":""}]
[null,null,null,null,null,null,{"$f":"IF(LEN(A309)>0,VLOOKUP(A309,Subcontractors!$A$2:$B$4,2,FALSE),\"\")","v":""}]
[null,null,null,null,null,null,{"$f":"IF(LEN(A310)>0,VLOOKUP(A310,Subcontractors!$A$2:$B$4,2,FALSE),\"\")","v":""}]
[null,null,null,null,null,null,{"$f":"IF(LEN(A311)>0,VLOOKUP(A311,Subcontractors!$A$2:$B$4,2,FALSE),\"\")","v":""}]
[null,null,null,null,null,null,{"$f":"IF(LEN(A312)>0,VLOOKUP(A312,Subcontractors!$A$2:$B$4,2,FALSE),\"\")","v":""}]
[null,null,null,null,null,null,{"$f":"IF(LEN(A313)>0,VLOOKUP(A313,Subcontractors!$A$2:$B$4,2,FALSE),\"\")","v":""}]
[null,null,null,null,null,null,{"$f":"IF(LEN(A314)>0,VLOOKUP(A314,Subcontractors!$A$2:$B$4,2,FALSE),\"\")","v":""}]
[null,null,null,null,null,null,{"$f":"IF(LEN(A315)>0,VLOOKUP(A315,Subcontractors!$A$2:$B$4,2,FALSE),\"\")","v":""}]
[null,null,null,null,null,null,{"$f":"IF(LEN(A316)>0,VLOOKUP(A316,Subcontractors!$A$2:$B$4,2,FALSE),\"\")","v":""}]
[null,null,null,null,null,null,{"$f":"IF(LEN(A317)>0,VLOOKUP(A317,Subcontractors!$A$2:$B$4,2,FALSE),\"\")","v":""}]
[null,null,null,null,null,null,{"$f":"IF(LEN(A318)>0,VLOOKUP(A318,Subcontractors!$A$2:$B$4,2,FALSE),\"\")","v":""}]
[null,null,null,null,null,null,{"$f":"IF(LEN(A319)>0,VLOOKUP(A319,Subcontractors!$A$2:$B$4,2,FALSE),\"\")","v":""}]
[null,null,null,null,null,null,{"$f":"IF(LEN(A320)>0,VLOOKUP(A320,Subcontractors!$A$2:$B$4,2,FALSE),\"\")","v":""}]
[null,null,null,null,null,null,{"$f":"IF(LEN(A321)>0,VLOOKUP(A321,Subcontractors!$A$2:$B$4,2,FALSE),\"\")","v":""}]
[null,null,null,null,null,null,{"$f":"IF(LEN(A322)>0,VLOOKUP(A322,Subcontractors!$A$2:$B$4,2,FALSE),\"\")","v":""}]
[null,null,null,null,null,null,{"$f":"IF(LEN(A323)>0,VLOOKUP(A323,Subcontractors!$A$2:$B$4,2,FALSE),\"\")","v":""}]
[null,null,null,null,null,null,{"$f":"IF(LEN(A324)>0,VLOOKUP(A324,Subcontractors!$A$2:$B$4,2,FALSE),\"\")","v":""}]
[null,null,null,null,null,null,{"$f":"IF(LEN(A325)>0,VLOOKUP(A325,Subcontractors!$A$2:$B$4,2,FALSE),\"\")","v":""}]
[null,null,null,null,null,null,{"$f":"IF(LEN(A326)>0,VLOOKUP(A326,Subcontractors!$A$2:$B$4,2,FALSE),\"\")","v":""}]
[null,null,null,null,null,null,{"$f":"IF(LEN(A327)>0,VLOOKUP(A327,Subcontractors!$A$2:$B$4,2,FALSE),\"\")","v":""}]
[null,null,null,null,null,null,{"$f":"IF(LEN(A328)>0,VLOOKUP(A328,Subcontractors!$A$2:$B$4,2,FALSE),\"\")","v":""}]
[null,null,null,null,null,null,{"$f":"IF(LEN(A329)>0,VLOOKUP(A329,Subcontractors!$A$2:$B$4,2,FALSE),\"\")","v":""}]
[null,null,null,null,null,null,{"$f":"IF(LEN(A330)>0,VLOOKUP(A330,Subcontractors!$A$2:$B$4,2,FALSE),\"\")","v":""}]
[null,null,null,null,null,null,{"$f":"IF(LEN(A331)>0,VLOOKUP(A331,Subcontractors!$A$2:$B$4,2,FALSE),\"\")","v":""}]
[null,null,null,null,null,null,{"$f":"IF(LEN(A332)>0,VLOOKUP(A332,Subcontractors!$A$2:$B$4,2,FALSE),\"\")","v":""}]
[null,null,null,null,null,null,{"$f":"IF(LEN(A333)>0,VLOOKUP(A333,Subcontractors!$A$2:$B$4,2,FALSE),\"\")","v":""}]
[null,null,null,null,null,null,{"$f":"IF(LEN(A334)>0,VLOOKUP(A334,Subcontractors!$A$2:$B$4,2,FALSE),\"\")","v":""}]
[null,null,null,null,null,null,{"$f":"IF(LEN(A335)>0,VLOOKUP(A335,Subcontractors!$A$2:$B$4,2,FALSE),\"\")","v":""}]
[null,null,null,null,null,null,{"$f":"IF(LEN(A336)>0,VLOOKUP(A336,Subcontractors!$A$2:$B$4,2,FALSE),\"\")","v":""}]
[null,null,null,null,null,null,{"$f":"IF(LEN(A337)>0,VLOOKUP(A337,Subcontractors!$A$2:$B$4,2,FALSE),\"\")","v":""}]
[null,null,null,null,null,null,{"$f":"IF(LEN(A338)>0,VLOOKUP(A338,Subcontractors!$A$2:$B$4,2,FALSE),\"\")","v":""}]
[null,null,null,null,null,null,{"$f":"IF(LEN(A339)>0,VLOOKUP(A339,Subcontractors!$A$2:$B$4,2,FALSE),\"\")","v":""}]
[null,null,null,null,null,null,{"$f":"IF(LEN(A340)>0,VLOOKUP(A340,Subcontractors!$A$2:$B$4,2,FALSE),\"\")","v":""}]
[null,null,null,null,null,null,{"$f":"IF(LEN(A341)>0,VLOOKUP(A341,Subcontractors!$A$2:$B$4,2,FALSE),\"\")","v":""}]
[null,null,null,null,null,null,{"$f":"IF(LEN(A342)>0,VLOOKUP(A342,Subcontractors!$A$2:$B$4,2,FALSE),\"\")","v":""}]
[null,null,null,null,null,null,{"$f":"IF(LEN(A343)>0,VLOOKUP(A343,Subcontractors!$A$2:$B$4,2,FALSE),\"\")","v":""}]
[null,null,null,null,null,null,{"$f":"IF(LEN(A344)>0,VLOOKUP(A344,Subcontractors!$A$2:$B$4,2,FALSE),\"\")","v":""}]
[null,null,null,null,null,null,{"$f":"IF(LEN(A345)>0,VLOOKUP(A345,Subcontractors!$A$2:$B$4,2,FALSE),\"\")","v":""}]
[null,null,null,null,null,null,{"$f":"IF(LEN(A346)>0,VLOOKUP(A346,Subcontractors!$A$2:$B$4,2,FALSE),\"\")","v":""}]
[null,null,null,null,null,null,{"$f":"IF(LEN(A347)>0,VLOOKUP(A347,Subcontractors!$A$2:$B$4,2,FALSE),\"\")","v":""}]
[null,null,null,null,null,null,{"$f":"IF(LEN(A348)>0,VLOOKUP(A348,Subcontractors!$A$2:$B$4,2,FALSE),\"\")","v":""}]
[null,null,null,null,null,null,{"$f":"IF(LEN(A349)>0,VLOOKUP(A349,Subcontractors!$A$2:$B$4,2,FALSE),\"\")","v":""}]
[null,null,null,null,null,null,{"$f":"IF(LEN(A350)>0,VLOOKUP(A350,Subcontractors!$A$2:$B$4,2,FALSE),\"\")","v":""}]
[null,null,null,null,null,null,{"$f":"IF(LEN(A351)>0,VLOOKUP(A351,Subcontractors!$A$2:$B$4,2,FALSE),\"\")","v":""}]
[null,null,null,null,null,null,{"$f":"IF(LEN(A352)>0,VLOOKUP(A352,Subcontractors!$A$2:$B$4,2,FALSE),\"\")","v":""}]
[null,null,null,null,null,null,{"$f":"IF(LEN(A353)>0,VLOOKUP(A353,Subcontractors!$A$2:$B$4,2,FALSE),\"\")","v":""}]
[null,null,null,null,null,null,{"$f":"IF(LEN(A354)>0,VLOOKUP(A354,Subcontractors!$A$2:$B$4,2,FALSE),\"\")","v":""}]
[null,null,null,null,null,null,{"$f":"IF(LEN(A355)>0,VLOOKUP(A355,Subcontractors!$A$2:$B$4,2,FALSE),\"\")","v":""}]
[null,null,null,null,null,null,{"$f":"IF(LEN(A356)>0,VLOOKUP(A356,Subcontractors!$A$2:$B$4,2,FALSE),\"\")","v":""}]
[null,null,null,null,null,null,{"$f":"IF(LEN(A357)>0,VLOOKUP(A357,Subcontractors!$A$2:$B$4,2,FALSE),\"\")","v":""}]
[null,null,null,null,null,null,{"$f":"IF(LEN(A358)>0,VLOOKUP(A358,Subcontractors!$A$2:$B$4,2,FALSE),\"\")","v":""}]
[null,null,null,null,null,null,{"$f":"IF(LEN(A359)>0,VLOOKUP(A359,Subcontractors!$A$2:$B$4,2,FALSE),\"\")","v":""}]
[null,null,null,null,null,null,{"$f":"IF(LEN(A360)>0,VLOOKUP(A360,Subcontractors!$A$2:$B$4,2,FALSE),\"\")","v":""}]
[null,null,null,null,null,null,{"$f":"IF(LEN(A361)>0,VLOOKUP(A361,Subcontractors!$A$2:$B$4,2,FALSE),\"\")","v":""}]
[null,null,null,null,null,null,{"$f":"IF(LEN(A362)>0,VLOOKUP(A362,Subcontractors!$A$2:$B$4,2,FALSE),\"\")","v":""}]
[null,null,null,null,null,null,{"$f":"IF(LEN(A363)>0,VLOOKUP(A363,Subcontractors!$A$2:$B$4,2,FALSE),\"\")","v":""}]
[null,null,null,null,null,null,{"$f":"IF(LEN(A364)>0,VLOOKUP(A364,Subcontractors!$A$2:$B$4,2,FALSE),\"\")","v":""}]
[null,null,null,null,null,null,{"$f":"IF(LEN(A365)>0,VLOOKUP(A365,Subcontractors!$A$2:$B$4,2,FALSE),\"\")","v":""}]
[null,null,null,null,null,null,{"$f":"IF(LEN(A366)>0,VLOOKUP(A366,Subcontractors!$A$2:$B$4,2,FALSE),\"\")","v":""}]
[null,null,null,null,null,null,{"$f":"IF(LEN(A367)>0,VLOOKUP(A367,Subcontractors!$A$2:$B$4,2,FALSE),\"\")","v":""}]
[null,null,null,null,null,null,{"$f":"IF(LEN(A368)>0,VLOOKUP(A368,Subcontractors!$A$2:$B$4,2,FALSE),\"\")","v":""}]
[null,null,null,null,null,null,{"$f":"IF(LEN(A369)>0,VLOOKUP(A369,Subcontractors!$A$2:$B$4,2,FALSE),\"\")","v":""}]
[null,null,null,null,null,null,{"$f":"IF(LEN(A370)>0,VLOOKUP(A370,Subcontractors!$A$2:$B$4,2,FALSE),\"\")","v":""}]
[null,null,null,null,null,null,{"$f":"IF(LEN(A371)>0,VLOOKUP(A371,Subcontractors!$A$2:$B$4,2,FALSE),\"\")","v":""}]
[null,null,null,null,null,null,{"$f":"IF(LEN(A372)>0,VLOOKUP(A372,Subcontractors!$A$2:$B$4,2,FALSE),\"\")","v":""}]
[null,null,null,null,null,null,{"$f":"IF(LEN(A373)>0,VLOOKUP(A373,Subcontractors!$A$2:$B$4,2,FALSE),\"\")","v":""}]
[null,null,null,null,null,null,{"$f":"IF(LEN(A374)>0,VLOOKUP(A374,Subcontractors!$A$2:$B$4,2,FALSE),\"\")","v":""}]
[null,null,null,null,null,null,{"$f":"IF(LEN(A375)>0,VLOOKUP(A375,Subcontractors!$A$2:$B$4,2,FALSE),\"\")","v":""}]
[null,null,null,null,null,null,{"$f":"IF(LEN(A376)>0,VLOOKUP(A376,Subcontractors!$A$2:$B$4,2,FALSE),\"\")","v":""}]
[null,null,null,null,null,null,{"$f":"IF(LEN(A377)>0,VLOOKUP(A377,Subcontractors!$A$2:$B$4,2,FALSE),\"\")","v":""}]
[null,null,null,null,null,null,{"$f":"IF(LEN(A378)>0,VLOOKUP(A378,Subcontractors!$A$2:$B$4,2,FALSE),\"\")","v":""}]
[null,null,null,null,null,null,{"$f":"IF(LEN(A379)>0,VLOOKUP(A379,Subcontractors!$A$2:$B$4,2,FALSE),\"\")","v":""}]
[null,null,null,null,null,null,{"$f":"IF(LEN(A380)>0,VLOOKUP(A380,Subcontractors!$A$2:$B$4,2,FALSE),\"\")","v":""}]
[null,null,null,null,null,null,{"$f":"IF(LEN(A381)>0,VLOOKUP(A381,Subcontractors!$A$2:$B$4,2,FALSE),\"\")","v":""}]
[null,null,null,null,null,null,{"$f":"IF(LEN(A382)>0,VLOOKUP(A382,Subcontractors!$A$2:$B$4,2,FALSE),\"\")","v":""}]
[null,null,null,null,null,null,{"$f":"IF(LEN(A383)>0,VLOOKUP(A383,Subcontractors!$A$2:$B$4,2,FALSE),\"\")","v":""}]
[null,null,null,null,null,null,{"$f":"IF(LEN(A384)>0,VLOOKUP(A384,Subcontractors!$A$2:$B$4,2,FALSE),\"\")","v":""}]
[null,null,null,null,null,null,{"$f":"IF(LEN(A385)>0,VLOOKUP(A385,Subcontractors!$A$2:$B$4,2,FALSE),\"\")","v":""}]
[null,null,null,null,null,null,{"$f":"IF(LEN(A386)>0,VLOOKUP(A386,Subcontractors!$A$2:$B$4,2,FALSE),\"\")","v":""}]
[null,null,null,null,null,null,{"$f":"IF(LEN(A387)>0,VLOOKUP(A387,Subcontractors!$A$2:$B$4,2,FALSE),\"\")","v":""}]
[null,null,null,null,null,null,{"$f":"IF(LEN(A388)>0,VLOOKUP(A388,Subcontractors!$A$2:$B$4,2,FALSE),\"\")","v":""}]
[null,null,null,null,null,null,{"$f":"IF(LEN(A389)>0,VLOOKUP(A389,Subcontractors!$A$2:$B$4,2,FALSE),\"\")","v":""}]
[null,null,null,null,null,null,{"$f":"IF(LEN(A390)>0,VLOOKUP(A390,Subcontractors!$A$2:$B$4,2,FALSE),\"\")","v":""}]
[null,null,null,null,null,null,{"$f":"IF(LEN(A391)>0,VLOOKUP(A391,Subcontractors!$A$2:$B$4,2,FALSE),\"\")","v":""}]
[null,null,null,null,null,null,{"$f":"IF(LEN(A392)>0,VLOOKUP(A392,Subcontractors!$A$2:$B$4,2,FALSE),\"\")","v":""}]
[null,null,null,null,null,null,{"$f":"IF(LEN(A393)>0,VLOOKUP(A393,Subcontractors!$A$2:$B$4,2,FALSE),\"\")","v":""}]
[null,null,null,null,null,null,{"$f":"IF(LEN(A394)>0,VLOOKUP(A394,Subcontractors!$A$2:$B$4,2,FALSE),\"\")","v":""}]
[null,null,null,null,null,null,{"$f":"IF(LEN(A395)>0,VLOOKUP(A395,Subcontractors!$A$2:$B$4,2,FALSE),\"\")","v":""}]
[null,null,null,null,null,null,{"$f":"IF(LEN(A396)>0,VLOOKUP(A396,Subcontractors!$A$2:$B$4,2,FALSE),\"\")","v":""}]
[null,null,null,null,null,null,{"$f":"IF(LEN(A397)>0,VLOOKUP(A397,Subcontractors!$A$2:$B$4,2,FALSE),\"\")","v":""}]
[null,null,null,null,null,null,{"$f":"IF(LEN(A398)>0,VLOOKUP(A398,Subcontractors!$A$2:$B$4,2,FALSE),\"\")","v":""}]
[null,null,null,null,null,null,{"$f":"IF(LEN(A399)>0,VLOOKUP(A399,Subcontractors!$A$2:$B$4,2,FALSE),\"\")","v":""}]
[null,null,null,null,null,null,{"$f":"IF(LEN(A400)>0,VLOOKUP(A400,Subcontractors!$A$2:$B$4,2,FALSE),\"\")","v":""}]
[null,null,null,null,null,null,{"$f":"IF(LEN(A401)>0,VLOOKUP(A401,Subcontractors!$A$2:$B$4,2,FALSE),\"\")","v":""}]
[null,null,null,null,null,null,{"$f":"IF(LEN(A402)>0,VLOOKUP(A402,Subcontractors!$A$2:$B$4,2,FALSE),\"\")","v":""}]
[null,null,null,null,null,null,{"$f":"IF(LEN(A403)>0,VLOOKUP(A403,Subcontractors!$A$2:$B$4,2,FALSE),\"\")","v":""}]
[null,null,null,null,null,null,{"$f":"IF(LEN(A404)>0,VLOOKUP(A404,Subcontractors!$A$2:$B$4,2,FALSE),\"\")","v":""}]
[null,null,null,null,null,null,{"$f":"IF(LEN(A405)>0,VLOOKUP(A405,Subcontractors!$A$2:$B$4,2,FALSE),\"\")","v":""}]
[null,null,null,null,null,null,{"$f":"IF(LEN(A406)>0,VLOOKUP(A406,Subcontractors!$A$2:$B$4,2,FALSE),\"\")","v":""}]
[null,null,null,null,null,null,{"$f":"IF(LEN(A407)>0,VLOOKUP(A407,Subcontractors!$A$2:$B$4,2,FALSE),\"\")","v":""}]
[null,null,null,null,null,null,{"$f":"IF(LEN(A408)>0,VLOOKUP(A408,Subcontractors!$A$2:$B$4,2,FALSE),\"\")","v":""}]
[null,null,null,null,null,null,{"$f":"IF(LEN(A409)>0,VLOOKUP(A409,Subcontractors!$A$2:$B$4,2,FALSE),\"\")","v":""}]
[null,null,null,null,null,null,{"$f":"IF(LEN(A410)>0,VLOOKUP(A410,Subcontractors!$A$2:$B$4,2,FALSE),\"\")","v":""}]
[null,null,null,null,null,null,{"$f":"IF(LEN(A411)>0,VLOOKUP(A411,Subcontractors!$A$2:$B$4,2,FALSE),\"\")","v":""}]
[null,null,null,null,null,null,{"$f":"IF(LEN(A412)>0,VLOOKUP(A412,Subcontractors!$A$2:$B$4,2,FALSE),\"\")","v":""}]
[null,null,null,null,null,null,{"$f":"IF(LEN(A413)>0,VLOOKUP(A413,Subcontractors!$A$2:$B$4,2,FALSE),\"\")","v":""}]
[null,null,null,null,null,null,{"$f":"IF(LEN(A414)>0,VLOOKUP(A414,Subcontractors!$A$2:$B$4,2,FALSE),\"\")","v":""}]
[null,null,null,null,null,null,{"$f":"IF(LEN(A415)>0,VLOOKUP(A415,Subcontractors!$A$2:$B$4,2,FALSE),\"\")","v":""}]
[null,null,null,null,null,null,{"$f":"IF(LEN(A416)>0,VLOOKUP(A416,Subcontractors!$A$2:$B$4,2,FALSE),\"\")","v":""}]
[null,null,null,null,null,null,{"$f":"IF(LEN(A417)>0,VLOOKUP(A417,Subcontractors!$A$2:$B$4,2,FALSE),\"\")","v":""}]
[null,null,null,null,null,null,{"$f":"IF(LEN(A418)>0,VLOOKUP(A418,Subcontractors!$A$2:$B$4,2,FALSE),\"\")","v":""}]
[null,null,null,null,null,null,{"$f":"IF(LEN(A419)>0,VLOOKUP(A419,Subcontractors!$A$2:$B$4,2,FALSE),\"\")","v":""}]
[null,null,null,null,null,null,{"$f":"IF(LEN(A420)>0,VLOOKUP(A420,Subcontractors!$A$2:$B$4,2,FALSE),\"\")","v":""}]
[null,null,null,null,null,null,{"$f":"IF(LEN(A421)>0,VLOOKUP(A421,Subcontractors!$A$2:$B$4,2,FALSE),\"\")","v":""}]
[null,null,null,null,null,null,{"$f":"IF(LEN(A422)>0,VLOOKUP(A422,Subcontractors!$A$2:$B$4,2,FALSE),\"\")","v":""}]
[null,null,null,null,null,null,{"$f":"IF(LEN(A423)>0,VLOOKUP(A423,Subcontractors!$A$2:$B$4,2,FALSE),\"\")","v":""}]
[null,null,null,null,null,null,{"$f":"IF(LEN(A424)>0,VLOOKUP(A424,Subcontractors!$A$2:$B$4,2,FALSE),\"\")","v":""}]
[null,null,null,null,null,null,{"$f":"IF(LEN(A425)>0,VLOOKUP(A425,Subcontractors!$A$2:$B$4,2,FALSE),\"\")","v":""}]
[null,null,null,null,null,null,{"$f":"IF(LEN(A426)>0,VLOOKUP(A426,Subcontractors!$A$2:$B$4,2,FALSE),\"\")","v":""}]
[null,null,null,null,null,null,{"$f":"IF(LEN(A427)>0,VLOOKUP(A427,Subcontractors!$A$2:$B$4,2,FALSE),\"\")","v":""}]
[null,null,null,null,null,null,{"$f":"IF(LEN(A428)>0,VLOOKUP(A428,Subcontractors!$A$2:$B$4,2,FALSE),\"\")","v":""}]
[null,null,null,null,null,null,{"$f":"IF(LEN(A429)>0,VLOOKUP(A429,Subcontractors!$A$2:$B$4,2,FALSE),\"\")","v":""}]
[null,null,null,null,null,null,{"$f":"IF(LEN(A430)>0,VLOOKUP(A430,Subcontractors!$A$2:$B$4,2,FALSE),\"\")","v":""}]
[null,null,null,null,null,null,{"$f":"IF(LEN(A431)>0,VLOOKUP(A431,Subcontractors!$A$2:$B$4,2,FALSE),\"\")","v":""}]
[null,null,null,null,null,null,{"$f":"IF(LEN(A432)>0,VLOOKUP(A432,Subcontractors!$A$2:$B$4,2,FALSE),\"\")","v":""}]
[null,null,null,null,null,null,{"$f":"IF(LEN(A433)>0,VLOOKUP(A433,Subcontractors!$A$2:$B$4,2,FALSE),\"\")","v":""}]
[null,null,null,null,null,null,{"$f":"IF(LEN(A434)>0,VLOOKUP(A434,Subcontractors!$A$2:$B$4,2,FALSE),\"\")","v":""}]
[null,null,null,null,null,null,{"$f":"IF(LEN(A435)>0,VLOOKUP(A435,Subcontractors!$A$2:$B$4,2,FALSE),\"\")","v":""}]
[null,null,null,null,null,null,{"$f":"IF(LEN(A436)>0,VLOOKUP(A436,Subcontractors!$A$2:$B$4,2,FALSE),\"\")","v":""}]
[null,null,null,null,null,null,{"$f":"IF(LEN(A437)>0,VLOOKUP(A437,Subcontractors!$A$2:$B$4,2,FALSE),\"\")","v":""}]
[null,null,null,null,null,null,{"$f":"IF(LEN(A438)>0,VLOOKUP(A438,Subcontractors!$A$2:$B$4,2,FALSE),\"\")","v":""}]
[null,null,null,null,null,null,{"$f":"IF(LEN(A439)>0,VLOOKUP(A439,Subcontractors!$A$2:$B$4,2,FALSE),\"\")","v":""}]
[null,null,null,null,null,null,{"$f":"IF(LEN(A440)>0,VLOOKUP(A440,Subcontractors!$A$2:$B$4,2,FALSE),\"\")","v":""}]
[null,null,null,null,null,null,{"$f":"IF(LEN(A441)>0,VLOOKUP(A441,Subcontractors!$A$2:$B$4,2,FALSE),\"\")","v":""}]
[null,null,null,null,null,null,{"$f":"IF(LEN(A442)>0,VLOOKUP(A442,Subcontractors!$A$2:$B$4,2,FALSE),\"\")","v":""}]
[null,null,null,null,null,null,{"$f":"IF(LEN(A443)>0,VLOOKUP(A443,Subcontractors!$A$2:$B$4,2,FALSE),\"\")","v":""}]
[null,null,null,null,null,null,{"$f":"IF(LEN(A444)>0,VLOOKUP(A444,Subcontractors!$A$2:$B$4,2,FALSE),\"\")","v":""}]
[null,null,null,null,null,null,{"$f":"IF(LEN(A445)>0,VLOOKUP(A445,Subcontractors!$A$2:$B$4,2,FALSE),\"\")","v":""}]
[null,null,null,null,null,null,{"$f":"IF(LEN(A446)>0,VLOOKUP(A446,Subcontractors!$A$2:$B$4,2,FALSE),\"\")","v":""}]
[null,null,null,null,null,null,{"$f":"IF(LEN(A447)>0,VLOOKUP(A447,Subcontractors!$A$2:$B$4,2,FALSE),\"\")","v":""}]
[null,null,null,null,null,null,{"$f":"IF(LEN(A448)>0,VLOOKUP(A448,Subcontractors!$A$2:$B$4,2,FALSE),\"\")","v":""}]
[null,null,null,null,null,null,{"$f":"IF(LEN(A449)>0,VLOOKUP(A449,Subcontractors!$A$2:$B$4,2,FALSE),\"\")","v":""}]
[null,null,null,null,null,null,{"$f":"IF(LEN(A450)>0,VLOOKUP(A450,Subcontractors!$A$2:$B$4,2,FALSE),\"\")","v":""}]
[null,null,null,null,null,null,{"$f":"IF(LEN(A451)>0,VLOOKUP(A451,Subcontractors!$A$2:$B$4,2,FALSE),\"\")","v":""}]
[null,null,null,null,null,null,{"$f":"IF(LEN(A452)>0,VLOOKUP(A452,Subcontractors!$A$2:$B$4,2,FALSE),\"\")","v":""}]
[null,null,null,null,null,null,{"$f":"IF(LEN(A453)>0,VLOOKUP(A453,Subcontractors!$A$2:$B$4,2,FALSE),\"\")","v":""}]
[null,null,null,null,null,null,{"$f":"IF(LEN(A454)>0,VLOOKUP(A454,Subcontractors!$A$2:$B$4,2,FALSE),\"\")","v":""}]
[null,null,null,null,null,null,{"$f":"IF(LEN(A455)>0,VLOOKUP(A455,Subcontractors!$A$2:$B$4,2,FALSE),\"\")","v":""}]
[null,null,null,null,null,null,{"$f":"IF(LEN(A456)>0,VLOOKUP(A456,Subcontractors!$A$2:$B$4,2,FALSE),\"\")","v":""}]
[null,null,null,null,null,null,{"$f":"IF(LEN(A457)>0,VLOOKUP(A457,Subcontractors!$A$2:$B$4,2,FALSE),\"\")","v":""}]
[null,null,null,null,null,null,{"$f":"IF(LEN(A458)>0,VLOOKUP(A458,Subcontractors!$A$2:$B$4,2,FALSE),\"\")","v":""}]
[null,null,null,null,null,null,{"$f":"IF(LEN(A459)>0,VLOOKUP(A459,Subcontractors!$A$2:$B$4,2,FALSE),\"\")","v":""}]
[null,null,null,null,null,null,{"$f":"IF(LEN(A460)>0,VLOOKUP(A460,Subcontractors!$A$2:$B$4,2,FALSE),\"\")","v":""}]
[null,null,null,null,null,null,{"$f":"IF(LEN(A461)>0,VLOOKUP(A461,Subcontractors!$A$2:$B$4,2,FALSE),\"\")","v":""}]
[null,null,null,null,null,null,{"$f":"IF(LEN(A462)>0,VLOOKUP(A462,Subcontractors!$A$2:$B$4,2,FALSE),\"\")","v":""}]
[null,null,null,null,null,null,{"$f":"IF(LEN(A463)>0,VLOOKUP(A463,Subcontractors!$A$2:$B$4,2,FALSE),\"\")","v":""}]
[null,null,null,null,null,null,{"$f":"IF(LEN(A464)>0,VLOOKUP(A464,Subcontractors!$A$2:$B$4,2,FALSE),\"\")","v":""}]
[null,null,null,null,null,null,{"$f":"IF(LEN(A465)>0,VLOOKUP(A465,Subcontractors!$A$2:$B$4,2,FALSE),\"\")","v":""}]
[null,null,null,null,null,null,{"$f":"IF(LEN(A466)>0,VLOOKUP(A466,Subcontractors!$A$2:$B$4,2,FALSE),\"\")","v":""}]
[null,null,null,null,null,null,{"$f":"IF(LEN(A467)>0,VLOOKUP(A467,Subcontractors!$A$2:$B$4,2,FALSE),\"\")","v":""}]
[null,null,null,null,null,null,{"$f":"IF(LEN(A468)>0,VLOOKUP(A468,Subcontractors!$A$2:$B$4,2,FALSE),\"\")","v":""}]
[null,null,null,null,null,null,{"$f":"IF(LEN(A469)>0,VLOOKUP(A469,Subcontractors!$A$2:$B$4,2,FALSE),\"\")","v":""}]
[null,null,null,null,null,null,{"$f":"IF(LEN(A470)>0,VLOOKUP(A470,Subcontractors!$A$2:$B$4,2,FALSE),\"\")","v":""}]
[null,null,null,null,null,null,{"$f":"IF(LEN(A471)>0,VLOOKUP(A471,Subcontractors!$A$2:$B$4,2,FALSE),\"\")","v":""}]
[null,null,null,null,null,null,{"$f":"IF(LEN(A472)>0,VLOOKUP(A472,Subcontractors!$A$2:$B$4,2,FALSE),\"\")","v":""}]
[null,null,null,null,null,null,{"$f":"IF(LEN(A473)>0,VLOOKUP(A473,Subcontractors!$A$2:$B$4,2,FALSE),\"\")","v":""}]
[null,null,null,null,null,null,{"$f":"IF(LEN(A474)>0,VLOOKUP(A474,Subcontractors!$A$2:$B$4,2,FALSE),\"\")","v":""}]
[null,null,null,null,null,null,{"$f":"IF(LEN(A475)>0,VLOOKUP(A475,Subcontractors!$A$2:$B$4,2,FALSE),\"\")","v":""}]
[null,null,null,null,null,null,{"$f":"IF(LEN(A476)>0,VLOOKUP(A476,Subcontractors!$A$2:$B$4,2,FALSE),\"\")","v":""}]
[null,null,null,null,null,null,{"$f":"IF(LEN(A477)>0,VLOOKUP(A477,Subcontractors!$A$2:$B$4,2,FALSE),\"\")","v":""}]
[null,null,null,null,null,null,{"$f":"IF(LEN(A478)>0,VLOOKUP(A478,Subcontractors!$A$2:$B$4,2,FALSE),\"\")","v":""}]
[null,null,null,null,null,null,{"$f":"IF(LEN(A479)>0,VLOOKUP(A479,Subcontractors!$A$2:$B$4,2,FALSE),\"\")","v":""}]
[null,null,null,null,null,null,{"$f":"IF(LEN(A480)>0,VLOOKUP(A480,Subcontractors!$A$2:$B$4,2,FALSE),\"\")","v":""}]
[null,null,null,null,null,null,{"$f":"IF(LEN(A481)>0,VLOOKUP(A481,Subcontractors!$A$2:$B$4,2,FALSE),\"\")","v":""}]
[null,null,null,null,null,null,{"$f":"IF(LEN(A482)>0,VLOOKUP(A482,Subcontractors!$A$2:$B$4,2,FALSE),\"\")","v":""}]
[null,null,null,null,null,null,{"$f":"IF(LEN(A483)>0,VLOOKUP(A483,Subcontractors!$A$2:$B$4,2,FALSE),\"\")","v":""}]
[null,null,null,null,null,null,{"$f":"IF(LEN(A484)>0,VLOOKUP(A484,Subcontractors!$A$2:$B$4,2,FALSE),\"\")","v":""}]
[null,null,null,null,null,null,{"$f":"IF(LEN(A485)>0,VLOOKUP(A485,Subcontractors!$A$2:$B$4,2,FALSE),\"\")","v":""}]
[null,null,null,null,null,null,{"$f":"IF(LEN(A486)>0,VLOOKUP(A486,Subcontractors!$A$2:$B$4,2,FALSE),\"\")","v":""}]
[null,null,null,null,null,null,{"$f":"IF(LEN(A487)>0,VLOOKUP(A487,Subcontractors!$A$2:$B$4,2,FALSE),\"\")","v":""}]
[null,null,null,null,null,null,{"$f":"IF(LEN(A488)>0,VLOOKUP(A488,Subcontractors!$A$2:$B$4,2,FALSE),\"\")","v":""}]
[null,null,null,null,null,null,{"$f":"IF(LEN(A489)>0,VLOOKUP(A489,Subcontractors!$A$2:$B$4,2,FALSE),\"\")","v":""}]
[null,null,null,null,null,null,{"$f":"IF(LEN(A490)>0,VLOOKUP(A490,Subcontractors!$A$2:$B$4,2,FALSE),\"\")","v":""}]
[null,null,null,null,null,null,{"$f":"IF(LEN(A491)>0,VLOOKUP(A491,Subcontractors!$A$2:$B$4,2,FALSE),\"\")","v":""}]
[null,null,null,null,null,null,{"$f":"IF(LEN(A492)>0,VLOOKUP(A492,Subcontractors!$A$2:$B$4,2,FALSE),\"\")","v":""}]
[null,null,null,null,null,null,{"$f":"IF(LEN(A493)>0,VLOOKUP(A493,Subcontractors!$A$2:$B$4,2,FALSE),\"\")","v":""}]
[null,null,null,null,null,null,{"$f":"IF(LEN(A494)>0,VLOOKUP(A494,Subcontractors!$A$2:$B$4,2,FALSE),\"\")","v":""}]
[null,null,null,null,null,null,{"$f":"IF(LEN(A495)>0,VLOOKUP(A495,Subcontractors!$A$2:$B$4,2,FALSE),\"\")","v":""}]
[null,null,null,null,null,null,{"$f":"IF(LEN(A496)>0,VLOOKUP(A496,Subcontractors!$A$2:$B$4,2,FALSE),\"\")","v":""}]
[null,null,null,null,null,null,{"$f":"IF(LEN(A497)>0,VLOOKUP(A497,Subcontractors!$A$2:$B$4,2,FALSE),\"\")","v":""}]
[null,null,null,null,null,null,{"$f":"IF(LEN(A498)>0,VLOOKUP(A498,Subcontractors!$A$2:$B$4,2,FALSE),\"\")","v":""}]
[null,null,null,null,null,null,{"$f":"IF(LEN(A499)>0,VLOOKUP(A499,Subcontractors!$A$2:$B$4,2,FALSE),\"\")","v":""}]
[null,null,null,null,null,null,{"$f":"IF(LEN(A500)>0,VLOOKUP(A500,Subcontractors!$A$2:$B$4,2,FALSE),\"\")","v":""}]

{"sheet":"Community Investment","index":6,"n_rows":3,"n_cols":13,"rows_kept":3,"cut":false,"hidden":false,"merged":[]}
[]
["Organisation destinataire","\n\nDépenses totales","Devise","Ville","Province/ État","Pays","Code Postal/Zip","Autochtone - Première Nation (CAN)","Amérindien (É.-U)","Communauté Autochtone","Autre Communauté Autochtone","Type d'investissement communautaire","Plans d'exploitation"]
["Recipient Organization","Spend Amount","Currency","City/ Town","Province/ State","Country","Postal/ Zip Code","Indigenous (CAN)","Native-American (USA)","Indigenous/Tribal Community","Other Indigenous/Tribal Community","Community Investment Type","Leveraging Plans"]

{"sheet":"Subcontractors","index":7,"n_rows":1,"n_cols":2,"rows_kept":1,"cut":false,"hidden":false,"merged":[]}
["Subcontractor Name","Record Id #"]

{"sheet":"Diversity Information Consent","index":8,"n_rows":4,"n_cols":1,"rows_kept":4,"cut":false,"hidden":false,"merged":[[1,0,1,10],[3,0,3,10]]}
["Diversity Information Consent / Consentement des informations sur la diversité"]
["TransCanada values making contributions to social and economic well-being in communities adjacent to our business. We endeavor to create equitable opportunities for qualified indigenous, diverse and local businesses and individuals to benefit from our footprint. This commitment to enabling social and economic opportunities for the communities where we live and work is reflected in our supplier diversity and local participation practices. TransCanada collects this data as an important part of tracking the inclusion of indigenous, diverse and local suppliers in our business and related opportunities. The collection and utilization of this information is in support of our Supplier Diversity and Local Participation Program, designed to increase participation of indigenous, diverse and local businesses in the company’s supply chain. Responses to questions in the ‘Diversity Information’ sections are voluntary. If you have additional questions regarding the Supplier Diversity and Local Participation Program at TransCanada please contact dls_support@transcanada.com. All data (except the employees' names) collected in this form will be stored in a data center located in the United States and will be retained for only as long as reasonably required by TransCanada. For more information or questions related to TransCanada’s Protection of Personal Information Policy, please contact our Privacy Officer (privacy_officer@transcanada.com). "]
[]
["TransCanada valorise les contributions au bien-être social et économique dans les communautés adjacentes à notre entreprise. Nous nous efforçons de créer des opportunités équitables pour les entreprises ou individus qualifiés, qu’ils soient autochtones, divers ou locaux afin qu’ils puissent bénéficier de notre marque. Ce dévouement à la création d'opportunités sociales et économiques dans les communautés où TransCanada opère se démontre par la diversité de nos fournisseurs et nos méthodes de participation locale. La collecte de ces données par TransCanada joue un rôle important dans le suivi de l’inclusion de fournisseurs autochtones, divers et locaux dans nos projets et opportunités connexes. La collecte et l’utilisation de ces informations supportent notre programme « Diversité des Fournisseurs », mis en œuvre afin d’augmenter la participation des entreprises autochtones, diverses et locales dans la chaîne d’approvisionnement de l’entreprise. Les réponses aux questions dans les sections « Informations sur la Diversité » sont volontaires. Si vous avez des questions supplémentaires concernant le programme « Diversité des Fournisseurs » de TransCanada, contactez l’adresse courriel suivante: dls_support@transcanada.com. Toutes les données (sauf le nom des travailleurs) recueillies dans ce formulaire seront conservées dans un centre de données situé aux États-Unis et seront retenues pour une durée jugée nécessaire par TransCanada. Pour toute autre information ou question relative à la politique de TransCanada en matière de protection des renseignements personnels, contactez notre agent de la protection de la vie privée à l’adresse courriel suivante: privacy_officer@transcanada.com."]

{"sheet":"Case","index":9,"n_rows":19,"n_cols":3,"rows_kept":19,"cut":false,"hidden":true,"merged":[]}
["City","A","proper"]
["Province/ State","B","upper"]
["Country","C","proper"]
["Postal/Zip Code","D","upper"]
["Service Completed","E","proper"]
["Aboriginal Affiliation","Q","proper"]
["Aboriginal Affiliation Other","R","proper"]
["Currency","V","upper"]
["Spend City","W","proper"]
["Spend Province/ State","X","upper"]
["Spend Country","Y","proper"]
["Spend Postal Zip Code","Z","upper"]
["Material Supplier Name","AA","proper"]
["Traditional Studies","AF","proper"]
["Material Type","AI","proper"]
["Service Type","AJ","proper"]
["Recipient Organization","AL","proper"]
["Community Investment Type","AN","proper"]
["Leveraging Plans","AO","proper"]

{"sheet":"Com Inv Type","index":10,"n_rows":5,"n_cols":1,"rows_kept":5,"cut":false,"hidden":true,"merged":[]}
["Community Investment Type"]
["Education and Training"]
["Safety"]
["Environment"]
["Community"]

{"sheet":"Unions","index":11,"n_rows":524,"n_cols":1,"rows_kept":524,"cut":false,"hidden":true,"merged":[]}
["Union"]
["CANADA"]
["A. de la Chevrotière Ltd. (Wholesale) Employees Union"]
["Acadia University Faculty Association (AUFA)"]
["Administrative and Professional Staff Association (APSA)"]
["Administrative and Supervisory Personnel Association (ASPA)"]
["Air Canada Pilots Association (ACPA)"]
["Air Line Pilots Association, International (ALPA)"]
["Aircrew Officers' Association Canada (AOACAN)"]
["Alberta Teachers' Association (ATA)"]
["Alberta Union of Provincial Employees (AUPE)"]
["Alliance des enseignants de la Toronto French School (AETFS)"]
["Alliance des professionnels et professionnelles de la ville de Québec (ALLPPVQ)"]
["Alliance du personnel professionnel et administratif de ville de Laval (APPAVL)"]
["Alliance du personnel professionnel et technique de la santé et des services sociaux (APTS)"]
["Alliance Employees' Union (AEU)"]
["Alliance of Canadian Cinema, Television and Radio Artists (ACTRA)"]
["Amalgamated Transit Union (ATU)"]
["American Federation of Labor and Congress of Industrial Organizations (AFL-CIO)"]
["American Federation of Musicians of the United States and Canada (AFM)"]
["American Guild of Variety Artists (AGVA)"]
["Associated Designers of Canada (ADC)"]
["Association des bibliothécaires, professeures et professeurs de l'Université de Moncton, Campus d'Edmunston (ABPPUMCE)"]
["Association des bibliothécaires, professeures et professeurs de l'Université de Moncton (ABPPUM)"]
["Association des chauffeurs de Transport Couture et Fils Ltée"]
["Association des chauffeurs de Transport Loignon Champ-Carr"]
["Association des contremaîtres municipaux employés par la Ville de Montréal inc. (ACVDEM)"]
["Association des employé(e)s de Polar"]
["Association des employé(e)s du magasin Canadian Tire de Chicoutimi"]
["Association des employé(es) de (910330338)-(90188749)-(90190430)-(90189895) inc."]
["Association des employés d'ameublement El Ran Inc."]
["Association des employés de Henri Sicotte inc."]
["Association des employés de Jomac Canada inc."]
["Association des employés de secteurs financiers (AESF)"]
["Association des employés de Transport Bourret inc. (AETB)"]
["Association des employés des métaux Intégris (AEMI)"]
["Association des employés(es) de Camoplast Roski (ADEC)"]
["Association des enseignantes et des enseignants franco-ontariens (AEFO)"]
["Association des ingénieurs et scientifiques (CMC Électronique) (AISCMC)"]
["Association des ingénieurs professeurs des sciences appliquées de l'Université de Sherbrooke (AIPSA)"]
["Association des Juristes de l'État (AJE)"]
["Association des manoeuvres interprovinciaux (AMI)"]
["Association des médecins cliniciens enseignants de Montréal (AMCEM)"]
["Association des Pompiers de Laval (APL)"]
["Association des Pompiers de Montréal Inc. (APM)"]
["Association des procureurs aux poursuites criminelles et pénales"]
["Association des professeures et des professeurs de la Faculté de médecine de l'Université de Sherbrooke (APPFMUS)"]
["Association des professeurs (es) du Campus Notre-Dame-de-Foy (APCNDF)"]
["Association des Professeurs de l'École Polytechnique (APEP)"]
["Association des professeurs et professeures de l'École de Technologie Supérieure (APETS)"]
["Association des réalisateurs et réalisatrices du Québec (ARRQ)"]
["Association des salariés du contre-plaqué de Ste-Thérèse (ASCST)"]
["Association du personnel administratif et professionnel de l'Université de Moncton (APAPUM)"]
["Association du personnel des Industries Ling inc. (APIL)"]
["Association EG & G.E.O. (EGGEO)"]
["Association for Residential Treatment Concepts (ARTC)"]
["Association of Academic Staff: University of Alberta (AASUA)"]
["Association of Administrative and Professional Staff (AAPS)"]
["Association of Administrative, Professional and Support Personnel (AAPSP)"]
["Association of Allied Health Professionals, Newfoundland and Labrador (AAHP)"]
["Association of Canadian Financial Officers (ACFO)"]
["Association of Commercial and Technical Employees, Local 1725 (ACTE)"]
["Association of Employees Supporting Education Services (AESES)"]
["Association of Hebrew School Educators (A.H.S.E)"]
["Association of Management, Administrative and Professional Crown Employees of Ontario (AMAPCEO)"]
["Association of Manitoba Hydro Staff and Supervisory Employees (AMHSSE)"]
["Association of Part-Time Professors of the University of Ottawa (APTPUO)"]
["Association of Postal Officials of Canada (APOC)"]
["Association of Professionals and Supervisors (APS) of the CBC (APS)"]
["Association of Professors of Bishop's University (APBU)"]
["Association of Professors of the University of Ottawa (APUO)"]
["Association of Teaching Clinical Physicians of Laval (AMCEL)"]
["Association of Telecommunication Engineers and Scientists (ATES)"]
["Association of University of New Brunswick Teachers (AUNBT)"]
["Association professionnelle des gardes du corps du gouvernement du Québec inc. (APGCGQ)"]
["Association professionnelle des ingénieurs du gouvernement du Québec (APIGQ)"]
["Association québécoise des auteurs dramatiques (AQAD)"]
["Association syndicale des employé(e)s de production et de service (ASEPS)"]
["Athabasca University Faculty Association (AUFA)"]
["Atlantic Police Association (APA)"]
["B.C. Government and Service Employees' Union (BCGEU)"]
["Bakery, Confectionery, Tobacco Workers and Grain Millers International Union (BCTGM)"]
["Belleville Police Association"]
["Brandon Police Association (BPA)"]
["Brandon University Faculty Association (BUFA)"]
["Brantford Police Association (BPA)"]
["Bricklayers, Masons Independent Union of Canada"]
["British Columbia Institute of Technology Faculty and Staff Association (BCITFSA)"]
["British Columbia Nurses' Union (BCNU)"]
["British Columbia Police Association (BCPA)"]
["British Columbia Teachers' Federation (BCTF)"]
["Brock University Faculty Association (BUFA)"]
["Building and Construction Trades Department - AFL-CIO"]
["Calgary Board of Education Staff Association (C.B.E.S.A.)"]
["Calgary Police Association (CPA)"]
["Canadelle Inc. Montréal Employees Association"]
["Canadian Actors' Equity Association (CAEA)"]
["Canadian Air Line Dispatchers Association (CALDA)"]
["Canadian Airport Workers Union (CAWU)"]
["Canadian Association of Professional Employees (CAPE)"]
["Canadian Association of University Teachers (CAUT)"]
["Canadian Energy Workers' Association (CEWA)"]
["Canadian Farmworkers Union (CFU)"]
["Canadian Federal Pilots Association (CFPA)"]
["Canadian Federation of Nurses Unions (CFNU)"]
["Canadian Flight Attendants Union"]
["Canadian Football League Players Association"]
["Canadian Football League Players' Association (CFLPA)"]
["Canadian Iron, Steel and Industrial Workers' Union (CISIWU)"]
["Canadian Labour Congress (CLC)"]
["Canadian Merchant Service Guild (CMSG)"]
["Canadian Military Colleges Faculty Association (CMCFA)"]
["Canadian National Federation of Independent Unions (CNFIU)"]
["Canadian National Railways Police Association (CNRPA)"]
["Canadian Office and Professional Employees Union (COPE)"]
["Canadian Office Employees Union (COEU)"]
["Canadian Overseas Telecommunications Union (COTU)"]
["Canadian Owner-Operator Workers' Association, Local 2001 (COOWA)"]
["Canadian Pacific Police Association (CPPA)"]
["Canadian Police Association (CPA)"]
["Canadian Postmasters and Assistants Association (CPAA)"]
["Canadian Staff Union (CSU)"]
["Canadian Teachers' Federation (CTF)"]
["Canadian Union of Brewery and General Workers, Component 325 (CUBGW)"]
["Canadian Union of Postal Workers (CUPW)"]
["Canadian Union of Public Employees (CUPE)"]
["Cape Breton University Faculty Association (CBUFA)"]
["Carleton University Academic Staff Association (CUASA)"]
["Central Alberta Association of Municipal and School Employees (CAAMSE)"]
["Centrale des syndicats démocratiques (CSD)"]
["Centrale des syndicats du Québec (CSQ)"]
["Cercle québécois de la coiffure inc."]
["Change to Win (CtW)"]
["Charlotte Seafood Employees Association (CSEA)"]
["Chatham-Kent Police Association (CKPA)"]
["Chicopee Manufacturing Employees Association (CMEA)"]
["Christian Labour Association of Canada (CLAC)"]
["City Hall Employees Association (CHEA)"]
["City of Waterloo Staff Association"]
["Civic Institute of Professional Personnel (CIPP)"]
["Civic Service Union No. 52 (CSU52)"]
["Cold Springs Farm & T.V.P Employees Union Local 3000 (CSFEA)"]
["Communications Workers of America, Canada (CWA Canada)"]
["Concordia University Faculty Association (CUFA)"]
["Concordia University Part-time Faculty Association (CUPFA)"]
["Confédération des syndicats nationaux (CSN)"]
["Confederation of Canadian Unions (CCU)"]
["Confederation of Ontario University Staff Associations (COUSA)"]
["Cornwall Police Association (CPA)"]
["Custodial and Maintenance Association (CAMA)"]
["Dalhousie Faculty Association (DFA)"]
["Directors Guild of Canada (DGC)"]
["Dixon Group Canada Ltd. (DGCL)"]
["Doctors Manitoba (DocsMb)"]
["Dufferin Peel Educational Resource Workers' Association (DPERWA)"]
["Durham Regional Police Association (DRPA)"]
["Eastern Shores Independent Association for Support Personnel (ESIASP)"]
["Edmonton Fire Fighters' Union (EFFU)"]
["Edmonton Police Association (EPA)"]
["Educational Assistants Association of the Waterloo Region District School Board (E.A.A.)"]
["Educational Assistants of Seven Oaks (EA7 OAKS)"]
["Educational Resource Facilitators of Peel"]
["Educational Support Staff of OSSTF, District 24 - Waterloo (ESS/OSSTF)"]
["Elementary Teachers' Federation of Ontario (ETFO)"]
["Emily Carr University of Art and Design Faculty Association (ECUADFA)"]
["Employees' Association of Hammond Manufacturing Company Limited"]
["Employees' Association of Railtran Services Inc. and Alloy Transportation Services Inc."]
["Faculty Association of Red Deer College (FARDC)"]
["Faculty Association of The University of British Columbia (UBCFA)"]
["Faculty Association of the University of Windsor (WUFA)"]
["Faculty Association of University of St. Thomas (FAUST)"]
["Faculty Association, Simon Fraser University (SFUFA)"]
["Federal Government Dockyard Chargehands Association (FGDCA)"]
["Federal Government Dockyard Trades and Labour Council (East)"]
["Federal Government Dockyard Trades and Labour Council (Esquimalt) (West)"]
["Fédération autonome de l'enseignement (FAE)"]
["Fédération CSN - Construction"]
["Fédération de la santé du Québec (FSQ)"]
["Fédération de la santé et des services sociaux (FSSS)"]
["Fédération de l'industrie manufacturière (FIM)"]
["Fédération démocratique de la métallurgie, des mines et des produits chimiques"]
["Fédération des employées et employés de services publics inc. (FEESP)"]
["Fédération des enseignantes et enseignants de cégep (FEC)"]
["Fédération des intervenantes en petite enfance du Québec (FIPEQ)"]
["Fédération des médecins résidents du Québec (FMRQ)"]
["Fédération des policiers et policières municipaux du Québec (FPMQ)"]
["Fédération des professionnèles (FP-CSN)"]
["Fédération des professionnelles et professionnels de l'éducation du Québec (FPPE)"]
["Fédération des syndicats de la santé et des services sociaux (F4S(CSQ))"]
["Fédération des syndicats de l'action collective (FSAC)"]
["Fédération des syndicats de l'enseignement (FSE)"]
["Fédération du commerce inc. (FC)"]
["Fédération du personnel professionnel des universités et de la recherche (FPPU)"]
["Fédération du personnel de l'enseignement privé (FPEP)"]
["Fédération du personnel de soutien de l'enseignement supérieur (FPSES)"]
["Fédération du personnel de soutien scolaire (FPSS-CSQ)"]
["Fédération du personnel professionnel des collèges (FPPC)"]
["Fédération indépendante des syndicats autonomes (FISA)"]
["Fédération interprofessionnelle de la santé du Québec (FIQ)"]
["Fédération nationale des communications (FNC)"]
["Fédération nationale des enseignantes et des enseignants du Québec (FNEEQ)"]
["Federation of Communications-Transport Employees and General Workers of Canada (CCT & GC)"]
["Federation of Post-Secondary Educators of BC (FPSE)"]
["Federation of Teachers in Hebrew Schools"]
["Federation of Teachers of Jewish Schools of Montreal (FTJS)"]
["Fraternité des constables et agents de la paix de la S.T.M. (FCAP)"]
["Fraternité des policiers et policières de la Ville de Québec"]
["Fraternité des policiers et policières de Montréal (FPPM)"]
["Fraternité Indépendante des travailleurs Industriels (FITI)"]
["Fredericton Police UBC Local 911"]
["FTQ Construction"]
["Glass, Molders, Pottery, Plastics and Allied Workers International Union (GMP)"]
["Grain & General Services Union (ILWU Canada) (GSU)"]
["Grande Prairie Public School District # 2357 Employees Association"]
["Grande Prairie Regional College Academic Staff Association (ASA)"]
["Grant MacEwan University Faculty Association (GMUFA)"]
["Greater Vancouver Regional District Employees' Union (GVRDEU)"]
["Group Association of First Air Employees (GAFAE)"]
["Guelph Police Association Inc. (GPA)"]
["Halifax Longshoremen's International Association (ILA Local 269) (ILA269)"]
["Halifax Freight Handlers, Cornwallis Lodge 264"]
["Halton District Educational Assistants Association (HDEAA)"]
["Halton Regional Police Association (HRPA)"]
["Hamilton Police Association (HPA)"]
["Health Sciences Association of Alberta (HSAA)"]
["Health Sciences Association of British Columbia (HSA BC)"]
["Health Sciences Association of Saskatchewan (HSAS)"]
["House of Commons Security Services Employees Association (HCSSEA)"]
["Hytec Employees Association of Canada (HEA)"]
["Independent Association of the Support Staff of the Lester B. Pearson School Board (IASS)"]
["Independent Association of Western Quebec (IAWQ)"]
["Independent Canadian Extrusion Workers Union (ICEWU)"]
["Independent Paperworkers of Canada (IPC)"]
["Independent Union of Defence Contractors (IUDC)"]
["Independent Union of Precision Diecasters (I.U.P.D.)"]
["International Alliance of Theatrical Stage Employees, Moving Picture Technicians, Artists and Allied Crafts of the United States, Its Territories and Canada (IATSE)"]
["International Allied Printing Trades Association (IAPTA)"]
["International Association of Bridge, Structural, Ornamental and Reinforcing Iron Workers (IABSRI)"]
["International Association of Fire Fighters (IAFF)"]
["International Association of Heat and Frost Insulators and Asbestos Workers (HFIAW)"]
["International Association of Machinists and Aerospace Workers (IAMAW)"]
["International Brotherhood of Boilermakers, Iron Ship Builders, Blacksmiths, Forgers and Helpers"]
["International Brotherhood of Electrical Workers (IBEW)"]
["International Federation of Professional and Technical Engineers (IFPTE)"]
["International Longshore and Warehouse Union Canada (ILWU Canada)"]
["International Plate Printers, Die Stampers Plate Makers and Engravers' Union of North America (IPPDSPM)"]
["International Union of Bricklayers and Allied Craftworkers (BAC)"]
["International Union of Elevator Constructors (IUEC)"]
["International Union of Operating Engineers (IUOE)"]
["International Union of Painters and Allied Trades (IUPAT)"]
["International Union, United Automobile, Aerospace and Agricultural Implement Workers of America, Local 251 (UAW)"]
["Interprovincial Brotherhood of Electrical Workers (IPBEW)"]
["KeepRite Workers' Independent Union (KWIU)"]
["Keyano College Faculty Association (KCFA)"]
["Kingston City Police Association Inc. (KCPA)"]
["Kingston Independent Nylon Workers Union"]
["Laborers' International Union of North America (LiUNA)"]
["Lakehead Freightways Employees Association"]
["Lakehead University Faculty Association (LUFA)"]
["Lakeland College Faculty Association (LCFA)"]
["L'Alliance québécoise des techniciens de l'image et du son (AQTIS)"]
["Lambton County Employees Association (LCEA)"]
["L'Association des Perfusionnistes du Québec inc. (APQI)"]
["L'Association des professeurs d'enseignement clinique de la Faculté de médecine de l'Université de Sherbrooke (APECFMUS)"]
["Laurentian University Faculty Association (LUFA)"]
["Laurentian University Staff Union (LUSU)"]
["Le syndicat des travailleuses et travailleurs de la STM"]
["Lethbridge College Faculty Association (LCFA)"]
["Lethbridge Police Association (LPA)"]
["London Police Association (LPA)"]
["Lord Selkirk School Division Bus Drivers Association (LSSDBDA)"]
["Macdon Industries Employees Association (M.I.E.A)"]
["MacEwan Staff Association (MSA)"]
["Major League Baseball Players Association (MLBPA)"]
["Management and Professional Employees Society of B.C. Hydro (MAPES)"]
["Manitoba Association of Crown Attorneys (MACA)"]
["Manitoba Association of Health Care Professionals (MAHCP)"]
["Manitoba Association of Non-Teaching Employees (MANTE)"]
["Manitoba Government and General Employees Union (MGEU)"]
["Manitoba Nurses' Union (MNU)"]
["Maple Leaf Construction Employees Association (MLCEA)"]
["Marché Élite Saint-Jérôme Workers Association"]
["Maritime Fishermen's Union (MFU)"]
["McCoy Corporation Employees' Association"]
["McMaster University Faculty Association (MUFA)"]
["Medicine Hat Police Association (MHPA)"]
["Medicine Hat College Faculty Association"]
["Memorial University of Newfoundland Faculty Association (MUNFA)"]
["Mercury Tanklines Lease Operators Association Inc."]
["Metro Cable TV Maintenance and Services Employees Association (MCTMSEA)"]
["Moncton University Employees Association (AEUM)"]
["Moose Jaw Police Association (MJPA)"]
["Mount Allison Faculty Association (MAFA)"]
["Mount Royal Faculty Association (MRFA)"]
["Mount Royal Staff Association (MRSA)"]
["Mount Saint Vincent University Faculty Association (MSVUFA)"]
["Municipal Association of Police Personnel (MAPP)"]
["NAIT Academic Staff Association (NASA)"]
["National Basketball Referees Association (NBRA)"]
["National Hockey League Players' Association (NHLPA)"]
["National Organized Workers (N-O-W)"]
["National Representatives Union of the CEP (SCEP)"]
["National Union of Public and General Employees (NUPGE)"]
["Native Brotherhood of British Columbia (NBBC)"]
["Natural Gas Employees' Association (NGEA)"]
["New Brunswick Nurses' Union (NBNU)"]
["New Brunswick Teachers' Federation (NBTF)"]
["New Brunswick Union of Public and Private Employees (NBUPPE)"]
["New Frontiers Independent Association"]
["New Life Mills, A division of Parrish and Heimbecker Limited Employees Association"]
["Newfoundland and Labrador Association of Public and Private Employees (NAPE)"]
["Newfoundland and Labrador Nurses' Union (NLNU)"]
["Newfoundland and Labrador Teachers' Association (NLTA)"]
["Niagara Region Police Association (NRPA)"]
["North Bay Police Association (NBPA)"]
["Northern Independent Union (NIU)"]
["Northern Interior Woodworkers' Association (NIWA)"]
["Northwest Territories Teachers' Association (NWTTA)"]
["Norwood Foundry Employees Association (NFEA)"]
["Nova Scotia College of Art and Design Faculty Union (FUNSCAD)"]
["Nova Scotia Government and General Employees Union (NSGEU)"]
["Nova Scotia Nurses' Union (NSNU)"]
["Nova Scotia Teachers Union (NSTU)"]
["Nova Scotia Union of Public and Private Employees (NSUPE)"]
["Nunavut Teachers' Association (N.T.A.)"]
["Olds College Faculty Association (OCFA)"]
["Ontario English Catholic Teachers' Association (OECTA)"]
["Ontario Nurses' Association (ONA)"]
["Ontario Provincial Police Association (OPPA)"]
["Ontario Public Service Employees Union (OPSEU)"]
["Ontario Public Service Staff Union (OPSSU)"]
["Ontario Secondary School Teachers' Federation (OSSTF)"]
["Ontario Teachers' Federation (OTF)"]
["Operative Plasterers' and Cement Masons' International Association of the United States and Canada (OPCMIA)"]
["Ottawa Catholic Principals/Vice-Principals Association (OCPV-PA)"]
["Ottawa Police Association (OPA)"]
["P & H Milling Group Employees Association - Hanover Flour Division"]
["Peace River Support Staff Association (PRSSA)"]
["Peel Regional Police Association (PRPA)"]
["Pembina Trails Association of Non -Teaching Employees (PTANTE)"]
["Peterborough Police Association (PPA)"]
["Playwrights Guild of Canada (PGC)"]
["Prince Albert Police Association (PAPA)"]
["Prince Edward Island Nurses' Union (PEINU)"]
["Prince Edward Island Teachers' Federation (PEITF)"]
["Prince Edward Island Union of Public Sector Employees (PEIUPSE)"]
["Professional Association of Foreign Service Officers (PAFSO)"]
["Professional Association of Internes and Residents of Newfoundland (PAIRN)"]
["Professional Association of Internes and Residents of Saskatchewan (PAIRS)"]
["Professional Association of Residents and Interns of Manitoba (PARIM)"]
["Professional Association of Residents in the Maritime Provinces (PARI-MP)"]
["Professional Association of Residents of British Columbia (PAR-BC)"]
["Professional Association of Residents of Ontario (PARO)"]
["Professional Association of Residents Physicians of Alberta (PARA)"]
["Professional Employees Association (PEA)"]
["Professional Engineers Government of Ontario (PEGO)"]
["Professional Hockey Players' Association (PHPA)"]
["Professional Institute of the Public Service of Canada (PIPSC)"]
["Professional Paramedic Association of Winnipeg (PPAW)"]
["Professional Student Services Personnel (PSSP)"]
["Professional Writers Association of Canada (PWAC)"]
["Public Service Alliance of Canada (PSAC)"]
["Pulp, Paper and Woodworkers of Canada (PPWC)"]
["Québec Brotherhood of Highway Traffic Controllers Constables (QBHTCC)"]
["Québec Provincial Association of Teachers (QPAT)"]
["Québec Provincial Police Association (QPPA)"]
["Queen's University Faculty Association (QUFA)"]
["Regina Police Association Inc. (RPA)"]
["Regina Civic Middle Management Association (CMM)"]
["Regroupement des artistes en arts visuels du Québec (RAAV)"]
["Reimer Express Lines Employees Association (REIM)"]
["Research Council Employees' Association (RCEA)"]
["Retail Wholesale Union (RWU)"]
["River East Transcona Educational Assistants Association (RETEAA)"]
["Rocanville Potash Employees' Association (RPEA)"]
["Royal Newfoundland Constabulary Association (RNCA)"]
["Ryerson Faculty Association (RFA)"]
["Saint Croix Stevedores and Affiliates"]
["Saint Francis Xavier Association of University Teachers (StFXAUT)"]
["Saint Mary's University Faculty Union (SMUFU)"]
["SAIT Academic Faculty Association (SAFA)"]
["Salaried Employees Alliance Canada (SEAC)"]
["Sarnia Police Association (SPA)"]
["Saskatchewan Government and General Employees' Union (SGEU)"]
["Saskatchewan Teachers' Federation (STF)"]
["Saskatchewan Union of Nurses (SUN)"]
["Saskatoon Civic Middle Management Association (SCMMA)"]
["Saskatoon Exempt Staff Inc. (ESA)"]
["Saskatoon Police Association (SPA)"]
["Sault Ste. Marie Police Association (SSMPA)"]
["Schneider Employees' Association (SEA)"]
["Seafarers' International Union of Canada (SIU)"]
["Senate Protective Service Employees Association (SPSEA)"]
["Service Employees International Union (SEIU)"]
["Sheet Metal Workers' International Association (SMWIA)"]
["Ship Repair Machinists and Mechanics Union (Atlantic) (SRMMUA)"]
["Shipyard General Workers' Federation of British Columbia (SGWF)"]
["Skyservice Pilots' Association of Canada (SkyPac)"]
["Société des auteurs de radio, télévision et cinéma (SARTEC)"]
["Société professionnelle des auteurs et des compositeurs du Québec (SPACQ)"]
["Society of Professional Engineers and Associates (SPEA)"]
["SPAR Professional and Allied Technical Employees Association (SPATEA)"]
["Stratford Police Association (SPA)"]
["Sudbury Police Association (SPA)"]
["Sunoco Employees' Bargaining Association (SEBA)"]
["Syndicat acadien des travailleurs affiliés et des pêches local 4 (SATAP)"]
["Syndicat de la fonction publique du Québec (SFPQ)"]
["Syndicat de professionnelles et professionnels du gouvernement du Québec (SPGQ)"]
["Syndicat des agents de la paix en services correctionnels du Québec (SAPSCQ)"]
["Syndicat des agents de protection de la faune du Québec (SAPFQ)"]
["Syndicat des chauffeurs de nolisés de la compagnie Autobus La Québécoise"]
["Syndicat des chauffeurs de transport Couture et Fils"]
["Syndicat des conseillères et conseillers de la C.S.Q. (SCC)"]
["Syndicat des constables spéciaux du gouvernement du Québec (SCSGQ)"]
["Syndicat des employées et employés de MusiquePlus (SEEM)"]
["Syndicat des employées et employés de syndicats et des organismes collectifs du Québec (SEESOCQ)"]
["Syndicat des employées et employés professionnels-les et de bureau-Québec-local 610 (SEPB 610)"]
["Syndicat des employés de J.P. Métal América inc."]
["Syndicat des employés de Rayonese Textile (SERT)"]
["Syndicat des employés du Dragon Forgé"]
["Syndicat des employés en radio-télédiffusion de Télé-Québec (SERT)"]
["Syndicat des employés(es) du Casino de Charlevoix CSN"]
["Syndicat des fonctionnaires municipaux de Québec (SFMQ)"]
["Syndicat des pompiers et pompières du Québec (SPQ)"]
["Syndicat des professeures et professeurs de l'Université de Sherbrooke (SPPUS)"]
["Syndicat des professeures et professeurs de l'Université du Québec à Chicoutimi (SPPUQAC)"]
["Syndicat des professeures et professeurs de l'Université du Québec en Outaouais (SPUQO)"]
["Syndicat des professeurs de l'État du Québec (SPEQ)"]
["Syndicat des professeurs du Collège Jean-Eudes (SPCJE)"]
["Syndicat des professeurs et professeures de l'Université du Québec à Rimouski (SPPUQAR)"]
["Syndicat des professeurs et professeures de l'Université du Québec à Trois-Rivières (SPPUQTR)"]
["Syndicat des professeurs et professeures de l'Université Laval (SPUL)"]
["Syndicat des professionnelles et professionnels municipaux de Montréal (SPPMM)"]
["Syndicat des salariés de Vic Royal"]
["Syndicat des salariés du Groupe Jules Savard"]
["Syndicat des technicien(ne)s et artisan(e)s du réseau français de Radio-Canada (STARF)"]
["Syndicat des travailleurs de meunerie Purina"]
["Syndicat des travailleurs et travailleuses de produits manufacturés et de services (STTPM)"]
["Syndicat des Travailleurs Unis du Québec (STUQ)"]
["Syndicat des travailleuses et travailleurs de la CSN (STTCSN)"]
["Syndicat du personnel technique et professionnel de la Société des alcools du Québec (SPTP-SAQ)"]
["Syndicat professionnel des diététistes et nutritionnistes du Québec (SPDNQ)"]
["Syndicat professionnel des ingénieurs d'Hydro-Québec inc. (SPIHQ)"]
["Syndicat professionnel des médecins du gouvernement du Québec (SPMGQ)"]
["Syndicat professionnel des scientifiques à pratique exclusive de Montréal (SPSPEM)"]
["Syndicat professionnel des scientifiques de l'IREQ (SPSI)"]
["Syndicat québécois de la construction (SQC)"]
["Syndicat UNIK La Tuque (SULT)"]
["Teaching Support Staff Union (TSSU)"]
["Teamsters Canada (TC)"]
["Telecommunications Employees Association of Manitoba Inc. - IFPTE Local 161 (TEAM)"]
["Telecommunications Workers Union (TWU)"]
["The Canadian Association of Professional of Image Creators (CAPIC)"]
["The Canadian Union Of Labour Employees (CULE)"]
["The Canadian Union of Skilled Workers (CUSW)"]
["The Faculty Association of the University of Calgary (TUCFA)"]
["The Manitoba Teachers' Society (MTS)"]
["The Petro Chem Driver's Association Inc."]
["The York Regional Police Association (YRPA)"]
["Thompson Products Employees' Association (TPEA)"]
["Thunder Bay Police Association (TBPA)"]
["Timmins Police Association (TPA)"]
["Toronto Police Association (TPA)"]
["Toronto Police Service Senior Officers' Organization (TPSSOO)"]
["Trent University Faculty Association (TUFA)"]
["Triple E Canada Ltd. Employees Association - RV Division"]
["UNIFOR"]
["Union des artistes (UDA)"]
["Union des écrivaines et des écrivains québécois (UNEQ)"]
["Union of Calgary Co-operative Employees (UCCE)"]
["Union of Canadian Correctional Officers - CSN (UCCO-SACC-CSN)"]
["Union Tractor Employees Association"]
["UNITE HERE Canada"]
["United Association of Journeymen and Apprentices of the Plumbing and Pipe Fitting Industry of the United States and Canada (UA)"]
["United Brotherhood of Carpenters and Joiners of America (UBCJA)"]
["United Food and Commercial Workers Canada (UFCW-Can)"]
["United Mine Workers of America (UMWA)"]
["United Nurses of Alberta (UNA)"]
["United Steel, Paper and Forestry, Rubber, Manufacturing, Energy, Allied Industrial and Service Workers International Union (USW)"]
["United Utility Workers' Association of Canada (UUWA)"]
["United Workers of Québec (STUQ)"]
["University of Alberta Non-Academic Staff Association (NASA)"]
["University of Guelph Faculty Association (UGFA)"]
["University of Guelph Food Service Employees Association"]
["University of Lethbridge Faculty Association (ULFA)"]
["University of Manitoba Faculty Association (UMFA)"]
["University of New Brunswick Employees Association (UNBEA)"]
["University of Prince Edward Island Faculty Association (UPEIFA)"]
["University of Regina Faculty Association (URFA)"]
["University of Saskatchewan Faculty Association (USFA)"]
["University of Toronto Faculty Association (UTFA)"]
["University of Victoria Faculty Association (FACU)"]
["University of Western Ontario Faculty Association (UWOFA)"]
["University of Western Ontario Staff Association (UWOSA)"]
["University of Winnipeg Faculty Association (UWFA)"]
["Usines Giant Employees Association"]
["Waterloo Regional Police Association (WRPA)"]
["West Vancouver Municipal Employees' Association (WVMEA)"]
["Wilfrid Laurier University Faculty Association (WLUFA)"]
["Wilfrid Laurier University Staff Association (WLUSA)"]
["Windsor Police Association (WPA)"]
["Winnipeg Association of Non-Teaching Employees (WANTE)"]
["Winnipeg Association of Public Service Officers (WAPSO)"]
["Winnipeg Clinic Employees Association (WCEA)"]
["Winnipeg Jewish Schools Teachers Association (WJSTA)"]
["Winnipeg Police Association (WPA)"]
["Writers Guild of Canada (WGC)"]
["X L Meats Employees Association"]
["York University Faculty Association (YUFA)"]
["York University Staff Association (YUSA)"]
["Yukon Teachers' Association (YTA)"]
["BACU Local 10 - BL"]
["LIUNA Local 247 - LA"]
["UBC Local 1410 - MW"]
["Insulators Local 95 - IN"]
["Teamsters - Local 230 - TE"]
["UA 401 - PF"]
["IBEW Local 115 - EL"]
["Sheetmetal Workers - Local 269 - SM"]
["IUPAT Local 114 - PA"]
["Local 249 - CA"]
["Local 765 - IW"]
["Local 128 - BM"]
["IUOE Local 793 - OE"]

{"sheet":"Material Types","index":12,"n_rows":6,"n_cols":1,"rows_kept":6,"cut":false,"hidden":true,"merged":[]}
["Materials"]
["Raw Building Materials"]
["Large Fuel Purchases"]
["Equipment"]
["Office Supplies"]
["Other"]

{"sheet":"Service Type","index":13,"n_rows":24,"n_cols":1,"rows_kept":24,"cut":false,"hidden":true,"merged":[]}
["Service Types"]
["Aviation Services"]
["Civil/Structural Services"]
["Coating Services"]
["Construction Services"]
["Customs"]
["Electrical Services "]
["Engineering Design"]
["Environmental Services"]
["Equipment Services"]
["Fabrication Services"]
["Facility Services"]
["Grounds Maintenance"]
["Health & Safety Services"]
["Instrumentation"]
["Land Services"]
["Maintenance Services"]
["Measurement Services"]
["Mechanical Services"]
["Offshore Services"]
["Pipeline Maintenance"]
["Professional/Consulting Services"]
["Rental Services"]
["Transport/Freight Services"]

{"sheet":"Currency","index":14,"n_rows":3,"n_cols":1,"rows_kept":3,"cut":false,"hidden":true,"merged":[]}
["Currency"]
["CAD"]
["USD"]

{"sheet":"Provinces States","index":15,"n_rows":103,"n_cols":1,"rows_kept":103,"cut":false,"hidden":true,"merged":[]}
["Provinces States"]
["Canada"]
["AB"]
["BC"]
["MB"]
["NB"]
["NL"]
["NS"]
["NT"]
["NU"]
["ON"]
["PE"]
["QC"]
["SK"]
["YT"]
["United States"]
["AK"]
["AL"]
["AR"]
["AZ"]
["CA"]
["CO"]
["CT"]
["DC"]
["DE"]
["FL"]
["GA"]
["GU"]
["HI"]
["IA"]
["ID"]
["IL"]
["IN"]
["KS"]
["KY"]
["LA"]
["MA"]
["MD"]
["ME"]
["MI"]
["MN"]
["MO"]
["MS"]
["MT"]
["NC"]
["ND"]
["NE"]
["NH"]
["NJ"]
["NM"]
["NV"]
["NY"]
["OH"]
["OK"]
["OR"]
["PA"]
["PR"]
["RI"]
["SC"]
["SD"]
["TN"]
["TX"]
["UT"]
["VA"]
["VI"]
["VT"]
["WA"]
["WI"]
["WV"]
["WY"]
["Mexico"]
["AGU"]
["BCN"]
["BCS"]
["CAM"]
["CHP"]
["CHH"]
["COA"]
["COL"]
["DIF"]
["DUR"]
["GUA"]
["GRO"]
["HID"]
["JAL"]
["MEX"]
["MIC"]
["MOR"]
["NAY"]
["NLE"]
["OAX"]
["PUE"]
["QUE"]
["ROO"]
["SLP"]
["SIN"]
["SON"]
["TAB"]
["TAM"]
["TLA"]
["VER"]
["YUC"]
["ZAC"]

{"sheet":"Countries","index":16,"n_rows":255,"n_cols":1,"rows_kept":255,"cut":false,"hidden":true,"merged":[]}
["Countries"]
["Canada"]
["United States"]
["Mexico"]
["Afghanistan"]
["Aland Islands"]
["Albania"]
["Algeria"]
["American Samoa"]
["Andorra"]
["Angola"]
["Anguilla"]
["Antarctica"]
["Antigua and Barbuda"]
["Argentina"]
["Armenia"]
["Aruba"]
["Australia"]
["Austria"]
["Azerbaijan"]
["Bahamas"]
["Bahrain"]
["Bangladesh"]
["Barbados"]
["Belarus"]
["Belgium"]
["Belize"]
["Benin"]
["Bermuda"]
["Bhutan"]
["Bolivia, Plurinational State of"]
["Bonaire, Sint Eustatius and Saba"]
["Bosnia and Herzegovina"]
["Botswana"]
["Bouvet Island"]
["Brazil"]
["British Indian Ocean Territory"]
["Brunei Darussalam"]
["Bulgaria"]
["Burkina Faso"]
["Burundi"]
["Cambodia"]
["Cameroon"]
["Cape Verde"]
["Cayman Islands"]
["Central African Republic"]
["Chad"]
["Chile"]
["China"]
["Christmas Island"]
["Cocos (Keeling) Islands"]
["Colombia"]
["Comoros"]
["Congo"]
["Congo, The Democratic Republic of the"]
["Cook Islands"]
["Costa Rica"]
["Cote d'Ivoire"]
["Croatia"]
["Cuba"]
["Curacao"]
["Cyprus"]
["Czech Republic"]
["Denmark"]
["Djibouti"]
["Dominica"]
["Dominican Republic"]
["Ecuador"]
["Egypt"]
["El Salvador"]
["Equatorial Guinea"]
["Eritrea"]
["Estonia"]
["Ethiopia"]
["Falkland Islands (Malvinas)"]
["Faroe Islands"]
["Fiji"]
["Finland"]
["France"]
["French Guiana"]
["French Polynesia"]
["French Southern Territories"]
["Gabon"]
["Gambia"]
["Georgia"]
["Germany"]
["Ghana"]
["Gibraltar"]
["Greece"]
["Greenland"]
["Grenada"]
["Guadeloupe"]
["Guam"]
["Guatemala"]
["Guernsey"]
["Guinea"]
["Guinea-Bissau"]
["Guyana"]
["Haiti"]
["Heard Island and McDonald Islands"]
["Holy See (Vatican City State)"]
["Honduras"]
["Hong Kong"]
["Hungary"]
["Iceland"]
["India"]
["Indonesia"]
["Iran, Islamic Republic of"]
["Iraq"]
["Ireland"]
["Isle of Man"]
["Israel"]
["Italy"]
["Jamaica"]
["Japan"]
["Jersey"]
["Jordan"]
["Kazakhstan"]
["Kenya"]
["Kiribati"]
["Korea, Democratic People's Republic of"]
["Korea, Republic of"]
["Kosovo"]
["Kuwait"]
["Kyrgyzstan"]
["Lao People's Democratic Republic"]
["Latvia"]
["Lebanon"]
["Lesotho"]
["Liberia"]
["Libya"]
["Liechtenstein"]
["Lithuania"]
["Luxembourg"]
["Macao"]
["Macedonia, The Former Yugoslav Republic of"]
["Madagascar"]
["Malawi"]
["Malaysia"]
["Maldives"]
["Mali"]
["Malta"]
["Marshall Islands"]
["Martinique"]
["Mauritania"]
["Mauritius"]
["Mayotte"]
["Micronesia, Federated States of"]
["Moldova, Republic of"]
["Monaco"]
["Mongolia"]
["Montenegro"]
["Montserrat"]
["Morocco"]
["Mozambique"]
["Myanmar"]
["Namibia"]
["Nauru"]
["Nepal"]
["Netherlands"]
["New Caledonia"]
["New Zealand"]
["Nicaragua"]
["Niger"]
["Nigeria"]
["Niue"]
["Norfolk Island"]
["Northern Cyprus"]
["Northern Mariana Islands"]
["Norway"]
["Oman"]
["Pakistan"]
["Palau"]
["Palestine, State of"]
["Panama"]
["Papua New Guinea"]
["Paraguay"]
["Peru"]
["Philippines"]
["Pitcairn Islands"]
["Poland"]
["Portugal"]
["Puerto Rico"]
["Qatar"]
["Reunion"]
["Romania"]
["Russian Federation"]
["Rwanda"]
["Western Sahara"]
["Saint Barthelemy"]
["Saint Helena, Ascension and Tristan da Cunha"]
["Saint Kitts and Nevis"]
["Saint Lucia"]
["Saint Martin (French Part)"]
["Saint Pierre and Miquelon"]
["Saint Vincent and the Grenadines"]
["Samoa"]
["San Marino"]
["Sao Tome and Principe"]
["Saudi Arabia"]
["Senegal"]
["Serbia"]
["Seychelles"]
["Sierra Leone"]
["Singapore"]
["Sint Maarten (Dutch Part)"]
["Slovakia"]
["Slovenia"]
["Solomon Islands"]
["Somalia"]
["Somaliland"]
["South Africa"]
["South Georgia and the South Sandwich Islands"]
["South Ossetia"]
["South Sudan"]
["Spain"]
["Sri Lanka"]
["Sudan"]
["Suriname"]
["Svalbard and Jan Mayen"]
["Swaziland"]
["Sweden"]
["Switzerland"]
["Syrian Arab Republic"]
["Taiwan, Province of China"]
["Tajikistan"]
["Tanzania, United Republic of"]
["Thailand"]
["Timor-Leste"]
["Togo"]
["Tokelau"]
["Tonga"]
["Transnistria"]
["Trinidad and Tobago"]
["Tunisia"]
["Turkey"]
["Turkmenistan"]
["Turks and Caicos Islands"]
["Tuvalu"]
["Uganda"]
["Ukraine"]
["United Arab Emirates"]
["United Kingdom"]
["United States Minor Outlying Islands"]
["Uruguay"]
["Uzbekistan"]
["Vanuatu"]
["Venezuela, Bolivarian Republic of"]
["Vietnam"]
["Virgin Islands, British"]
["Virgin Islands, US"]
["Wallis and Futuna"]
["Yemen"]
["Zambia"]
["Zimbabwe"]

{"sheet":"Service Completed","index":17,"n_rows":6,"n_cols":1,"rows_kept":6,"cut":false,"hidden":true,"merged":[]}
["Service Completed"]
["Labourer"]
["Skilled trades"]
["Office staff"]
["Management"]
["Professionals"]

{"sheet":"TFW Programs","index":18,"n_rows":8,"n_cols":2,"rows_kept":8,"cut":false,"hidden":true,"merged":[]}
["Program","Record ID#"]
["Labour Market Impact Assessment (LMIA)",1]
["Intra-Company Transferee - Managerial",2]
["Intra-Company Transferee - Specialized Knowledge",3]
["NAFTA TN Professional",4]
["L1A – Managerial ",5]
["L1B – Specialized Knowledge ",6]
["H1B – Specialty Occupations",7]

{"sheet":"Traditional Studies","index":19,"n_rows":3,"n_cols":1,"rows_kept":3,"cut":false,"hidden":true,"merged":[]}
["Traditional Studies "]
["Traditional Land Use (TLU)"]
["Traditional Ecological Knowledge (TEK)"]

{"sheet":"Aboriginal Affiliation","index":20,"n_rows":1351,"n_cols":1,"rows_kept":1351,"cut":false,"hidden":true,"merged":[]}
["QuickBase Indigenous (CAN) List (Updated 10.01.2018)"]
["Aamjiwnaang"]
["Abegweit"]
["Abénakis D'odanak"]
["Abénakise de Wôlinak"]
["Absentee-Shawnee Tribe of Indians of Oklahoma"]
["Acadia First Nation"]
["Acho Dene Koe First Nation"]
["Adams Lake"]
["Agdaagux Tribe of King Cove"]
["Agua Caliente Band of Cahuilla Indians of the Agua Caliente Indian Reservation, California"]
["Ahousaht"]
["Ahtahkakoop"]
["Aishihik"]
["Aitchelitz"]
["Ak-Chin Indian Community of the Maricopa (Ak Chin) Indian Reservation, Arizona"]
["Akiachak Native Community"]
["Akiak Native Community"]
["Aklavik"]
["Alabama-Coushatta Tribes of Texas"]
["Alabama-Quassarte Tribal Town"]
["Alatna Village"]
["Albany"]
["Alderville First Nation"]
["Alexander First Nation"]
["Alexis Creek"]
["Alexis Nakota Sioux Nation"]
["Algaaciq Native Village (St. Mary's)"]
["Algonquins of Barriere Lake"]
["Algonquins of Greater Golden Lake"]
["Algonquins of Kitigan Zibi Anishinabeg"]
["Algonquins of Long Point"]
["Algonquins of Ontario Consultation Office"]
["Algonquins of Pikwakanagan - Golden Lake First Nation"]
["Algonquins of Pikwakanagan First Nation"]
["Allakaket Village"]
["Alturas Indian Rancheria, CA"]
["Alutiiq Tribe of Old Harbor"]
["Angoon Community Association"]
["Animakee Wa Zhing #37"]
["Animbiigoo Zaagi'igan Anishinaabek"]
["Animbiigoo Zaagi'igan Aniskinaabek (Lake Nipigon First Nation)"]
["Anishinaabe Agowidiiwiinan Treaty 2 Territory"]
["Anishinabe of Wauzhushk Onigum"]
["Anishnaabe of Naongashiing (Big Island)"]
["Anishnaabeg of Naongashiing"]
["Annapolis Valley First Nation"]
["Antoine First Nation"]
["Anvik Village"]
["Apache Tribe of Oklahoma"]
["Arctic Village"]
["Aroland First Nation"]
["Aroostook Band of Micmacs"]
["Asa'carsarmiut Tribe"]
["Aseniwuche Winewak Nation"]
["Ashcroft"]
["Assembly of First Nations' Chiefs In New Brunswick"]
["Assiniboine & Sioux Tribes of the Fort Peck Indian Reservation, MT"]
["Asubspeeschoseewagong Netum Anishinabek"]
["Athabasca Chipewyan First Nation"]
["Athabasca Landing Local 2010"]
["Atikameksheng Anishnawbek"]
["Atikamekw D'Opitciwan First Nation"]
["Atqasuk Village (Atkasook)"]
["Attawapiskat"]
["Augustine Band of Cahuilla Indians, California"]
["Aundeck-Omni-Kaning"]
["Bad River Band of Lake Superior Tribe of Chippewa Indians"]
["Bancroft (Kijicho Manito Madaouskarini)"]
["Bande des Innus de Pessamit"]
["Barren Lands"]
["Batchewana First Nation"]
["Bay Mills Indian Community, Michigan"]
["Bay of Quinte Mohawk"]
["BC Metis Federation"]
["Bear River Band of the Rohnerville Rancheria, California"]
["Bear River First Nation"]
["Beardy's and Okemasis"]
["Bearfoot Onondaga"]
["Bearskin Lake"]
["Bearspaw"]
["Beausoleil"]
["Beaver First Nation"]
["Beaver Lake Cree Nation"]
["Beaver Village"]
["Beecher Bay"]
["Behdzi Ahda\" First Nation"]
["Berens River"]
["Berry Creek Rancheria of Maidu Indians of California"]
["Big Grassy First Nation"]
["Big Island Lake Cree Nation"]
["Big Lagoon Rancheria, California"]
["Big Pine Paiute Tribe of the Owens Valley"]
["Big River"]
["Big Sandy Rancheria of Western Mono Indians of California"]
["Big Valley Band of Pomo Indians of the Big Valley Rancheria, California"]
["Bigstone Cree Nation"]
["Biigtigong Nishnaabeg"]
["Biinjitiwaabik Zaaging Anishinaabek (Rocky Bay First Nation)"]
["Bingwi Neyaashi Anishinaabek"]
["Bingwi Neyaashi Anishinaabek (Sand Point First Nation)"]
["Birch Creek Tribe"]
["Birch Narrows First Nation"]
["Birdtail Sioux First Nation"]
["Bishop Paiute Tribe"]
["Black Lake"]
["Black River First Nation"]
["Blackfeet Tribe of the Blackfeet Indian Reservation of MT"]
["Blood Tribe"]
["Bloodvein"]
["Blue Lake Rancheria, California"]
["Blueberry River First Nation"]
["Bonaparte"]
["Bonnechere Algonquin First Nation"]
["Boothroyd"]
["Boston Bar First Nation"]
["Bridge River"]
["Bridgeport Indian Colony"]
["British Columbia Métis Federation"]
["Brokenhead Ojibway Nation"]
["Brunswick House First Nation"]
["Buctouche First Nation (Tjipõgtõtjg First Nation)"]
["Buena Vista Rancheria of Me-wuk Indians of California"]
["Buffalo Lake Métis Local Council 2002"]
["Buffalo Lake Métis Settlement"]
["Buffalo Point First Nation"]
["Buffalo River Dene Nation"]
["Bunibonibee Cree Nation"]
["Burns Lake Band"]
["Burns Paiute Tribe"]
["Cabazon Band of Mission Indians, California"]
["Cachil DeHe Band of Wintun Indians of the Colusa Indian Community of the Colusa Rancheria, California"]
["Caddo Nation of Oklahoma"]
["Cadotte Lake Métis Local 1994"]
["Cahto Tribe of the Laytonville Rancheria"]
["Cahuilla Band of Mission Indians of the Cahuilla Reservation, California"]
["Caldwell"]
["California Valley Miwok Tribe, California"]
["Campbell River"]
["Campo Band of Diegueno Mission Indians of the Campo Indian Reservation, California"]
["Canim Lake"]
["Canoe Lake Cree First Nation"]
["Canupawakpa Dakota First Nation"]
["Cape Mudge"]
["Capitan Grande Band of Diegueno Mission Indians of California (Barona Group of Capitan Grande Band of Mission Indians of the Barona Reservation, California)"]
["Capitan Grande Band of Diegueno Mission Indians of California: Viejas (Barona Long) Group of Capitan Grande Band of Mission Indians of the Viejas Reservation, California"]
["Carcross/Tagish First Nation"]
["Carry the Kettle First Nation"]
["Cat Lake"]
["Catawba Indian Nation"]
["Cayoose Creek"]
["Cayuga Nation"]
["Cedarville Rancheria, California"]
["Central Council of the Tlingit & Haida Indian Tribes of Alaska"]
["Chalkyitsik Village"]
["Champagne"]
["Champagne and Aishihik First Nations"]
["Chapleau Cree First Nation"]
["Chapleau Ojibwe First Nation"]
["Chard Metis Society"]
["Chawathil"]
["Cheam"]
["Cheesh-Na Tribe"]
["Chemawawin Cree Nation"]
["Chemehuevi Indian Tribe of the Chemehuevi Reservation, California"]
["Cher-Ae Heights Indian Community of the Trinidad Rancheria, California"]
["Cherokee Nation"]
["Cheslatta Carrier Nation"]
["Chevak Native Village"]
["Cheyenne and Arapaho Tribes, Oklahoma"]
["Cheyenne River Sioux Tribe of the Cheyenne River Reservation, SD"]
["Chickaloon Native Village"]
["Chicken Ranch Rancheria of Me-wuk Indians of California"]
["Big Bear Band"]
["Chignik Bay Tribal Council"]
["Chignik Lake Village"]
["Chilkat Indian Village (Klukwan)"]
["Chilkoot Indian Association (Haines)"]
["Chinik Eskimo Community (Golovin)"]
["Chiniki"]
["Chipewyan Prairie Dene First Nation"]
["Chipewyan Prairie First Nation"]
["Chippewa Cree Indians of the Rocky Boy's Reservation, MT"]
["Chippewas of Georgina Island"]
["Chippewas of Kettle and Stony Point"]
["Chippewas of Nawash First Nation"]
["Chippewas of Rama First Nation"]
["Chippewas of the Thames First Nation"]
["Chitimacha Tribe of Louisiana"]
["Christina River Dene Nation Council"]
["Chuloonawick Native Village"]
["Circle Native Community"]
["Citizen Potawatomi Nation (Oklahoma)"]
["Clearwater River Dene"]
["Cloverdale Rancheria of Pomo Indians of California"]
["Cocopah Tribe of Arizona"]
["Coeur D'Alene Tribe"]
["Cold Lake First Nation"]
["Cold Springs Rancheria of Mono Indians of California"]
["Coldwater"]
["Colorado River Indian Tribes of the Colorado Indian Reservation, Arizona and California"]
["Comanche Nation, Oklahoma"]
["Communauté anicinape de Kitcisakik"]
["Confederated Salish & Kootenai Tribes of the Flathead Reservation"]
["Confederated Tribes and Bands of the Yakama Nation"]
["Confederated Tribes of Coos, Lower Umpqua and Siuslaw Indians"]
["Confederated Tribes of Siletz Indians of Oregon"]
["Confederated Tribes of the Chehalis Reservation"]
["Confederated Tribes of the Colville Reservation"]
["Confederated Tribes of the Goshute Reservation, Nevada and Utah"]
["Confederated Tribes of the Grand Ronde Community of Oregon"]
["Confederated Tribes of the Umatilla Indian Reservation"]
["Confederated Tribes of the Warm Springs Reservation of Oregon"]
["Conklin Métis Local 193"]
["Conklin Resource Development Advisory Committee"]
["Conseil de la Nation Atikamekw (Atikamekw Sipi Tribal Council)"]
["Conseil de la Première Nation Abitibiwinni"]
["Conseil De la Première Nation Des Inuus Essipit"]
["Conseil des Abénakis d’Odanak"]
["Conseil des Abénakis de Wôlinak"]
["Conseil des Atikamekw de Manawan"]
["Conseil des Atikamekw de Opitciwan"]
["Conseil des Atikamekw de Wemotaci"]
["Conseil Des Innus De Pessamit"]
["Conseil Des Montagnais Du Lac-St-Jean (Mashteuiatsh)"]
["Constance Lake First Nation"]
["Cook's Ferry"]
["Coquille Indian Tribe"]
["Cote First Nation 366"]
["Couchiching First Nation"]
["Coushatta Tribe of Louisiana"]
["Cow Creek Band of Umpqua Tribe of Indians"]
["Cowessess First Nation"]
["Cowichan"]
["Cowlitz Indian Tribe"]
["Coyote Valley Band of Pomo Indians of California"]
["Craig Tribal Association"]
["Cree Nation of Chisasibi"]
["Cree Nation of Mistissini"]
["Cree Nation of Nemaska"]
["Cree Nation of Wemindji"]
["Cross Lake Band of Indians"]
["Crow Creek Sioux Tribe of the Crow Creek Reservation, SD"]
["Crow Tribe of Montana"]
["Cumberland House Cree Nation"]
["Curve Lake"]
["Curyung Tribal Council"]
["Da'naxda'xw First Nation"]
["Dakota Nations of Manitoba"]
["Dakota Plains"]
["Dakota Plains Wahpeton Nation"]
["Dakota Tipi First Nation"]
["Dauphin River"]
["Dawson Creek Métis Federation"]
["Day Star"]
["Dease River"]
["Death Valley Timbi-sha Shoshone Tribe"]
["Dechi Laot'i First Nations"]
["Deer Lake"]
["Deh Gáh Got'ie Dene First Nation"]
["Delaware"]
["Delaware Nation, Oklahoma"]
["Delaware Tribe of Indians"]
["Deline First Nation"]
["Dene Tha’ First Nation"]
["Deninu K'ue First Nation"]
["Ditidaht"]
["Dog Rib Rae"]
["Doig River First Nation"]
["Dokis First Nation"]
["Douglas"]
["Douglas Indian Association"]
["Driftpile Cree Nation"]
["Driftpile First Nation"]
["Dry Creek Rancheria Band of Pomo Indians, California"]
["Duckwater Shoshone Tribe of the Duckwater Reservation, Nevada"]
["Duncan's First Nation"]
["Dzawada'enuxw First Nation"]
["Eabametoong First Nation"]
["Eagle Lake"]
["Eagle Village First Nation – Kipawa"]
["East Prairie Métis Settlement"]
["Eastern Band of Cherokee Indians"]
["Eastern Shawnee Tribe of Oklahoma"]
["Eastern Shoshone Tribe of the Wind River Reservation, Wyoming"]
["Eastmain"]
["Ebb and Flow"]
["Eel Ground First Nation (Natoaganeg First Nation)"]
["Eel River Bar First Nation (Ugpi’ganjig First Nation)"]
["Egegik Village"]
["Ehattesaht"]
["Eklutna Native Village"]
["Elem Indian Colony of Pomo Indians of the Sulphur Bank Rancheria, California"]
["Elizabeth Métis Settlement"]
["Elk Valley Rancheria, California"]
["Elsipogtog First Nation"]
["Ely Shoshone Tribe of Nevada"]
["Emmonak Village"]
["English River First Nation"]
["Enoch Cree Nation"]
["Enterprise Rancheria of Maidu Indians of California"]
["Ermineskin Cree Nation"]
["Esgenoopetitj (Burnt Church) First Nation - Direct Engagement"]
["Esk'etemc"]
["Eskasoni"]
["Esquimalt"]
["Evansville Village (aka Bettles Field)"]
["Ewiiaapaayp Band of Kumeyaay Indians, California"]
["Fairview Metis"]
["Federated Indians of Graton Rancheria, California"]
["First Nation of Nacho Nyak Dun"]
["Fisher River"]
["Fishing Lake First Nation"]
["Fishing Lake Métis Settlement"]
["Flandreau Santee Sioux Tribe of South Dakota"]
["Flying Dust First Nation"]
["Flying Post First Nation"]
["Fond du Lac"]
["Forest County Potawatomi Community, Wisconsin"]
["Fort Alexander"]
["Fort Belknap Indian Community"]
["Fort Bidwell Indian Community of the Fort Bidwell Reservation of California"]
["Fort Chipewyan Métis Local 125"]
["Fort Folly First Nation (Amlamgog First Nation)"]
["Fort Good Hope"]
["Fort Independence Indian Community of Paiute Indians of the Fort Independence Reservation, California"]
["Fort Liard Métis Society"]
["Fort McDermitt Paiute and Shoshone Tribes of the Fort McDermitt Indian Reservation, Nevada and Oregon"]
["Fort McDowell Yavapai Nation, Arizona"]
["Fort McKay First Nation"]
["Fort McKay Métis Community Association"]
["Fort McKay Metis Local 63"]
["Fort McMurray #468 First Nation"]
["Fort McMurray Metis #1935"]
["Fort McMurray Métis Local 2020"]
["Fort Mojave Indian Tribe of Arizona, California & Nevada"]
["Fort Nelson First Nation"]
["Fort Nelson Métis Society"]
["Fort Severn"]
["Fort Sill Apache Tribe of Oklahoma"]
["Fort St John Métis Society"]
["Fort Vermillion Métis Local 74"]
["Fort William First Nation"]
["Fox Lake"]
["Frog Lake First Nation"]
["Galena Village (aka Louden Village)"]
["Gamblers First Nation"]
["Gameti First Nation"]
["Garden Hill First Nations"]
["Garden River First Nation"]
["George Gordon First Nation"]
["Gift Lake Métis Settlement"]
["Gila River Indian Community of the Gila River Indian Reservation, Arizona"]
["Ginoogaming First Nation"]
["Ginoogaming First Nations' Collective"]
["Gitanmaax"]
["Gitanyow First Nation"]
["Gitga'at First Nation"]
["Gitsegukla"]
["Gitwangak"]
["Gitxaala First Nation"]
["Gitxsan First Nation"]
["Glen Vowell"]
["Glooscap First Nation"]
["God's Lake First Nation"]
["Grand Conseil De la Nation Waban-Aki"]
["Grand Council Treaty #3"]
["Grand Traverse Band of Ottawa & Chippewa Indians, Michigan"]
["Grande Cache Métis Local 1994"]
["Grande Prairie Métis Local 1990"]
["Grassy Narrows First Nation"]
["Greenville Rancheria"]
["Grindstone Indian Rancheria of Wintun-Wailaki Indians of California"]
["Guidiville Rancheria of California"]
["Gulkana Village"]
["Gull Bay"]
["Gunn Métis Local 55"]
["Gwa'Sala-Nakwaxda'xw"]
["Gwawaenuk Tribe"]
["Gwichya Gwich'in"]
["Habematolel Pomo of Upper Lake, California"]
["Hagwilget Village"]
["Haisla Nation"]
["Halalt"]
["Halfway River First Nation"]
["Hannahville Indian Community, Michigan"]
["Hatchet Lake"]
["Havasupai Tribe of the Havasupai Reservation, Arizona"]
["Healy Lake Village"]
["Heart Lake First Nation"]
["Heiltsuk"]
["Henvey Inlet First Nation"]
["Hesquiaht"]
["Hiawatha First Nation"]
["High Bar"]
["Ho-Chunk Nation of Wisconsin"]
["Hoh Indian Tribe"]
["Hollow Water"]
["Holy Cross Village"]
["Homalco"]
["Hoonah Indian Association"]
["Hoopa Valley Tribe, California"]
["Hopi Tribe of Arizona"]
["Hopland Band of Pomo Indians, California"]
["Horse Lake First Nation"]
["Houlton Band of Maliseet Indians"]
["Hualapai Indian Tribe of the Hualapai Indian Reservation, Arizona"]
["Hughes Village"]
["Hupacasath First Nation"]
["Huron-Wendat Nation (Wendake)"]
["Huslia Village"]
["Huu-ay-aht First Nations"]
["Hydaburg Cooperative Association"]
["Igiugig Village"]
["Iipay Nation of Santa Ysabel, California"]
["Inaja Band of Diegueno Mission Indians of the Inaja and Cosmit Reservation, California"]
["Indian Island First Nation (L’nui Menikuk First Nation)"]
["Innu Takuaikan Uashat Mak Mani-Utenam"]
["Innue Essipit"]
["Inupiat Community of the Arctic Slope"]
["Inuvik Native"]
["Ione Band of Miwok Indians of California"]
["Iowa Tribe of Kansas & Nebraska"]
["Iowa Tribe of Oklahoma"]
["Iqurmuit Traditional Council"]
["Iskatewizaagegan #39 Independant First Nation (Shoal Lake #39)"]
["Iskut"]
["Ivanof Bay Tribe"]
["Jackson Band of Miwuk Indians"]
["James Smith"]
["Jamestown S'Klallam Tribe"]
["Jamul Indian Village of California"]
["Jean Marie River First Nation"]
["Jena Band of Choctaw Indians"]
["Jicarilla Apache Nation, New Mexico"]
["K'atlodeeche First Nation"]
["K'ómoks First Nation"]
["Ka:'yu:'k't'h'/Che:k:tles7et'h' First Nations"]
["Ka'a'gee Tu First Nation"]
["Kaguyak Village"]
["Kahkewistahaw First Nation"]
["Kaibab Band of Paiute Indians of the Kaibab Indian Reservation, Arizona"]
["Kaktovik Village (aka Barter Island)"]
["Kalispel Indian Community of the Kalispel Reservation"]
["Kanaka Bar"]
["Kapawe'no First Nation"]
["Karuk Tribe"]
["Kasabonika Lake"]
["Kashia Band of Pomo Indians of the Stewarts Point Rancheria, California"]
["Kasigluk Traditional Elders Council"]
["Katzie"]
["Kaw Nation, Oklahoma"]
["Kawacatoose First Nation"]
["Kee-Way-Win"]
["Keeseekoose"]
["Keeseekoowenin First Nation"]
["Kehewin Cree Nation"]
["Kelly Lake Cree Nation"]
["Kelly Lake First Nation"]
["Kelly Lake Métis Settlement Society"]
["Kenaitze Indian Tribe"]
["Ketchikan Indian Corporation"]
["Kewa Pueblo"]
["Keweenaw Bay Indian Community, Michigan"]
["Kialegee Tribal Town"]
["Kiashke Zaaging Anishinaabek (Gull Bay First Nation)"]
["Kickapoo Traditional Tribe of Texas"]
["Kickapoo Tribe of Indians of the Kickapoo Reservation in Kansas"]
["Kickapoo Tribe of Oklahoma"]
["Kikino Métis Settlement"]
["King Island Native Community"]
["King Salmon Tribe"]
["Kingfisher"]
["Kingsclear First Nation (Pilick First Nation)"]
["Kinistin Saulteaux Nation"]
["Kinonjeoshtegon First Nation"]
["Kiowa Indian Tribe of Oklahoma"]
["Kispiox"]
["Kitasoo"]
["Kitchenuhmaykoosib Inninuwug"]
["Kitigan Zibi Anishinabeg"]
["Kitselas First Nation"]
["Kitsumkalum Indian Band"]
["Klahoose First Nation"]
["Klamath Tribes"]
["Klawock Cooperative Association"]
["Kletsel Dehe Band of Wintun Indians"]
["Kluane First Nation"]
["Knik Tribe"]
["Koi Nation of Northern California"]
["Kokhanok Village"]
["Konadaha Seneca"]
["Kootenai Tribe of Idaho"]
["Koyukuk Native Village"]
["Kwadacha"]
["Kwakiutl"]
["Kwanlin Dun First Nation"]
["Kwantlen First Nation"]
["Kwaw-kwaw-Apilt"]
["Kwiakah"]
["Kwikwasut'inuxw Haxwa'mis"]
["Kwikwetlem First Nation"]
["Kwilmu'Kw Maw-Klusuaqn (Mi'kmaq Rights Initiative)"]
["La Jolla Band of Luiseno Indians, California"]
["La Nation Innu Matimekush-Lac John"]
["La Nation Micmac de Gespeg"]
["La Posta Band of Diegueno Mission Indians of the La Posta Indian Reservation, California"]
["La Première Nation Micmac de Gespeg"]
["Lac Courte Oreilles Band of Lake Superior Chippewa Indians of Wisconsin"]
["Lac Des Mille Lacs First Nation"]
["Lac du Flambeau Band of Lake Superior Chippewa Indians of Wisconsin"]
["Lac La Biche Métis Local 2097"]
["Lac La Croix First Nation"]
["Lac La Ronge"]
["Lac Seul First Nation"]
["Lac Vieux Desert Band of Lake Superior Chippewa Indians of MI"]
["Lake Babine First Nation"]
["Lake Cowichan First Nation"]
["Lake Manitoba"]
["Lake St. Martin"]
["Lakeland Métis Local 1909"]
["Las Vegas Tribe of Paiute Indians of the Las Vegas Indian Colony, Nevada"]
["Lax Kw'alaams Band"]
["le Grand Conseil de la Nation Waban-Aki"]
["Lennox Island"]
["Leq' a: mel First Nation"]
["Les Atikamekw De Manawan"]
["Les Innus de Ekuanitshit"]
["Levelock Village"]
["Lheidli-T'enneh First Nation"]
["Lhoosk'uz Dene Nation"]
["Lhtako Dene Nation"]
["Liard First Nation"]
["Liidlii Kue First Nation"]
["Lil'wat Nation"]
["Lime Village"]
["Listuguj Mi'gmaq Government"]
["Little Black Bear First Nation"]
["Little Grand Rapids"]
["Little Pine"]
["Little Red River Cree Nation"]
["Little River Band of Ottawa Indians, Michigan"]
["Little Salmon/Carmacks First Nation"]
["Little Saskatchewan"]
["Little Shuswap Lake"]
["Little Traverse Bay Bands of Odawa Indians, Michigan"]
["Lone Pine Paiute-Shoshone Tribe"]
["Long Lake #58 First Nation"]
["Long Plain First Nation"]
["Long Point First Nation"]
["Loon River Cree"]
["Loon River First Nation"]
["Los Coyotes Band of Cahuilla & Cupeno Indians, California"]
["Louis Bull Tribe"]
["Lovelock Paiute Tribe of the Lovelock Indian Colony, Nevada"]
["Lower Brule Sioux Tribe of the Lower Brule Reservation, SD"]
["Lower Cayuga"]
["Lower Elwha Tribal Community"]
["Lower Kootenay"]
["Lower Mohawk"]
["Lower Nicola"]
["Lower Similkameen"]
["Lower Sioux Indian Community in the State of Minnesota"]
["Lubicon Lake Band"]
["Lucky Man"]
["Lummi Tribe of the Lummi Reservation"]
["Lutsel K'e Dene First Nation"]
["Lyackson"]
["Lytton"]
["Lytton Rancheria of California"]
["M'Chigeeng First Nation"]
["Madawaska Maliseet First Nation"]
["Magnetawan"]
["Makah Indian Tribe of the Makah Indian Reservation"]
["Makwa Sahgaiehcan First Nation"]
["Malahat First Nation"]
["Mamalilikulla First Nation"]
["Manchester Band of Pomo Indians of the Manchester Rancheria, California"]
["Manitoba Metis Community"]
["Manitoba Métis Federation"]
["Manley Hot Springs Village"]
["Manokotak Village"]
["Manto Sipi Cree Nation"]
["Manzanita Band of Diegueno Mission Indians of the Manzanita Reservation, Califonria"]
["Marcel Colomb First Nation"]
["Marlboro Community Association"]
["Martin Falls"]
["Mashantucket Pequot Indian Tribe"]
["Mashpee Wampanoag Tribe"]
["Matachewan First Nation"]
["Match-e-be-nash-she-wish Band of Pottawatomi Indians of Michigan"]
["Mathias Colomb"]
["Matsqui"]
["Mattagami First Nation"]
["Mattawa - North Bay Algonquin First Nation"]
["McDowell Lake"]
["McGrath Native Village"]
["McLeod Lake Indian Band"]
["Mechoopda Indian Tribe of Chico Rancheria, California"]
["Medicine Hat Métis Local 8"]
["Membertou"]
["Menominee Indian Tribe of Wisconsin"]
["Mentasta Traditional Council"]
["Mesa Grande Band of Diegueno Mission Indians of the Mesa Grande Reservation, California"]
["Mescalero Apache Tribe"]
["Metepenagiag Mi’kmaq Nation (Red Bank First Nation)"]
["Métis Nation British Columbia"]
["Métis Nation of Alberta"]
["Métis Nation of Alberta Region 1"]
["Métis Nation of Alberta Region 2"]
["Métis Nation of Alberta Region 3"]
["Métis Nation of Alberta Region 4"]
["Métis Nation of Alberta Region 5"]
["Métis Nation of Alberta Region 6"]
["Métis Nation of Alberta, Fairview Local"]
["Metis Nation of BC"]
["Metis Nation of Ontario"]
["Metis Nation of Saskatchewan"]
["Metis Nation of Saskatchewan Eastern Region 3"]
["Metis Nation of Saskatchewan Western Region 3"]
["Métis Settlements General Council"]
["Metlakatla First Nation"]
["Metlakatla Indian Community, Annette Island Reserve"]
["Mi'gmawei Mawiomi Secretariat"]
["Miami Tribe of Oklahoma"]
["Miawpukek"]
["Miccosukee Tribe of Indians"]
["Michipicoten"]
["Micmacs of Gesgapegiag First Nation"]
["Middletown Rancheria of Pomo Indians of California"]
["Migisi Sahgaigan (Eagle Lake First Nation)"]
["Mikisew Cree First Nation"]
["Millbrook"]
["Ministikwan Lake Cree Nation"]
["Minnesota Chippewa Tribe"]
["Minnesota Chippewa Tribe - Bois Forte Band (Nett Lake)"]
["Minnesota Chippewa Tribe - Fond du Lac Band"]
["Minnesota Chippewa Tribe - Grand Portage Band"]
["Minnesota Chippewa Tribe - Leech Lake Band"]
["Minnesota Chippewa Tribe - Mille Lacs Band"]
["Minnesota Chippewa Tribe - White Earth Band"]
["Mishkeegogamang"]
["Misipawistik Cree Nation"]
["Missanabie Cree First Nation"]
["Mississauga"]
["Mississaugas of Scugog Island First Nation"]
["Mississaugas of the New Credit First Nation"]
["Mississippi Band of Choctaw Indians"]
["Mistawasis Nêhiyawak"]
["Mitaanjigamiing First Nation"]
["MMF Region 1 & 2"]
["MNA Region 2"]
["MNA Region 3"]
["Moapa Band of Paiute Indians of the Moapa River Indian Reservation, Nevada"]
["Moccassin Flats Métis Society (Chetwynd)"]
["Mohawk Council of Akwesasne"]
["Mohawk Council of Kahnawà:ke"]
["Mohawk Council of Kanesatake"]
["Mohawk of Kahnawa:Ke"]
["Mohawk of Kanehsata:Ke"]
["Mohawks of Akwesasne"]
["Mohawks of the Bay of Quinte"]
["Mohegan Tribe of Indians of Connecticut"]
["Montagnais de Natashquan"]
["Montagnais de Pakua Shipi"]
["Montagnais de Unamen Shipu"]
["Montagnais du Lac St-Jean"]
["Montana First Nation"]
["Montreal Lake"]
["Mooretown Rancheria of Maidu Indians of California"]
["Moose Cree First Nation"]
["Moose Deer Point"]
["Moosomin"]
["Moravian of the Thames"]
["Moricetown Indian Band"]
["Morongo Band of Mission Indians, California"]
["Mosakahiken Cree Nation"]
["Mosquito, Grizzly Bear's Head, Lean Man First Nati"]
["Mowachaht/Muchalaht"]
["Muckleshoot Indian Tribe"]
["Munsee-Delaware Nation"]
["Muscowpetung First Nation"]
["Mushuau Innu First Nation"]
["Muskeg Lake Cree Nation #102"]
["Muskoday First Nation"]
["Muskowekwan"]
["Muskowekwan First Nation"]
["Muskrat Dam Lake"]
["Musqueam"]
["N'Quatqua"]
["Nadleh Whuten First Nation"]
["Nahanni Butte"]
["Naicatchewenin"]
["Nak'azdli Whut'en First Nation"]
["Nakcowinewak Nation of Canada"]
["Naknek Native Village"]
["Namgis First Nation"]
["Nanoose First Nation"]
["Naotkamegwanning First Nation (Whitefish Bay First Nation)"]
["Narragansett Indian Tribe"]
["Naskapi Nation of Kawawachikamach"]
["Nation Anishnabe du Lac Simon"]
["Nation Huronne Wendat"]
["Native Village of Afognak"]
["Native Village of Akhiok"]
["Native Village of Akutan"]
["Native Village of Aleknagik"]
["Native Village of Ambler"]
["Native Village of Atka"]
["Native Village of Barrow Inupiat Traditional Government"]
["Native Village of Belkofski"]
["Native Village of Brevig Mission"]
["Native Village of Buckland"]
["Native Village of Cantwell"]
["Native Village of Chenega (aka Chanega)"]
["Native Village of Chignik Lagoon"]
["Native Village of Chitina"]
["Native Village of Chuathbaluk (Russian Mission, Kuskokwim)"]
["Native Village of Council"]
["Native Village of Deering"]
["Native Village of Diomede (aka Inalik)"]
["Native Village of Eagle"]
["Native Village of Eek"]
["Native Village of Ekuk"]
["Native Village of Ekwok"]
["Native Village of Elim"]
["Native Village of Eyak (Cordova)"]
["Native Village of False Pass"]
["Native Village of Fort Yukon"]
["Native Village of Gakona"]
["Native Village of Gambell"]
["Native Village of Georgetown"]
["Native Village of Goodnews Bay"]
["Native Village of Hamilton"]
["Native Village of Hooper Bay"]
["Native Village of Kanatak"]
["Native Village of Karluk"]
["Native Village of Kiana"]
["Native Village of Kipnuk"]
["Native Village of Kivalina"]
["Native Village of Kluti-Kaah (aka Copper Center)"]
["Native Village of Kobuk"]
["Native Village of Kongiganak"]
["Native Village of Kotzebue"]
["Native Village of Koyuk"]
["Native Village of Kwigillingok"]
["Native Village of Kwinhagak (aka Quinhagak)"]
["Native Village of Larsen Bay"]
["Native Village of Marshall (aka Fortuna Ledge)"]
["Native Village of Mary's Igloo"]
["Native Village of Mekoryuk"]
["Native Village of Minto"]
["Native Village of Nanwalek (aka English Bay)"]
["Native Village of Napaimute"]
["Native Village of Napakiak"]
["Native Village of Napaskiak"]
["Native Village of Nelson Lagoon"]
["Native Village of Nightmute"]
["Native Village of Nikolski"]
["Native Village of Noatak"]
["Native Village of Nuiqsut (aka Nooiksut)"]
["Native Village of Nunam Iqua"]
["Native Village of Nunapitchuk"]
["Native Village of Ouzinkie"]
["Native Village of Paimiut"]
["Native Village of Perryville"]
["Native Village of Pilot Point"]
["Native Village of Pitka's Point"]
["Native Village of Point Hope"]
["Native Village of Point Lay"]
["Native Village of Port Graham"]
["Native Village of Port Heiden"]
["Native Village of Port Lions"]
["Native Village of Ruby"]
["Native Village of Saint Michael"]
["Native Village of Savoonga"]
["Native Village of Scammon Bay"]
["Native Village of Selawik"]
["Native Village of Shaktoolik"]
["Native Village of Shishmaref"]
["Native Village of Shungnak"]
["Native Village of Stevens"]
["Native Village of Tanacross"]
["Native Village of Tanana"]
["Native Village of Tatitlek"]
["Native Village of Tazlina"]
["Native Village of Teller"]
["Native Village of Tetlin"]
["Native Village of Tuntutuliak"]
["Native Village of Tununak"]
["Native Village of Tyonek"]
["Native Village of Unalakleet"]
["Native Village of Unga"]
["Native Village of Venetie Tribal Government"]
["Native Village of Wales"]
["Native Village of White Mountain"]
["Navajo Nation, Arizona, New Mexico & Utah"]
["Nazko First Nation"]
["Nee Tahi Buhn Indian Band"]
["Nekaneet First Nation"]
["Nenana Native Association"]
["Neskantaga First Nation"]
["Neskonlith"]
["New Koliganek Village Council"]
["New Stuyahok Village"]
["New Westminster"]
["Newhalen Village"]
["Newtok Village"]
["Nez Perce Tribe"]
["Nibinamik First Nation"]
["Nicomen"]
["Nigigoonsiminikaaning First Nation"]
["Niharondasa Seneca"]
["Nikolai Village"]
["Ninilchik Village"]
["Nipissing First Nation"]
["Nisga'a Lisms Government"]
["Nisga'a Village of Gingolx"]
["Nisga'a Village of Gitwinksihlkw"]
["Nisga'a Village of Laxgalt'sap"]
["Nisga'a Village of New Aiyansh"]
["Nisichawayasihk Cree Nation"]
["Nisqually Indian Tribe"]
["Nome Eskimo Community"]
["Nondalton Village"]
["Nooaitch"]
["Nooksack Indian Tribe"]
["Noorvik Native Community"]
["North Caribou Lake"]
["North Spirit Lake"]
["Northeast Métis Association (Dawson Creek)"]
["Northern Arapaho Tribe of the Wind River Reservation, Wyoming"]
["Northern Cheyenne Tribe"]
["Northfork Rancheria of Mono Indians of California"]
["Northlands"]
["Northway Village"]
["Northwest Angle No. 33 First Nation"]
["Northwest Angle No. 37 First Nation"]
["Northwestern Band of Shoshone Nation"]
["Norway House Cree Nation"]
["Nose Creek Community"]
["Nottawaseppi Huron Band of the Potawatomi, MI"]
["Nuchatlaht"]
["Nulato Village"]
["Nunakauyarmiut Tribe"]
["Nuxalk Nation"]
["O-Chi-Chak-Ko-Sipi First Nation"]
["O-Pipon-Na-Piwin Cree Nation"]
["O'Chiese First Nation"]
["Obashkaandagaang First Nation"]
["Ocean Man First Nation"]
["Ochapowace First Nation"]
["Ochiichagwe'Bagigo'ining First Nation"]
["Odanak"]
["Oglala Sioux Tribe"]
["Ohkay Owingeh"]
["Ojibway Nation of Saugeen"]
["Ojibways Of Onigaming First Nation"]
["Ojibways of the Pic River First Nation"]
["Okanagan"]
["Okanese"]
["Old Massett Village Council"]
["Omaha Tribe of Nebraska"]
["One Arrow First Nation"]
["Oneida"]
["Oneida Nation"]
["Oneida Nation of New York"]
["Oneida Nation of the Thames"]
["Onigaming"]
["Onion Lake Cree Nation"]
["Onondaga Clear Sky"]
["Onondaga Nation"]
["Opaskwayak Cree Nation"]
["Oregon Jack Creek"]
["Organized Village of Grayling (aka Holikachuk)"]
["Organized Village of Kake"]
["Organized Village of Kasaan"]
["Organized Village of Kwethluk"]
["Organized Village of Saxman"]
["Oromocto First Nation (Wolamuktuk First Nation)"]
["Orutsararmiut Traditional Native Council"]
["Osage Nation"]
["Oscarville Traditional Village"]
["Osoyoos"]
["Otoe-Missouria Tribe of Indians, Oklahoma"]
["Ottawa Algonquin First Nation"]
["Ottawa Tribe of Oklahoma"]
["Oujé-Bougoumou Cree Nation"]
["Owl River Métis Local 1949"]
["Pabineau First Nation (Oinpegitjoig First Nation)"]
["Pacheedaht First Nation"]
["Paddle Prairie Métis Settlement"]
["Paiute Indian Tribe of Utah (Cedar Band of Paiutes, Kanosh Band of Paiutes, Koosharem Band of Paiutes, Indian Peaks Band of Paiutes, and Shivwits Band of Paiutes)"]
["Paiute-Shoshone Tribe of the Fallon Reservation and Colony, Nevada"]
["Pala Band of Mission Indians"]
["Pamunkey Indian Tribe"]
["Paqtnkek Mi'kmaw Nation"]
["Pascua Yaqui Tribe of Arizona"]
["Paskenta Band of Nomlaki Indians of California"]
["Pasqua First Nation #79"]
["Passamaquoddy Tribe - Indian Township"]
["Passamaquoddy Tribe - Pleasant Point"]
["Pauingassi First Nation"]
["Paul First Nation"]
["Pauloff Harbor Village"]
["Pauma Band of Luiseno Mission Indians of the Pauma & Yuima Reservation, California"]
["Pauquachin"]
["Pawnee Nation of Oklahoma"]
["Pays Plat First Nation"]
["Pearless Trout"]
["Peavine Métis Settlement"]
["Pechanga Band of Luiseno Mission Indians of the Pechanga Reservation, California"]
["Pedro Bay Village"]
["Peepeekisis Cree Nation #81"]
["Peerless Trout First Nation"]
["Peguis"]
["Pehdzeh Ki First Nation"]
["Pelican Lake"]
["Penelakut Tribe"]
["Penobscot Nation"]
["Penticton"]
["Peoria Tribe of Indians of Oklahoma"]
["Peter Ballantyne Cree Nation"]
["Peters First Nation"]
["Petersburg Indian Association"]
["Pheasant Rump Nakota First Nation"]
["Piapot First Nation"]
["Pic Mobert"]
["Picayune Rancheria of Chukchansi Indians of California"]
["Pictou Landing"]
["Piikani Nation"]
["Pikangikum"]
["Pilot Station Traditional Village"]
["Pinaymootang First Nation"]
["Pine Creek"]
["Pinoleville Pomo Nation, California"]
["Pit River Tribe, California"]
["Platinum Traditional Village"]
["Poarch Band of Creeks"]
["Pokagon Band of Potawatomi Indians, Michigan & Indiana"]
["Ponca Tribe of Indians of Oklahoma"]
["Ponca Tribe of Nebraska"]
["Popkum"]
["Poplar Hill"]
["Poplar River First Nation"]
["Port Gamble S'Klallam Tribe"]
["Portage Creek Village (aka Ohgsenakale)"]
["Potlotek First Nation"]
["Potter Valley Tribe, California"]
["Poundmaker"]
["Prairie Band of Potawatomi Nation"]
["Prairie Island Indian Community in the State of MN"]
["Première nation de Whapmagoostui"]
["Première Nation des Abénakis de Wôlinak"]
["Première Nation Malecite de Viger"]
["Prophet River First Nation"]
["Pueblo of Acoma"]
["Pueblo of Cochiti"]
["Pueblo of Isleta"]
["Pueblo of Jemez"]
["Pueblo of Laguna"]
["Pueblo of Nambe"]
["Pueblo of Picuris"]
["Pueblo of Pojoaque"]
["Pueblo of San Felipe"]
["Pueblo of San Ildefonso"]
["Pueblo of Sandia"]
["Pueblo of Santa Ana"]
["Pueblo of Santa Clara"]
["Pueblo of Taos"]
["Pueblo of Tesuque"]
["Pueblo of Zia"]
["Puyallup Tribe of the Puyallup Reservation"]
["Pyramid Lake Paiute Tribe of the Pyramid Lake Reservation, Nevada"]
["Qagan Tayagungin Tribe of Sand Point Village"]
["Qalipu Mi'kmaq First Nation"]
["Qawalangin Tribe of Unalaska"]
["Qualicum First Nation"]
["Quartz Valley Indian Community of the Quartz Valley Reservation of California"]
["Quatsino"]
["Quechan Tribe of the Fort Yuma Indian Reservation, California & Arizona (aka Fort Yuma-Quechen Tribe)"]
["Quileute Tribe of the Quileute Reservation"]
["Quinault Indian Nation"]
["Rainy River First Nation"]
["Ramah Navajo Chapter"]
["Ramona Band of Cahuilla, California"]
["Rampart Village"]
["Red Cliff Band of Lake Superior Chippewa Indians of Wisconsin"]
["Red Earth"]
["Red Lake Band of Chippewa Indians, Minnesota"]
["Red Pheasant"]
["Red River Métis Society"]
["Red Rock Indian Band"]
["Red Sky Métis Independant Nation"]
["Red Sucker Lake"]
["Redding Rancheria, California"]
["Redwood Valley or Little River Band of Pomo Indians of the Redwood Valley Rancheria California"]
["Reno-Sparks Indian Colony, Nevada"]
["Resighini Rancheria, California"]
["Rincon Band of Luiseno Mission Indians of the Rincon Reservation, California"]
["Robinson Rancheria Band of Pomo Indians, CA"]
["Rolling River First Nation"]
["Roseau River Anishinabe First Nation"]
["Rosebud Sioux Tribe of the Rosebud Indian Reservation, SD"]
["Ross River"]
["Round Valley Indian Tribes, Round Valley Reservation, California"]
["Sac & Fox Tribe of the Mississippi in Iowa"]
["Sac and Fox Nation of Missouri in Kansas and Nebraska"]
["Sac and Fox Nation, Oklahoma"]
["Sachigo Lake"]
["Saddle Lake Cree Nation"]
["Sagamok Anishnawbek"]
["Saginaw Chippewa Indian Tribe of Michigan"]
["Sagkeeng First Nation"]
["Saik'uz First Nation"]
["Saint George Island"]
["Saint Mary's"]
["Saint Paul Island"]
["Saint Regis Mohawk Tribe"]
["Sakimay First Nation"]
["Sakimay First Nation Standing Buffalo Dakota Nation"]
["Salt River First Nation #195"]
["Salt River Pima-Maricopa Indian Community of the Salt River Reservation, Arizona"]
["Samahquam"]
["Sambaa K'e First Nation"]
["Samish Indian Nation"]
["Samson Cree Nation"]
["San Carlos Apache Tribe of the San Carlos Reservation, Arizona"]
["San Juan Southern Paiute Tribe of Arizona"]
["San Manuel Band of Mission Indians, California"]
["San Pasqual Band of Diegueno Mission Indians of California"]
["Sandy Bay Ojibway First Nation"]
["Sandy Lake"]
["Santa Rosa Band of Cahuilla Indians, California"]
["Santa Rosa Indian Community of the Santa Rosa Rancheria, California"]
["Santa Ynez Band of Chumash Mission Indians of the Santa Ynez Reservation, California"]
["Santee Sioux Nation, Nebraska"]
["Sapotaweyak Cree Nation"]
["Saugeen First Nation"]
["Sauk-Suiattle Indian Tribe"]
["Sault Ste. Marie Tribe of Chippewa Indians, Michigan"]
["Saulteau First Nation"]
["Saulteaux First Nation"]
["Sawridge First Nation"]
["Sayisi Dene First Nation"]
["Scotts Valley Band of Pomo Indians of California"]
["Seabird Island"]
["Sechelt"]
["Seine River First Nation"]
["Seldovia Village Tribe"]
["Selkirk First Nation"]
["Semiahmoo"]
["Seminole Tribe of Florida"]
["Seneca Nation of Indians"]
["Seneca-Cayuga Nation"]
["Serpent River"]
["Shabot Obaadjiwan First Nation (Sharbot Lake)"]
["Shackan"]
["Shageluk Native Village"]
["Shakopee Mdewakanton Sioux Community of Minnesota"]
["Shamattawa First Nation"]
["Shawanaga First Nation"]
["Shawnee Tribe"]
["Sheguiandah"]
["Sherwood Valley Rancheria of Pomo Indians of California"]
["Sheshatshiu Innu First Nation"]
["Sheshegwaning"]
["Shingle Springs Band of Miwok Indians, Shingle Springs Rancheria (Verona Tract), California"]
["Shinnecock Indian Nation"]
["Shoal Lake Cree Nation"]
["Shoal Lake No. 40 First Nation"]
["Shoalwater Bay Indian Tribe"]
["Shoshone-Bannock Tribes of the Fort Hall Reservation"]
["Shoshone-Paiute Tribes of the Duck Valley Reservation, Nevada"]
["Shuswap"]
["Shxw'ow'hamel First Nation"]
["Shxwhá:y Village"]
["Siksika Nation"]
["Simpcw First Nation"]
["Sioux Valley Dakota Nation"]
["SIPEKNE'KATIK"]
["Siska"]
["Sisseton-Wahpeton Oyate of the Lake Traverse Reservation, SD"]
["Sitka Tribe of Alaska"]
["Six Nations of the Grand River"]
["Skagway Village"]
["Skatin Nations"]
["Skawahlook First Nation"]
["Skeetchestn"]
["Skidegate"]
["Skin Tyee First Nation"]
["Skokomish Indian Tribe"]
["Skowkale"]
["Skownan First Nation"]
["Skull Valley Band of Goshute Indians of Utah"]
["Skuppah"]
["Skwah"]
["Slate Falls Nation"]
["Smith's Landing First Nation"]
["Snimikobi (Ardoch) Algonquin First Nation"]
["Snoqualmie Indian Tribe"]
["Snuneymuxw First Nation"]
["Soboba Band of Luiseno Indians, California"]
["Soda Creek"]
["Sokaogon Chippewa  Community, Wisconsin"]
["Songhees First Nation"]
["Soowahlie"]
["South Naknek Village"]
["Southern Ute Indian Tribe"]
["Spirit Lake Tribe, North Dakota"]
["Splatsin"]
["Spokane Tribe of the Spokane Reservation"]
["Spuzzum"]
["Sq'éwlets"]
["Squamish"]
["Squaxin Island Tribe of the Squaxin Island Reservation"]
["Squiala First Nation"]
["St. Croix Chippewa Indians of Wisconsin"]
["St. Mary's First Nation"]
["St. Theresa Point"]
["Standing Buffalo"]
["Standing Rock Sioux Tribe of North & South Dakota"]
["Star Blanket Cree Nation"]
["Stebbins Community Association"]
["Stellat'en First Nation"]
["Stillaguamish Tribe of Indians of Washington"]
["Stockbridge Munsee Community, Wisconsin"]
["Stoney"]
["Stoney Nakoda First Nation"]
["Sts'ailes"]
["Stswecem'c Xgat'tem First Nation"]
["Sturgeon Lake Cree Nation"]
["Stz'uminus First Nation"]
["Suactuav"]
["Sucker Creek First Nation"]
["Sumas First Nation"]
["Summit Lake Paiute Tribe of Nevada"]
["Sun'aq Tribe of Kodiak"]
["Sunchild First Nation"]
["Sundance First Nation"]
["Suquamish Indian Tribe of the Port Madison Reservation"]
["Susanville Indian Rancheria, California"]
["Swan Lake First Nation"]
["Swan River First Nation"]
["Sweetgrass"]
["Swinomish Indian Tribal Community"]
["Sycuan Band of the Kumeyaay Nation"]
["T'it'q'et"]
["T'Sou-ke First Nation"]
["Ta'an Kwach'an"]
["Table Mountain Rancheria of California"]
["Tahltan"]
["Takla Lake First Nation"]
["Takotna Village"]
["Taku River Tlingit"]
["Tallcree First Nation"]
["Tallcree Tribal Government"]
["Tangirnaq Native Village (aka Woody Island)"]
["Tataskweyak Cree Nation"]
["Taykwa Tagamou Nation ( New Post First Nation)"]
["Te-Moak Tribe of Western Shoshone Indians of Nevada (Four constituent bands: Battle Mountain Band; Elko Band; South Fork Band and Wells Band)"]
["Tejon Indian Tribe"]
["Telida Village"]
["Temagami First Nation"]
["Teslin Tlingit Council"]
["Tetlit Gwich'in"]
["The Chickasaw Nation"]
["The Choctaw Nation of Oklahoma"]
["The Crees of the Waskaganish First Nation"]
["The Key First Nation"]
["The Modoc Tribe of Oklahoma"]
["The Muscogee (Creek) Nation"]
["The Osage Nation"]
["The Quapaw Tribe of Indians"]
["The Seminole Nation of Oklahoma"]
["Thessalon"]
["Thlopthlocco Tribal Town"]
["Three Affiliated Tribes of the Fort Berthold Reservation, ND"]
["Thunderchild First Nation"]
["Timiskaming First Nation"]
["Tk'emlúps te Secwépemc"]
["Tl'azt'en First Nation"]
["Tl'etinqox Government"]
["Tla-o-qui-aht First Nations"]
["Tla'amin Nation"]
["Tlatlasikwala"]
["Tlowitsis Tribe"]
["Tobacco Plains"]
["Tobique First Nation"]
["Tohono O'odham Nation of Arizona"]
["Tolowa Dee-Ni' Nation"]
["Tonawanda Band of Seneca"]
["Tonkawa Tribe of Indians of Oklahoma"]
["Tonto Apache Tribe of Arizona"]
["Toosey"]
["Tootinaowaziibeeng Treaty Reserve"]
["Toquaht"]
["Torres Martinez Desert Cahuilla Indians, California"]
["Tr'ondëk Hwëch'in"]
["Traditional Village of Togiak"]
["Treaty 1 First Nations"]
["Treaty 8 Tribal Association"]
["Ts'kw'aylaxw First Nation"]
["Tsal'alh"]
["Tsartlip"]
["Tsawout First Nation"]
["Tsawwassen First Nation"]
["Tsay Keh Dene"]
["Tseshaht"]
["Tseycum"]
["Tsleil-Waututh Nation"]
["Tsuut'ina Nation"]
["Tulalip Tribes of Washington"]
["Tule River Indian Tribe of the Tule River Reservation, California"]
["Tulita Dene"]
["Tuluksak Native Community"]
["Tunica-Biloxi Indian Tribe"]
["Tuolumne Band of Me-Wuk Indians of the Tuolumne Rancheria of California"]
["Turtle Mountain Band of Chippewa Indians of North Dakota"]
["Tuscarora"]
["Tuscarora Nation"]
["Twenty-Nine Palms Band of Mission Indians of California"]
["Twin Hills Village"]
["Tzeachten"]
["Uchucklesaht"]
["Ucluelet First Nation"]
["Ugashik Village"]
["Ulkatcho"]
["Umkumiut Native Village"]
["Union Bar First Nation"]
["United Auburn Indian Community of the Auburn Rancheria of California"]
["United Keetoowah Band of Cherokee Indians in Oklahoma"]
["Upper Cayuga"]
["Upper Mohawk"]
["Upper Nicola"]
["Upper Similkameen"]
["Upper Sioux Community, Minnesota"]
["Upper Skagit Indian Tribe"]
["Ute Indian Tribe of the Uintah & Ouray Reservation, Utah"]
["Ute Mountain Ute Tribe"]
["Utu Utu Gwaitu Paiute Tribe of the Benton Paiute Reservation, California"]
["Valley View Metis"]
["Village of Alakanuk"]
["Village of Anaktuvuk Pass"]
["Village of Aniak"]
["Village of Atmautluak"]
["Village of Bill Moore's Slough"]
["Village of Chefornak"]
["Village of Clarks Point"]
["Village of Crooked Creek"]
["Village of Dot Lake"]
["Village of Iliamna"]
["Village of Kalskag"]
["Village of Kaltag"]
["Village of Kotlik"]
["Village of Lower Kalskag"]
["Village of Ohogamiut"]
["Village of Red Devil"]
["Village of Salamatoff"]
["Village of Sleetmute"]
["Village of Solomon"]
["Village of Stony River"]
["Village of Venetie"]
["Village of Wainwright"]
["Vuntut Gwitchin First Nation"]
["Wabasca Metis Local #90"]
["Wabasca-Desmarais Métis Local 90"]
["Wabaseemoong Independant First Nations"]
["Wabauskang First Nation"]
["Wabigoon Lake Ojibway Nation"]
["Wabun Tribal Council"]
["Wagmatcook"]
["Wahgoshig First Nation"]
["Wahnapitae First Nation"]
["Wahpeton Dakota Nation"]
["Wahta Mohawk"]
["Walker Mohawk"]
["Walker River Paiute Tribe of the Walker River Reservation, Nevada"]
["Walpole Island"]
["Wampanoag Tribe of Gay Head (Aquinnah)"]
["Wapekeka"]
["War Lake First Nation"]
["Wasagamack First Nation"]
["Wasauksing First Nation"]
["Washoe Tribe of Nevada & California (Carson Colony, Dresslerville Colony, Woodfords Community, Stewart Community, & Washoe Ranches)"]
["Waswanipi"]
["Waterhen Lake"]
["Wauzhushk Onigum - Rat Portage"]
["Wawakapewin"]
["Waycobah First Nation"]
["Waywayseecappo First Nation"]
["Webequie"]
["Weenusk"]
["Wemotaci First Nation"]
["Wesley"]
["West Moberly First Nation"]
["West Point First Nation"]
["Westbank First Nation"]
["Western Cree Tribal Council"]
["Wet'suwet'en First Nation"]
["Wha Ti First Nation"]
["Whispering Pines/Clinton"]
["White Bear"]
["White Mountain Apache Tribe of the Fort Apache Reservation, Arizona"]
["White River First Nation"]
["Whitecap Dakota First Nation"]
["Whitefish Lake First Nation"]
["Whitefish Lake First Nation 128"]
["Whitefish River"]
["Whitesand"]
["Whitney and Area Algonquins"]
["Wichita and Affiliated Tribes"]
["Wikwemikong"]
["Williams Lake"]
["Willow Lake Métis Local 780"]
["Wilton Rancheria"]
["Winnebago Tribe of Nebraska"]
["Winnemucca Indian Colony of Nevada"]
["Witchekan Lake"]
["Wiyot Tribe, California"]
["Wolf Lake First Nation"]
["Wood Mountain"]
["Woodland Cree First Nation"]
["Woodstock First Nation and Madawaska Maliseet First Nation"]
["Wrangell Cooperative Association"]
["Wuikinuxv Nation"]
["Wunnumin"]
["Wuse Mo"]
["Wuskwi Sipihk First Nation"]
["Wyandotte Nation"]
["Xaxli'p"]
["Xeni Gwet'in First Nations Government"]
["Yakutat Tlingit Tribe"]
["Yakweakwioose"]
["Yale First Nation"]
["Yankton Sioux Tribe of South Dakota"]
["Yavapai-Apache Nation of the Camp Verde Indian Reservation, Arizona"]
["Yavapai-Prescott Indian Tribe"]
["Yekooche First Nation"]
["Yellow Quill"]
["Yellowknives Dene First Nation"]
["Yerington Paiute Tribe of the Yerington Colony & Campbell Ranch, Nevada"]
["Yocha Dehe Wintun Nation, California"]
["Yomba Shoshone Tribe of the Yomba Reservation, Nevada"]
["York Factory First Nation"]
["Ysleta del Sur Pueblo"]
["Yunesit'in Government"]
["Yupiit of Andreafski"]
["Yurok Tribe of the Yurok Reservation, California"]
["Zhiibaahaasing First Nation"]
["Zuni Tribe of the Zuni Reservation"]

{"sheet":"Leveraging Plans","index":21,"n_rows":7,"n_cols":1,"rows_kept":7,"cut":false,"hidden":true,"merged":[]}
["Leveraging Plans"]
["Event Attendance"]
["Volunteer Opportunity"]
["Print Recognition"]
["Verbal Recognition"]
["Media Recognition"]
["Other"]

{"sheet":"Release Notes","index":22,"n_rows":16,"n_cols":2,"rows_kept":16,"cut":false,"hidden":true,"merged":[]}
["Release",2.4]
["Date","2018-10-03"]
[]
["Renumbered from a previous version"]
["Aboriginal Affiliations updated"]
["Added diversity categories to Materials tab"]
[]
[]
[]
[]
["Release",4.5599999999999996]
["Date","2016-10-21"]
[]
["Updated all drop downs to make case sensitive except Aboriginal Affiliation"]
["Aboriginal Affiliation fixed at time of export to 'Proper' case"]
["Added Community Investment Sheet"]

{"sheet":"Copy Map","index":23,"n_rows":41,"n_cols":34,"rows_kept":41,"cut":false,"hidden":true,"merged":[]}
["Sheets","From","To",null,"Employee Profiles","From","To","Materials","From","To","Expenses","From","To","Subcontractor Spend","From","To","Community Investment","From","To",null,"Export",null,"Materials",null,null,"Expenses",null,null,"Subcontractor Spend",null,null,"Community Investment"]
["Employee Profiles","F","G",null,"Count Ranges",{"$f":"COUNTIF(F3:F104, \"<>\")","v":10},null,null,{"$f":"COUNTIF(I3:I104, \"<>\")","v":10},null,null,{"$f":"COUNTIF(L3:L104, \"<>\")","v":3},null,null,{"$f":"COUNTIF(O3:O104, \"<>\")","v":4},null,null,{"$f":"COUNTIF(R3:R104, \"<>\")","v":7},null,null,"City","A","Supplier Name","A","AA","Total Expenses ","A","AC","Subcontractor",null,null,"Recipient Organization","A","AL"]
["Materials","I","J",null,"Home City - Service Completed","C6:G","A","Material Supplier Name","A4:A","AA","Total Expenses ","A4:A","AC","Service Type","B4:B","AI","Recipient Organization - Spend Amt","A4:B","AK",null,"Province/ State","B","Material Type","B","AI","Currency","B","V","Service Type","B","AJ","Spend Amount","B","AM"]
["Expenses","L","M",null,"Hours Worked","H6:H","U","Material Type","B4:B","AH","Currency","B4:B","V","Hours worked to Total Spend","C4:D","AD","Currency","C4:C","V",null,"Country","C","Cost Incl Tax","C","AB","City/ Town","C","W","Hours Worked","C","AD","Currency","C","V"]
["Subcontractor Spend","O","P",null,"Hourly Rate","I6:I","F","Cost Incl Tax","C4:C","AB","Spend City - Zip","C4:F","W","Currency","E4:E","V","Spend City - Zip","D4:G","W",null,"Postal/Zip Code","D","Currency","D","V","Province/ State","D","X","Total Spend","D","AE","City/ Town","D","W"]
["Community Investment","R","S",null,"Currency","J6:J","V","Currency","D4:D","V",null,null,null,"Traditional Studies to Related Sub","F4:G","AF","Indigenous","H4:H","K",null,"Service Completed","E","City/ Town","E","W","Country","E","Y","Currency","E","V","Province/ State","E","X"]
[null,null,null,null,"Diversity, Choose Not to Answer - Women","K6:M","G","City - Zip Code","E4:H","W",null,null,null,null,null,null,"Div Native American","I4:I","O",null,"Hourly Rate","F","Province/ State","F","X","Postal/ Zip Code","F","Z","Traditional Studies","F","AF","Country","F","Y"]
[null,null,null,null,"LGBT","N6:N","AO","No - Women","I4:J","H",null,null,null,null,null,null,"Aboriginal Affiliation","J4:K","Q",null,"Choose Not To Answer","G","Country","G","Y","Indigenous (CAN)","G","I","Related Subcontractor","G","AG","Postal/ Zip Code","G","Z"]
[null,null,null,null,"Visible Minority  (CAN) - Indigenous","O6:P","J","LGBT","K4:K","AO",null,null,null,null,null,null,"Community Inv - Lev Plans","L4:M","AM",null,"No","H","Postal/ Zip Code","H","Z","Native-American (USA)","H","O",null,null,null,"Aboriginal/Tribal Affiliation","H","Q"]
[null,null,null,null,"African - Native American","R6:U","L","Visible Minority - Indigenous","L4:M","J",null,null,null,null,null,null,null,null,null,null,"Women","I","Indigenous (CAN)","I","I","Aboriginal/Tribal Affiliation","I","Q",null,null,null,"Aboriginal/ Tribal Affiliation Other","I","R"]
[null,null,null,null,"Indigenous community - Union","V6:Y","Q","Veteran","N4:N","P",null,null,null,null,null,null,null,null,null,null,"Visible Minority","J","Native-American (USA)","J","O","Other Aboriginal/ Tribal Affiliation","J","R",null,null,null,"Community Investment Type","J","AN"]
[null,null,null,null,"Veteran","Q6:Q","P","Aboriginal/Tribal Affiliation To Other","O4:P","Q",null,null,null,null,null,null,null,null,null,null,"Indigenous","K","Aboriginal/Tribal Affiliation","K","Q",null,null,null,null,null,null,"Leveraging Plans","K","AO"]
[null,null,null,null,null,null,null,null,null,null,null,null,null,null,null,null,null,null,null,null,"Div African-American","L","Other Aboriginal/ Tribal Affiliation","L","R"]
[null,null,null,null,null,null,null,null,null,null,null,null,null,null,null,null,null,null,null,null,"Div Asian-American","M"]
[null,null,null,null,null,null,null,null,null,null,null,null,null,null,null,null,null,null,null,null,"Div Hispanic-American","N"]
[null,null,null,null,null,null,null,null,null,null,null,null,null,null,null,null,null,null,null,null,"Div Native-American","O"]
[null,null,null,null,null,null,null,null,null,null,null,null,null,null,null,null,null,null,null,null,"Div Veteran","P"]
[null,null,null,null,null,null,null,null,null,null,null,null,null,null,null,null,null,null,null,null,"Aboriginal Affiliation","Q"]
[null,null,null,null,null,null,null,null,null,null,null,null,null,null,null,null,null,null,null,null,"Aboriginal Affiliation Other","R"]
[null,null,null,null,null,null,null,null,null,null,null,null,null,null,null,null,null,null,null,null,"Related TFW Program","S"]
[null,null,null,null,null,null,null,null,null,null,null,null,null,null,null,null,null,null,null,null,"Labour Union","T"]
[null,null,null,null,null,null,null,null,null,null,null,null,null,null,null,null,null,null,null,null,"Hours Worked","U"]
[null,null,null,null,null,null,null,null,null,null,null,null,null,null,null,null,null,null,null,null,"Currency","V"]
[null,null,null,null,null,null,null,null,null,null,null,null,null,null,null,null,null,null,null,null,"Spend City","W"]
[null,null,null,null,null,null,null,null,null,null,null,null,null,null,null,null,null,null,null,null,"Spend Province/ State","X"]
[null,null,null,null,null,null,null,null,null,null,null,null,null,null,null,null,null,null,null,null,"Spend Country","Y"]
[null,null,null,null,null,null,null,null,null,null,null,null,null,null,null,null,null,null,null,null,"Spend Postal Zip Code","Z"]
[null,null,null,null,null,null,null,null,null,null,null,null,null,null,null,null,null,null,null,null,"Material Supplier Name","AA"]
[null,null,null,null,null,null,null,null,null,null,null,null,null,null,null,null,null,null,null,null,"Material Cost Incl Tax","AB"]
[null,null,null,null,null,null,null,null,null,null,null,null,null,null,null,null,null,null,null,null,"Total Per Diem","AC"]
[null,null,null,null,null,null,null,null,null,null,null,null,null,null,null,null,null,null,null,null,"Sub Hours Worked","AD"]
[null,null,null,null,null,null,null,null,null,null,null,null,null,null,null,null,null,null,null,null,"Sub Total Spend","AE"]
[null,null,null,null,null,null,null,null,null,null,null,null,null,null,null,null,null,null,null,null,"Traditional Studies","AF"]
[null,null,null,null,null,null,null,null,null,null,null,null,null,null,null,null,null,null,null,null,"Phase Subcontractor","AG"]
[null,null,null,null,null,null,null,null,null,null,null,null,null,null,null,null,null,null,null,null,"Material Type","AH"]
[null,null,null,null,null,null,null,null,null,null,null,null,null,null,null,null,null,null,null,null,"Service Type","AI"]
[null,null,null,null,null,null,null,null,null,null,null,null,null,null,null,null,null,null,null,null,"Related DLS Record","AJ"]
[null,null,null,null,null,null,null,null,null,null,null,null,null,null,null,null,null,null,null,null,"Recipient Organization","AK"]
[null,null,null,null,null,null,null,null,null,null,null,null,null,null,null,null,null,null,null,null,"Community Spend","AL"]
[null,null,null,null,null,null,null,null,null,null,null,null,null,null,null,null,null,null,null,null,"Community Investment Type","AM"]
[null,null,null,null,null,null,null,null,null,null,null,null,null,null,null,null,null,null,null,null,"Leveraging Plans","AN"]