{"text_format":"1","workbook":"xlsx","n_sheets":24,"sheets":["Configuration","Export","Employee Profiles","Materials","Expenses","Subcontractor Spend","Community Investment","Subcontractors","Diversity Information Consent","Case","Com Inv Type","Unions","Material Types","Service Type","Currency","Provinces States","Countries","Service Completed","TFW Programs","Traditional Studies","Aboriginal Affiliation","Leveraging Plans","Release Notes","Copy Map"],"not_rendered":{"charts":0,"images":0,"macros":1,"external_links":0,"defined_names":2,"comments":6,"pivot_tables":0},"unopened":[],"bounds":{"document_bytes":16777216,"sheet_cells":100000,"rows_first":2000,"rows_last":500,"rows_between":2000,"halvings":0,"cell_chars":16384,"cell_head_chars":4096},"cells_cut":0,"cells_raw":0,"read":"whole","date_system":"1900"}

{"sheet":"Configuration","index":0,"n_rows":22,"n_cols":4,"rows_kept":22,"cut":false,"hidden":false,"merged":[[21,3,21,16],[9,3,9,16],[10,3,10,16],[13,3,13,16],[14,3,14,16],[15,3,15,16],[16,3,16,16],[18,3,18,16],[19,3,19,16],[20,3,20,16],[11,3,11,16],[6,3,6,16],[12,3,12,16],[17,3,17,16],[0,3,0,16],[3,3,3,16],[5,3,5,16],[1,3,1,16],[2,3,2,16],[4,3,4,16],[7,3,7,16],[8,3,8,16]]}
["QuickBase Record ID",null,null,"TransCanda Diverse and Local Spend Template (USA)"]
[null,null,null,"Enter your company's diverse and local spend for each period by filling out this template.  Below are high-level instructions.  Detailed instructions will be provided to you separately. Additionally the detailed instructions are stored in the\nQuickBase app called \"Support Centre\" on the 'Help' page.   \nIf you require assistance filling out the  Template or uploading the data, send an email to DLS_Support@TransCanada.com."]
[null,null,null,"Note: All diversity information provided to us by your company and employees is voluntary.  For more information\nclick on the worksheet called ``Diversity Information Consent\""]
[null,null,null,"Click Enable Macros on the yellow bar above if required before populating information."]
[null,null,null,"Step 1 - Prepare the  Template"]
[null,null,null,"1. Enter your subcontractor companies on the Subcontractors  worksheet, along with the ID for each subcontractor (as listed in the DLS Record in QuickBase).  Then click \"Update Subcontractors list.\"   This will auto populate the Subcontractor dropdown boxes with your listing of subcontractors throughout the monthly record form."]
[null,null,null,"Step 2 - Enter the  data"]
[null,null,null,"1. Fill out the Employees Profiles worksheet - Enter a record for each of your direct employees and subcontractor employees (if known) who worked on the project during the reporting period.   "]
[null,null,null,"2. Fill out the Materials worksheet  - Record the local purchases including rentals by location for this reporting period"]
[null,null,null,"3. Fill out the Expenses worksheet -  Record the local expenses including per diem by location for this reporting period."]
[null,null,null,"4. Fill out the Subcontractor Spend worksheet - Record the $ paid to each subcontractor during the period"]
[null,null,null,"5. Fill out the Community Investment worksheet - Record the $ contributed to each recipient organization durin gthe reporting period, as applicable"]
[null,null,null,"Step 3 - Prepare the Upload File (CSV)"]
[null,null,null,"1. Retrieve your QuickBase DLS Record ID number. The ID number is listed on your DLS Record and enter the ID in the green square located on this worksheet (Configuration)"]
[null,null,null,"2. Click \"Prep Export Sheet\" on this worksheet (Configuration)"]
[null,null,null,"3. Click the \"Export\" worksheet below and save that worksheet to your desktop as a CSV file.  "]
[null,null,null,"Hint: Include in the filename the project, period, and DLS Record ID#  to help organize your work and to ensure you upload the correct DLS record each period."]
[null,null,null,"Step 4 - Upload and Submit the Data"]
[null,null,null,"1. Log into the Supplier DLS Portal, open up the \"DLS Record\" that has been assigned to you by clicking the edit icon (\"pencil\")"]
[null,null,null,"2. Click the \"Import from CSV\" button in the DLS record, and follow the steps to import the data"]
[null,null,null,"3. Review all data in the \"DLS Record\" to ensure all data is accurate "]
[null,null,null,"4. Click \"Submit\" at the bottom of the record.  You will receive a notification that the data was submitted and will be reviewed by a TransCanada and you will either be notified if further information is required or if your report has been reviewed as complete. "]

{"sheet":"Export","index":1,"n_rows":1,"n_cols":41,"rows_kept":1,"cut":false,"hidden":false,"merged":[]}
["City","Province/ State","Country","Postal/Zip Code","Service Completed","Hourly Rate","Choose Not To Answer","No","Women","Visible Minority","Indigenous","Div African-American","Div Asian-American","Div Hispanic-American","Div Native-American","Div Veteran","Aboriginal Affiliation","Aboriginal Affiliation Other","Related TFW Program","Labour Union","Hours Worked","Currency","Spend City","Spend Province/ State","Spend Country","Spend Postal Zip Code","Material Supplier Name","Material Cost Incl Tax","Total Per Diem","Sub Hours Worked","Sub Total Spend","Traditional Studies","Phase Subcontractor","Material Type","Service Type","Related DLS Record","Recipient Organization","Community Spend","Community Investment Type","Leveraging Plans","Div LGBT"]

{"sheet":"Employee Profiles","index":2,"n_rows":5024,"n_cols":27,"rows_kept":2250,"cut":true,"hidden":false,"merged":[],"bounds":{"rows_first":1000,"rows_last":250,"rows_between":1000,"halvings":1}}
[]
[]
[]
[null,null,null,null,null,null,null,null,null,null,null,null,null,null,null,null,null,null,null,null,null,"Hide",null,null,"Hide"]
["Subcontractor","Name","Home City","Home Province/ State","Home Country","Home Postal/ Zip Code","Service Completed","Hours Worked","Hourly Rate","Currency","Choose Not To Answer","No","Women","African-American (USA)","Asian-American (USA)","Hispanic-American (USA)","Native-Amerian (USA)","Veteran","LGBT","Indigenous/Tribal Community","Other Indigenous/Tribal Community","Related TFW Program","Labour Union","Temporary Foreign Worker Program","Related Phase Subcontractor"]
[null,null,null,null,null,null,null,null,null,null,null,null,null,null,null,null,null,null,null,null,null,{"$f":"IF(LEN(X6)>0,VLOOKUP(X6,'TFW Programs'!$A$2:$B$24,2,FALSE),\"\")","v":""},null,null,null,null,{"$f":"IF(LEN(A6)>0,VLOOKUP(A6,Subcontractors!$A$2:$B$2,2,FALSE),\"\")","v":""}]
[null,null,null,null,null,null,null,null,null,null,null,null,null,null,null,null,null,null,null,null,null,{"$f":"IF(LEN(X7)>0,VLOOKUP(X7,'TFW Programs'!$A$2:$B$24,2,FALSE),\"\")","v":""},null,null,null,null,{"$f":"IF(LEN(A7)>0,VLOOKUP(A7,Subcontractors!$A$2:$B$2,2,FALSE),\"\")","v":""}]
[null,null,null,null,null,null,null,null,null,null,null,null,null,null,null,null,null,null,null,null,null,{"$f":"IF(LEN(X8)>0,VLOOKUP(X8,'TFW Programs'!$A$2:$B$24,2,FALSE),\"\")","v":""},null,null,null,null,{"$f":"IF(LEN(A8)>0,VLOOKUP(A8,Subcontractors!$A$2:$B$2,2,FALSE),\"\")","v":""}]
[null,null,null,null,null,null,null,null,null,null,null,null,null,null,null,null,null,null,null,null,null,{"$f":"IF(LEN(X9)>0,VLOOKUP(X9,'TFW Programs'!$A$2:$B$24,2,FALSE),\"\")","v":""},null,null,null,null,{"$f":"IF(LEN(A9)>0,VLOOKUP(A9,Subcontractors!$A$2:$B$2,2,FALSE),\"\")","v":""}]
[null,null,null,null,null,null,null,null,null,null,null,null,null,null,null,null,null,null,null,null,null,{"$f":"IF(LEN(X10)>0,VLOOKUP(X10,'TFW Programs'!$A$2:$B$24,2,FALSE),\"\")","v":""},null,null,null,null,{"$f":"IF(LEN(A10)>0,VLOOKUP(A10,Subcontractors!$A$2:$B$2,2,FALSE),\"\")","v":""}]
[null,null,null,null,null,null,null,null,null,null,null,null,null,null,null,null,null,null,null,null,null,{"$f":"IF(LEN(X11)>0,VLOOKUP(X11,'TFW Programs'!$A$2:$B$24,2,FALSE),\"\")","v":""},null,null,null,null,{"$f":"IF(LEN(A11)>0,VLOOKUP(A11,Subcontractors!$A$2:$B$2,2,FALSE),\"\")","v":""}]
[null,null,null,null,null,null,null,null,null,null,null,null,null,null,null,null,null,null,null,null,null,{"$f":"IF(LEN(X12)>0,VLOOKUP(X12,'TFW Programs'!$A$2:$B$24,2,FALSE),\"\")","v":""},null,null,null,null,{"$f":"IF(LEN(A12)>0,VLOOKUP(A12,Subcontractors!$A$2:$B$2,2,FALSE),\"\")","v":""}]
[null,null,null,null,null,null,null,null,null,null,null,null,null,null,null,null,null,null,null,null,null,{"$f":"IF(LEN(X13)>0,VLOOKUP(X13,'TFW Programs'!$A$2:$B$24,2,FALSE),\"\")","v":""},null,null,null,null,{"$f":"IF(LEN(A13)>0,VLOOKUP(A13,Subcontractors!$A$2:$B$2,2,FALSE),\"\")","v":""}]
[null,null,null,null,null,null,null,null,null,null,null,null,null,null,null,null,null,null,null,null,null,{"$f":"IF(LEN(X14)>0,VLOOKUP(X14,'TFW Programs'!$A$2:$B$24,2,FALSE),\"\")","v":""},null,null,null,null,{"$f":"IF(LEN(A14)>0,VLOOKUP(A14,Subcontractors!$A$2:$B$2,2,FALSE),\"\")","v":""}]
[null,null,null,null,null,null,null,null,null,null,null,null,null,null,null,null,null,null,null,null,null,{"$f":"IF(LEN(X15)>0,VLOOKUP(X15,'TFW Programs'!$A$2:$B$24,2,FALSE),\"\")","v":""},null,null,null,null,{"$f":"IF(LEN(A15)>0,VLOOKUP(A15,Subcontractors!$A$2:$B$2,2,FALSE),\"\")","v":""}]
[null,null,null,null,null,null,null,null,null,null,null,null,null,null,null,null,null,null,null,null,null,{"$f":"IF(LEN(X16)>0,VLOOKUP(X16,'TFW Programs'!$A$2:$B$24,2,FALSE),\"\")","v":""},null,null,{"$f":"IF(LEN(A16)>0,VLOOKUP(A16,Subcontractors!$A$2:$B$3,2,FALSE),\"\")","v":""},null,{"$f":"IF(LEN(A16)>0,VLOOKUP(A16,Subcontractors!$A$2:$B$2,2,FALSE),\"\")","v":""}]
[null,null,null,null,null,null,null,null,null,null,null,null,null,null,null,null,null,null,null,null,null,{"$f":"IF(LEN(X17)>0,VLOOKUP(X17,'TFW Programs'!$A$2:$B$24,2,FALSE),\"\")","v":""},null,null,{"$f":"IF(LEN(A17)>0,VLOOKUP(A17,Subcontractors!$A$2:$B$3,2,FALSE),\"\")","v":""},null,{"$f":"IF(LEN(A17)>0,VLOOKUP(A17,Subcontractors!$A$2:$B$2,2,FALSE),\"\")","v":""}]
[null,null,null,null,null,null,null,null,null,null,null,null,null,null,null,null,null,null,null,null,null,{"$f":"IF(LEN(X18)>0,VLOOKUP(X18,'TFW Programs'!$A$2:$B$24,2,FALSE),\"\")","v":""},null,null,{"$f":"IF(LEN(A18)>0,VLOOKUP(A18,Subcontractors!$A$2:$B$3,2,FALSE),\"\")","v":""},null,{"$f":"IF(LEN(A18)>0,VLOOKUP(A18,Subcontractors!$A$2:$B$2,2,FALSE),\"\")","v":""}]
[null,null,null,null,null,null,null,null,null,null,null,null,null,null,null,null,null,null,null,null,null,{"$f":"IF(LEN(X19)>0,VLOOKUP(X19,'TFW Programs'!$A$2:$B$24,2,FALSE),\"\")","v":""},null,null,{"$f":"IF(LEN(A19)>0,VLOOKUP(A19,Subcontractors!$A$2:$B$3,2,FALSE),\"\")","v":""},null,{"$f":"IF(LEN(A19)>0,VLOOKUP(A19,Subcontractors!$A$2:$B$2,2,FALSE),\"\")","v":""}]
[null,null,null,null,null,null,null,null,null,null,null,null,null,null,null,null,null,null,null,null,null,{"$f":"IF(LEN(X20)>0,VLOOKUP(X20,'TFW Programs'!$A$2:$B$24,2,FALSE),\"\")","v":""},null,null,{"$f":"IF(LEN(A20)>0,VLOOKUP(A20,Subcontractors!$A$2:$B$3,2,FALSE),\"\")","v":""},null,{"$f":"IF(LEN(A20)>0,VLOOKUP(A20,Subcontractors!$A$2:$B$2,2,FALSE),\"\")","v":""}]
[null,null,null,null,null,null,null,null,null,null,null,null,null,null,null,null,null,null,null,null,null,{"$f":"IF(LEN(X21)>0,VLOOKUP(X21,'TFW Programs'!$A$2:$B$24,2,FALSE),\"\")","v":""},null,null,{"$f":"IF(LEN(A21)>0,VLOOKUP(A21,Subcontractors!$A$2:$B$3,2,FALSE),\"\")","v":""},null,{"$f":"IF(LEN(A21)>0,VLOOKUP(A21,Subcontractors!$A$2:$B$2,2,FALSE),\"\")","v":""}]
[null,null,null,null,null,null,null,null,null,null,null,null,null,null,null,null,null,null,null,null,null,{"$f":"IF(LEN(X22)>0,VLOOKUP(X22,'TFW Programs'!$A$2:$B$24,2,FALSE),\"\")","v":""},null,null,{"$f":"IF(LEN(A22)>0,VLOOKUP(A22,Subcontractors!$A$2:$B$3,2,FALSE),\"\")","v":""},null,{"$f":"IF(LEN(A22)>0,VLOOKUP(A22,Subcontractors!$A$2:$B$2,2,FALSE),\"\")","v":""}]
[null,null,null,null,null,null,null,null,null,null,null,null,null,null,null,null,null,null,null,null,null,{"$f":"IF(LEN(X23)>0,VLOOKUP(X23,'TFW Programs'!$A$2:$B$24,2,FALSE),\"\")","v":""},null,null,{"$f":"IF(LEN(A23)>0,VLOOKUP(A23,Subcontractors!$A$2:$B$3,2,FALSE),\"\")","v":""},null,{"$f":"IF(LEN(A23)>0,VLOOKUP(A23,Subcontractors!$A$2:$B$2,2,FALSE),\"\")","v":""}]
[null,null,null,null,null,null,null,null,null,null,null,null,null,null,null,null,null,null,null,null,null,{"$f":"IF(LEN(X24)>0,VLOOKUP(X24,'TFW Programs'!$A$2:$B$24,2,FALSE),\"\")","v":""},null,null,{"$f":"IF(LEN(A24)>0,VLOOKUP(A24,Subcontractors!$A$2:$B$3,2,FALSE),\"\")","v":""},null,{"$f":"IF(LEN(A24)>0,VLOOKUP(A24,Subcontractors!$A$2:$B$2,2,FALSE),\"\")","v":""}]
[null,null,null,null,null,null,null,null,null,null,null,null,null,null,null,null,null,null,null,null,null,{"$f":"IF(LEN(X25)>0,VLOOKUP(X25,'TFW Programs'!$A$2:$B$24,2,FALSE),\"\")","v":""},null,null,{"$f":"IF(LEN(A25)>0,VLOOKUP(A25,Subcontractors!$A$2:$B$3,2,FALSE),\"\")","v":""},null,{"$f":"IF(LEN(A25)>0,VLOOKUP(A25,Subcontractors!$A$2:$B$2,2,FALSE),\"\")","v":""}]
[null,null,null,null,null,null,null,null,null,null,null,null,null,null,null,null,null,null,null,null,null,{"$f":"IF(LEN(X26)>0,VLOOKUP(X26,'TFW Programs'!$A$2:$B$24,2,FALSE),\"\")","v":""},null,null,{"$f":"IF(LEN(A26)>0,VLOOKUP(A26,Subcontractors!$A$2:$B$3,2,FALSE),\"\")","v":""},null,{"$f":"IF(LEN(A26)>0,VLOOKUP(A26,Subcontractors!$A$2:$B$2,2,FALSE),\"\")","v":""}]
[null,null,null,null,null,null,null,null,null,null,null,null,null,null,null,null,null,null,null,null,null,{"$f":"IF(LEN(X27)>0,VLOOKUP(X27,'TFW Programs'!$A$2:$B$24,2,FALSE),\"\")","v":""},null,null,{"$f":"IF(LEN(A27)>0,VLOOKUP(A27,Subcontractors!$A$2:$B$3,2,FALSE),\"\")","v":""},null,{"$f":"IF(LEN(A27)>0,VLOOKUP(A27,Subcontractors!$A$2:$B$2,2,FALSE),\"\")","v":""}]
[null,null,null,null,null,null,null,null,null,null,null,null,null,null,null,null,null,null,null,null,null,{"$f":"IF(LEN(X28)>0,VLOOKUP(X28,'TFW Programs'!$A$2:$B$24,2,FALSE),\"\")","v":""},null,null,{"$f":"IF(LEN(A28)>0,VLOOKUP(A28,Subcontractors!$A$2:$B$3,2,FALSE),\"\")","v":""},null,{"$f":"IF(LEN(A28)>0,VLOOKUP(A28,Subcontractors!$A$2:$B$2,2,FALSE),\"\")","v":""}]
[null,null,null,null,null,null,null,null,null,null,null,null,null,null,null,null,null,null,null,null,null,{"$f":"IF(LEN(X29)>0,VLOOKUP(X29,'TFW Programs'!$A$2:$B$24,2,FALSE),\"\")","v":""},null,null,{"$f":"IF(LEN(A29)>0,VLOOKUP(A29,Subcontractors!$A$2:$B$3,2,FALSE),\"\")","v":""},null,{"$f":"IF(LEN(A29)>0,VLOOKUP(A29,Subcontractors!$A$2:$B$2,2,FALSE),\"\")","v":""}]
[null,null,null,null,null,null,null,null,null,null,null,null,null,null,null,null,null,null,null,null,null,{"$f":"IF(LEN(X30)>0,VLOOKUP(X30,'TFW Programs'!$A$2:$B$24,2,FALSE),\"\")","v":""},null,null,{"$f":"IF(LEN(A30)>0,VLOOKUP(A30,Subcontractors!$A$2:$B$3,2,FALSE),\"\")","v":""},null,{"$f":"IF(LEN(A30)>0,VLOOKUP(A30,Subcontractors!$A$2:$B$2,2,FALSE),\"\")","v":""}]
[null,null,null,null,null,null,null,null,null,null,null,null,null,null,null,null,null,null,null,null,null,{"$f":"IF(LEN(X31)>0,VLOOKUP(X31,'TFW Programs'!$A$2:$B$24,2,FALSE),\"\")","v":""},null,null,{"$f":"IF(LEN(A31)>0,VLOOKUP(A31,Subcontractors!$A$2:$B$3,2,FALSE),\"\")","v":""},null,{"$f":"IF(LEN(A31)>0,VLOOKUP(A31,Subcontractors!$A$2:$B$2,2,FALSE),\"\")","v":""}]
[null,null,null,null,null,null,null,null,null,null,null,null,null,null,null,null,null,null,null,null,null,{"$f":"IF(LEN(X32)>0,VLOOKUP(X32,'TFW Programs'!$A$2:$B$24,2,FALSE),\"\")","v":""},null,null,{"$f":"IF(LEN(A32)>0,VLOOKUP(A32,Subcontractors!$A$2:$B$3,2,FALSE),\"\")","v":""},null,{"$f":"IF(LEN(A32)>0,VLOOKUP(A32,Subcontractors!$A$2:$B$2,2,FALSE),\"\")","v":""}]
[null,null,null,null,null,null,null,null,null,null,null,null,null,null,null,null,null,null,null,null,null,{"$f":"IF(LEN(X33)>0,VLOOKUP(X33,'TFW Programs'!$A$2:$B$24,2,FALSE),\"\")","v":""},null,null,{"$f":"IF(LEN(A33)>0,VLOOKUP(A33,Subcontractors!$A$2:$B$3,2,FALSE),\"\")","v":""},null,{"$f":"IF(LEN(A33)>0,VLOOKUP(A33,Subcontractors!$A$2:$B$2,2,FALSE),\"\")","v":""}]
[null,null,null,null,null,null,null,null,null,null,null,null,null,null,null,null,null,null,null,null,null,{"$f":"IF(LEN(X34)>0,VLOOKUP(X34,'TFW Programs'!$A$2:$B$24,2,FALSE),\"\")","v":""},null,null,{"$f":"IF(LEN(A34)>0,VLOOKUP(A34,Subcontractors!$A$2:$B$3,2,FALSE),\"\")","v":""},null,{"$f":"IF(LEN(A34)>0,VLOOKUP(A34,Subcontractors!$A$2:$B$2,2,FALSE),\"\")","v":""}]
[null,null,null,null,null,null,null,null,null,null,null,null,null,null,null,null,null,null,null,null,null,{"$f":"IF(LEN(X35)>0,VLOOKUP(X35,'TFW Programs'!$A$2:$B$24,2,FALSE),\"\")","v":""},null,null,{"$f":"IF(LEN(A35)>0,VLOOKUP(A35,Subcontractors!$A$2:$B$3,2,FALSE),\"\")","v":""},null,{"$f":"IF(LEN(A35)>0,VLOOKUP(A35,Subcontractors!$A$2:$B$2,2,FALSE),\"\")","v":""}]
[null,null,null,null,null,null,null,null,null,null,null,null,null,null,null,null,null,null,null,null,null,{"$f":"IF(LEN(X36)>0,VLOOKUP(X36,'TFW Programs'!$A$2:$B$24,2,FALSE),\"\")","v":""},null,null,{"$f":"IF(LEN(A36)>0,VLOOKUP(A36,Subcontractors!$A$2:$B$3,2,FALSE),\"\")","v":""},null,{"$f":"IF(LEN(A36)>0,VLOOKUP(A36,Subcontractors!$A$2:$B$2,2,FALSE),\"\")","v":""}]
[null,null,null,null,null,null,null,null,null,null,null,null,null,null,null,null,null,null,null,null,null,{"$f":"IF(LEN(X37)>0,VLOOKUP(X37,'TFW Programs'!$A$2:$B$24,2,FALSE),\"\")","v":""},null,null,{"$f":"IF(LEN(A37)>0,VLOOKUP(A37,Subcontractors!$A$2:$B$3,2,FALSE),\"\")","v":""},null,{"$f":"IF(LEN(A37)>0,VLOOKUP(A37,Subcontractors!$A$2:$B$2,2,FALSE),\"\")","v":""}]
[null,null,null,null,null,null,null,null,null,null,null,null,null,null,null,null,null,null,null,null,null,{"$f":"IF(LEN(X38)>0,VLOOKUP(X38,'TFW Programs'!$A$2:$B$24,2,FALSE),\"\")","v":""},null,null,{"$f":"IF(LEN(A38)>0,VLOOKUP(A38,Subcontractors!$A$2:$B$3,2,FALSE),\"\")","v":""},null,{"$f":"IF(LEN(A38)>0,VLOOKUP(A38,Subcontractors!$A$2:$B$2,2,FALSE),\"\")","v":""}]
[null,null,null,null,null,null,null,null,null,null,null,null,null,null,null,null,null,null,null,null,null,{"$f":"IF(LEN(X39)>0,VLOOKUP(X39,'TFW Programs'!$A$2:$B$24,2,FALSE),\"\")","v":""},null,null,{"$f":"IF(LEN(A39)>0,VLOOKUP(A39,Subcontractors!$A$2:$B$3,2,FALSE),\"\")","v":""},null,{"$f":"IF(LEN(A39)>0,VLOOKUP(A39,Subcontractors!$A$2:$B$2,2,FALSE),\"\")","v":""}]
[null,null,null,null,null,null,null,null,null,null,null,null,null,null,null,null,null,null,null,null,null,{"$f":"IF(LEN(X40)>0,VLOOKUP(X40,'TFW Programs'!$A$2:$B$24,2,FALSE),\"\")","v":""},null,null,{"$f":"IF(LEN(A40)>0,VLOOKUP(A40,Subcontractors!$A$2:$B$3,2,FALSE),\"\")","v":""},null,{"$f":"IF(LEN(A40)>0,VLOOKUP(A40,Subcontractors!$A$2:$B$2,2,FALSE),\"\")","v":""}]
[null,null,null,null,null,null,null,null,null,null,null,null,null,null,null,null,null,null,null,null,null,{"$f":"IF(LEN(X41)>0,VLOOKUP(X41,'TFW Programs'!$A$2:$B$24,2,FALSE),\"\")","v":""},null,null,{"$f":"IF(LEN(A41)>0,VLOOKUP(A41,Subcontractors!$A$2:$B$3,2,FALSE),\"\")","v":""},null,{"$f":"IF(LEN(A41)>0,VLOOKUP(A41,Subcontractors!$A$2:$B$2,2,FALSE),\"\")","v":""}]
[null,null,null,null,null,null,null,null,null,null,null,null,null,null,null,null,null,null,null,null,null,{"$f":"IF(LEN(X42)>0,VLOOKUP(X42,'TFW Programs'!$A$2:$B$24,2,FALSE),\"\")","v":""},null,null,{"$f":"IF(LEN(A42)>0,VLOOKUP(A42,Subcontractors!$A$2:$B$3,2,FALSE),\"\")","v":""},null,{"$f":"IF(LEN(A42)>0,VLOOKUP(A42,Subcontractors!$A$2:$B$2,2,FALSE),\"\")","v":""}]
[null,null,null,null,null,null,null,null,null,null,null,null,null,null,null,null,null,null,null,null,null,{"$f":"IF(LEN(X43)>0,VLOOKUP(X43,'TFW Programs'!$A$2:$B$24,2,FALSE),\"\")","v":""},null,null,{"$f":"IF(LEN(A43)>0,VLOOKUP(A43,Subcontractors!$A$2:$B$3,2,FALSE),\"\")","v":""},null,{"$f":"IF(LEN(A43)>0,VLOOKUP(A43,Subcontractors!$A$2:$B$2,2,FALSE),\"\")","v":""}]
[null,null,null,null,null,null,null,null,null,null,null,null,null,null,null,null,null,null,null,null,null,{"$f":"IF(LEN(X44)>0,VLOOKUP(X44,'TFW Programs'!$A$2:$B$24,2,FALSE),\"\")","v":""},null,null,{"$f":"IF(LEN(A44)>0,VLOOKUP(A44,Subcontractors!$A$2:$B$3,2,FALSE),\"\")","v":""},null,{"$f":"IF(LEN(A44)>0,VLOOKUP(A44,Subcontractors!$A$2:$B$2,2,FALSE),\"\")","v":""}]
[null,null,null,null,null,null,null,null,null,null,null,null,null,null,null,null,null,null,null,null,null,{"$f":"IF(LEN(X45)>0,VLOOKUP(X45,'TFW Programs'!$A$2:$B$24,2,FALSE),\"\")","v":""},null,null,{"$f":"IF(LEN(A45)>0,VLOOKUP(A45,Subcontractors!$A$2:$B$3,2,FALSE),\"\")","v":""},null,{"$f":"IF(LEN(A45)>0,VLOOKUP(A45,Subcontractors!$A$2:$B$2,2,FALSE),\"\")","v":""}]
[null,null,null,null,null,null,null,null,null,null,null,null,null,null,null,null,null,null,null,null,null,{"$f":"IF(LEN(X46)>0,VLOOKUP(X46,'TFW Programs'!$A$2:$B$24,2,FALSE),\"\")","v":""},null,null,{"$f":"IF(LEN(A46)>0,VLOOKUP(A46,Subcontractors!$A$2:$B$3,2,FALSE),\"\")","v":""},null,{"$f":"IF(LEN(A46)>0,VLOOKUP(A46,Subcontractors!$A$2:$B$2,2,FALSE),\"\")","v":""}]
[null,null,null,null,null,null,null,null,null,null,null,null,null,null,null,null,null,null,null,null,null,{"$f":"IF(LEN(X47)>0,VLOOKUP(X47,'TFW Programs'!$A$2:$B$24,2,FALSE),\"\")","v":""},null,null,{"$f":"IF(LEN(A47)>0,VLOOKUP(A47,Subcontractors!$A$2:$B$3,2,FALSE),\"\")","v":""},null,{"$f":"IF(LEN(A47)>0,VLOOKUP(A47,Subcontractors!$A$2:$B$2,2,FALSE),\"\")","v":""}]
[null,null,null,null,null,null,null,null,null,null,null,null,null,null,null,null,null,null,null,null,null,{"$f":"IF(LEN(X48)>0,VLOOKUP(X48,'TFW Programs'!$A$2:$B$24,2,FALSE),\"\")","v":""},null,null,{"$f":"IF(LEN(A48)>0,VLOOKUP(A48,Subcontractors!$A$2:$B$3,2,FALSE),\"\")","v":""},null,{"$f":"IF(LEN(A48)>0,VLOOKUP(A48,Subcontractors!$A$2:$B$2,2,FALSE),\"\")","v":""}]
[null,null,null,null,null,null,null,null,null,null,null,null,null,null,null,null,null,null,null,null,null,{"$f":"IF(LEN(X49)>0,VLOOKUP(X49,'TFW Programs'!$A$2:$B$24,2,FALSE),\"\")","v":""},null,null,{"$f":"IF(LEN(A49)>0,VLOOKUP(A49,Subcontractors!$A$2:$B$3,2,FALSE),\"\")","v":""},null,{"$f":"IF(LEN(A49)>0,VLOOKUP(A49,Subcontractors!$A$2:$B$2,2,FALSE),\"\")","v":""}]
[null,null,null,null,null,null,null,null,null,null,null,null,null,null,null,null,null,null,null,null,null,{"$f":"IF(LEN(X50)>0,VLOOKUP(X50,'TFW Programs'!$A$2:$B$24,2,FALSE),\"\")","v":""},null,null,{"$f":"IF(LEN(A50)>0,VLOOKUP(A50,Subcontractors!$A$2:$B$3,2,FALSE),\"\")","v":""},null,{"$f":"IF(LEN(A50)>0,VLOOKUP(A50,Subcontractors!$A$2:$B$2,2,FALSE),\"\")","v":""}]
[null,null,null,null,null,null,null,null,null,null,null,null,null,null,null,null,null,null,null,null,null,{"$f":"IF(LEN(X51)>0,VLOOKUP(X51,'TFW Programs'!$A$2:$B$24,2,FALSE),\"\")","v":""},null,null,{"$f":"IF(LEN(A51)>0,VLOOKUP(A51,Subcontractors!$A$2:$B$3,2,FALSE),\"\")","v":""},null,{"$f":"IF(LEN(A51)>0,VLOOKUP(A51,Subcontractors!$A$2:$B$2,2,FALSE),\"\")","v":""}]
[null,null,null,null,null,null,null,null,null,null,null,null,null,null,null,null,null,null,null,null,null,{"$f":"IF(LEN(X52)>0,VLOOKUP(X52,'TFW Programs'!$A$2:$B$24,2,FALSE),\"\")","v":""},null,null,{"$f":"IF(LEN(A52)>0,VLOOKUP(A52,Subcontractors!$A$2:$B$3,2,FALSE),\"\")","v":""},null,{"$f":"IF(LEN(A52)>0,VLOOKUP(A52,Subcontractors!$A$2:$B$2,2,FALSE),\"\")","v":""}]
[null,null,null,null,null,null,null,null,null,null,null,null,null,null,null,null,null,null,null,null,null,{"$f":"IF(LEN(X53)>0,VLOOKUP(X53,'TFW Programs'!$A$2:$B$24,2,FALSE),\"\")","v":""},null,null,{"$f":"IF(LEN(A53)>0,VLOOKUP(A53,Subcontractors!$A$2:$B$3,2,FALSE),\"\")","v":""},null,{"$f":"IF(LEN(A53)>0,VLOOKUP(A53,Subcontractors!$A$2:$B$2,2,FALSE),\"\")","v":""}]
[null,null,null,null,null,null,null,null,null,null,null,null,null,null,null,null,null,null,null,null,null,{"$f":"IF(LEN(X54)>0,VLOOKUP(X54,'TFW Programs'!$A$2:$B$24,2,FALSE),\"\")","v":""},null,null,{"$f":"IF(LEN(A54)>0,VLOOKUP(A54,Subcontractors!$A$2:$B$3,2,FALSE),\"\")","v":""},null,{"$f":"IF(LEN(A54)>0,VLOOKUP(A54,Subcontractors!$A$2:$B$2,2,FALSE),\"\")","v":""}]
[null,null,null,null,null,null,null,null,null,null,null,null,null,null,null,null,null,null,null,null,null,{"$f":"IF(LEN(X55)>0,VLOOKUP(X55,'TFW Programs'!$A$2:$B$24,2,FALSE),\"\")","v":""},null,null,{"$f":"IF(LEN(A55)>0,VLOOKUP(A55,Subcontractors!$A$2:$B$3,2,FALSE),\"\")","v":""},null,{"$f":"IF(LEN(A55)>0,VLOOKUP(A55,Subcontractors!$A$2:$B$2,2,FALSE),\"\")","v":""}]
[null,null,null,null,null,null,null,null,null,null,null,null,null,null,null,null,null,null,null,null,null,{"$f":"IF(LEN(X56)>0,VLOOKUP(X56,'TFW Programs'!$A$2:$B$24,2,FALSE),\"\")","v":""},null,null,{"$f":"IF(LEN(A56)>0,VLOOKUP(A56,Subcontractors!$A$2:$B$3,2,FALSE),\"\")","v":""},null,{"$f":"IF(LEN(A56)>0,VLOOKUP(A56,Subcontractors!$A$2:$B$2,2,FALSE),\"\")","v":""}]
[null,null,null,null,null,null,null,null,null,null,null,null,null,null,null,null,null,null,null,null,null,{"$f":"IF(LEN(X57)>0,VLOOKUP(X57,'TFW Programs'!$A$2:$B$24,2,FALSE),\"\")","v":""},null,null,{"$f":"IF(LEN(A57)>0,VLOOKUP(A57,Subcontractors!$A$2:$B$3,2,FALSE),\"\")","v":""},null,{"$f":"IF(LEN(A57)>0,VLOOKUP(A57,Subcontractors!$A$2:$B$2,2,FALSE),\"\")","v":""}]
[null,null,null,null,null,null,null,null,null,null,null,null,null,null,null,null,null,null,null,null,null,{"$f":"IF(LEN(X58)>0,VLOOKUP(X58,'TFW Programs'!$A$2:$B$24,2,FALSE),\"\")","v":""},null,null,{"$f":"IF(LEN(A58)>0,VLOOKUP(A58,Subcontractors!$A$2:$B$3,2,FALSE),\"\")","v":""},null,{"$f":"IF(LEN(A58)>0,VLOOKUP(A58,Subcontractors!$A$2:$B$2,2,FALSE),\"\")","v":""}]
[null,null,null,null,null,null,null,null,null,null,null,null,null,null,null,null,null,null,null,null,null,{"$f":"IF(LEN(X59)>0,VLOOKUP(X59,'TFW Programs'!$A$2:$B$24,2,FALSE),\"\")","v":""},null,null,{"$f":"IF(LEN(A59)>0,VLOOKUP(A59,Subcontractors!$A$2:$B$3,2,FALSE),\"\")","v":""},null,{"$f":"IF(LEN(A59)>0,VLOOKUP(A59,Subcontractors!$A$2:$B$2,2,FALSE),\"\")","v":""}]
[null,null,null,null,null,null,null,null,null,null,null,null,null,null,null,null,null,null,null,null,null,{"$f":"IF(LEN(X60)>0,VLOOKUP(X60,'TFW Programs'!$A$2:$B$24,2,FALSE),\"\")","v":""},null,null,{"$f":"IF(LEN(A60)>0,VLOOKUP(A60,Subcontractors!$A$2:$B$3,2,FALSE),\"\")","v":""},null,{"$f":"IF(LEN(A60)>0,VLOOKUP(A60,Subcontractors!$A$2:$B$2,2,FALSE),\"\")","v":""}]
[null,null,null,null,null,null,null,null,null,null,null,null,null,null,null,null,null,null,null,null,null,{"$f":"IF(LEN(X61)>0,VLOOKUP(X61,'TFW Programs'!$A$2:$B$24,2,FALSE),\"\")","v":""},null,null,{"$f":"IF(LEN(A61)>0,VLOOKUP(A61,Subcontractors!$A$2:$B$3,2,FALSE),\"\")","v":""},null,{"$f":"IF(LEN(A61)>0,VLOOKUP(A61,Subcontractors!$A$2:$B$2,2,FALSE),\"\")","v":""}]
[null,null,null,null,null,null,null,null,null,null,null,null,null,null,null,null,null,null,null,null,null,{"$f":"IF(LEN(X62)>0,VLOOKUP(X62,'TFW Programs'!$A$2:$B$24,2,FALSE),\"\")","v":""},null,null,{"$f":"IF(LEN(A62)>0,VLOOKUP(A62,Subcontractors!$A$2:$B$3,2,FALSE),\"\")","v":""},null,{"$f":"IF(LEN(A62)>0,VLOOKUP(A62,Subcontractors!$A$2:$B$2,2,FALSE),\"\")","v":""}]
[null,null,null,null,null,null,null,null,null,null,null,null,null,null,null,null,null,null,null,null,null,{"$f":"IF(LEN(X63)>0,VLOOKUP(X63,'TFW Programs'!$A$2:$B$24,2,FALSE),\"\")","v":""},null,null,{"$f":"IF(LEN(A63)>0,VLOOKUP(A63,Subcontractors!$A$2:$B$3,2,FALSE),\"\")","v":""},null,{"$f":"IF(LEN(A63)>0,VLOOKUP(A63,Subcontractors!$A$2:$B$2,2,FALSE),\"\")","v":""}]
[null,null,null,null,null,null,null,null,null,null,null,null,null,null,null,null,null,null,null,null,null,{"$f":"IF(LEN(X64)>0,VLOOKUP(X64,'TFW Programs'!$A$2:$B$24,2,FALSE),\"\")","v":""},null,null,{"$f":"IF(LEN(A64)>0,VLOOKUP(A64,Subcontractors!$A$2:$B$3,2,FALSE),\"\")","v":""},null,{"$f":"IF(LEN(A64)>0,VLOOKUP(A64,Subcontractors!$A$2:$B$2,2,FALSE),\"\")","v":""}]
[null,null,null,null,null,null,null,null,null,null,null,null,null,null,null,null,null,null,null,null,null,{"$f":"IF(LEN(X65)>0,VLOOKUP(X65,'TFW Programs'!$A$2:$B$24,2,FALSE),\"\")","v":""},null,null,{"$f":"IF(LEN(A65)>0,VLOOKUP(A65,Subcontractors!$A$2:$B$3,2,FALSE),\"\")","v":""},null,{"$f":"IF(LEN(A65)>0,VLOOKUP(A65,Subcontractors!$A$2:$B$2,2,FALSE),\"\")","v":""}]
[null,null,null,null,null,null,null,null,null,null,null,null,null,null,null,null,null,null,null,null,null,{"$f":"IF(LEN(X66)>0,VLOOKUP(X66,'TFW Programs'!$A$2:$B$24,2,FALSE),\"\")","v":""},null,null,{"$f":"IF(LEN(A66)>0,VLOOKUP(A66,Subcontractors!$A$2:$B$3,2,FALSE),\"\")","v":""},null,{"$f":"IF(LEN(A66)>0,VLOOKUP(A66,Subcontractors!$A$2:$B$2,2,FALSE),\"\")","v":""}]
[null,null,null,null,null,null,null,null,null,null,null,null,null,null,null,null,null,null,null,null,null,{"$f":"IF(LEN(X67)>0,VLOOKUP(X67,'TFW Programs'!$A$2:$B$24,2,FALSE),\"\")","v":""},null,null,{"$f":"IF(LEN(A67)>0,VLOOKUP(A67,Subcontractors!$A$2:$B$3,2,FALSE),\"\")","v":""},null,{"$f":"IF(LEN(A67)>0,VLOOKUP(A67,Subcontractors!$A$2:$B$2,2,FALSE),\"\")","v":""}]
[null,null,null,null,null,null,null,null,null,null,null,null,null,null,null,null,null,null,null,null,null,{"$f":"IF(LEN(X68)>0,VLOOKUP(X68,'TFW Programs'!$A$2:$B$24,2,FALSE),\"\")","v":""},null,null,{"$f":"IF(LEN(A68)>0,VLOOKUP(A68,Subcontractors!$A$2:$B$3,2,FALSE),\"\")","v":""},null,{"$f":"IF(LEN(A68)>0,VLOOKUP(A68,Subcontractors!$A$2:$B$2,2,FALSE),\"\")","v":""}]
[null,null,null,null,null,null,null,null,null,null,null,null,null,null,null,null,null,null,null,null,null,{"$f":"IF(LEN(X69)>0,VLOOKUP(X69,'TFW Programs'!$A$2:$B$24,2,FALSE),\"\")","v":""},null,null,{"$f":"IF(LEN(A69)>0,VLOOKUP(A69,Subcontractors!$A$2:$B$3,2,FALSE),\"\")","v":""},null,{"$f":"IF(LEN(A69)>0,VLOOKUP(A69,Subcontractors!$A$2:$B$2,2,FALSE),\"\")","v":""}]
[null,null,null,null,null,null,null,null,null,null,null,null,null,null,null,null,null,null,null,null,null,{"$f":"IF(LEN(X70)>0,VLOOKUP(X70,'TFW Programs'!$A$2:$B$24,2,FALSE),\"\")","v":""},null,null,{"$f":"IF(LEN(A70)>0,VLOOKUP(A70,Subcontractors!$A$2:$B$3,2,FALSE),\"\")","v":""},null,{"$f":"IF(LEN(A70)>0,VLOOKUP(A70,Subcontractors!$A$2:$B$2,2,FALSE),\"\")","v":""}]
[null,null,null,null,null,null,null,null,null,null,null,null,null,null,null,null,null,null,null,null,null,{"$f":"IF(LEN(X71)>0,VLOOKUP(X71,'TFW Programs'!$A$2:$B$24,2,FALSE),\"\")","v":""},null,null,{"$f":"IF(LEN(A71)>0,VLOOKUP(A71,Subcontractors!$A$2:$B$3,2,FALSE),\"\")","v":""},null,{"$f":"IF(LEN(A71)>0,VLOOKUP(A71,Subcontractors!$A$2:$B$2,2,FALSE),\"\")","v":""}]
[null,null,null,null,null,null,null,null,null,null,null,null,null,null,null,null,null,null,null,null,null,{"$f":"IF(LEN(X72)>0,VLOOKUP(X72,'TFW Programs'!$A$2:$B$24,2,FALSE),\"\")","v":""},null,null,{"$f":"IF(LEN(A72)>0,VLOOKUP(A72,Subcontractors!$A$2:$B$3,2,FALSE),\"\")","v":""},null,{"$f":"IF(LEN(A72)>0,VLOOKUP(A72,Subcontractors!$A$2:$B$2,2,FALSE),\"\")","v":""}]
[null,null,null,null,null,null,null,null,null,null,null,null,null,null,null,null,null,null,null,null,null,{"$f":"IF(LEN(X73)>0,VLOOKUP(X73,'TFW Programs'!$A$2:$B$24,2,FALSE),\"\")","v":""},null,null,{"$f":"IF(LEN(A73)>0,VLOOKUP(A73,Subcontractors!$A$2:$B$3,2,FALSE),\"\")","v":""},null,{"$f":"IF(LEN(A73)>0,VLOOKUP(A73,Subcontractors!$A$2:$B$2,2,FALSE),\"\")","v":""}]
[null,null,null,null,null,null,null,null,null,null,null,null,null,null,null,null,null,null,null,null,null,{"$f":"IF(LEN(X74)>0,VLOOKUP(X74,'TFW Programs'!$A$2:$B$24,2,FALSE),\"\")","v":""},null,null,{"$f":"IF(LEN(A74)>0,VLOOKUP(A74,Subcontractors!$A$2:$B$3,2,FALSE),\"\")","v":""},null,{"$f":"IF(LEN(A74)>0,VLOOKUP(A74,Subcontractors!$A$2:$B$2,2,FALSE),\"\")","v":""}]
[null,null,null,null,null,null,null,null,null,null,null,null,null,null,null,null,null,null,null,null,null,{"$f":"IF(LEN(X75)>0,VLOOKUP(X75,'TFW Programs'!$A$2:$B$24,2,FALSE),\"\")","v":""},null,null,{"$f":"IF(LEN(A75)>0,VLOOKUP(A75,Subcontractors!$A$2:$B$3,2,FALSE),\"\")","v":""},null,{"$f":"IF(LEN(A75)>0,VLOOKUP(A75,Subcontractors!$A$2:$B$2,2,FALSE),\"\")","v":""}]
[null,null,null,null,null,null,null,null,null,null,null,null,null,null,null,null,null,null,null,null,null,{"$f":"IF(LEN(X76)>0,VLOOKUP(X76,'TFW Programs'!$A$2:$B$24,2,FALSE),\"\")","v":""},null,null,{"$f":"IF(LEN(A76)>0,VLOOKUP(A76,Subcontractors!$A$2:$B$3,2,FALSE),\"\")","v":""},null,{"$f":"IF(LEN(A76)>0,VLOOKUP(A76,Subcontractors!$A$2:$B$2,2,FALSE),\"\")","v":""}]
[null,null,null,null,null,null,null,null,null,null,null,null,null,null,null,null,null,null,null,null,null,{"$f":"IF(LEN(X77)>0,VLOOKUP(X77,'TFW Programs'!$A$2:$B$24,2,FALSE),\"\")","v":""},null,null,{"$f":"IF(LEN(A77)>0,VLOOKUP(A77,Subcontractors!$A$2:$B$3,2,FALSE),\"\")","v":""},null,{"$f":"IF(LEN(A77)>0,VLOOKUP(A77,Subcontractors!$A$2:$B$2,2,FALSE),\"\")","v":""}]
[null,null,null,null,null,null,null,null,null,null,null,null,null,null,null,null,null,null,null,null,null,{"$f":"IF(LEN(X78)>0,VLOOKUP(X78,'TFW Programs'!$A$2:$B$24,2,FALSE),\"\")","v":""},null,null,{"$f":"IF(LEN(A78)>0,VLOOKUP(A78,Subcontractors!$A$2:$B$3,2,FALSE),\"\")","v":""},null,{"$f":"IF(LEN(A78)>0,VLOOKUP(A78,Subcontractors!$A$2:$B$2,2,FALSE),\"\")","v":""}]
[null,null,null,null,null,null,null,null,null,null,null,null,null,null,null,null,null,null,null,null,null,{"$f":"IF(LEN(X79)>0,VLOOKUP(X79,'TFW Programs'!$A$2:$B$24,2,FALSE),\"\")","v":""},null,null,{"$f":"IF(LEN(A79)>0,VLOOKUP(A79,Subcontractors!$A$2:$B$3,2,FALSE),\"\")","v":""},null,{"$f":"IF(LEN(A79)>0,VLOOKUP(A79,Subcontractors!$A$2:$B$2,2,FALSE),\"\")","v":""}]
[null,null,null,null,null,null,null,null,null,null,null,null,null,null,null,null,null,null,null,null,null,{"$f":"IF(LEN(X80)>0,VLOOKUP(X80,'TFW Programs'!$A$2:$B$24,2,FALSE),\"\")","v":""},null,null,{"$f":"IF(LEN(A80)>0,VLOOKUP(A80,Subcontractors!$A$2:$B$3,2,FALSE),\"\")","v":""},null,{"$f":"IF(LEN(A80)>0,VLOOKUP(A80,Subcontractors!$A$2:$B$2,2,FALSE),\"\")","v":""}]
[null,null,null,null,null,null,null,null,null,null,null,null,null,null,null,null,null,null,null,null,null,{"$f":"IF(LEN(X81)>0,VLOOKUP(X81,'TFW Programs'!$A$2:$B$24,2,FALSE),\"\")","v":""},null,null,{"$f":"IF(LEN(A81)>0,VLOOKUP(A81,Subcontractors!$A$2:$B$3,2,FALSE),\"\")","v":""},null,{"$f":"IF(LEN(A81)>0,VLOOKUP(A81,Subcontractors!$A$2:$B$2,2,FALSE),\"\")","v":""}]
[null,null,null,null,null,null,null,null,null,null,null,null,null,null,null,null,null,null,null,null,null,{"$f":"IF(LEN(X82)>0,VLOOKUP(X82,'TFW Programs'!$A$2:$B$24,2,FALSE),\"\")","v":""},null,null,{"$f":"IF(LEN(A82)>0,VLOOKUP(A82,Subcontractors!$A$2:$B$3,2,FALSE),\"\")","v":""},null,{"$f":"IF(LEN(A82)>0,VLOOKUP(A82,Subcontractors!$A$2:$B$2,2,FALSE),\"\")","v":""}]
[null,null,null,null,null,null,null,null,null,null,null,null,null,null,null,null,null,null,null,null,null,{"$f":"IF(LEN(X83)>0,VLOOKUP(X83,'TFW Programs'!$A$2:$B$24,2,FALSE),\"\")","v":""},null,null,{"$f":"IF(LEN(A83)>0,VLOOKUP(A83,Subcontractors!$A$2:$B$3,2,FALSE),\"\")","v":""},null,{"$f":"IF(LEN(A83)>0,VLOOKUP(A83,Subcontractors!$A$2:$B$2,2,FALSE),\"\")","v":""}]
[null,null,null,null,null,null,null,null,null,null,null,null,null,null,null,null,null,null,null,null,null,{"$f":"IF(LEN(X84)>0,VLOOKUP(X84,'TFW Programs'!$A$2:$B$24,2,FALSE),\"\")","v":""},null,null,{"$f":"IF(LEN(A84)>0,VLOOKUP(A84,Subcontractors!$A$2:$B$3,2,FALSE),\"\")","v":""},null,{"$f":"IF(LEN(A84)>0,VLOOKUP(A84,Subcontractors!$A$2:$B$2,2,FALSE),\"\")","v":""}]
[null,null,null,null,null,null,null,null,null,null,null,null,null,null,null,null,null,null,null,null,null,{"$f":"IF(LEN(X85)>0,VLOOKUP(X85,'TFW Programs'!$A$2:$B$24,2,FALSE),\"\")","v":""},null,null,{"$f":"IF(LEN(A85)>0,VLOOKUP(A85,Subcontractors!$A$2:$B$3,2,FALSE),\"\")","v":""},null,{"$f":"IF(LEN(A85)>0,VLOOKUP(A85,Subcontractors!$A$2:$B$2,2,FALSE),\"\")","v":""}]
[null,null,null,null,null,null,null,null,null,null,null,null,null,null,null,null,null,null,null,null,null,{"$f":"IF(LEN(X86)>0,VLOOKUP(X86,'TFW Programs'!$A$2:$B$24,2,FALSE),\"\")","v":""},null,null,{"$f":"IF(LEN(A86)>0,VLOOKUP(A86,Subcontractors!$A$2:$B$3,2,FALSE),\"\")","v":""},null,{"$f":"IF(LEN(A86)>0,VLOOKUP(A86,Subcontractors!$A$2:$B$2,2,FALSE),\"\")","v":""}]
[null,null,null,null,null,null,null,null,null,null,null,null,null,null,null,null,null,null,null,null,null,{"$f":"IF(LEN(X87)>0,VLOOKUP(X87,'TFW Programs'!$A$2:$B$24,2,FALSE),\"\")","v":""},null,null,{"$f":"IF(LEN(A87)>0,VLOOKUP(A87,Subcontractors!$A$2:$B$3,2,FALSE),\"\")","v":""},null,{"$f":"IF(LEN(A87)>0,VLOOKUP(A87,Subcontractors!$A$2:$B$2,2,FALSE),\"\")","v":""}]
[null,null,null,null,null,null,null,null,null,null,null,null,null,null,null,null,null,null,null,null,null,{"$f":"IF(LEN(X88)>0,VLOOKUP(X88,'TFW Programs'!$A$2:$B$24,2,FALSE),\"\")","v":""},null,null,{"$f":"IF(LEN(A88)>0,VLOOKUP(A88,Subcontractors!$A$2:$B$3,2,FALSE),\"\")","v":""},null,{"$f":"IF(LEN(A88)>0,VLOOKUP(A88,Subcontractors!$A$2:$B$2,2,FALSE),\"\")","v":""}]
[null,null,null,null,null,null,null,null,null,null,null,null,null,null,null,null,null,null,null,null,null,{"$f":"IF(LEN(X89)>0,VLOOKUP(X89,'TFW Programs'!$A$2:$B$24,2,FALSE),\"\")","v":""},null,null,{"$f":"IF(LEN(A89)>0,VLOOKUP(A89,Subcontractors!$A$2:$B$3,2,FALSE),\"\")","v":""},null,{"$f":"IF(LEN(A89)>0,VLOOKUP(A89,Subcontractors!$A$2:$B$2,2,FALSE),\"\")","v":""}]
[null,null,null,null,null,null,null,null,null,null,null,null,null,null,null,null,null,null,null,null,null,{"$f":"IF(LEN(X90)>0,VLOOKUP(X90,'TFW Programs'!$A$2:$B$24,2,FALSE),\"\")","v":""},null,null,{"$f":"IF(LEN(A90)>0,VLOOKUP(A90,Subcontractors!$A$2:$B$3,2,FALSE),\"\")","v":""},null,{"$f":"IF(LEN(A90)>0,VLOOKUP(A90,Subcontractors!$A$2:$B$2,2,FALSE),\"\")","v":""}]
[null,null,null,null,null,null,null,null,null,null,null,null,null,null,null,null,null,null,null,null,null,{"$f":"IF(LEN(X91)>0,VLOOKUP(X91,'TFW Programs'!$A$2:$B$24,2,FALSE),\"\")","v":""},null,null,{"$f":"IF(LEN(A91)>0,VLOOKUP(A91,Subcontractors!$A$2:$B$3,2,FALSE),\"\")","v":""},null,{"$f":"IF(LEN(A91)>0,VLOOKUP(A91,Subcontractors!$A$2:$B$2,2,FALSE),\"\")","v":""}]
[null,null,null,null,null,null,null,null,null,null,null,null,null,null,null,null,null,null,null,null,null,{"$f":"IF(LEN(X92)>0,VLOOKUP(X92,'TFW Programs'!$A$2:$B$24,2,FALSE),\"\")","v":""},null,null,{"$f":"IF(LEN(A92)>0,VLOOKUP(A92,Subcontractors!$A$2:$B$3,2,FALSE),\"\")","v":""},null,{"$f":"IF(LEN(A92)>0,VLOOKUP(A92,Subcontractors!$A$2:$B$2,2,FALSE),\"\")","v":""}]
[null,null,null,null,null,null,null,null,null,null,null,null,null,null,null,null,null,null,null,null,null,{"$f":"IF(LEN(X93)>0,VLOOKUP(X93,'TFW Programs'!$A$2:$B$24,2,FALSE),\"\")","v":""},null,null,{"$f":"IF(LEN(A93)>0,VLOOKUP(A93,Subcontractors!$A$2:$B$3,2,FALSE),\"\")","v":""},null,{"$f":"IF(LEN(A93)>0,VLOOKUP(A93,Subcontractors!$A$2:$B$2,2,FALSE),\"\")","v":""}]
[null,null,null,null,null,null,null,null,null,null,null,null,null,null,null,null,null,null,null,null,null,{"$f":"IF(LEN(X94)>0,VLOOKUP(X94,'TFW Programs'!$A$2:$B$24,2,FALSE),\"\")","v":""},null,null,{"$f":"IF(LEN(A94)>0,VLOOKUP(A94,Subcontractors!$A$2:$B$3,2,FALSE),\"\")","v":""},null,{"$f":"IF(LEN(A94)>0,VLOOKUP(A94,Subcontractors!$A$2:$B$2,2,FALSE),\"\")","v":""}]
[null,null,null,null,null,null,null,null,null,null,null,null,null,null,null,null,null,null,null,null,null,{"$f":"IF(LEN(X95)>0,VLOOKUP(X95,'TFW Programs'!$A$2:$B$24,2,FALSE),\"\")","v":""},null,null,{"$f":"IF(LEN(A95)>0,VLOOKUP(A95,Subcontractors!$A$2:$B$3,2,FALSE),\"\")","v":""},null,{"$f":"IF(LEN(A95)>0,VLOOKUP(A95,Subcontractors!$A$2:$B$2,2,FALSE),\"\")","v":""}]
[null,null,null,null,null,null,null,null,null,null,null,null,null,null,null,null,null,null,null,null,null,{"$f":"IF(LEN(X96)>0,VLOOKUP(X96,'TFW Programs'!$A$2:$B$24,2,FALSE),\"\")","v":""},null,null,{"$f":"IF(LEN(A96)>0,VLOOKUP(A96,Subcontractors!$A$2:$B$3,2,FALSE),\"\")","v":""},null,{"$f":"IF(LEN(A96)>0,VLOOKUP(A96,Subcontractors!$A$2:$B$2,2,FALSE),\"\")","v":""}]
[null,null,null,null,null,null,null,null,null,null,null,null,null,null,null,null,null,null,null,null,null,{"$f":"IF(LEN(X97)>0,VLOOKUP(X97,'TFW Programs'!$A$2:$B$24,2,FALSE),\"\")","v":""},null,null,{"$f":"IF(LEN(A97)>0,VLOOKUP(A97,Subcontractors!$A$2:$B$3,2,FALSE),\"\")","v":""},null,{"$f":"IF(LEN(A97)>0,VLOOKUP(A97,Subcontractors!$A$2:$B$2,2,FALSE),\"\")","v":""}]
[null,null,null,null,null,null,null,null,null,null,null,null,null,null,null,null,null,null,null,null,null,{"$f":"IF(LEN(X98)>0,VLOOKUP(X98,'TFW Programs'!$A$2:$B$24,2,FALSE),\"\")","v":""},null,null,{"$f":"IF(LEN(A98)>0,VLOOKUP(A98,Subcontractors!$A$2:$B$3,2,FALSE),\"\")","v":""},null,{"$f":"IF(LEN(A98)>0,VLOOKUP(A98,Subcontractors!$A$2:$B$2,2,FALSE),\"\")","v":""}]
[null,null,null,null,null,null,null,null,null,null,null,null,null,null,null,null,null,null,null,null,null,{"$f":"IF(LEN(X99)>0,VLOOKUP(X99,'TFW Programs'!$A$2:$B$24,2,FALSE),\"\")","v":""},null,null,{"$f":"IF(LEN(A99)>0,VLOOKUP(A99,Subcontractors!$A$2:$B$3,2,FALSE),\"\")","v":""},null,{"$f":"IF(LEN(A99)>0,VLOOKUP(A99,Subcontractors!$A$2:$B$2,2,FALSE),\"\")","v":""}]
[null,null,null,null,null,null,null,null,null,null,null,null,null,null,null,null,null,null,null,null,null,{"$f":"IF(LEN(X100)>0,VLOOKUP(X100,'TFW Programs'!$A$2:$B$24,2,FALSE),\"\")","v":""},null,null,{"$f":"IF(LEN(A100)>0,VLOOKUP(A100,Subcontractors!$A$2:$B$3,2,FALSE),\"\")","v":""},null,{"$f":"IF(LEN(A100)>0,VLOOKUP(A100,Subcontractors!$A$2:$B$2,2,FALSE),\"\")","v":""}]
[null,null,null,null,null,null,null,null,null,null,null,null,null,null,null,null,null,null,null,null,null,{"$f":"IF(LEN(X101)>0,VLOOKUP(X101,'TFW Programs'!$A$2:$B$24,2,FALSE),\"\")","v":""},null,null,{"$f":"IF(LEN(A101)>0,VLOOKUP(A101,Subcontractors!$A$2:$B$3,2,FALSE),\"\")","v":""},null,{"$f":"IF(LEN(A101)>0,VLOOKUP(A101,Subcontractors!$A$2:$B$2,2,FALSE),\"\")","v":""}]
[null,null,null,null,null,null,null,null,null,null,null,null,null,null,null,null,null,null,null,null,null,{"$f":"IF(LEN(X102)>0,VLOOKUP(X102,'TFW Programs'!$A$2:$B$24,2,FALSE),\"\")","v":""},null,null,{"$f":"IF(LEN(A102)>0,VLOOKUP(A102,Subcontractors!$A$2:$B$3,2,FALSE),\"\")","v":""},null,{"$f":"IF(LEN(A102)>0,VLOOKUP(A102,Subcontractors!$A$2:$B$2,2,FALSE),\"\")","v":""}]
[null,null,null,null,null,null,null,null,null,null,null,null,null,null,null,null,null,null,null,null,null,{"$f":"IF(LEN(X103)>0,VLOOKUP(X103,'TFW Programs'!$A$2:$B$24,2,FALSE),\"\")","v":""},null,null,{"$f":"IF(LEN(A103)>0,VLOOKUP(A103,Subcontractors!$A$2:$B$3,2,FALSE),\"\")","v":""},null,{"$f":"IF(LEN(A103)>0,VLOOKUP(A103,Subcontractors!$A$2:$B$2,2,FALSE),\"\")","v":""}]
[null,null,null,null,null,null,null,null,null,null,null,null,null,null,null,null,null,null,null,null,null,{"$f":"IF(LEN(X104)>0,VLOOKUP(X104,'TFW Programs'!$A$2:$B$24,2,FALSE),\"\")","v":""},null,null,{"$f":"IF(LEN(A104)>0,VLOOKUP(A104,Subcontractors!$A$2:$B$3,2,FALSE),\"\")","v":""},null,{"$f":"IF(LEN(A104)>0,VLOOKUP(A104,Subcontractors!$A$2:$B$2,2,FALSE),\"\")","v":""}]
[null,null,null,null,null,null,null,null,null,null,null,null,null,null,null,null,null,null,null,null,null,{"$f":"IF(LEN(X105)>0,VLOOKUP(X105,'TFW Programs'!$A$2:$B$24,2,FALSE),\"\")","v":""},null,null,{"$f":"IF(LEN(A105)>0,VLOOKUP(A105,Subcontractors!$A$2:$B$3,2,FALSE),\"\")","v":""},null,{"$f":"IF(LEN(A105)>0,VLOOKUP(A105,Subcontractors!$A$2:$B$2,2,FALSE),\"\")","v":""}]
[null,null,null,null,null,null,null,null,null,null,null,null,null,null,null,null,null,null,null,null,null,{"$f":"IF(LEN(X106)>0,VLOOKUP(X106,'TFW Programs'!$A$2:$B$24,2,FALSE),\"\")","v":""},null,null,{"$f":"IF(LEN(A106)>0,VLOOKUP(A106,Subcontractors!$A$2:$B$3,2,FALSE),\"\")","v":""},null,{"$f":"IF(LEN(A106)>0,VLOOKUP(A106,Subcontractors!$A$2:$B$2,2,FALSE),\"\")","v":""}]
[null,null,null,null,null,null,null,null,null,null,null,null,null,null,null,null,null,null,null,null,null,{"$f":"IF(LEN(X107)>0,VLOOKUP(X107,'TFW Programs'!$A$2:$B$24,2,FALSE),\"\")","v":""},null,null,{"$f":"IF(LEN(A107)>0,VLOOKUP(A107,Subcontractors!$A$2:$B$3,2,FALSE),\"\")","v":""},null,{"$f":"IF(LEN(A107)>0,VLOOKUP(A107,Subcontractors!$A$2:$B$2,2,FALSE),\"\")","v":""}]
[null,null,null,null,null,null,null,null,null,null,null,null,null,null,null,null,null,null,null,null,null,{"$f":"IF(LEN(X108)>0,VLOOKUP(X108,'TFW Programs'!$A$2:$B$24,2,FALSE),\"\")","v":""},null,null,{"$f":"IF(LEN(A108)>0,VLOOKUP(A108,Subcontractors!$A$2:$B$3,2,FALSE),\"\")","v":""},null,{"$f":"IF(LEN(A108)>0,VLOOKUP(A108,Subcontractors!$A$2:$B$2,2,FALSE),\"\")","v":""}]
[null,null,null,null,null,null,null,null,null,null,null,null,null,null,null,null,null,null,null,null,null,{"$f":"IF(LEN(X109)>0,VLOOKUP(X109,'TFW Programs'!$A$2:$B$24,2,FALSE),\"\")","v":""},null,null,{"$f":"IF(LEN(A109)>0,VLOOKUP(A109,Subcontractors!$A$2:$B$3,2,FALSE),\"\")","v":""},null,{"$f":"IF(LEN(A109)>0,VLOOKUP(A109,Subcontractors!$A$2:$B$2,2,FALSE),\"\")","v":""}]
[null,null,null,null,null,null,null,null,null,null,null,null,null,null,null,null,null,null,null,null,null,{"$f":"IF(LEN(X110)>0,VLOOKUP(X110,'TFW Programs'!$A$2:$B$24,2,FALSE),\"\")","v":""},null,null,{"$f":"IF(LEN(A110)>0,VLOOKUP(A110,Subcontractors!$A$2:$B$3,2,FALSE),\"\")","v":""},null,{"$f":"IF(LEN(A110)>0,VLOOKUP(A110,Subcontractors!$A$2:$B$2,2,FALSE),\"\")","v":""}]
[null,null,null,null,null,null,null,null,null,null,null,null,null,null,null,null,null,null,null,null,null,{"$f":"IF(LEN(X111)>0,VLOOKUP(X111,'TFW Programs'!$A$2:$B$24,2,FALSE),\"\")","v":""},null,null,{"$f":"IF(LEN(A111)>0,VLOOKUP(A111,Subcontractors!$A$2:$B$3,2,FALSE),\"\")","v":""},null,{"$f":"IF(LEN(A111)>0,VLOOKUP(A111,Subcontractors!$A$2:$B$2,2,FALSE),\"\")","v":""}]
[null,null,null,null,null,null,null,null,null,null,null,null,null,null,null,null,null,null,null,null,null,{"$f":"IF(LEN(X112)>0,VLOOKUP(X112,'TFW Programs'!$A$2:$B$24,2,FALSE),\"\")","v":""},null,null,{"$f":"IF(LEN(A112)>0,VLOOKUP(A112,Subcontractors!$A$2:$B$3,2,FALSE),\"\")","v":""},null,{"$f":"IF(LEN(A112)>0,VLOOKUP(A112,Subcontractors!$A$2:$B$2,2,FALSE),\"\")","v":""}]
[null,null,null,null,null,null,null,null,null,null,null,null,null,null,null,null,null,null,null,null,null,{"$f":"IF(LEN(X113)>0,VLOOKUP(X113,'TFW Programs'!$A$2:$B$24,2,FALSE),\"\")","v":""},null,null,{"$f":"IF(LEN(A113)>0,VLOOKUP(A113,Subcontractors!$A$2:$B$3,2,FALSE),\"\")","v":""},null,{"$f":"IF(LEN(A113)>0,VLOOKUP(A113,Subcontractors!$A$2:$B$2,2,FALSE),\"\")","v":""}]
[null,null,null,null,null,null,null,null,null,null,null,null,null,null,null,null,null,null,null,null,null,{"$f":"IF(LEN(X114)>0,VLOOKUP(X114,'TFW Programs'!$A$2:$B$24,2,FALSE),\"\")","v":""},null,null,{"$f":"IF(LEN(A114)>0,VLOOKUP(A114,Subcontractors!$A$2:$B$3,2,FALSE),\"\")","v":""},null,{"$f":"IF(LEN(A114)>0,VLOOKUP(A114,Subcontractors!$A$2:$B$2,2,FALSE),\"\")","v":""}]
[null,null,null,null,null,null,null,null,null,null,null,null,null,null,null,null,null,null,null,null,null,{"$f":"IF(LEN(X115)>0,VLOOKUP(X115,'TFW Programs'!$A$2:$B$24,2,FALSE),\"\")","v":""},null,null,{"$f":"IF(LEN(A115)>0,VLOOKUP(A115,Subcontractors!$A$2:$B$3,2,FALSE),\"\")","v":""},null,{"$f":"IF(LEN(A115)>0,VLOOKUP(A115,Subcontractors!$A$2:$B$2,2,FALSE),\"\")","v":""}]
[null,null,null,null,null,null,null,null,null,null,null,null,null,null,null,null,null,null,null,null,null,{"$f":"IF(LEN(X116)>0,VLOOKUP(X116,'TFW Programs'!$A$2:$B$24,2,FALSE),\"\")","v":""},null,null,{"$f":"IF(LEN(A116)>0,VLOOKUP(A116,Subcontractors!$A$2:$B$3,2,FALSE),\"\")","v":""},null,{"$f":"IF(LEN(A116)>0,VLOOKUP(A116,Subcontractors!$A$2:$B$2,2,FALSE),\"\")","v":""}]
[null,null,null,null,null,null,null,null,null,null,null,null,null,null,null,null,null,null,null,null,null,{"$f":"IF(LEN(X117)>0,VLOOKUP(X117,'TFW Programs'!$A$2:$B$24,2,FALSE),\"\")","v":""},null,null,{"$f":"IF(LEN(A117)>0,VLOOKUP(A117,Subcontractors!$A$2:$B$3,2,FALSE),\"\")","v":""},null,{"$f":"IF(LEN(A117)>0,VLOOKUP(A117,Subcontractors!$A$2:$B$2,2,FALSE),\"\")","v":""}]
[null,null,null,null,null,null,null,null,null,null,null,null,null,null,null,null,null,null,null,null,null,{"$f":"IF(LEN(X118)>0,VLOOKUP(X118,'TFW Programs'!$A$2:$B$24,2,FALSE),\"\")","v":""},null,null,{"$f":"IF(LEN(A118)>0,VLOOKUP(A118,Subcontractors!$A$2:$B$3,2,FALSE),\"\")","v":""},null,{"$f":"IF(LEN(A118)>0,VLOOKUP(A118,Subcontractors!$A$2:$B$2,2,FALSE),\"\")","v":""}]
[null,null,null,null,null,null,null,null,null,null,null,null,null,null,null,null,null,null,null,null,null,{"$f":"IF(LEN(X119)>0,VLOOKUP(X119,'TFW Programs'!$A$2:$B$24,2,FALSE),\"\")","v":""},null,null,{"$f":"IF(LEN(A119)>0,VLOOKUP(A119,Subcontractors!$A$2:$B$3,2,FALSE),\"\")","v":""},null,{"$f":"IF(LEN(A119)>0,VLOOKUP(A119,Subcontractors!$A$2:$B$2,2,FALSE),\"\")","v":""}]
[null,null,null,null,null,null,null,null,null,null,null,null,null,null,null,null,null,null,null,null,null,{"$f":"IF(LEN(X120)>0,VLOOKUP(X120,'TFW Programs'!$A$2:$B$24,2,FALSE),\"\")","v":""},null,null,{"$f":"IF(LEN(A120)>0,VLOOKUP(A120,Subcontractors!$A$2:$B$3,2,FALSE),\"\")","v":""},null,{"$f":"IF(LEN(A120)>0,VLOOKUP(A120,Subcontractors!$A$2:$B$2,2,FALSE),\"\")","v":""}]
[null,null,null,null,null,null,null,null,null,null,null,null,null,null,null,null,null,null,null,null,null,{"$f":"IF(LEN(X121)>0,VLOOKUP(X121,'TFW Programs'!$A$2:$B$24,2,FALSE),\"\")","v":""},null,null,{"$f":"IF(LEN(A121)>0,VLOOKUP(A121,Subcontractors!$A$2:$B$3,2,FALSE),\"\")","v":""},null,{"$f":"IF(LEN(A121)>0,VLOOKUP(A121,Subcontractors!$A$2:$B$2,2,FALSE),\"\")","v":""}]
[null,null,null,null,null,null,null,null,null,null,null,null,null,null,null,null,null,null,null,null,null,{"$f":"IF(LEN(X122)>0,VLOOKUP(X122,'TFW Programs'!$A$2:$B$24,2,FALSE),\"\")","v":""},null,null,{"$f":"IF(LEN(A122)>0,VLOOKUP(A122,Subcontractors!$A$2:$B$3,2,FALSE),\"\")","v":""},null,{"$f":"IF(LEN(A122)>0,VLOOKUP(A122,Subcontractors!$A$2:$B$2,2,FALSE),\"\")","v":""}]
[null,null,null,null,null,null,null,null,null,null,null,null,null,null,null,null,null,null,null,null,null,{"$f":"IF(LEN(X123)>0,VLOOKUP(X123,'TFW Programs'!$A$2:$B$24,2,FALSE),\"\")","v":""},null,null,{"$f":"IF(LEN(A123)>0,VLOOKUP(A123,Subcontractors!$A$2:$B$3,2,FALSE),\"\")","v":""},null,{"$f":"IF(LEN(A123)>0,VLOOKUP(A123,Subcontractors!$A$2:$B$2,2,FALSE),\"\")","v":""}]
[null,null,null,null,null,null,null,null,null,null,null,null,null,null,null,null,null,null,null,null,null,{"$f":"IF(LEN(X124)>0,VLOOKUP(X124,'TFW Programs'!$A$2:$B$24,2,FALSE),\"\")","v":""},null,null,{"$f":"IF(LEN(A124)>0,VLOOKUP(A124,Subcontractors!$A$2:$B$3,2,FALSE),\"\")","v":""},null,{"$f":"IF(LEN(A124)>0,VLOOKUP(A124,Subcontractors!$A$2:$B$2,2,FALSE),\"\")","v":""}]
[null,null,null,null,null,null,null,null,null,null,null,null,null,null,null,null,null,null,null,null,null,{"$f":"IF(LEN(X125)>0,VLOOKUP(X125,'TFW Programs'!$A$2:$B$24,2,FALSE),\"\")","v":""},null,null,{"$f":"IF(LEN(A125)>0,VLOOKUP(A125,Subcontractors!$A$2:$B$3,2,FALSE),\"\")","v":""},null,{"$f":"IF(LEN(A125)>0,VLOOKUP(A125,Subcontractors!$A$2:$B$2,2,FALSE),\"\")","v":""}]
[null,null,null,null,null,null,null,null,null,null,null,null,null,null,null,null,null,null,null,null,null,{"$f":"IF(LEN(X126)>0,VLOOKUP(X126,'TFW Programs'!$A$2:$B$24,2,FALSE),\"\")","v":""},null,null,{"$f":"IF(LEN(A126)>0,VLOOKUP(A126,Subcontractors!$A$2:$B$3,2,FALSE),\"\")","v":""},null,{"$f":"IF(LEN(A126)>0,VLOOKUP(A126,Subcontractors!$A$2:$B$2,2,FALSE),\"\")","v":""}]
[null,null,null,null,null,null,null,null,null,null,null,null,null,null,null,null,null,null,null,null,null,{"$f":"IF(LEN(X127)>0,VLOOKUP(X127,'TFW Programs'!$A$2:$B$24,2,FALSE),\"\")","v":""},null,null,{"$f":"IF(LEN(A127)>0,VLOOKUP(A127,Subcontractors!$A$2:$B$3,2,FALSE),\"\")","v":""},null,{"$f":"IF(LEN(A127)>0,VLOOKUP(A127,Subcontractors!$A$2:$B$2,2,FALSE),\"\")","v":""}]
[null,null,null,null,null,null,null,null,null,null,null,null,null,null,null,null,null,null,null,null,null,{"$f":"IF(LEN(X128)>0,VLOOKUP(X128,'TFW Programs'!$A$2:$B$24,2,FALSE),\"\")","v":""},null,null,{"$f":"IF(LEN(A128)>0,VLOOKUP(A128,Subcontractors!$A$2:$B$3,2,FALSE),\"\")","v":""},null,{"$f":"IF(LEN(A128)>0,VLOOKUP(A128,Subcontractors!$A$2:$B$2,2,FALSE),\"\")","v":""}]
[null,null,null,null,null,null,null,null,null,null,null,null,null,null,null,null,null,null,null,null,null,{"$f":"IF(LEN(X129)>0,VLOOKUP(X129,'TFW Programs'!$A$2:$B$24,2,FALSE),\"\")","v":""},null,null,{"$f":"IF(LEN(A129)>0,VLOOKUP(A129,Subcontractors!$A$2:$B$3,2,FALSE),\"\")","v":""},null,{"$f":"IF(LEN(A129)>0,VLOOKUP(A129,Subcontractors!$A$2:$B$2,2,FALSE),\"\")","v":""}]
[null,null,null,null,null,null,null,null,null,null,null,null,null,null,null,null,null,null,null,null,null,{"$f":"IF(LEN(X130)>0,VLOOKUP(X130,'TFW Programs'!$A$2:$B$24,2,FALSE),\"\")","v":""},null,null,{"$f":"IF(LEN(A130)>0,VLOOKUP(A130,Subcontractors!$A$2:$B$3,2,FALSE),\"\")","v":""},null,{"$f":"IF(LEN(A130)>0,VLOOKUP(A130,Subcontractors!$A$2:$B$2,2,FALSE),\"\")","v":""}]
[null,null,null,null,null,null,null,null,null,null,null,null,null,null,null,null,null,null,null,null,null,{"$f":"IF(LEN(X131)>0,VLOOKUP(X131,'TFW Programs'!$A$2:$B$24,2,FALSE),\"\")","v":""},null,null,{"$f":"IF(LEN(A131)>0,VLOOKUP(A131,Subcontractors!$A$2:$B$3,2,FALSE),\"\")","v":""},null,{"$f":"IF(LEN(A131)>0,VLOOKUP(A131,Subcontractors!$A$2:$B$2,2,FALSE),\"\")","v":""}]
[null,null,null,null,null,null,null,null,null,null,null,null,null,null,null,null,null,null,null,null,null,{"$f":"IF(LEN(X132)>0,VLOOKUP(X132,'TFW Programs'!$A$2:$B$24,2,FALSE),\"\")","v":""},null,null,{"$f":"IF(LEN(A132)>0,VLOOKUP(A132,Subcontractors!$A$2:$B$3,2,FALSE),\"\")","v":""},null,{"$f":"IF(LEN(A132)>0,VLOOKUP(A132,Subcontractors!$A$2:$B$2,2,FALSE),\"\")","v":""}]
[null,null,null,null,null,null,null,null,null,null,null,null,null,null,null,null,null,null,null,null,null,{"$f":"IF(LEN(X133)>0,VLOOKUP(X133,'TFW Programs'!$A$2:$B$24,2,FALSE),\"\")","v":""},null,null,{"$f":"IF(LEN(A133)>0,VLOOKUP(A133,Subcontractors!$A$2:$B$3,2,FALSE),\"\")","v":""},null,{"$f":"IF(LEN(A133)>0,VLOOKUP(A133,Subcontractors!$A$2:$B$2,2,FALSE),\"\")","v":""}]
[null,null,null,null,null,null,null,null,null,null,null,null,null,null,null,null,null,null,null,null,null,{"$f":"IF(LEN(X134)>0,VLOOKUP(X134,'TFW Programs'!$A$2:$B$24,2,FALSE),\"\")","v":""},null,null,{"$f":"IF(LEN(A134)>0,VLOOKUP(A134,Subcontractors!$A$2:$B$3,2,FALSE),\"\")","v":""},null,{"$f":"IF(LEN(A134)>0,VLOOKUP(A134,Subcontractors!$A$2:$B$2,2,FALSE),\"\")","v":""}]
[null,null,null,null,null,null,null,null,null,null,null,null,null,null,null,null,null,null,null,null,null,{"$f":"IF(LEN(X135)>0,VLOOKUP(X135,'TFW Programs'!$A$2:$B$24,2,FALSE),\"\")","v":""},null,null,{"$f":"IF(LEN(A135)>0,VLOOKUP(A135,Subcontractors!$A$2:$B$3,2,FALSE),\"\")","v":""},null,{"$f":"IF(LEN(A135)>0,VLOOKUP(A135,Subcontractors!$A$2:$B$2,2,FALSE),\"\")","v":""}]
[null,null,null,null,null,null,null,null,null,null,null,null,null,null,null,null,null,null,null,null,null,{"$f":"IF(LEN(X136)>0,VLOOKUP(X136,'TFW Programs'!$A$2:$B$24,2,FALSE),\"\")","v":""},null,null,{"$f":"IF(LEN(A136)>0,VLOOKUP(A136,Subcontractors!$A$2:$B$3,2,FALSE),\"\")","v":""},null,{"$f":"IF(LEN(A136)>0,VLOOKUP(A136,Subcontractors!$A$2:$B$2,2,FALSE),\"\")","v":""}]
[null,null,null,null,null,null,null,null,null,null,null,null,null,null,null,null,null,null,null,null,null,{"$f":"IF(LEN(X137)>0,VLOOKUP(X137,'TFW Programs'!$A$2:$B$24,2,FALSE),\"\")","v":""},null,null,{"$f":"IF(LEN(A137)>0,VLOOKUP(A137,Subcontractors!$A$2:$B$3,2,FALSE),\"\")","v":""},null,{"$f":"IF(LEN(A137)>0,VLOOKUP(A137,Subcontractors!$A$2:$B$2,2,FALSE),\"\")","v":""}]
[null,null,null,null,null,null,null,null,null,null,null,null,null,null,null,null,null,null,null,null,null,{"$f":"IF(LEN(X138)>0,VLOOKUP(X138,'TFW Programs'!$A$2:$B$24,2,FALSE),\"\")","v":""},null,null,{"$f":"IF(LEN(A138)>0,VLOOKUP(A138,Subcontractors!$A$2:$B$3,2,FALSE),\"\")","v":""},null,{"$f":"IF(LEN(A138)>0,VLOOKUP(A138,Subcontractors!$A$2:$B$2,2,FALSE),\"\")","v":""}]
[null,null,null,null,null,null,null,null,null,null,null,null,null,null,null,null,null,null,null,null,null,{"$f":"IF(LEN(X139)>0,VLOOKUP(X139,'TFW Programs'!$A$2:$B$24,2,FALSE),\"\")","v":""},null,null,{"$f":"IF(LEN(A139)>0,VLOOKUP(A139,Subcontractors!$A$2:$B$3,2,FALSE),\"\")","v":""},null,{"$f":"IF(LEN(A139)>0,VLOOKUP(A139,Subcontractors!$A$2:$B$2,2,FALSE),\"\")","v":""}]
[null,null,null,null,null,null,null,null,null,null,null,null,null,null,null,null,null,null,null,null,null,{"$f":"IF(LEN(X140)>0,VLOOKUP(X140,'TFW Programs'!$A$2:$B$24,2,FALSE),\"\")","v":""},null,null,{"$f":"IF(LEN(A140)>0,VLOOKUP(A140,Subcontractors!$A$2:$B$3,2,FALSE),\"\")","v":""},null,{"$f":"IF(LEN(A140)>0,VLOOKUP(A140,Subcontractors!$A$2:$B$2,2,FALSE),\"\")","v":""}]
[null,null,null,null,null,null,null,null,null,null,null,null,null,null,null,null,null,null,null,null,null,{"$f":"IF(LEN(X141)>0,VLOOKUP(X141,'TFW Programs'!$A$2:$B$24,2,FALSE),\"\")","v":""},null,null,{"$f":"IF(LEN(A141)>0,VLOOKUP(A141,Subcontractors!$A$2:$B$3,2,FALSE),\"\")","v":""},null,{"$f":"IF(LEN(A141)>0,VLOOKUP(A141,Subcontractors!$A$2:$B$2,2,FALSE),\"\")","v":""}]
[null,null,null,null,null,null,null,null,null,null,null,null,null,null,null,null,null,null,null,null,null,{"$f":"IF(LEN(X142)>0,VLOOKUP(X142,'TFW Programs'!$A$2:$B$24,2,FALSE),\"\")","v":""},null,null,{"$f":"IF(LEN(A142)>0,VLOOKUP(A142,Subcontractors!$A$2:$B$3,2,FALSE),\"\")","v":""},null,{"$f":"IF(LEN(A142)>0,VLOOKUP(A142,Subcontractors!$A$2:$B$2,2,FALSE),\"\")","v":""}]
[null,null,null,null,null,null,null,null,null,null,null,null,null,null,null,null,null,null,null,null,null,{"$f":"IF(LEN(X143)>0,VLOOKUP(X143,'TFW Programs'!$A$2:$B$24,2,FALSE),\"\")","v":""},null,null,{"$f":"IF(LEN(A143)>0,VLOOKUP(A143,Subcontractors!$A$2:$B$3,2,FALSE),\"\")","v":""},null,{"$f":"IF(LEN(A143)>0,VLOOKUP(A143,Subcontractors!$A$2:$B$2,2,FALSE),\"\")","v":""}]
[null,null,null,null,null,null,null,null,null,null,null,null,null,null,null,null,null,null,null,null,null,{"$f":"IF(LEN(X144)>0,VLOOKUP(X144,'TFW Programs'!$A$2:$B$24,2,FALSE),\"\")","v":""},null,null,{"$f":"IF(LEN(A144)>0,VLOOKUP(A144,Subcontractors!$A$2:$B$3,2,FALSE),\"\")","v":""},null,{"$f":"IF(LEN(A144)>0,VLOOKUP(A144,Subcontractors!$A$2:$B$2,2,FALSE),\"\")","v":""}]
[null,null,null,null,null,null,null,null,null,null,null,null,null,null,null,null,null,null,null,null,null,{"$f":"IF(LEN(X145)>0,VLOOKUP(X145,'TFW Programs'!$A$2:$B$24,2,FALSE),\"\")","v":""},null,null,{"$f":"IF(LEN(A145)>0,VLOOKUP(A145,Subcontractors!$A$2:$B$3,2,FALSE),\"\")","v":""},null,{"$f":"IF(LEN(A145)>0,VLOOKUP(A145,Subcontractors!$A$2:$B$2,2,FALSE),\"\")","v":""}]
[null,null,null,null,null,null,null,null,null,null,null,null,null,null,null,null,null,null,null,null,null,{"$f":"IF(LEN(X146)>0,VLOOKUP(X146,'TFW Programs'!$A$2:$B$24,2,FALSE),\"\")","v":""},null,null,{"$f":"IF(LEN(A146)>0,VLOOKUP(A146,Subcontractors!$A$2:$B$3,2,FALSE),\"\")","v":""},null,{"$f":"IF(LEN(A146)>0,VLOOKUP(A146,Subcontractors!$A$2:$B$2,2,FALSE),\"\")","v":""}]
[null,null,null,null,null,null,null,null,null,null,null,null,null,null,null,null,null,null,null,null,null,{"$f":"IF(LEN(X147)>0,VLOOKUP(X147,'TFW Programs'!$A$2:$B$24,2,FALSE),\"\")","v":""},null,null,{"$f":"IF(LEN(A147)>0,VLOOKUP(A147,Subcontractors!$A$2:$B$3,2,FALSE),\"\")","v":""},null,{"$f":"IF(LEN(A147)>0,VLOOKUP(A147,Subcontractors!$A$2:$B$2,2,FALSE),\"\")","v":""}]
[null,null,null,null,null,null,null,null,null,null,null,null,null,null,null,null,null,null,null,null,null,{"$f":"IF(LEN(X148)>0,VLOOKUP(X148,'TFW Programs'!$A$2:$B$24,2,FALSE),\"\")","v":""},null,null,{"$f":"IF(LEN(A148)>0,VLOOKUP(A148,Subcontractors!$A$2:$B$3,2,FALSE),\"\")","v":""},null,{"$f":"IF(LEN(A148)>0,VLOOKUP(A148,Subcontractors!$A$2:$B$2,2,FALSE),\"\")","v":""}]
[null,null,null,null,null,null,null,null,null,null,null,null,null,null,null,null,null,null,null,null,null,{"$f":"IF(LEN(X149)>0,VLOOKUP(X149,'TFW Programs'!$A$2:$B$24,2,FALSE),\"\")","v":""},null,null,{"$f":"IF(LEN(A149)>0,VLOOKUP(A149,Subcontractors!$A$2:$B$3,2,FALSE),\"\")","v":""},null,{"$f":"IF(LEN(A149)>0,VLOOKUP(A149,Subcontractors!$A$2:$B$2,2,FALSE),\"\")","v":""}]
[null,null,null,null,null,null,null,null,null,null,null,null,null,null,null,null,null,null,null,null,null,{"$f":"IF(LEN(X150)>0,VLOOKUP(X150,'TFW Programs'!$A$2:$B$24,2,FALSE),\"\")","v":""},null,null,{"$f":"IF(LEN(A150)>0,VLOOKUP(A150,Subcontractors!$A$2:$B$3,2,FALSE),\"\")","v":""},null,{"$f":"IF(LEN(A150)>0,VLOOKUP(A150,Subcontractors!$A$2:$B$2,2,FALSE),\"\")","v":""}]
[null,null,null,null,null,null,null,null,null,null,null,null,null,null,null,null,null,null,null,null,null,{"$f":"IF(LEN(X151)>0,VLOOKUP(X151,'TFW Programs'!$A$2:$B$24,2,FALSE),\"\")","v":""},null,null,{"$f":"IF(LEN(A151)>0,VLOOKUP(A151,Subcontractors!$A$2:$B$3,2,FALSE),\"\")","v":""},null,{"$f":"IF(LEN(A151)>0,VLOOKUP(A151,Subcontractors!$A$2:$B$2,2,FALSE),\"\")","v":""}]
[null,null,null,null,null,null,null,null,null,null,null,null,null,null,null,null,null,null,null,null,null,{"$f":"IF(LEN(X152)>0,VLOOKUP(X152,'TFW Programs'!$A$2:$B$24,2,FALSE),\"\")","v":""},null,null,{"$f":"IF(LEN(A152)>0,VLOOKUP(A152,Subcontractors!$A$2:$B$3,2,FALSE),\"\")","v":""},null,{"$f":"IF(LEN(A152)>0,VLOOKUP(A152,Subcontractors!$A$2:$B$2,2,FALSE),\"\")","v":""}]
[null,null,null,null,null,null,null,null,null,null,null,null,null,null,null,null,null,null,null,null,null,{"$f":"IF(LEN(X153)>0,VLOOKUP(X153,'TFW Programs'!$A$2:$B$24,2,FALSE),\"\")","v":""},null,null,{"$f":"IF(LEN(A153)>0,VLOOKUP(A153,Subcontractors!$A$2:$B$3,2,FALSE),\"\")","v":""},null,{"$f":"IF(LEN(A153)>0,VLOOKUP(A153,Subcontractors!$A$2:$B$2,2,FALSE),\"\")","v":""}]
[null,null,null,null,null,null,null,null,null,null,null,null,null,null,null,null,null,null,null,null,null,{"$f":"IF(LEN(X154)>0,VLOOKUP(X154,'TFW Programs'!$A$2:$B$24,2,FALSE),\"\")","v":""},null,null,{"$f":"IF(LEN(A154)>0,VLOOKUP(A154,Subcontractors!$A$2:$B$3,2,FALSE),\"\")","v":""},null,{"$f":"IF(LEN(A154)>0,VLOOKUP(A154,Subcontractors!$A$2:$B$2,2,FALSE),\"\")","v":""}]
[null,null,null,null,null,null,null,null,null,null,null,null,null,null,null,null,null,null,null,null,null,{"$f":"IF(LEN(X155)>0,VLOOKUP(X155,'TFW Programs'!$A$2:$B$24,2,FALSE),\"\")","v":""},null,null,{"$f":"IF(LEN(A155)>0,VLOOKUP(A155,Subcontractors!$A$2:$B$3,2,FALSE),\"\")","v":""},null,{"$f":"IF(LEN(A155)>0,VLOOKUP(A155,Subcontractors!$A$2:$B$2,2,FALSE),\"\")","v":""}]
[null,null,null,null,null,null,null,null,null,null,null,null,null,null,null,null,null,null,null,null,null,{"$f":"IF(LEN(X156)>0,VLOOKUP(X156,'TFW Programs'!$A$2:$B$24,2,FALSE),\"\")","v":""},null,null,{"$f":"IF(LEN(A156)>0,VLOOKUP(A156,Subcontractors!$A$2:$B$3,2,FALSE),\"\")","v":""},null,{"$f":"IF(LEN(A156)>0,VLOOKUP(A156,Subcontractors!$A$2:$B$2,2,FALSE),\"\")","v":""}]
[null,null,null,null,null,null,null,null,null,null,null,null,null,null,null,null,null,null,null,null,null,{"$f":"IF(LEN(X157)>0,VLOOKUP(X157,'TFW Programs'!$A$2:$B$24,2,FALSE),\"\")","v":""},null,null,{"$f":"IF(LEN(A157)>0,VLOOKUP(A157,Subcontractors!$A$2:$B$3,2,FALSE),\"\")","v":""},null,{"$f":"IF(LEN(A157)>0,VLOOKUP(A157,Subcontractors!$A$2:$B$2,2,FALSE),\"\")","v":""}]
[null,null,null,null,null,null,null,null,null,null,null,null,null,null,null,null,null,null,null,null,null,{"$f":"IF(LEN(X158)>0,VLOOKUP(X158,'TFW Programs'!$A$2:$B$24,2,FALSE),\"\")","v":""},null,null,{"$f":"IF(LEN(A158)>0,VLOOKUP(A158,Subcontractors!$A$2:$B$3,2,FALSE),\"\")","v":""},null,{"$f":"IF(LEN(A158)>0,VLOOKUP(A158,Subcontractors!$A$2:$B$2,2,FALSE),\"\")","v":""}]
[null,null,null,null,null,null,null,null,null,null,null,null,null,null,null,null,null,null,null,null,null,{"$f":"IF(LEN(X159)>0,VLOOKUP(X159,'TFW Programs'!$A$2:$B$24,2,FALSE),\"\")","v":""},null,null,{"$f":"IF(LEN(A159)>0,VLOOKUP(A159,Subcontractors!$A$2:$B$3,2,FALSE),\"\")","v":""},null,{"$f":"IF(LEN(A159)>0,VLOOKUP(A159,Subcontractors!$A$2:$B$2,2,FALSE),\"\")","v":""}]
[null,null,null,null,null,null,null,null,null,null,null,null,null,null,null,null,null,null,null,null,null,{"$f":"IF(LEN(X160)>0,VLOOKUP(X160,'TFW Programs'!$A$2:$B$24,2,FALSE),\"\")","v":""},null,null,{"$f":"IF(LEN(A160)>0,VLOOKUP(A160,Subcontractors!$A$2:$B$3,2,FALSE),\"\")","v":""},null,{"$f":"IF(LEN(A160)>0,VLOOKUP(A160,Subcontractors!$A$2:$B$2,2,FALSE),\"\")","v":""}]
[null,null,null,null,null,null,null,null,null,null,null,null,null,null,null,null,null,null,null,null,null,{"$f":"IF(LEN(X161)>0,VLOOKUP(X161,'TFW Programs'!$A$2:$B$24,2,FALSE),\"\")","v":""},null,null,{"$f":"IF(LEN(A161)>0,VLOOKUP(A161,Subcontractors!$A$2:$B$3,2,FALSE),\"\")","v":""},null,{"$f":"IF(LEN(A161)>0,VLOOKUP(A161,Subcontractors!$A$2:$B$2,2,FALSE),\"\")","v":""}]
[null,null,null,null,null,null,null,null,null,null,null,null,null,null,null,null,null,null,null,null,null,{"$f":"IF(LEN(X162)>0,VLOOKUP(X162,'TFW Programs'!$A$2:$B$24,2,FALSE),\"\")","v":""},null,null,{"$f":"IF(LEN(A162)>0,VLOOKUP(A162,Subcontractors!$A$2:$B$3,2,FALSE),\"\")","v":""},null,{"$f":"IF(LEN(A162)>0,VLOOKUP(A162,Subcontractors!$A$2:$B$2,2,FALSE),\"\")","v":""}]
[null,null,null,null,null,null,null,null,null,null,null,null,null,null,null,null,null,null,null,null,null,{"$f":"IF(LEN(X163)>0,VLOOKUP(X163,'TFW Programs'!$A$2:$B$24,2,FALSE),\"\")","v":""},null,null,{"$f":"IF(LEN(A163)>0,VLOOKUP(A163,Subcontractors!$A$2:$B$3,2,FALSE),\"\")","v":""},null,{"$f":"IF(LEN(A163)>0,VLOOKUP(A163,Subcontractors!$A$2:$B$2,2,FALSE),\"\")","v":""}]
[null,null,null,null,null,null,null,null,null,null,null,null,null,null,null,null,null,null,null,null,null,{"$f":"IF(LEN(X164)>0,VLOOKUP(X164,'TFW Programs'!$A$2:$B$24,2,FALSE),\"\")","v":""},null,null,{"$f":"IF(LEN(A164)>0,VLOOKUP(A164,Subcontractors!$A$2:$B$3,2,FALSE),\"\")","v":""},null,{"$f":"IF(LEN(A164)>0,VLOOKUP(A164,Subcontractors!$A$2:$B$2,2,FALSE),\"\")","v":""}]
[null,null,null,null,null,null,null,null,null,null,null,null,null,null,null,null,null,null,null,null,null,{"$f":"IF(LEN(X165)>0,VLOOKUP(X165,'TFW Programs'!$A$2:$B$24,2,FALSE),\"\")","v":""},null,null,{"$f":"IF(LEN(A165)>0,VLOOKUP(A165,Subcontractors!$A$2:$B$3,2,FALSE),\"\")","v":""},null,{"$f":"IF(LEN(A165)>0,VLOOKUP(A165,Subcontractors!$A$2:$B$2,2,FALSE),\"\")","v":""}]
[null,null,null,null,null,null,null,null,null,null,null,null,null,null,null,null,null,null,null,null,null,{"$f":"IF(LEN(X166)>0,VLOOKUP(X166,'TFW Programs'!$A$2:$B$24,2,FALSE),\"\")","v":""},null,null,{"$f":"IF(LEN(A166)>0,VLOOKUP(A166,Subcontractors!$A$2:$B$3,2,FALSE),\"\")","v":""},null,{"$f":"IF(LEN(A166)>0,VLOOKUP(A166,Subcontractors!$A$2:$B$2,2,FALSE),\"\")","v":""}]
[null,null,null,null,null,null,null,null,null,null,null,null,null,null,null,null,null,null,null,null,null,{"$f":"IF(LEN(X167)>0,VLOOKUP(X167,'TFW Programs'!$A$2:$B$24,2,FALSE),\"\")","v":""},null,null,{"$f":"IF(LEN(A167)>0,VLOOKUP(A167,Subcontractors!$A$2:$B$3,2,FALSE),\"\")","v":""},null,{"$f":"IF(LEN(A167)>0,VLOOKUP(A167,Subcontractors!$A$2:$B$2,2,FALSE),\"\")","v":""}]
[null,null,null,null,null,null,null,null,null,null,null,null,null,null,null,null,null,null,null,null,null,{"$f":"IF(LEN(X168)>0,VLOOKUP(X168,'TFW Programs'!$A$2:$B$24,2,FALSE),\"\")","v":""},null,null,{"$f":"IF(LEN(A168)>0,VLOOKUP(A168,Subcontractors!$A$2:$B$3,2,FALSE),\"\")","v":""},null,{"$f":"IF(LEN(A168)>0,VLOOKUP(A168,Subcontractors!$A$2:$B$2,2,FALSE),\"\")","v":""}]
[null,null,null,null,null,null,null,null,null,null,null,null,null,null,null,null,null,null,null,null,null,{"$f":"IF(LEN(X169)>0,VLOOKUP(X169,'TFW Programs'!$A$2:$B$24,2,FALSE),\"\")","v":""},null,null,{"$f":"IF(LEN(A169)>0,VLOOKUP(A169,Subcontractors!$A$2:$B$3,2,FALSE),\"\")","v":""},null,{"$f":"IF(LEN(A169)>0,VLOOKUP(A169,Subcontractors!$A$2:$B$2,2,FALSE),\"\")","v":""}]
[null,null,null,null,null,null,null,null,null,null,null,null,null,null,null,null,null,null,null,null,null,{"$f":"IF(LEN(X170)>0,VLOOKUP(X170,'TFW Programs'!$A$2:$B$24,2,FALSE),\"\")","v":""},null,null,{"$f":"IF(LEN(A170)>0,VLOOKUP(A170,Subcontractors!$A$2:$B$3,2,FALSE),\"\")","v":""},null,{"$f":"IF(LEN(A170)>0,VLOOKUP(A170,Subcontractors!$A$2:$B$2,2,FALSE),\"\")","v":""}]
[null,null,null,null,null,null,null,null,null,null,null,null,null,null,null,null,null,null,null,null,null,{"$f":"IF(LEN(X171)>0,VLOOKUP(X171,'TFW Programs'!$A$2:$B$24,2,FALSE),\"\")","v":""},null,null,{"$f":"IF(LEN(A171)>0,VLOOKUP(A171,Subcontractors!$A$2:$B$3,2,FALSE),\"\")","v":""},null,{"$f":"IF(LEN(A171)>0,VLOOKUP(A171,Subcontractors!$A$2:$B$2,2,FALSE),\"\")","v":""}]
[null,null,null,null,null,null,null,null,null,null,null,null,null,null,null,null,null,null,null,null,null,{"$f":"IF(LEN(X172)>0,VLOOKUP(X172,'TFW Programs'!$A$2:$B$24,2,FALSE),\"\")","v":""},null,null,{"$f":"IF(LEN(A172)>0,VLOOKUP(A172,Subcontractors!$A$2:$B$3,2,FALSE),\"\")","v":""},null,{"$f":"IF(LEN(A172)>0,VLOOKUP(A172,Subcontractors!$A$2:$B$2,2,FALSE),\"\")","v":""}]
[null,null,null,null,null,null,null,null,null,null,null,null,null,null,null,null,null,null,null,null,null,{"$f":"IF(LEN(X173)>0,VLOOKUP(X173,'TFW Programs'!$A$2:$B$24,2,FALSE),\"\")","v":""},null,null,{"$f":"IF(LEN(A173)>0,VLOOKUP(A173,Subcontractors!$A$2:$B$3,2,FALSE),\"\")","v":""},null,{"$f":"IF(LEN(A173)>0,VLOOKUP(A173,Subcontractors!$A$2:$B$2,2,FALSE),\"\")","v":""}]
[null,null,null,null,null,null,null,null,null,null,null,null,null,null,null,null,null,null,null,null,null,{"$f":"IF(LEN(X174)>0,VLOOKUP(X174,'TFW Programs'!$A$2:$B$24,2,FALSE),\"\")","v":""},null,null,{"$f":"IF(LEN(A174)>0,VLOOKUP(A174,Subcontractors!$A$2:$B$3,2,FALSE),\"\")","v":""},null,{"$f":"IF(LEN(A174)>0,VLOOKUP(A174,Subcontractors!$A$2:$B$2,2,FALSE),\"\")","v":""}]
[null,null,null,null,null,null,null,null,null,null,null,null,null,null,null,null,null,null,null,null,null,{"$f":"IF(LEN(X175)>0,VLOOKUP(X175,'TFW Programs'!$A$2:$B$24,2,FALSE),\"\")","v":""},null,null,{"$f":"IF(LEN(A175)>0,VLOOKUP(A175,Subcontractors!$A$2:$B$3,2,FALSE),\"\")","v":""},null,{"$f":"IF(LEN(A175)>0,VLOOKUP(A175,Subcontractors!$A$2:$B$2,2,FALSE),\"\")","v":""}]
[null,null,null,null,null,null,null,null,null,null,null,null,null,null,null,null,null,null,null,null,null,{"$f":"IF(LEN(X176)>0,VLOOKUP(X176,'TFW Programs'!$A$2:$B$24,2,FALSE),\"\")","v":""},null,null,{"$f":"IF(LEN(A176)>0,VLOOKUP(A176,Subcontractors!$A$2:$B$3,2,FALSE),\"\")","v":""},null,{"$f":"IF(LEN(A176)>0,VLOOKUP(A176,Subcontractors!$A$2:$B$2,2,FALSE),\"\")","v":""}]
[null,null,null,null,null,null,null,null,null,null,null,null,null,null,null,null,null,null,null,null,null,{"$f":"IF(LEN(X177)>0,VLOOKUP(X177,'TFW Programs'!$A$2:$B$24,2,FALSE),\"\")","v":""},null,null,{"$f":"IF(LEN(A177)>0,VLOOKUP(A177,Subcontractors!$A$2:$B$3,2,FALSE),\"\")","v":""},null,{"$f":"IF(LEN(A177)>0,VLOOKUP(A177,Subcontractors!$A$2:$B$2,2,FALSE),\"\")","v":""}]
[null,null,null,null,null,null,null,null,null,null,null,null,null,null,null,null,null,null,null,null,null,{"$f":"IF(LEN(X178)>0,VLOOKUP(X178,'TFW Programs'!$A$2:$B$24,2,FALSE),\"\")","v":""},null,null,{"$f":"IF(LEN(A178)>0,VLOOKUP(A178,Subcontractors!$A$2:$B$3,2,FALSE),\"\")","v":""},null,{"$f":"IF(LEN(A178)>0,VLOOKUP(A178,Subcontractors!$A$2:$B$2,2,FALSE),\"\")","v":""}]
[null,null,null,null,null,null,null,null,null,null,null,null,null,null,null,null,null,null,null,null,null,{"$f":"IF(LEN(X179)>0,VLOOKUP(X179,'TFW Programs'!$A$2:$B$24,2,FALSE),\"\")","v":""},null,null,{"$f":"IF(LEN(A179)>0,VLOOKUP(A179,Subcontractors!$A$2:$B$3,2,FALSE),\"\")","v":""},null,{"$f":"IF(LEN(A179)>0,VLOOKUP(A179,Subcontractors!$A$2:$B$2,2,FALSE),\"\")","v":""}]
[null,null,null,null,null,null,null,null,null,null,null,null,null,null,null,null,null,null,null,null,null,{"$f":"IF(LEN(X180)>0,VLOOKUP(X180,'TFW Programs'!$A$2:$B$24,2,FALSE),\"\")","v":""},null,null,{"$f":"IF(LEN(A180)>0,VLOOKUP(A180,Subcontractors!$A$2:$B$3,2,FALSE),\"\")","v":""},null,{"$f":"IF(LEN(A180)>0,VLOOKUP(A180,Subcontractors!$A$2:$B$2,2,FALSE),\"\")","v":""}]
[null,null,null,null,null,null,null,null,null,null,null,null,null,null,null,null,null,null,null,null,null,{"$f":"IF(LEN(X181)>0,VLOOKUP(X181,'TFW Programs'!$A$2:$B$24,2,FALSE),\"\")","v":""},null,null,{"$f":"IF(LEN(A181)>0,VLOOKUP(A181,Subcontractors!$A$2:$B$3,2,FALSE),\"\")","v":""},null,{"$f":"IF(LEN(A181)>0,VLOOKUP(A181,Subcontractors!$A$2:$B$2,2,FALSE),\"\")","v":""}]
[null,null,null,null,null,null,null,null,null,null,null,null,null,null,null,null,null,null,null,null,null,{"$f":"IF(LEN(X182)>0,VLOOKUP(X182,'TFW Programs'!$A$2:$B$24,2,FALSE),\"\")","v":""},null,null,{"$f":"IF(LEN(A182)>0,VLOOKUP(A182,Subcontractors!$A$2:$B$3,2,FALSE),\"\")","v":""},null,{"$f":"IF(LEN(A182)>0,VLOOKUP(A182,Subcontractors!$A$2:$B$2,2,FALSE),\"\")","v":""}]
[null,null,null,null,null,null,null,null,null,null,null,null,null,null,null,null,null,null,null,null,null,{"$f":"IF(LEN(X183)>0,VLOOKUP(X183,'TFW Programs'!$A$2:$B$24,2,FALSE),\"\")","v":""},null,null,{"$f":"IF(LEN(A183)>0,VLOOKUP(A183,Subcontractors!$A$2:$B$3,2,FALSE),\"\")","v":""},null,{"$f":"IF(LEN(A183)>0,VLOOKUP(A183,Subcontractors!$A$2:$B$2,2,FALSE),\"\")","v":""}]
[null,null,null,null,null,null,null,null,null,null,null,null,null,null,null,null,null,null,null,null,null,{"$f":"IF(LEN(X184)>0,VLOOKUP(X184,'TFW Programs'!$A$2:$B$24,2,FALSE),\"\")","v":""},null,null,{"$f":"IF(LEN(A184)>0,VLOOKUP(A184,Subcontractors!$A$2:$B$3,2,FALSE),\"\")","v":""},null,{"$f":"IF(LEN(A184)>0,VLOOKUP(A184,Subcontractors!$A$2:$B$2,2,FALSE),\"\")","v":""}]
[null,null,null,null,null,null,null,null,null,null,null,null,null,null,null,null,null,null,null,null,null,{"$f":"IF(LEN(X185)>0,VLOOKUP(X185,'TFW Programs'!$A$2:$B$24,2,FALSE),\"\")","v":""},null,null,{"$f":"IF(LEN(A185)>0,VLOOKUP(A185,Subcontractors!$A$2:$B$3,2,FALSE),\"\")","v":""},null,{"$f":"IF(LEN(A185)>0,VLOOKUP(A185,Subcontractors!$A$2:$B$2,2,FALSE),\"\")","v":""}]
[null,null,null,null,null,null,null,null,null,null,null,null,null,null,null,null,null,null,null,null,null,{"$f":"IF(LEN(X186)>0,VLOOKUP(X186,'TFW Programs'!$A$2:$B$24,2,FALSE),\"\")","v":""},null,null,{"$f":"IF(LEN(A186)>0,VLOOKUP(A186,Subcontractors!$A$2:$B$3,2,FALSE),\"\")","v":""},null,{"$f":"IF(LEN(A186)>0,VLOOKUP(A186,Subcontractors!$A$2:$B$2,2,FALSE),\"\")","v":""}]
[null,null,null,null,null,null,null,null,null,null,null,null,null,null,null,null,null,null,null,null,null,{"$f":"IF(LEN(X187)>0,VLOOKUP(X187,'TFW Programs'!$A$2:$B$24,2,FALSE),\"\")","v":""},null,null,{"$f":"IF(LEN(A187)>0,VLOOKUP(A187,Subcontractors!$A$2:$B$3,2,FALSE),\"\")","v":""},null,{"$f":"IF(LEN(A187)>0,VLOOKUP(A187,Subcontractors!$A$2:$B$2,2,FALSE),\"\")","v":""}]
[null,null,null,null,null,null,null,null,null,null,null,null,null,null,null,null,null,null,null,null,null,{"$f":"IF(LEN(X188)>0,VLOOKUP(X188,'TFW Programs'!$A$2:$B$24,2,FALSE),\"\")","v":""},null,null,{"$f":"IF(LEN(A188)>0,VLOOKUP(A188,Subcontractors!$A$2:$B$3,2,FALSE),\"\")","v":""},null,{"$f":"IF(LEN(A188)>0,VLOOKUP(A188,Subcontractors!$A$2:$B$2,2,FALSE),\"\")","v":""}]
[null,null,null,null,null,null,null,null,null,null,null,null,null,null,null,null,null,null,null,null,null,{"$f":"IF(LEN(X189)>0,VLOOKUP(X189,'TFW Programs'!$A$2:$B$24,2,FALSE),\"\")","v":""},null,null,{"$f":"IF(LEN(A189)>0,VLOOKUP(A189,Subcontractors!$A$2:$B$3,2,FALSE),\"\")","v":""},null,{"$f":"IF(LEN(A189)>0,VLOOKUP(A189,Subcontractors!$A$2:$B$2,2,FALSE),\"\")","v":""}]
[null,null,null,null,null,null,null,null,null,null,null,null,null,null,null,null,null,null,null,null,null,{"$f":"IF(LEN(X190)>0,VLOOKUP(X190,'TFW Programs'!$A$2:$B$24,2,FALSE),\"\")","v":""},null,null,{"$f":"IF(LEN(A190)>0,VLOOKUP(A190,Subcontractors!$A$2:$B$3,2,FALSE),\"\")","v":""},null,{"$f":"IF(LEN(A190)>0,VLOOKUP(A190,Subcontractors!$A$2:$B$2,2,FALSE),\"\")","v":""}]
[null,null,null,null,null,null,null,null,null,null,null,null,null,null,null,null,null,null,null,null,null,{"$f":"IF(LEN(X191)>0,VLOOKUP(X191,'TFW Programs'!$A$2:$B$24,2,FALSE),\"\")","v":""},null,null,{"$f":"IF(LEN(A191)>0,VLOOKUP(A191,Subcontractors!$A$2:$B$3,2,FALSE),\"\")","v":""},null,{"$f":"IF(LEN(A191)>0,VLOOKUP(A191,Subcontractors!$A$2:$B$2,2,FALSE),\"\")","v":""}]
[null,null,null,null,null,null,null,null,null,null,null,null,null,null,null,null,null,null,null,null,null,{"$f":"IF(LEN(X192)>0,VLOOKUP(X192,'TFW Programs'!$A$2:$B$24,2,FALSE),\"\")","v":""},null,null,{"$f":"IF(LEN(A192)>0,VLOOKUP(A192,Subcontractors!$A$2:$B$3,2,FALSE),\"\")","v":""},null,{"$f":"IF(LEN(A192)>0,VLOOKUP(A192,Subcontractors!$A$2:$B$2,2,FALSE),\"\")","v":""}]
[null,null,null,null,null,null,null,null,null,null,null,null,null,null,null,null,null,null,null,null,null,{"$f":"IF(LEN(X193)>0,VLOOKUP(X193,'TFW Programs'!$A$2:$B$24,2,FALSE),\"\")","v":""},null,null,{"$f":"IF(LEN(A193)>0,VLOOKUP(A193,Subcontractors!$A$2:$B$3,2,FALSE),\"\")","v":""},null,{"$f":"IF(LEN(A193)>0,VLOOKUP(A193,Subcontractors!$A$2:$B$2,2,FALSE),\"\")","v":""}]
[null,null,null,null,null,null,null,null,null,null,null,null,null,null,null,null,null,null,null,null,null,{"$f":"IF(LEN(X194)>0,VLOOKUP(X194,'TFW Programs'!$A$2:$B$24,2,FALSE),\"\")","v":""},null,null,{"$f":"IF(LEN(A194)>0,VLOOKUP(A194,Subcontractors!$A$2:$B$3,2,FALSE),\"\")","v":""},null,{"$f":"IF(LEN(A194)>0,VLOOKUP(A194,Subcontractors!$A$2:$B$2,2,FALSE),\"\")","v":""}]
[null,null,null,null,null,null,null,null,null,null,null,null,null,null,null,null,null,null,null,null,null,{"$f":"IF(LEN(X195)>0,VLOOKUP(X195,'TFW Programs'!$A$2:$B$24,2,FALSE),\"\")","v":""},null,null,{"$f":"IF(LEN(A195)>0,VLOOKUP(A195,Subcontractors!$A$2:$B$3,2,FALSE),\"\")","v":""},null,{"$f":"IF(LEN(A195)>0,VLOOKUP(A195,Subcontractors!$A$2:$B$2,2,FALSE),\"\")","v":""}]
[null,null,null,null,null,null,null,null,null,null,null,null,null,null,null,null,null,null,null,null,null,{"$f":"IF(LEN(X196)>0,VLOOKUP(X196,'TFW Programs'!$A$2:$B$24,2,FALSE),\"\")","v":""},null,null,{"$f":"IF(LEN(A196)>0,VLOOKUP(A196,Subcontractors!$A$2:$B$3,2,FALSE),\"\")","v":""},null,{"$f":"IF(LEN(A196)>0,VLOOKUP(A196,Subcontractors!$A$2:$B$2,2,FALSE),\"\")","v":""}]
[null,null,null,null,null,null,null,null,null,null,null,null,null,null,null,null,null,null,null,null,null,{"$f":"IF(LEN(X197)>0,VLOOKUP(X197,'TFW Programs'!$A$2:$B$24,2,FALSE),\"\")","v":""},null,null,{"$f":"IF(LEN(A197)>0,VLOOKUP(A197,Subcontractors!$A$2:$B$3,2,FALSE),\"\")","v":""},null,{"$f":"IF(LEN(A197)>0,VLOOKUP(A197,Subcontractors!$A$2:$B$2,2,FALSE),\"\")","v":""}]
[null,null,null,null,null,null,null,null,null,null,null,null,null,null,null,null,null,null,null,null,null,{"$f":"IF(LEN(X198)>0,VLOOKUP(X198,'TFW Programs'!$A$2:$B$24,2,FALSE),\"\")","v":""},null,null,{"$f":"IF(LEN(A198)>0,VLOOKUP(A198,Subcontractors!$A$2:$B$3,2,FALSE),\"\")","v":""},null,{"$f":"IF(LEN(A198)>0,VLOOKUP(A198,Subcontractors!$A$2:$B$2,2,FALSE),\"\")","v":""}]
[null,null,null,null,null,null,null,null,null,null,null,null,null,null,null,null,null,null,null,null,null,{"$f":"IF(LEN(X199)>0,VLOOKUP(X199,'TFW Programs'!$A$2:$B$24,2,FALSE),\"\")","v":""},null,null,{"$f":"IF(LEN(A199)>0,VLOOKUP(A199,Subcontractors!$A$2:$B$3,2,FALSE),\"\")","v":""},null,{"$f":"IF(LEN(A199)>0,VLOOKUP(A199,Subcontractors!$A$2:$B$2,2,FALSE),\"\")","v":""}]
[null,null,null,null,null,null,null,null,null,null,null,null,null,null,null,null,null,null,null,null,null,{"$f":"IF(LEN(X200)>0,VLOOKUP(X200,'TFW Programs'!$A$2:$B$24,2,FALSE),\"\")","v":""},null,null,{"$f":"IF(LEN(A200)>0,VLOOKUP(A200,Subcontractors!$A$2:$B$3,2,FALSE),\"\")","v":""},null,{"$f":"IF(LEN(A200)>0,VLOOKUP(A200,Subcontractors!$A$2:$B$2,2,FALSE),\"\")","v":""}]
[null,null,null,null,null,null,null,null,null,null,null,null,null,null,null,null,null,null,null,null,null,{"$f":"IF(LEN(X201)>0,VLOOKUP(X201,'TFW Programs'!$A$2:$B$24,2,FALSE),\"\")","v":""},null,null,{"$f":"IF(LEN(A201)>0,VLOOKUP(A201,Subcontractors!$A$2:$B$3,2,FALSE),\"\")","v":""},null,{"$f":"IF(LEN(A201)>0,VLOOKUP(A201,Subcontractors!$A$2:$B$2,2,FALSE),\"\")","v":""}]
[null,null,null,null,null,null,null,null,null,null,null,null,null,null,null,null,null,null,null,null,null,{"$f":"IF(LEN(X202)>0,VLOOKUP(X202,'TFW Programs'!$A$2:$B$24,2,FALSE),\"\")","v":""},null,null,{"$f":"IF(LEN(A202)>0,VLOOKUP(A202,Subcontractors!$A$2:$B$3,2,FALSE),\"\")","v":""},null,{"$f":"IF(LEN(A202)>0,VLOOKUP(A202,Subcontractors!$A$2:$B$2,2,FALSE),\"\")","v":""}]
[null,null,null,null,null,null,null,null,null,null,null,null,null,null,null,null,null,null,null,null,null,{"$f":"IF(LEN(X203)>0,VLOOKUP(X203,'TFW Programs'!$A$2:$B$24,2,FALSE),\"\")","v":""},null,null,{"$f":"IF(LEN(A203)>0,VLOOKUP(A203,Subcontractors!$A$2:$B$3,2,FALSE),\"\")","v":""},null,{"$f":"IF(LEN(A203)>0,VLOOKUP(A203,Subcontractors!$A$2:$B$2,2,FALSE),\"\")","v":""}]
[null,null,null,null,null,null,null,null,null,null,null,null,null,null,null,null,null,null,null,null,null,{"$f":"IF(LEN(X204)>0,VLOOKUP(X204,'TFW Programs'!$A$2:$B$24,2,FALSE),\"\")","v":""},null,null,{"$f":"IF(LEN(A204)>0,VLOOKUP(A204,Subcontractors!$A$2:$B$3,2,FALSE),\"\")","v":""},null,{"$f":"IF(LEN(A204)>0,VLOOKUP(A204,Subcontractors!$A$2:$B$2,2,FALSE),\"\")","v":""}]
[null,null,null,null,null,null,null,null,null,null,null,null,null,null,null,null,null,null,null,null,null,{"$f":"IF(LEN(X205)>0,VLOOKUP(X205,'TFW Programs'!$A$2:$B$24,2,FALSE),\"\")","v":""},null,null,{"$f":"IF(LEN(A205)>0,VLOOKUP(A205,Subcontractors!$A$2:$B$3,2,FALSE),\"\")","v":""},null,{"$f":"IF(LEN(A205)>0,VLOOKUP(A205,Subcontractors!$A$2:$B$2,2,FALSE),\"\")","v":""}]
[null,null,null,null,null,null,null,null,null,null,null,null,null,null,null,null,null,null,null,null,null,{"$f":"IF(LEN(X206)>0,VLOOKUP(X206,'TFW Programs'!$A$2:$B$24,2,FALSE),\"\")","v":""},null,null,{"$f":"IF(LEN(A206)>0,VLOOKUP(A206,Subcontractors!$A$2:$B$3,2,FALSE),\"\")","v":""},null,{"$f":"IF(LEN(A206)>0,VLOOKUP(A206,Subcontractors!$A$2:$B$2,2,FALSE),\"\")","v":""}]
[null,null,null,null,null,null,null,null,null,null,null,null,null,null,null,null,null,null,null,null,null,{"$f":"IF(LEN(X207)>0,VLOOKUP(X207,'TFW Programs'!$A$2:$B$24,2,FALSE),\"\")","v":""},null,null,{"$f":"IF(LEN(A207)>0,VLOOKUP(A207,Subcontractors!$A$2:$B$3,2,FALSE),\"\")","v":""},null,{"$f":"IF(LEN(A207)>0,VLOOKUP(A207,Subcontractors!$A$2:$B$2,2,FALSE),\"\")","v":""}]
[null,null,null,null,null,null,null,null,null,null,null,null,null,null,null,null,null,null,null,null,null,{"$f":"IF(LEN(X208)>0,VLOOKUP(X208,'TFW Programs'!$A$2:$B$24,2,FALSE),\"\")","v":""},null,null,{"$f":"IF(LEN(A208)>0,VLOOKUP(A208,Subcontractors!$A$2:$B$3,2,FALSE),\"\")","v":""},null,{"$f":"IF(LEN(A208)>0,VLOOKUP(A208,Subcontractors!$A$2:$B$2,2,FALSE),\"\")","v":""}]
[null,null,null,null,null,null,null,null,null,null,null,null,null,null,null,null,null,null,null,null,null,{"$f":"IF(LEN(X209)>0,VLOOKUP(X209,'TFW Programs'!$A$2:$B$24,2,FALSE),\"\")","v":""},null,null,{"$f":"IF(LEN(A209)>0,VLOOKUP(A209,Subcontractors!$A$2:$B$3,2,FALSE),\"\")","v":""},null,{"$f":"IF(LEN(A209)>0,VLOOKUP(A209,Subcontractors!$A$2:$B$2,2,FALSE),\"\")","v":""}]
[null,null,null,null,null,null,null,null,null,null,null,null,null,null,null,null,null,null,null,null,null,{"$f":"IF(LEN(X210)>0,VLOOKUP(X210,'TFW Programs'!$A$2:$B$24,2,FALSE),\"\")","v":""},null,null,{"$f":"IF(LEN(A210)>0,VLOOKUP(A210,Subcontractors!$A$2:$B$3,2,FALSE),\"\")","v":""},null,{"$f":"IF(LEN(A210)>0,VLOOKUP(A210,Subcontractors!$A$2:$B$2,2,FALSE),\"\")","v":""}]
[null,null,null,null,null,null,null,null,null,null,null,null,null,null,null,null,null,null,null,null,null,{"$f":"IF(LEN(X211)>0,VLOOKUP(X211,'TFW Programs'!$A$2:$B$24,2,FALSE),\"\")","v":""},null,null,{"$f":"IF(LEN(A211)>0,VLOOKUP(A211,Subcontractors!$A$2:$B$3,2,FALSE),\"\")","v":""},null,{"$f":"IF(LEN(A211)>0,VLOOKUP(A211,Subcontractors!$A$2:$B$2,2,FALSE),\"\")","v":""}]
[null,null,null,null,null,null,null,null,null,null,null,null,null,null,null,null,null,null,null,null,null,{"$f":"IF(LEN(X212)>0,VLOOKUP(X212,'TFW Programs'!$A$2:$B$24,2,FALSE),\"\")","v":""},null,null,{"$f":"IF(LEN(A212)>0,VLOOKUP(A212,Subcontractors!$A$2:$B$3,2,FALSE),\"\")","v":""},null,{"$f":"IF(LEN(A212)>0,VLOOKUP(A212,Subcontractors!$A$2:$B$2,2,FALSE),\"\")","v":""}]
[null,null,null,null,null,null,null,null,null,null,null,null,null,null,null,null,null,null,null,null,null,{"$f":"IF(LEN(X213)>0,VLOOKUP(X213,'TFW Programs'!$A$2:$B$24,2,FALSE),\"\")","v":""},null,null,{"$f":"IF(LEN(A213)>0,VLOOKUP(A213,Subcontractors!$A$2:$B$3,2,FALSE),\"\")","v":""},null,{"$f":"IF(LEN(A213)>0,VLOOKUP(A213,Subcontractors!$A$2:$B$2,2,FALSE),\"\")","v":""}]
[null,null,null,null,null,null,null,null,null,null,null,null,null,null,null,null,null,null,null,null,null,{"$f":"IF(LEN(X214)>0,VLOOKUP(X214,'TFW Programs'!$A$2:$B$24,2,FALSE),\"\")","v":""},null,null,{"$f":"IF(LEN(A214)>0,VLOOKUP(A214,Subcontractors!$A$2:$B$3,2,FALSE),\"\")","v":""},null,{"$f":"IF(LEN(A214)>0,VLOOKUP(A214,Subcontractors!$A$2:$B$2,2,FALSE),\"\")","v":""}]
[null,null,null,null,null,null,null,null,null,null,null,null,null,null,null,null,null,null,null,null,null,{"$f":"IF(LEN(X215)>0,VLOOKUP(X215,'TFW Programs'!$A$2:$B$24,2,FALSE),\"\")","v":""},null,null,{"$f":"IF(LEN(A215)>0,VLOOKUP(A215,Subcontractors!$A$2:$B$3,2,FALSE),\"\")","v":""},null,{"$f":"IF(LEN(A215)>0,VLOOKUP(A215,Subcontractors!$A$2:$B$2,2,FALSE),\"\")","v":""}]
[null,null,null,null,null,null,null,null,null,null,null,null,null,null,null,null,null,null,null,null,null,{"$f":"IF(LEN(X216)>0,VLOOKUP(X216,'TFW Programs'!$A$2:$B$24,2,FALSE),\"\")","v":""},null,null,{"$f":"IF(LEN(A216)>0,VLOOKUP(A216,Subcontractors!$A$2:$B$3,2,FALSE),\"\")","v":""},null,{"$f":"IF(LEN(A216)>0,VLOOKUP(A216,Subcontractors!$A$2:$B$2,2,FALSE),\"\")","v":""}]
[null,null,null,null,null,null,null,null,null,null,null,null,null,null,null,null,null,null,null,null,null,{"$f":"IF(LEN(X217)>0,VLOOKUP(X217,'TFW Programs'!$A$2:$B$24,2,FALSE),\"\")","v":""},null,null,{"$f":"IF(LEN(A217)>0,VLOOKUP(A217,Subcontractors!$A$2:$B$3,2,FALSE),\"\")","v":""},null,{"$f":"IF(LEN(A217)>0,VLOOKUP(A217,Subcontractors!$A$2:$B$2,2,FALSE),\"\")","v":""}]
[null,null,null,null,null,null,null,null,null,null,null,null,null,null,null,null,null,null,null,null,null,{"$f":"IF(LEN(X218)>0,VLOOKUP(X218,'TFW Programs'!$A$2:$B$24,2,FALSE),\"\")","v":""},null,null,{"$f":"IF(LEN(A218)>0,VLOOKUP(A218,Subcontractors!$A$2:$B$3,2,FALSE),\"\")","v":""},null,{"$f":"IF(LEN(A218)>0,VLOOKUP(A218,Subcontractors!$A$2:$B$2,2,FALSE),\"\")","v":""}]
[null,null,null,null,null,null,null,null,null,null,null,null,null,null,null,null,null,null,null,null,null,{"$f":"IF(LEN(X219)>0,VLOOKUP(X219,'TFW Programs'!$A$2:$B$24,2,FALSE),\"\")","v":""},null,null,{"$f":"IF(LEN(A219)>0,VLOOKUP(A219,Subcontractors!$A$2:$B$3,2,FALSE),\"\")","v":""},null,{"$f":"IF(LEN(A219)>0,VLOOKUP(A219,Subcontractors!$A$2:$B$2,2,FALSE),\"\")","v":""}]
[null,null,null,null,null,null,null,null,null,null,null,null,null,null,null,null,null,null,null,null,null,{"$f":"IF(LEN(X220)>0,VLOOKUP(X220,'TFW Programs'!$A$2:$B$24,2,FALSE),\"\")","v":""},null,null,{"$f":"IF(LEN(A220)>0,VLOOKUP(A220,Subcontractors!$A$2:$B$3,2,FALSE),\"\")","v":""},null,{"$f":"IF(LEN(A220)>0,VLOOKUP(A220,Subcontractors!$A$2:$B$2,2,FALSE),\"\")","v":""}]
[null,null,null,null,null,null,null,null,null,null,null,null,null,null,null,null,null,null,null,null,null,{"$f":"IF(LEN(X221)>0,VLOOKUP(X221,'TFW Programs'!$A$2:$B$24,2,FALSE),\"\")","v":""},null,null,{"$f":"IF(LEN(A221)>0,VLOOKUP(A221,Subcontractors!$A$2:$B$3,2,FALSE),\"\")","v":""},null,{"$f":"IF(LEN(A221)>0,VLOOKUP(A221,Subcontractors!$A$2:$B$2,2,FALSE),\"\")","v":""}]
[null,null,null,null,null,null,null,null,null,null,null,null,null,null,null,null,null,null,null,null,null,{"$f":"IF(LEN(X222)>0,VLOOKUP(X222,'TFW Programs'!$A$2:$B$24,2,FALSE),\"\")","v":""},null,null,{"$f":"IF(LEN(A222)>0,VLOOKUP(A222,Subcontractors!$A$2:$B$3,2,FALSE),\"\")","v":""},null,{"$f":"IF(LEN(A222)>0,VLOOKUP(A222,Subcontractors!$A$2:$B$2,2,FALSE),\"\")","v":""}]
[null,null,null,null,null,null,null,null,null,null,null,null,null,null,null,null,null,null,null,null,null,{"$f":"IF(LEN(X223)>0,VLOOKUP(X223,'TFW Programs'!$A$2:$B$24,2,FALSE),\"\")","v":""},null,null,{"$f":"IF(LEN(A223)>0,VLOOKUP(A223,Subcontractors!$A$2:$B$3,2,FALSE),\"\")","v":""},null,{"$f":"IF(LEN(A223)>0,VLOOKUP(A223,Subcontractors!$A$2:$B$2,2,FALSE),\"\")","v":""}]
[null,null,null,null,null,null,null,null,null,null,null,null,null,null,null,null,null,null,null,null,null,{"$f":"IF(LEN(X224)>0,VLOOKUP(X224,'TFW Programs'!$A$2:$B$24,2,FALSE),\"\")","v":""},null,null,{"$f":"IF(LEN(A224)>0,VLOOKUP(A224,Subcontractors!$A$2:$B$3,2,FALSE),\"\")","v":""},null,{"$f":"IF(LEN(A224)>0,VLOOKUP(A224,Subcontractors!$A$2:$B$2,2,FALSE),\"\")","v":""}]
[null,null,null,null,null,null,null,null,null,null,null,null,null,null,null,null,null,null,null,null,null,{"$f":"IF(LEN(X225)>0,VLOOKUP(X225,'TFW Programs'!$A$2:$B$24,2,FALSE),\"\")","v":""},null,null,{"$f":"IF(LEN(A225)>0,VLOOKUP(A225,Subcontractors!$A$2:$B$3,2,FALSE),\"\")","v":""},null,{"$f":"IF(LEN(A225)>0,VLOOKUP(A225,Subcontractors!$A$2:$B$2,2,FALSE),\"\")","v":""}]
[null,null,null,null,null,null,null,null,null,null,null,null,null,null,null,null,null,null,null,null,null,{"$f":"IF(LEN(X226)>0,VLOOKUP(X226,'TFW Programs'!$A$2:$B$24,2,FALSE),\"\")","v":""},null,null,{"$f":"IF(LEN(A226)>0,VLOOKUP(A226,Subcontractors!$A$2:$B$3,2,FALSE),\"\")","v":""},null,{"$f":"IF(LEN(A226)>0,VLOOKUP(A226,Subcontractors!$A$2:$B$2,2,FALSE),\"\")","v":""}]
[null,null,null,null,null,null,null,null,null,null,null,null,null,null,null,null,null,null,null,null,null,{"$f":"IF(LEN(X227)>0,VLOOKUP(X227,'TFW Programs'!$A$2:$B$24,2,FALSE),\"\")","v":""},null,null,{"$f":"IF(LEN(A227)>0,VLOOKUP(A227,Subcontractors!$A$2:$B$3,2,FALSE),\"\")","v":""},null,{"$f":"IF(LEN(A227)>0,VLOOKUP(A227,Subcontractors!$A$2:$B$2,2,FALSE),\"\")","v":""}]
[null,null,null,null,null,null,null,null,null,null,null,null,null,null,null,null,null,null,null,null,null,{"$f":"IF(LEN(X228)>0,VLOOKUP(X228,'TFW Programs'!$A$2:$B$24,2,FALSE),\"\")","v":""},null,null,{"$f":"IF(LEN(A228)>0,VLOOKUP(A228,Subcontractors!$A$2:$B$3,2,FALSE),\"\")","v":""},null,{"$f":"IF(LEN(A228)>0,VLOOKUP(A228,Subcontractors!$A$2:$B$2,2,FALSE),\"\")","v":""}]
[null,null,null,null,null,null,null,null,null,null,null,null,null,null,null,null,null,null,null,null,null,{"$f":"IF(LEN(X229)>0,VLOOKUP(X229,'TFW Programs'!$A$2:$B$24,2,FALSE),\"\")","v":""},null,null,{"$f":"IF(LEN(A229)>0,VLOOKUP(A229,Subcontractors!$A$2:$B$3,2,FALSE),\"\")","v":""},null,{"$f":"IF(LEN(A229)>0,VLOOKUP(A229,Subcontractors!$A$2:$B$2,2,FALSE),\"\")","v":""}]
[null,null,null,null,null,null,null,null,null,null,null,null,null,null,null,null,null,null,null,null,null,{"$f":"IF(LEN(X230)>0,VLOOKUP(X230,'TFW Programs'!$A$2:$B$24,2,FALSE),\"\")","v":""},null,null,{"$f":"IF(LEN(A230)>0,VLOOKUP(A230,Subcontractors!$A$2:$B$3,2,FALSE),\"\")","v":""},null,{"$f":"IF(LEN(A230)>0,VLOOKUP(A230,Subcontractors!$A$2:$B$2,2,FALSE),\"\")","v":""}]
[null,null,null,null,null,null,null,null,null,null,null,null,null,null,null,null,null,null,null,null,null,{"$f":"IF(LEN(X231)>0,VLOOKUP(X231,'TFW Programs'!$A$2:$B$24,2,FALSE),\"\")","v":""},null,null,{"$f":"IF(LEN(A231)>0,VLOOKUP(A231,Subcontractors!$A$2:$B$3,2,FALSE),\"\")","v":""},null,{"$f":"IF(LEN(A231)>0,VLOOKUP(A231,Subcontractors!$A$2:$B$2,2,FALSE),\"\")","v":""}]
[null,null,null,null,null,null,null,null,null,null,null,null,null,null,null,null,null,null,null,null,null,{"$f":"IF(LEN(X232)>0,VLOOKUP(X232,'TFW Programs'!$A$2:$B$24,2,FALSE),\"\")","v":""},null,null,{"$f":"IF(LEN(A232)>0,VLOOKUP(A232,Subcontractors!$A$2:$B$3,2,FALSE),\"\")","v":""},null,{"$f":"IF(LEN(A232)>0,VLOOKUP(A232,Subcontractors!$A$2:$B$2,2,FALSE),\"\")","v":""}]
[null,null,null,null,null,null,null,null,null,null,null,null,null,null,null,null,null,null,null,null,null,{"$f":"IF(LEN(X233)>0,VLOOKUP(X233,'TFW Programs'!$A$2:$B$24,2,FALSE),\"\")","v":""},null,null,{"$f":"IF(LEN(A233)>0,VLOOKUP(A233,Subcontractors!$A$2:$B$3,2,FALSE),\"\")","v":""},null,{"$f":"IF(LEN(A233)>0,VLOOKUP(A233,Subcontractors!$A$2:$B$2,2,FALSE),\"\")","v":""}]
[null,null,null,null,null,null,null,null,null,null,null,null,null,null,null,null,null,null,null,null,null,{"$f":"IF(LEN(X234)>0,VLOOKUP(X234,'TFW Programs'!$A$2:$B$24,2,FALSE),\"\")","v":""},null,null,{"$f":"IF(LEN(A234)>0,VLOOKUP(A234,Subcontractors!$A$2:$B$3,2,FALSE),\"\")","v":""},null,{"$f":"IF(LEN(A234)>0,VLOOKUP(A234,Subcontractors!$A$2:$B$2,2,FALSE),\"\")","v":""}]
[null,null,null,null,null,null,null,null,null,null,null,null,null,null,null,null,null,null,null,null,null,{"$f":"IF(LEN(X235)>0,VLOOKUP(X235,'TFW Programs'!$A$2:$B$24,2,FALSE),\"\")","v":""},null,null,{"$f":"IF(LEN(A235)>0,VLOOKUP(A235,Subcontractors!$A$2:$B$3,2,FALSE),\"\")","v":""},null,{"$f":"IF(LEN(A235)>0,VLOOKUP(A235,Subcontractors!$A$2:$B$2,2,FALSE),\"\")","v":""}]
[null,null,null,null,null,null,null,null,null,null,null,null,null,null,null,null,null,null,null,null,null,{"$f":"IF(LEN(X236)>0,VLOOKUP(X236,'TFW Programs'!$A$2:$B$24,2,FALSE),\"\")","v":""},null,null,{"$f":"IF(LEN(A236)>0,VLOOKUP(A236,Subcontractors!$A$2:$B$3,2,FALSE),\"\")","v":""},null,{"$f":"IF(LEN(A236)>0,VLOOKUP(A236,Subcontractors!$A$2:$B$2,2,FALSE),\"\")","v":""}]
[null,null,null,null,null,null,null,null,null,null,null,null,null,null,null,null,null,null,null,null,null,{"$f":"IF(LEN(X237)>0,VLOOKUP(X237,'TFW Programs'!$A$2:$B$24,2,FALSE),\"\")","v":""},null,null,{"$f":"IF(LEN(A237)>0,VLOOKUP(A237,Subcontractors!$A$2:$B$3,2,FALSE),\"\")","v":""},null,{"$f":"IF(LEN(A237)>0,VLOOKUP(A237,Subcontractors!$A$2:$B$2,2,FALSE),\"\")","v":""}]
[null,null,null,null,null,null,null,null,null,null,null,null,null,null,null,null,null,null,null,null,null,{"$f":"IF(LEN(X238)>0,VLOOKUP(X238,'TFW Programs'!$A$2:$B$24,2,FALSE),\"\")","v":""},null,null,{"$f":"IF(LEN(A238)>0,VLOOKUP(A238,Subcontractors!$A$2:$B$3,2,FALSE),\"\")","v":""},null,{"$f":"IF(LEN(A238)>0,VLOOKUP(A238,Subcontractors!$A$2:$B$2,2,FALSE),\"\")","v":""}]
[null,null,null,null,null,null,null,null,null,null,null,null,null,null,null,null,null,null,null,null,null,{"$f":"IF(LEN(X239)>0,VLOOKUP(X239,'TFW Programs'!$A$2:$B$24,2,FALSE),\"\")","v":""},null,null,{"$f":"IF(LEN(A239)>0,VLOOKUP(A239,Subcontractors!$A$2:$B$3,2,FALSE),\"\")","v":""},null,{"$f":"IF(LEN(A239)>0,VLOOKUP(A239,Subcontractors!$A$2:$B$2,2,FALSE),\"\")","v":""}]
[null,null,null,null,null,null,null,null,null,null,null,null,null,null,null,null,null,null,null,null,null,{"$f":"IF(LEN(X240)>0,VLOOKUP(X240,'TFW Programs'!$A$2:$B$24,2,FALSE),\"\")","v":""},null,null,{"$f":"IF(LEN(A240)>0,VLOOKUP(A240,Subcontractors!$A$2:$B$3,2,FALSE),\"\")","v":""},null,{"$f":"IF(LEN(A240)>0,VLOOKUP(A240,Subcontractors!$A$2:$B$2,2,FALSE),\"\")","v":""}]
[null,null,null,null,null,null,null,null,null,null,null,null,null,null,null,null,null,null,null,null,null,{"$f":"IF(LEN(X241)>0,VLOOKUP(X241,'TFW Programs'!$A$2:$B$24,2,FALSE),\"\")","v":""},null,null,{"$f":"IF(LEN(A241)>0,VLOOKUP(A241,Subcontractors!$A$2:$B$3,2,FALSE),\"\")","v":""},null,{"$f":"IF(LEN(A241)>0,VLOOKUP(A241,Subcontractors!$A$2:$B$2,2,FALSE),\"\")","v":""}]
[null,null,null,null,null,null,null,null,null,null,null,null,null,null,null,null,null,null,null,null,null,{"$f":"IF(LEN(X242)>0,VLOOKUP(X242,'TFW Programs'!$A$2:$B$24,2,FALSE),\"\")","v":""},null,null,{"$f":"IF(LEN(A242)>0,VLOOKUP(A242,Subcontractors!$A$2:$B$3,2,FALSE),\"\")","v":""},null,{"$f":"IF(LEN(A242)>0,VLOOKUP(A242,Subcontractors!$A$2:$B$2,2,FALSE),\"\")","v":""}]
[null,null,null,null,null,null,null,null,null,null,null,null,null,null,null,null,null,null,null,null,null,{"$f":"IF(LEN(X243)>0,VLOOKUP(X243,'TFW Programs'!$A$2:$B$24,2,FALSE),\"\")","v":""},null,null,{"$f":"IF(LEN(A243)>0,VLOOKUP(A243,Subcontractors!$A$2:$B$3,2,FALSE),\"\")","v":""},null,{"$f":"IF(LEN(A243)>0,VLOOKUP(A243,Subcontractors!$A$2:$B$2,2,FALSE),\"\")","v":""}]
[null,null,null,null,null,null,null,null,null,null,null,null,null,null,null,null,null,null,null,null,null,{"$f":"IF(LEN(X244)>0,VLOOKUP(X244,'TFW Programs'!$A$2:$B$24,2,FALSE),\"\")","v":""},null,null,{"$f":"IF(LEN(A244)>0,VLOOKUP(A244,Subcontractors!$A$2:$B$3,2,FALSE),\"\")","v":""},null,{"$f":"IF(LEN(A244)>0,VLOOKUP(A244,Subcontractors!$A$2:$B$2,2,FALSE),\"\")","v":""}]
[null,null,null,null,null,null,null,null,null,null,null,null,null,null,null,null,null,null,null,null,null,{"$f":"IF(LEN(X245)>0,VLOOKUP(X245,'TFW Programs'!$A$2:$B$24,2,FALSE),\"\")","v":""},null,null,{"$f":"IF(LEN(A245)>0,VLOOKUP(A245,Subcontractors!$A$2:$B$3,2,FALSE),\"\")","v":""},null,{"$f":"IF(LEN(A245)>0,VLOOKUP(A245,Subcontractors!$A$2:$B$2,2,FALSE),\"\")","v":""}]
[null,null,null,null,null,null,null,null,null,null,null,null,null,null,null,null,null,null,null,null,null,{"$f":"IF(LEN(X246)>0,VLOOKUP(X246,'TFW Programs'!$A$2:$B$24,2,FALSE),\"\")","v":""},null,null,{"$f":"IF(LEN(A246)>0,VLOOKUP(A246,Subcontractors!$A$2:$B$3,2,FALSE),\"\")","v":""},null,{"$f":"IF(LEN(A246)>0,VLOOKUP(A246,Subcontractors!$A$2:$B$2,2,FALSE),\"\")","v":""}]
[null,null,null,null,null,null,null,null,null,null,null,null,null,null,null,null,null,null,null,null,null,{"$f":"IF(LEN(X247)>0,VLOOKUP(X247,'TFW Programs'!$A$2:$B$24,2,FALSE),\"\")","v":""},null,null,{"$f":"IF(LEN(A247)>0,VLOOKUP(A247,Subcontractors!$A$2:$B$3,2,FALSE),\"\")","v":""},null,{"$f":"IF(LEN(A247)>0,VLOOKUP(A247,Subcontractors!$A$2:$B$2,2,FALSE),\"\")","v":""}]
[null,null,null,null,null,null,null,null,null,null,null,null,null,null,null,null,null,null,null,null,null,{"$f":"IF(LEN(X248)>0,VLOOKUP(X248,'TFW Programs'!$A$2:$B$24,2,FALSE),\"\")","v":""},null,null,{"$f":"IF(LEN(A248)>0,VLOOKUP(A248,Subcontractors!$A$2:$B$3,2,FALSE),\"\")","v":""},null,{"$f":"IF(LEN(A248)>0,VLOOKUP(A248,Subcontractors!$A$2:$B$2,2,FALSE),\"\")","v":""}]
[null,null,null,null,null,null,null,null,null,null,null,null,null,null,null,null,null,null,null,null,null,{"$f":"IF(LEN(X249)>0,VLOOKUP(X249,'TFW Programs'!$A$2:$B$24,2,FALSE),\"\")","v":""},null,null,{"$f":"IF(LEN(A249)>0,VLOOKUP(A249,Subcontractors!$A$2:$B$3,2,FALSE),\"\")","v":""},null,{"$f":"IF(LEN(A249)>0,VLOOKUP(A249,Subcontractors!$A$2:$B$2,2,FALSE),\"\")","v":""}]
[null,null,null,null,null,null,null,null,null,null,null,null,null,null,null,null,null,null,null,null,null,{"$f":"IF(LEN(X250)>0,VLOOKUP(X250,'TFW Programs'!$A$2:$B$24,2,FALSE),\"\")","v":""},null,null,{"$f":"IF(LEN(A250)>0,VLOOKUP(A250,Subcontractors!$A$2:$B$3,2,FALSE),\"\")","v":""},null,{"$f":"IF(LEN(A250)>0,VLOOKUP(A250,Subcontractors!$A$2:$B$2,2,FALSE),\"\")","v":""}]
[null,null,null,null,null,null,null,null,null,null,null,null,null,null,null,null,null,null,null,null,null,{"$f":"IF(LEN(X251)>0,VLOOKUP(X251,'TFW Programs'!$A$2:$B$24,2,FALSE),\"\")","v":""},null,null,{"$f":"IF(LEN(A251)>0,VLOOKUP(A251,Subcontractors!$A$2:$B$3,2,FALSE),\"\")","v":""},null,{"$f":"IF(LEN(A251)>0,VLOOKUP(A251,Subcontractors!$A$2:$B$2,2,FALSE),\"\")","v":""}]
[null,null,null,null,null,null,null,null,null,null,null,null,null,null,null,null,null,null,null,null,null,{"$f":"IF(LEN(X252)>0,VLOOKUP(X252,'TFW Programs'!$A$2:$B$24,2,FALSE),\"\")","v":""},null,null,{"$f":"IF(LEN(A252)>0,VLOOKUP(A252,Subcontractors!$A$2:$B$3,2,FALSE),\"\")","v":""},null,{"$f":"IF(LEN(A252)>0,VLOOKUP(A252,Subcontractors!$A$2:$B$2,2,FALSE),\"\")","v":""}]
[null,null,null,null,null,null,null,null,null,null,null,null,null,null,null,null,null,null,null,null,null,{"$f":"IF(LEN(X253)>0,VLOOKUP(X253,'TFW Programs'!$A$2:$B$24,2,FALSE),\"\")","v":""},null,null,{"$f":"IF(LEN(A253)>0,VLOOKUP(A253,Subcontractors!$A$2:$B$3,2,FALSE),\"\")","v":""},null,{"$f":"IF(LEN(A253)>0,VLOOKUP(A253,Subcontractors!$A$2:$B$2,2,FALSE),\"\")","v":""}]
[null,null,null,null,null,null,null,null,null,null,null,null,null,null,null,null,null,null,null,null,null,{"$f":"IF(LEN(X254)>0,VLOOKUP(X254,'TFW Programs'!$A$2:$B$24,2,FALSE),\"\")","v":""},null,null,{"$f":"IF(LEN(A254)>0,VLOOKUP(A254,Subcontractors!$A$2:$B$3,2,FALSE),\"\")","v":""},null,{"$f":"IF(LEN(A254)>0,VLOOKUP(A254,Subcontractors!$A$2:$B$2,2,FALSE),\"\")","v":""}]
[null,null,null,null,null,null,null,null,null,null,null,null,null,null,null,null,null,null,null,null,null,{"$f":"IF(LEN(X255)>0,VLOOKUP(X255,'TFW Programs'!$A$2:$B$24,2,FALSE),\"\")","v":""},null,null,{"$f":"IF(LEN(A255)>0,VLOOKUP(A255,Subcontractors!$A$2:$B$3,2,FALSE),\"\")","v":""},null,{"$f":"IF(LEN(A255)>0,VLOOKUP(A255,Subcontractors!$A$2:$B$2,2,FALSE),\"\")","v":""}]
[null,null,null,null,null,null,null,null,null,null,null,null,null,null,null,null,null,null,null,null,null,{"$f":"IF(LEN(X256)>0,VLOOKUP(X256,'TFW Programs'!$A$2:$B$24,2,FALSE),\"\")","v":""},null,null,{"$f":"IF(LEN(A256)>0,VLOOKUP(A256,Subcontractors!$A$2:$B$3,2,FALSE),\"\")","v":""},null,{"$f":"IF(LEN(A256)>0,VLOOKUP(A256,Subcontractors!$A$2:$B$2,2,FALSE),\"\")","v":""}]
[null,null,null,null,null,null,null,null,null,null,null,null,null,null,null,null,null,null,null,null,null,{"$f":"IF(LEN(X257)>0,VLOOKUP(X257,'TFW Programs'!$A$2:$B$24,2,FALSE),\"\")","v":""},null,null,{"$f":"IF(LEN(A257)>0,VLOOKUP(A257,Subcontractors!$A$2:$B$3,2,FALSE),\"\")","v":""},null,{"$f":"IF(LEN(A257)>0,VLOOKUP(A257,Subcontractors!$A$2:$B$2,2,FALSE),\"\")","v":""}]
[null,null,null,null,null,null,null,null,null,null,null,null,null,null,null,null,null,null,null,null,null,{"$f":"IF(LEN(X258)>0,VLOOKUP(X258,'TFW Programs'!$A$2:$B$24,2,FALSE),\"\")","v":""},null,null,{"$f":"IF(LEN(A258)>0,VLOOKUP(A258,Subcontractors!$A$2:$B$3,2,FALSE),\"\")","v":""},null,{"$f":"IF(LEN(A258)>0,VLOOKUP(A258,Subcontractors!$A$2:$B$2,2,FALSE),\"\")","v":""}]
[null,null,null,null,null,null,null,null,null,null,null,null,null,null,null,null,null,null,null,null,null,{"$f":"IF(LEN(X259)>0,VLOOKUP(X259,'TFW Programs'!$A$2:$B$24,2,FALSE),\"\")","v":""},null,null,{"$f":"IF(LEN(A259)>0,VLOOKUP(A259,Subcontractors!$A$2:$B$3,2,FALSE),\"\")","v":""},null,{"$f":"IF(LEN(A259)>0,VLOOKUP(A259,Subcontractors!$A$2:$B$2,2,FALSE),\"\")","v":""}]
[null,null,null,null,null,null,null,null,null,null,null,null,null,null,null,null,null,null,null,null,null,{"$f":"IF(LEN(X260)>0,VLOOKUP(X260,'TFW Programs'!$A$2:$B$24,2,FALSE),\"\")","v":""},null,null,{"$f":"IF(LEN(A260)>0,VLOOKUP(A260,Subcontractors!$A$2:$B$3,2,FALSE),\"\")","v":""},null,{"$f":"IF(LEN(A260)>0,VLOOKUP(A260,Subcontractors!$A$2:$B$2,2,FALSE),\"\")","v":""}]
[null,null,null,null,null,null,null,null,null,null,null,null,null,null,null,null,null,null,null,null,null,{"$f":"IF(LEN(X261)>0,VLOOKUP(X261,'TFW Programs'!$A$2:$B$24,2,FALSE),\"\")","v":""},null,null,{"$f":"IF(LEN(A261)>0,VLOOKUP(A261,Subcontractors!$A$2:$B$3,2,FALSE),\"\")","v":""},null,{"$f":"IF(LEN(A261)>0,VLOOKUP(A261,Subcontractors!$A$2:$B$2,2,FALSE),\"\")","v":""}]
[null,null,null,null,null,null,null,null,null,null,null,null,null,null,null,null,null,null,null,null,null,{"$f":"IF(LEN(X262)>0,VLOOKUP(X262,'TFW Programs'!$A$2:$B$24,2,FALSE),\"\")","v":""},null,null,{"$f":"IF(LEN(A262)>0,VLOOKUP(A262,Subcontractors!$A$2:$B$3,2,FALSE),\"\")","v":""},null,{"$f":"IF(LEN(A262)>0,VLOOKUP(A262,Subcontractors!$A$2:$B$2,2,FALSE),\"\")","v":""}]
[null,null,null,null,null,null,null,null,null,null,null,null,null,null,null,null,null,null,null,null,null,{"$f":"IF(LEN(X263)>0,VLOOKUP(X263,'TFW Programs'!$A$2:$B$24,2,FALSE),\"\")","v":""},null,null,{"$f":"IF(LEN(A263)>0,VLOOKUP(A263,Subcontractors!$A$2:$B$3,2,FALSE),\"\")","v":""},null,{"$f":"IF(LEN(A263)>0,VLOOKUP(A263,Subcontractors!$A$2:$B$2,2,FALSE),\"\")","v":""}]
[null,null,null,null,null,null,null,null,null,null,null,null,null,null,null,null,null,null,null,null,null,{"$f":"IF(LEN(X264)>0,VLOOKUP(X264,'TFW Programs'!$A$2:$B$24,2,FALSE),\"\")","v":""},null,null,{"$f":"IF(LEN(A264)>0,VLOOKUP(A264,Subcontractors!$A$2:$B$3,2,FALSE),\"\")","v":""},null,{"$f":"IF(LEN(A264)>0,VLOOKUP(A264,Subcontractors!$A$2:$B$2,2,FALSE),\"\")","v":""}]
[null,null,null,null,null,null,null,null,null,null,null,null,null,null,null,null,null,null,null,null,null,{"$f":"IF(LEN(X265)>0,VLOOKUP(X265,'TFW Programs'!$A$2:$B$24,2,FALSE),\"\")","v":""},null,null,{"$f":"IF(LEN(A265)>0,VLOOKUP(A265,Subcontractors!$A$2:$B$3,2,FALSE),\"\")","v":""},null,{"$f":"IF(LEN(A265)>0,VLOOKUP(A265,Subcontractors!$A$2:$B$2,2,FALSE),\"\")","v":""}]
[null,null,null,null,null,null,null,null,null,null,null,null,null,null,null,null,null,null,null,null,null,{"$f":"IF(LEN(X266)>0,VLOOKUP(X266,'TFW Programs'!$A$2:$B$24,2,FALSE),\"\")","v":""},null,null,{"$f":"IF(LEN(A266)>0,VLOOKUP(A266,Subcontractors!$A$2:$B$3,2,FALSE),\"\")","v":""},null,{"$f":"IF(LEN(A266)>0,VLOOKUP(A266,Subcontractors!$A$2:$B$2,2,FALSE),\"\")","v":""}]
[null,null,null,null,null,null,null,null,null,null,null,null,null,null,null,null,null,null,null,null,null,{"$f":"IF(LEN(X267)>0,VLOOKUP(X267,'TFW Programs'!$A$2:$B$24,2,FALSE),\"\")","v":""},null,null,{"$f":"IF(LEN(A267)>0,VLOOKUP(A267,Subcontractors!$A$2:$B$3,2,FALSE),\"\")","v":""},null,{"$f":"IF(LEN(A267)>0,VLOOKUP(A267,Subcontractors!$A$2:$B$2,2,FALSE),\"\")","v":""}]
[null,null,null,null,null,null,null,null,null,null,null,null,null,null,null,null,null,null,null,null,null,{"$f":"IF(LEN(X268)>0,VLOOKUP(X268,'TFW Programs'!$A$2:$B$24,2,FALSE),\"\")","v":""},null,null,{"$f":"IF(LEN(A268)>0,VLOOKUP(A268,Subcontractors!$A$2:$B$3,2,FALSE),\"\")","v":""},null,{"$f":"IF(LEN(A268)>0,VLOOKUP(A268,Subcontractors!$A$2:$B$2,2,FALSE),\"\")","v":""}]
[null,null,null,null,null,null,null,null,null,null,null,null,null,null,null,null,null,null,null,null,null,{"$f":"IF(LEN(X269)>0,VLOOKUP(X269,'TFW Programs'!$A$2:$B$24,2,FALSE),\"\")","v":""},null,null,{"$f":"IF(LEN(A269)>0,VLOOKUP(A269,Subcontractors!$A$2:$B$3,2,FALSE),\"\")","v":""},null,{"$f":"IF(LEN(A269)>0,VLOOKUP(A269,Subcontractors!$A$2:$B$2,2,FALSE),\"\")","v":""}]
[null,null,null,null,null,null,null,null,null,null,null,null,null,null,null,null,null,null,null,null,null,{"$f":"IF(LEN(X270)>0,VLOOKUP(X270,'TFW Programs'!$A$2:$B$24,2,FALSE),\"\")","v":""},null,null,{"$f":"IF(LEN(A270)>0,VLOOKUP(A270,Subcontractors!$A$2:$B$3,2,FALSE),\"\")","v":""},null,{"$f":"IF(LEN(A270)>0,VLOOKUP(A270,Subcontractors!$A$2:$B$2,2,FALSE),\"\")","v":""}]
[null,null,null,null,null,null,null,null,null,null,null,null,null,null,null,null,null,null,null,null,null,{"$f":"IF(LEN(X271)>0,VLOOKUP(X271,'TFW Programs'!$A$2:$B$24,2,FALSE),\"\")","v":""},null,null,{"$f":"IF(LEN(A271)>0,VLOOKUP(A271,Subcontractors!$A$2:$B$3,2,FALSE),\"\")","v":""},null,{"$f":"IF(LEN(A271)>0,VLOOKUP(A271,Subcontractors!$A$2:$B$2,2,FALSE),\"\")","v":""}]
[null,null,null,null,null,null,null,null,null,null,null,null,null,null,null,null,null,null,null,null,null,{"$f":"IF(LEN(X272)>0,VLOOKUP(X272,'TFW Programs'!$A$2:$B$24,2,FALSE),\"\")","v":""},null,null,{"$f":"IF(LEN(A272)>0,VLOOKUP(A272,Subcontractors!$A$2:$B$3,2,FALSE),\"\")","v":""},null,{"$f":"IF(LEN(A272)>0,VLOOKUP(A272,Subcontractors!$A$2:$B$2,2,FALSE),\"\")","v":""}]
[null,null,null,null,null,null,null,null,null,null,null,null,null,null,null,null,null,null,null,null,null,{"$f":"IF(LEN(X273)>0,VLOOKUP(X273,'TFW Programs'!$A$2:$B$24,2,FALSE),\"\")","v":""},null,null,{"$f":"IF(LEN(A273)>0,VLOOKUP(A273,Subcontractors!$A$2:$B$3,2,FALSE),\"\")","v":""},null,{"$f":"IF(LEN(A273)>0,VLOOKUP(A273,Subcontractors!$A$2:$B$2,2,FALSE),\"\")","v":""}]
[null,null,null,null,null,null,null,null,null,null,null,null,null,null,null,null,null,null,null,null,null,{"$f":"IF(LEN(X274)>0,VLOOKUP(X274,'TFW Programs'!$A$2:$B$24,2,FALSE),\"\")","v":""},null,null,{"$f":"IF(LEN(A274)>0,VLOOKUP(A274,Subcontractors!$A$2:$B$3,2,FALSE),\"\")","v":""},null,{"$f":"IF(LEN(A274)>0,VLOOKUP(A274,Subcontractors!$A$2:$B$2,2,FALSE),\"\")","v":""}]
[null,null,null,null,null,null,null,null,null,null,null,null,null,null,null,null,null,null,null,null,null,{"$f":"IF(LEN(X275)>0,VLOOKUP(X275,'TFW Programs'!$A$2:$B$24,2,FALSE),\"\")","v":""},null,null,{"$f":"IF(LEN(A275)>0,VLOOKUP(A275,Subcontractors!$A$2:$B$3,2,FALSE),\"\")","v":""},null,{"$f":"IF(LEN(A275)>0,VLOOKUP(A275,Subcontractors!$A$2:$B$2,2,FALSE),\"\")","v":""}]
[null,null,null,null,null,null,null,null,null,null,null,null,null,null,null,null,null,null,null,null,null,{"$f":"IF(LEN(X276)>0,VLOOKUP(X276,'TFW Programs'!$A$2:$B$24,2,FALSE),\"\")","v":""},null,null,{"$f":"IF(LEN(A276)>0,VLOOKUP(A276,Subcontractors!$A$2:$B$3,2,FALSE),\"\")","v":""},null,{"$f":"IF(LEN(A276)>0,VLOOKUP(A276,Subcontractors!$A$2:$B$2,2,FALSE),\"\")","v":""}]
[null,null,null,null,null,null,null,null,null,null,null,null,null,null,null,null,null,null,null,null,null,{"$f":"IF(LEN(X277)>0,VLOOKUP(X277,'TFW Programs'!$A$2:$B$24,2,FALSE),\"\")","v":""},null,null,{"$f":"IF(LEN(A277)>0,VLOOKUP(A277,Subcontractors!$A$2:$B$3,2,FALSE),\"\")","v":""},null,{"$f":"IF(LEN(A277)>0,VLOOKUP(A277,Subcontractors!$A$2:$B$2,2,FALSE),\"\")","v":""}]
[null,null,null,null,null,null,null,null,null,null,null,null,null,null,null,null,null,null,null,null,null,{"$f":"IF(LEN(X278)>0,VLOOKUP(X278,'TFW Programs'!$A$2:$B$24,2,FALSE),\"\")","v":""},null,null,{"$f":"IF(LEN(A278)>0,VLOOKUP(A278,Subcontractors!$A$2:$B$3,2,FALSE),\"\")","v":""},null,{"$f":"IF(LEN(A278)>0,VLOOKUP(A278,Subcontractors!$A$2:$B$2,2,FALSE),\"\")","v":""}]
[null,null,null,null,null,null,null,null,null,null,null,null,null,null,null,null,null,null,null,null,null,{"$f":"IF(LEN(X279)>0,VLOOKUP(X279,'TFW Programs'!$A$2:$B$24,2,FALSE),\"\")","v":""},null,null,{"$f":"IF(LEN(A279)>0,VLOOKUP(A279,Subcontractors!$A$2:$B$3,2,FALSE),\"\")","v":""},null,{"$f":"IF(LEN(A279)>0,VLOOKUP(A279,Subcontractors!$A$2:$B$2,2,FALSE),\"\")","v":""}]
[null,null,null,null,null,null,null,null,null,null,null,null,null,null,null,null,null,null,null,null,null,{"$f":"IF(LEN(X280)>0,VLOOKUP(X280,'TFW Programs'!$A$2:$B$24,2,FALSE),\"\")","v":""},null,null,{"$f":"IF(LEN(A280)>0,VLOOKUP(A280,Subcontractors!$A$2:$B$3,2,FALSE),\"\")","v":""},null,{"$f":"IF(LEN(A280)>0,VLOOKUP(A280,Subcontractors!$A$2:$B$2,2,FALSE),\"\")","v":""}]
[null,null,null,null,null,null,null,null,null,null,null,null,null,null,null,null,null,null,null,null,null,{"$f":"IF(LEN(X281)>0,VLOOKUP(X281,'TFW Programs'!$A$2:$B$24,2,FALSE),\"\")","v":""},null,null,{"$f":"IF(LEN(A281)>0,VLOOKUP(A281,Subcontractors!$A$2:$B$3,2,FALSE),\"\")","v":""},null,{"$f":"IF(LEN(A281)>0,VLOOKUP(A281,Subcontractors!$A$2:$B$2,2,FALSE),\"\")","v":""}]
[null,null,null,null,null,null,null,null,null,null,null,null,null,null,null,null,null,null,null,null,null,{"$f":"IF(LEN(X282)>0,VLOOKUP(X282,'TFW Programs'!$A$2:$B$24,2,FALSE),\"\")","v":""},null,null,{"$f":"IF(LEN(A282)>0,VLOOKUP(A282,Subcontractors!$A$2:$B$3,2,FALSE),\"\")","v":""},null,{"$f":"IF(LEN(A282)>0,VLOOKUP(A282,Subcontractors!$A$2:$B$2,2,FALSE),\"\")","v":""}]
[null,null,null,null,null,null,null,null,null,null,null,null,null,null,null,null,null,null,null,null,null,{"$f":"IF(LEN(X283)>0,VLOOKUP(X283,'TFW Programs'!$A$2:$B$24,2,FALSE),\"\")","v":""},null,null,{"$f":"IF(LEN(A283)>0,VLOOKUP(A283,Subcontractors!$A$2:$B$3,2,FALSE),\"\")","v":""},null,{"$f":"IF(LEN(A283)>0,VLOOKUP(A283,Subcontractors!$A$2:$B$2,2,FALSE),\"\")","v":""}]
[null,null,null,null,null,null,null,null,null,null,null,null,null,null,null,null,null,null,null,null,null,{"$f":"IF(LEN(X284)>0,VLOOKUP(X284,'TFW Programs'!$A$2:$B$24,2,FALSE),\"\")","v":""},null,null,{"$f":"IF(LEN(A284)>0,VLOOKUP(A284,Subcontractors!$A$2:$B$3,2,FALSE),\"\")","v":""},null,{"$f":"IF(LEN(A284)>0,VLOOKUP(A284,Subcontractors!$A$2:$B$2,2,FALSE),\"\")","v":""}]
[null,null,null,null,null,null,null,null,null,null,null,null,null,null,null,null,null,null,null,null,null,{"$f":"IF(LEN(X285)>0,VLOOKUP(X285,'TFW Programs'!$A$2:$B$24,2,FALSE),\"\")","v":""},null,null,{"$f":"IF(LEN(A285)>0,VLOOKUP(A285,Subcontractors!$A$2:$B$3,2,FALSE),\"\")","v":""},null,{"$f":"IF(LEN(A285)>0,VLOOKUP(A285,Subcontractors!$A$2:$B$2,2,FALSE),\"\")","v":""}]
[null,null,null,null,null,null,null,null,null,null,null,null,null,null,null,null,null,null,null,null,null,{"$f":"IF(LEN(X286)>0,VLOOKUP(X286,'TFW Programs'!$A$2:$B$24,2,FALSE),\"\")","v":""},null,null,{"$f":"IF(LEN(A286)>0,VLOOKUP(A286,Subcontractors!$A$2:$B$3,2,FALSE),\"\")","v":""},null,{"$f":"IF(LEN(A286)>0,VLOOKUP(A286,Subcontractors!$A$2:$B$2,2,FALSE),\"\")","v":""}]
[null,null,null,null,null,null,null,null,null,null,null,null,null,null,null,null,null,null,null,null,null,{"$f":"IF(LEN(X287)>0,VLOOKUP(X287,'TFW Programs'!$A$2:$B$24,2,FALSE),\"\")","v":""},null,null,{"$f":"IF(LEN(A287)>0,VLOOKUP(A287,Subcontractors!$A$2:$B$3,2,FALSE),\"\")","v":""},null,{"$f":"IF(LEN(A287)>0,VLOOKUP(A287,Subcontractors!$A$2:$B$2,2,FALSE),\"\")","v":""}]
[null,null,null,null,null,null,null,null,null,null,null,null,null,null,null,null,null,null,null,null,null,{"$f":"IF(LEN(X288)>0,VLOOKUP(X288,'TFW Programs'!$A$2:$B$24,2,FALSE),\"\")","v":""},null,null,{"$f":"IF(LEN(A288)>0,VLOOKUP(A288,Subcontractors!$A$2:$B$3,2,FALSE),\"\")","v":""},null,{"$f":"IF(LEN(A288)>0,VLOOKUP(A288,Subcontractors!$A$2:$B$2,2,FALSE),\"\")","v":""}]
[null,null,null,null,null,null,null,null,null,null,null,null,null,null,null,null,null,null,null,null,null,{"$f":"IF(LEN(X289)>0,VLOOKUP(X289,'TFW Programs'!$A$2:$B$24,2,FALSE),\"\")","v":""},null,null,{"$f":"IF(LEN(A289)>0,VLOOKUP(A289,Subcontractors!$A$2:$B$3,2,FALSE),\"\")","v":""},null,{"$f":"IF(LEN(A289)>0,VLOOKUP(A289,Subcontractors!$A$2:$B$2,2,FALSE),\"\")","v":""}]
[null,null,null,null,null,null,null,null,null,null,null,null,null,null,null,null,null,null,null,null,null,{"$f":"IF(LEN(X290)>0,VLOOKUP(X290,'TFW Programs'!$A$2:$B$24,2,FALSE),\"\")","v":""},null,null,{"$f":"IF(LEN(A290)>0,VLOOKUP(A290,Subcontractors!$A$2:$B$3,2,FALSE),\"\")","v":""},null,{"$f":"IF(LEN(A290)>0,VLOOKUP(A290,Subcontractors!$A$2:$B$2,2,FALSE),\"\")","v":""}]
[null,null,null,null,null,null,null,null,null,null,null,null,null,null,null,null,null,null,null,null,null,{"$f":"IF(LEN(X291)>0,VLOOKUP(X291,'TFW Programs'!$A$2:$B$24,2,FALSE),\"\")","v":""},null,null,{"$f":"IF(LEN(A291)>0,VLOOKUP(A291,Subcontractors!$A$2:$B$3,2,FALSE),\"\")","v":""},null,{"$f":"IF(LEN(A291)>0,VLOOKUP(A291,Subcontractors!$A$2:$B$2,2,FALSE),\"\")","v":""}]
[null,null,null,null,null,null,null,null,null,null,null,null,null,null,null,null,null,null,null,null,null,{"$f":"IF(LEN(X292)>0,VLOOKUP(X292,'TFW Programs'!$A$2:$B$24,2,FALSE),\"\")","v":""},null,null,{"$f":"IF(LEN(A292)>0,VLOOKUP(A292,Subcontractors!$A$2:$B$3,2,FALSE),\"\")","v":""},null,{"$f":"IF(LEN(A292)>0,VLOOKUP(A292,Subcontractors!$A$2:$B$2,2,FALSE),\"\")","v":""}]
[null,null,null,null,null,null,null,null,null,null,null,null,null,null,null,null,null,null,null,null,null,{"$f":"IF(LEN(X293)>0,VLOOKUP(X293,'TFW Programs'!$A$2:$B$24,2,FALSE),\"\")","v":""},null,null,{"$f":"IF(LEN(A293)>0,VLOOKUP(A293,Subcontractors!$A$2:$B$3,2,FALSE),\"\")","v":""},null,{"$f":"IF(LEN(A293)>0,VLOOKUP(A293,Subcontractors!$A$2:$B$2,2,FALSE),\"\")","v":""}]
[null,null,null,null,null,null,null,null,null,null,null,null,null,null,null,null,null,null,null,null,null,{"$f":"IF(LEN(X294)>0,VLOOKUP(X294,'TFW Programs'!$A$2:$B$24,2,FALSE),\"\")","v":""},null,null,{"$f":"IF(LEN(A294)>0,VLOOKUP(A294,Subcontractors!$A$2:$B$3,2,FALSE),\"\")","v":""},null,{"$f":"IF(LEN(A294)>0,VLOOKUP(A294,Subcontractors!$A$2:$B$2,2,FALSE),\"\")","v":""}]
[null,null,null,null,null,null,null,null,null,null,null,null,null,null,null,null,null,null,null,null,null,{"$f":"IF(LEN(X295)>0,VLOOKUP(X295,'TFW Programs'!$A$2:$B$24,2,FALSE),\"\")","v":""},null,null,{"$f":"IF(LEN(A295)>0,VLOOKUP(A295,Subcontractors!$A$2:$B$3,2,FALSE),\"\")","v":""},null,{"$f":"IF(LEN(A295)>0,VLOOKUP(A295,Subcontractors!$A$2:$B$2,2,FALSE),\"\")","v":""}]
[null,null,null,null,null,null,null,null,null,null,null,null,null,null,null,null,null,null,null,null,null,{"$f":"IF(LEN(X296)>0,VLOOKUP(X296,'TFW Programs'!$A$2:$B$24,2,FALSE),\"\")","v":""},null,null,{"$f":"IF(LEN(A296)>0,VLOOKUP(A296,Subcontractors!$A$2:$B$3,2,FALSE),\"\")","v":""},null,{"$f":"IF(LEN(A296)>0,VLOOKUP(A296,Subcontractors!$A$2:$B$2,2,FALSE),\"\")","v":""}]
[null,null,null,null,null,null,null,null,null,null,null,null,null,null,null,null,null,null,null,null,null,{"$f":"IF(LEN(X297)>0,VLOOKUP(X297,'TFW Programs'!$A$2:$B$24,2,FALSE),\"\")","v":""},null,null,{"$f":"IF(LEN(A297)>0,VLOOKUP(A297,Subcontractors!$A$2:$B$3,2,FALSE),\"\")","v":""},null,{"$f":"IF(LEN(A297)>0,VLOOKUP(A297,Subcontractors!$A$2:$B$2,2,FALSE),\"\")","v":""}]
[null,null,null,null,null,null,null,null,null,null,null,null,null,null,null,null,null,null,null,null,null,{"$f":"IF(LEN(X298)>0,VLOOKUP(X298,'TFW Programs'!$A$2:$B$24,2,FALSE),\"\")","v":""},null,null,{"$f":"IF(LEN(A298)>0,VLOOKUP(A298,Subcontractors!$A$2:$B$3,2,FALSE),\"\")","v":""},null,{"$f":"IF(LEN(A298)>0,VLOOKUP(A298,Subcontractors!$A$2:$B$2,2,FALSE),\"\")","v":""}]
[null,null,null,null,null,null,null,null,null,null,null,null,null,null,null,null,null,null,null,null,null,{"$f":"IF(LEN(X299)>0,VLOOKUP(X299,'TFW Programs'!$A$2:$B$24,2,FALSE),\"\")","v":""},null,null,{"$f":"IF(LEN(A299)>0,VLOOKUP(A299,Subcontractors!$A$2:$B$3,2,FALSE),\"\")","v":""},null,{"$f":"IF(LEN(A299)>0,VLOOKUP(A299,Subcontractors!$A$2:$B$2,2,FALSE),\"\")","v":""}]
[null,null,null,null,null,null,null,null,null,null,null,null,null,null,null,null,null,null,null,null,null,{"$f":"IF(LEN(X300)>0,VLOOKUP(X300,'TFW Programs'!$A$2:$B$24,2,FALSE),\"\")","v":""},null,null,{"$f":"IF(LEN(A300)>0,VLOOKUP(A300,Subcontractors!$A$2:$B$3,2,FALSE),\"\")","v":""},null,{"$f":"IF(LEN(A300)>0,VLOOKUP(A300,Subcontractors!$A$2:$B$2,2,FALSE),\"\")","v":""}]
[null,null,null,null,null,null,null,null,null,null,null,null,null,null,null,null,null,null,null,null,null,{"$f":"IF(LEN(X301)>0,VLOOKUP(X301,'TFW Programs'!$A$2:$B$24,2,FALSE),\"\")","v":""},null,null,{"$f":"IF(LEN(A301)>0,VLOOKUP(A301,Subcontractors!$A$2:$B$3,2,FALSE),\"\")","v":""},null,{"$f":"IF(LEN(A301)>0,VLOOKUP(A301,Subcontractors!$A$2:$B$2,2,FALSE),\"\")","v":""}]
[null,null,null,null,null,null,null,null,null,null,null,null,null,null,null,null,null,null,null,null,null,{"$f":"IF(LEN(X302)>0,VLOOKUP(X302,'TFW Programs'!$A$2:$B$24,2,FALSE),\"\")","v":""},null,null,{"$f":"IF(LEN(A302)>0,VLOOKUP(A302,Subcontractors!$A$2:$B$3,2,FALSE),\"\")","v":""},null,{"$f":"IF(LEN(A302)>0,VLOOKUP(A302,Subcontractors!$A$2:$B$2,2,FALSE),\"\")","v":""}]
[null,null,null,null,null,null,null,null,null,null,null,null,null,null,null,null,null,null,null,null,null,{"$f":"IF(LEN(X303)>0,VLOOKUP(X303,'TFW Programs'!$A$2:$B$24,2,FALSE),\"\")","v":""},null,null,{"$f":"IF(LEN(A303)>0,VLOOKUP(A303,Subcontractors!$A$2:$B$3,2,FALSE),\"\")","v":""},null,{"$f":"IF(LEN(A303)>0,VLOOKUP(A303,Subcontractors!$A$2:$B$2,2,FALSE),\"\")","v":""}]
[null,null,null,null,null,null,null,null,null,null,null,null,null,null,null,null,null,null,null,null,null,{"$f":"IF(LEN(X304)>0,VLOOKUP(X304,'TFW Programs'!$A$2:$B$24,2,FALSE),\"\")","v":""},null,null,{"$f":"IF(LEN(A304)>0,VLOOKUP(A304,Subcontractors!$A$2:$B$3,2,FALSE),\"\")","v":""},null,{"$f":"IF(LEN(A304)>0,VLOOKUP(A304,Subcontractors!$A$2:$B$2,2,FALSE),\"\")","v":""}]
[null,null,null,null,null,null,null,null,null,null,null,null,null,null,null,null,null,null,null,null,null,{"$f":"IF(LEN(X305)>0,VLOOKUP(X305,'TFW Programs'!$A$2:$B$24,2,FALSE),\"\")","v":""},null,null,{"$f":"IF(LEN(A305)>0,VLOOKUP(A305,Subcontractors!$A$2:$B$3,2,FALSE),\"\")","v":""},null,{"$f":"IF(LEN(A305)>0,VLOOKUP(A305,Subcontractors!$A$2:$B$2,2,FALSE),\"\")","v":""}]
[null,null,null,null,null,null,null,null,null,null,null,null,null,null,null,null,null,null,null,null,null,{"$f":"IF(LEN(X306)>0,VLOOKUP(X306,'TFW Programs'!$A$2:$B$24,2,FALSE),\"\")","v":""},null,null,{"$f":"IF(LEN(A306)>0,VLOOKUP(A306,Subcontractors!$A$2:$B$3,2,FALSE),\"\")","v":""},null,{"$f":"IF(LEN(A306)>0,VLOOKUP(A306,Subcontractors!$A$2:$B$2,2,FALSE),\"\")","v":""}]
[null,null,null,null,null,null,null,null,null,null,null,null,null,null,null,null,null,null,null,null,null,{"$f":"IF(LEN(X307)>0,VLOOKUP(X307,'TFW Programs'!$A$2:$B$24,2,FALSE),\"\")","v":""},null,null,{"$f":"IF(LEN(A307)>0,VLOOKUP(A307,Subcontractors!$A$2:$B$3,2,FALSE),\"\")","v":""},null,{"$f":"IF(LEN(A307)>0,VLOOKUP(A307,Subcontractors!$A$2:$B$2,2,FALSE),\"\")","v":""}]
[null,null,null,null,null,null,null,null,null,null,null,null,null,null,null,null,null,null,null,null,null,{"$f":"IF(LEN(X308)>0,VLOOKUP(X308,'TFW Programs'!$A$2:$B$24,2,FALSE),\"\")","v":""},null,null,{"$f":"IF(LEN(A308)>0,VLOOKUP(A308,Subcontractors!$A$2:$B$3,2,FALSE),\"\")","v":""},null,{"$f":"IF(LEN(A308)>0,VLOOKUP(A308,Subcontractors!$A$2:$B$2,2,FALSE),\"\")","v":""}]
[null,null,null,null,null,null,null,null,null,null,null,null,null,null,null,null,null,null,null,null,null,{"$f":"IF(LEN(X309)>0,VLOOKUP(X309,'TFW Programs'!$A$2:$B$24,2,FALSE),\"\")","v":""},null,null,{"$f":"IF(LEN(A309)>0,VLOOKUP(A309,Subcontractors!$A$2:$B$3,2,FALSE),\"\")","v":""},null,{"$f":"IF(LEN(A309)>0,VLOOKUP(A309,Subcontractors!$A$2:$B$2,2,FALSE),\"\")","v":""}]
[null,null,null,null,null,null,null,null,null,null,null,null,null,null,null,null,null,null,null,null,null,{"$f":"IF(LEN(X310)>0,VLOOKUP(X310,'TFW Programs'!$A$2:$B$24,2,FALSE),\"\")","v":""},null,null,{"$f":"IF(LEN(A310)>0,VLOOKUP(A310,Subcontractors!$A$2:$B$3,2,FALSE),\"\")","v":""},null,{"$f":"IF(LEN(A310)>0,VLOOKUP(A310,Subcontractors!$A$2:$B$2,2,FALSE),\"\")","v":""}]
[null,null,null,null,null,null,null,null,null,null,null,null,null,null,null,null,null,null,null,null,null,{"$f":"IF(LEN(X311)>0,VLOOKUP(X311,'TFW Programs'!$A$2:$B$24,2,FALSE),\"\")","v":""},null,null,{"$f":"IF(LEN(A311)>0,VLOOKUP(A311,Subcontractors!$A$2:$B$3,2,FALSE),\"\")","v":""},null,{"$f":"IF(LEN(A311)>0,VLOOKUP(A311,Subcontractors!$A$2:$B$2,2,FALSE),\"\")","v":""}]
[null,null,null,null,null,null,null,null,null,null,null,null,null,null,null,null,null,null,null,null,null,{"$f":"IF(LEN(X312)>0,VLOOKUP(X312,'TFW Programs'!$A$2:$B$24,2,FALSE),\"\")","v":""},null,null,{"$f":"IF(LEN(A312)>0,VLOOKUP(A312,Subcontractors!$A$2:$B$3,2,FALSE),\"\")","v":""},null,{"$f":"IF(LEN(A312)>0,VLOOKUP(A312,Subcontractors!$A$2:$B$2,2,FALSE),\"\")","v":""}]
[null,null,null,null,null,null,null,null,null,null,null,null,null,null,null,null,null,null,null,null,null,{"$f":"IF(LEN(X313)>0,VLOOKUP(X313,'TFW Programs'!$A$2:$B$24,2,FALSE),\"\")","v":""},null,null,{"$f":"IF(LEN(A313)>0,VLOOKUP(A313,Subcontractors!$A$2:$B$3,2,FALSE),\"\")","v":""},null,{"$f":"IF(LEN(A313)>0,VLOOKUP(A313,Subcontractors!$A$2:$B$2,2,FALSE),\"\")","v":""}]
[null,null,null,null,null,null,null,null,null,null,null,null,null,null,null,null,null,null,null,null,null,{"$f":"IF(LEN(X314)>0,VLOOKUP(X314,'TFW Programs'!$A$2:$B$24,2,FALSE),\"\")","v":""},null,null,{"$f":"IF(LEN(A314)>0,VLOOKUP(A314,Subcontractors!$A$2:$B$3,2,FALSE),\"\")","v":""},null,{"$f":"IF(LEN(A314)>0,VLOOKUP(A314,Subcontractors!$A$2:$B$2,2,FALSE),\"\")","v":""}]
[null,null,null,null,null,null,null,null,null,null,null,null,null,null,null,null,null,null,null,null,null,{"$f":"IF(LEN(X315)>0,VLOOKUP(X315,'TFW Programs'!$A$2:$B$24,2,FALSE),\"\")","v":""},null,null,{"$f":"IF(LEN(A315)>0,VLOOKUP(A315,Subcontractors!$A$2:$B$3,2,FALSE),\"\")","v":""},null,{"$f":"IF(LEN(A315)>0,VLOOKUP(A315,Subcontractors!$A$2:$B$2,2,FALSE),\"\")","v":""}]
[null,null,null,null,null,null,null,null,null,null,null,null,null,null,null,null,null,null,null,null,null,{"$f":"IF(LEN(X316)>0,VLOOKUP(X316,'TFW Programs'!$A$2:$B$24,2,FALSE),\"\")","v":""},null,null,{"$f":"IF(LEN(A316)>0,VLOOKUP(A316,Subcontractors!$A$2:$B$3,2,FALSE),\"\")","v":""},null,{"$f":"IF(LEN(A316)>0,VLOOKUP(A316,Subcontractors!$A$2:$B$2,2,FALSE),\"\")","v":""}]
[null,null,null,null,null,null,null,null,null,null,null,null,null,null,null,null,null,null,null,null,null,{"$f":"IF(LEN(X317)>0,VLOOKUP(X317,'TFW Programs'!$A$2:$B$24,2,FALSE),\"\")","v":""},null,null,{"$f":"IF(LEN(A317)>0,VLOOKUP(A317,Subcontractors!$A$2:$B$3,2,FALSE),\"\")","v":""},null,{"$f":"IF(LEN(A317)>0,VLOOKUP(A317,Subcontractors!$A$2:$B$2,2,FALSE),\"\")","v":""}]
[null,null,null,null,null,null,null,null,null,null,null,null,null,null,null,null,null,null,null,null,null,{"$f":"IF(LEN(X318)>0,VLOOKUP(X318,'TFW Programs'!$A$2:$B$24,2,FALSE),\"\")","v":""},null,null,{"$f":"IF(LEN(A318)>0,VLOOKUP(A318,Subcontractors!$A$2:$B$3,2,FALSE),\"\")","v":""},null,{"$f":"IF(LEN(A318)>0,VLOOKUP(A318,Subcontractors!$A$2:$B$2,2,FALSE),\"\")","v":""}]
[null,null,null,null,null,null,null,null,null,null,null,null,null,null,null,null,null,null,null,null,null,{"$f":"IF(LEN(X319)>0,VLOOKUP(X319,'TFW Programs'!$A$2:$B$24,2,FALSE),\"\")","v":""},null,null,{"$f":"IF(LEN(A319)>0,VLOOKUP(A319,Subcontractors!$A$2:$B$3,2,FALSE),\"\")","v":""},null,{"$f":"IF(LEN(A319)>0,VLOOKUP(A319,Subcontractors!$A$2:$B$2,2,FALSE),\"\")","v":""}]
[null,null,null,null,null,null,null,null,null,null,null,null,null,null,null,null,null,null,null,null,null,{"$f":"IF(LEN(X320)>0,VLOOKUP(X320,'TFW Programs'!$A$2:$B$24,2,FALSE),\"\")","v":""},null,null,{"$f":"IF(LEN(A320)>0,VLOOKUP(A320,Subcontractors!$A$2:$B$3,2,FALSE),\"\")","v":""},null,{"$f":"IF(LEN(A320)>0,VLOOKUP(A320,Subcontractors!$A$2:$B$2,2,FALSE),\"\")","v":""}]
[null,null,null,null,null,null,null,null,null,null,null,null,null,null,null,null,null,null,null,null,null,{"$f":"IF(LEN(X321)>0,VLOOKUP(X321,'TFW Programs'!$A$2:$B$24,2,FALSE),\"\")","v":""},null,null,{"$f":"IF(LEN(A321)>0,VLOOKUP(A321,Subcontractors!$A$2:$B$3,2,FALSE),\"\")","v":""},null,{"$f":"IF(LEN(A321)>0,VLOOKUP(A321,Subcontractors!$A$2:$B$2,2,FALSE),\"\")","v":""}]
[null,null,null,null,null,null,null,null,null,null,null,null,null,null,null,null,null,null,null,null,null,{"$f":"IF(LEN(X322)>0,VLOOKUP(X322,'TFW Programs'!$A$2:$B$24,2,FALSE),\"\")","v":""},null,null,{"$f":"IF(LEN(A322)>0,VLOOKUP(A322,Subcontractors!$A$2:$B$3,2,FALSE),\"\")","v":""},null,{"$f":"IF(LEN(A322)>0,VLOOKUP(A322,Subcontractors!$A$2:$B$2,2,FALSE),\"\")","v":""}]
[null,null,null,null,null,null,null,null,null,null,null,null,null,null,null,null,null,null,null,null,null,{"$f":"IF(LEN(X323)>0,VLOOKUP(X323,'TFW Programs'!$A$2:$B$24,2,FALSE),\"\")","v":""},null,null,{"$f":"IF(LEN(A323)>0,VLOOKUP(A323,Subcontractors!$A$2:$B$3,2,FALSE),\"\")","v":""},null,{"$f":"IF(LEN(A323)>0,VLOOKUP(A323,Subcontractors!$A$2:$B$2,2,FALSE),\"\")","v":""}]
[null,null,null,null,null,null,null,null,null,null,null,null,null,null,null,null,null,null,null,null,null,{"$f":"IF(LEN(X324)>0,VLOOKUP(X324,'TFW Programs'!$A$2:$B$24,2,FALSE),\"\")","v":""},null,null,{"$f":"IF(LEN(A324)>0,VLOOKUP(A324,Subcontractors!$A$2:$B$3,2,FALSE),\"\")","v":""},null,{"$f":"IF(LEN(A324)>0,VLOOKUP(A324,Subcontractors!$A$2:$B$2,2,FALSE),\"\")","v":""}]
[null,null,null,null,null,null,null,null,null,null,null,null,null,null,null,null,null,null,null,null,null,{"$f":"IF(LEN(X325)>0,VLOOKUP(X325,'TFW Programs'!$A$2:$B$24,2,FALSE),\"\")","v":""},null,null,{"$f":"IF(LEN(A325)>0,VLOOKUP(A325,Subcontractors!$A$2:$B$3,2,FALSE),\"\")","v":""},null,{"$f":"IF(LEN(A325)>0,VLOOKUP(A325,Subcontractors!$A$2:$B$2,2,FALSE),\"\")","v":""}]
[null,null,null,null,null,null,null,null,null,null,null,null,null,null,null,null,null,null,null,null,null,{"$f":"IF(LEN(X326)>0,VLOOKUP(X326,'TFW Programs'!$A$2:$B$24,2,FALSE),\"\")","v":""},null,null,{"$f":"IF(LEN(A326)>0,VLOOKUP(A326,Subcontractors!$A$2:$B$3,2,FALSE),\"\")","v":""},null,{"$f":"IF(LEN(A326)>0,VLOOKUP(A326,Subcontractors!$A$2:$B$2,2,FALSE),\"\")","v":""}]
[null,null,null,null,null,null,null,null,null,null,null,null,null,null,null,null,null,null,null,null,null,{"$f":"IF(LEN(X327)>0,VLOOKUP(X327,'TFW Programs'!$A$2:$B$24,2,FALSE),\"\")","v":""},null,null,{"$f":"IF(LEN(A327)>0,VLOOKUP(A327,Subcontractors!$A$2:$B$3,2,FALSE),\"\")","v":""},null,{"$f":"IF(LEN(A327)>0,VLOOKUP(A327,Subcontractors!$A$2:$B$2,2,FALSE),\"\")","v":""}]
[null,null,null,null,null,null,null,null,null,null,null,null,null,null,null,null,null,null,null,null,null,{"$f":"IF(LEN(X328)>0,VLOOKUP(X328,'TFW Programs'!$A$2:$B$24,2,FALSE),\"\")","v":""},null,null,{"$f":"IF(LEN(A328)>0,VLOOKUP(A328,Subcontractors!$A$2:$B$3,2,FALSE),\"\")","v":""},null,{"$f":"IF(LEN(A328)>0,VLOOKUP(A328,Subcontractors!$A$2:$B$2,2,FALSE),\"\")","v":""}]
[null,null,null,null,null,null,null,null,null,null,null,null,null,null,null,null,null,null,null,null,null,{"$f":"IF(LEN(X329)>0,VLOOKUP(X329,'TFW Programs'!$A$2:$B$24,2,FALSE),\"\")","v":""},null,null,{"$f":"IF(LEN(A329)>0,VLOOKUP(A329,Subcontractors!$A$2:$B$3,2,FALSE),\"\")","v":""},null,{"$f":"IF(LEN(A329)>0,VLOOKUP(A329,Subcontractors!$A$2:$B$2,2,FALSE),\"\")","v":""}]
[null,null,null,null,null,null,null,null,null,null,null,null,null,null,null,null,null,null,null,null,null,{"$f":"IF(LEN(X330)>0,VLOOKUP(X330,'TFW Programs'!$A$2:$B$24,2,FALSE),\"\")","v":""},null,null,{"$f":"IF(LEN(A330)>0,VLOOKUP(A330,Subcontractors!$A$2:$B$3,2,FALSE),\"\")","v":""},null,{"$f":"IF(LEN(A330)>0,VLOOKUP(A330,Subcontractors!$A$2:$B$2,2,FALSE),\"\")","v":""}]
[null,null,null,null,null,null,null,null,null,null,null,null,null,null,null,null,null,null,null,null,null,{"$f":"IF(LEN(X331)>0,VLOOKUP(X331,'TFW Programs'!$A$2:$B$24,2,FALSE),\"\")","v":""},null,null,{"$f":"IF(LEN(A331)>0,VLOOKUP(A331,Subcontractors!$A$2:$B$3,2,FALSE),\"\")","v":""},null,{"$f":"IF(LEN(A331)>0,VLOOKUP(A331,Subcontractors!$A$2:$B$2,2,FALSE),\"\")","v":""}]
[null,null,null,null,null,null,null,null,null,null,null,null,null,null,null,null,null,null,null,null,null,{"$f":"IF(LEN(X332)>0,VLOOKUP(X332,'TFW Programs'!$A$2:$B$24,2,FALSE),\"\")","v":""},null,null,{"$f":"IF(LEN(A332)>0,VLOOKUP(A332,Subcontractors!$A$2:$B$3,2,FALSE),\"\")","v":""},null,{"$f":"IF(LEN(A332)>0,VLOOKUP(A332,Subcontractors!$A$2:$B$2,2,FALSE),\"\")","v":""}]
[null,null,null,null,null,null,null,null,null,null,null,null,null,null,null,null,null,null,null,null,null,{"$f":"IF(LEN(X333)>0,VLOOKUP(X333,'TFW Programs'!$A$2:$B$24,2,FALSE),\"\")","v":""},null,null,{"$f":"IF(LEN(A333)>0,VLOOKUP(A333,Subcontractors!$A$2:$B$3,2,FALSE),\"\")","v":""},null,{"$f":"IF(LEN(A333)>0,VLOOKUP(A333,Subcontractors!$A$2:$B$2,2,FALSE),\"\")","v":""}]
[null,null,null,null,null,null,null,null,null,null,null,null,null,null,null,null,null,null,null,null,null,{"$f":"IF(LEN(X334)>0,VLOOKUP(X334,'TFW Programs'!$A$2:$B$24,2,FALSE),\"\")","v":""},null,null,{"$f":"IF(LEN(A334)>0,VLOOKUP(A334,Subcontractors!$A$2:$B$3,2,FALSE),\"\")","v":""},null,{"$f":"IF(LEN(A334)>0,VLOOKUP(A334,Subcontractors!$A$2:$B$2,2,FALSE),\"\")","v":""}]
[null,null,null,null,null,null,null,null,null,null,null,null,null,null,null,null,null,null,null,null,null,{"$f":"IF(LEN(X335)>0,VLOOKUP(X335,'TFW Programs'!$A$2:$B$24,2,FALSE),\"\")","v":""},null,null,{"$f":"IF(LEN(A335)>0,VLOOKUP(A335,Subcontractors!$A$2:$B$3,2,FALSE),\"\")","v":""},null,{"$f":"IF(LEN(A335)>0,VLOOKUP(A335,Subcontractors!$A$2:$B$2,2,FALSE),\"\")","v":""}]
[null,null,null,null,null,null,null,null,null,null,null,null,null,null,null,null,null,null,null,null,null,{"$f":"IF(LEN(X336)>0,VLOOKUP(X336,'TFW Programs'!$A$2:$B$24,2,FALSE),\"\")","v":""},null,null,{"$f":"IF(LEN(A336)>0,VLOOKUP(A336,Subcontractors!$A$2:$B$3,2,FALSE),\"\")","v":""},null,{"$f":"IF(LEN(A336)>0,VLOOKUP(A336,Subcontractors!$A$2:$B$2,2,FALSE),\"\")","v":""}]
[null,null,null,null,null,null,null,null,null,null,null,null,null,null,null,null,null,null,null,null,null,{"$f":"IF(LEN(X337)>0,VLOOKUP(X337,'TFW Programs'!$A$2:$B$24,2,FALSE),\"\")","v":""},null,null,{"$f":"IF(LEN(A337)>0,VLOOKUP(A337,Subcontractors!$A$2:$B$3,2,FALSE),\"\")","v":""},null,{"$f":"IF(LEN(A337)>0,VLOOKUP(A337,Subcontractors!$A$2:$B$2,2,FALSE),\"\")","v":""}]
[null,null,null,null,null,null,null,null,null,null,null,null,null,null,null,null,null,null,null,null,null,{"$f":"IF(LEN(X338)>0,VLOOKUP(X338,'TFW Programs'!$A$2:$B$24,2,FALSE),\"\")","v":""},null,null,{"$f":"IF(LEN(A338)>0,VLOOKUP(A338,Subcontractors!$A$2:$B$3,2,FALSE),\"\")","v":""},null,{"$f":"IF(LEN(A338)>0,VLOOKUP(A338,Subcontractors!$A$2:$B$2,2,FALSE),\"\")","v":""}]
[null,null,null,null,null,null,null,null,null,null,null,null,null,null,null,null,null,null,null,null,null,{"$f":"IF(LEN(X339)>0,VLOOKUP(X339,'TFW Programs'!$A$2:$B$24,2,FALSE),\"\")","v":""},null,null,{"$f":"IF(LEN(A339)>0,VLOOKUP(A339,Subcontractors!$A$2:$B$3,2,FALSE),\"\")","v":""},null,{"$f":"IF(LEN(A339)>0,VLOOKUP(A339,Subcontractors!$A$2:$B$2,2,FALSE),\"\")","v":""}]
[null,null,null,null,null,null,null,null,null,null,null,null,null,null,null,null,null,null,null,null,null,{"$f":"IF(LEN(X340)>0,VLOOKUP(X340,'TFW Programs'!$A$2:$B$24,2,FALSE),\"\")","v":""},null,null,{"$f":"IF(LEN(A340)>0,VLOOKUP(A340,Subcontractors!$A$2:$B$3,2,FALSE),\"\")","v":""},null,{"$f":"IF(LEN(A340)>0,VLOOKUP(A340,Subcontractors!$A$2:$B$2,2,FALSE),\"\")","v":""}]
[null,null,null,null,null,null,null,null,null,null,null,null,null,null,null,null,null,null,null,null,null,{"$f":"IF(LEN(X341)>0,VLOOKUP(X341,'TFW Programs'!$A$2:$B$24,2,FALSE),\"\")","v":""},null,null,{"$f":"IF(LEN(A341)>0,VLOOKUP(A341,Subcontractors!$A$2:$B$3,2,FALSE),\"\")","v":""},null,{"$f":"IF(LEN(A341)>0,VLOOKUP(A341,Subcontractors!$A$2:$B$2,2,FALSE),\"\")","v":""}]
[null,null,null,null,null,null,null,null,null,null,null,null,null,null,null,null,null,null,null,null,null,{"$f":"IF(LEN(X342)>0,VLOOKUP(X342,'TFW Programs'!$A$2:$B$24,2,FALSE),\"\")","v":""},null,null,{"$f":"IF(LEN(A342)>0,VLOOKUP(A342,Subcontractors!$A$2:$B$3,2,FALSE),\"\")","v":""},null,{"$f":"IF(LEN(A342)>0,VLOOKUP(A342,Subcontractors!$A$2:$B$2,2,FALSE),\"\")","v":""}]
[null,null,null,null,null,null,null,null,null,null,null,null,null,null,null,null,null,null,null,null,null,{"$f":"IF(LEN(X343)>0,VLOOKUP(X343,'TFW Programs'!$A$2:$B$24,2,FALSE),\"\")","v":""},null,null,{"$f":"IF(LEN(A343)>0,VLOOKUP(A343,Subcontractors!$A$2:$B$3,2,FALSE),\"\")","v":""},null,{"$f":"IF(LEN(A343)>0,VLOOKUP(A343,Subcontractors!$A$2:$B$2,2,FALSE),\"\")","v":""}]
[null,null,null,null,null,null,null,null,null,null,null,null,null,null,null,null,null,null,null,null,null,{"$f":"IF(LEN(X344)>0,VLOOKUP(X344,'TFW Programs'!$A$2:$B$24,2,FALSE),\"\")","v":""},null,null,{"$f":"IF(LEN(A344)>0,VLOOKUP(A344,Subcontractors!$A$2:$B$3,2,FALSE),\"\")","v":""},null,{"$f":"IF(LEN(A344)>0,VLOOKUP(A344,Subcontractors!$A$2:$B$2,2,FALSE),\"\")","v":""}]
[null,null,null,null,null,null,null,null,null,null,null,null,null,null,null,null,null,null,null,null,null,{"$f":"IF(LEN(X345)>0,VLOOKUP(X345,'TFW Programs'!$A$2:$B$24,2,FALSE),\"\")","v":""},null,null,{"$f":"IF(LEN(A345)>0,VLOOKUP(A345,Subcontractors!$A$2:$B$3,2,FALSE),\"\")","v":""},null,{"$f":"IF(LEN(A345)>0,VLOOKUP(A345,Subcontractors!$A$2:$B$2,2,FALSE),\"\")","v":""}]
[null,null,null,null,null,null,null,null,null,null,null,null,null,null,null,null,null,null,null,null,null,{"$f":"IF(LEN(X346)>0,VLOOKUP(X346,'TFW Programs'!$A$2:$B$24,2,FALSE),\"\")","v":""},null,null,{"$f":"IF(LEN(A346)>0,VLOOKUP(A346,Subcontractors!$A$2:$B$3,2,FALSE),\"\")","v":""},null,{"$f":"IF(LEN(A346)>0,VLOOKUP(A346,Subcontractors!$A$2:$B$2,2,FALSE),\"\")","v":""}]
[null,null,null,null,null,null,null,null,null,null,null,null,null,null,null,null,null,null,null,null,null,{"$f":"IF(LEN(X347)>0,VLOOKUP(X347,'TFW Programs'!$A$2:$B$24,2,FALSE),\"\")","v":""},null,null,{"$f":"IF(LEN(A347)>0,VLOOKUP(A347,Subcontractors!$A$2:$B$3,2,FALSE),\"\")","v":""},null,{"$f":"IF(LEN(A347)>0,VLOOKUP(A347,Subcontractors!$A$2:$B$2,2,FALSE),\"\")","v":""}]
[null,null,null,null,null,null,null,null,null,null,null,null,null,null,null,null,null,null,null,null,null,{"$f":"IF(LEN(X348)>0,VLOOKUP(X348,'TFW Programs'!$A$2:$B$24,2,FALSE),\"\")","v":""},null,null,{"$f":"IF(LEN(A348)>0,VLOOKUP(A348,Subcontractors!$A$2:$B$3,2,FALSE),\"\")","v":""},null,{"$f":"IF(LEN(A348)>0,VLOOKUP(A348,Subcontractors!$A$2:$B$2,2,FALSE),\"\")","v":""}]
[null,null,null,null,null,null,null,null,null,null,null,null,null,null,null,null,null,null,null,null,null,{"$f":"IF(LEN(X349)>0,VLOOKUP(X349,'TFW Programs'!$A$2:$B$24,2,FALSE),\"\")","v":""},null,null,{"$f":"IF(LEN(A349)>0,VLOOKUP(A349,Subcontractors!$A$2:$B$3,2,FALSE),\"\")","v":""},null,{"$f":"IF(LEN(A349)>0,VLOOKUP(A349,Subcontractors!$A$2:$B$2,2,FALSE),\"\")","v":""}]
[null,null,null,null,null,null,null,null,null,null,null,null,null,null,null,null,null,null,null,null,null,{"$f":"IF(LEN(X350)>0,VLOOKUP(X350,'TFW Programs'!$A$2:$B$24,2,FALSE),\"\")","v":""},null,null,{"$f":"IF(LEN(A350)>0,VLOOKUP(A350,Subcontractors!$A$2:$B$3,2,FALSE),\"\")","v":""},null,{"$f":"IF(LEN(A350)>0,VLOOKUP(A350,Subcontractors!$A$2:$B$2,2,FALSE),\"\")","v":""}]
[null,null,null,null,null,null,null,null,null,null,null,null,null,null,null,null,null,null,null,null,null,{"$f":"IF(LEN(X351)>0,VLOOKUP(X351,'TFW Programs'!$A$2:$B$24,2,FALSE),\"\")","v":""},null,null,{"$f":"IF(LEN(A351)>0,VLOOKUP(A351,Subcontractors!$A$2:$B$3,2,FALSE),\"\")","v":""},null,{"$f":"IF(LEN(A351)>0,VLOOKUP(A351,Subcontractors!$A$2:$B$2,2,FALSE),\"\")","v":""}]
[null,null,null,null,null,null,null,null,null,null,null,null,null,null,null,null,null,null,null,null,null,{"$f":"IF(LEN(X352)>0,VLOOKUP(X352,'TFW Programs'!$A$2:$B$24,2,FALSE),\"\")","v":""},null,null,{"$f":"IF(LEN(A352)>0,VLOOKUP(A352,Subcontractors!$A$2:$B$3,2,FALSE),\"\")","v":""},null,{"$f":"IF(LEN(A352)>0,VLOOKUP(A352,Subcontractors!$A$2:$B$2,2,FALSE),\"\")","v":""}]
[null,null,null,null,null,null,null,null,null,null,null,null,null,null,null,null,null,null,null,null,null,{"$f":"IF(LEN(X353)>0,VLOOKUP(X353,'TFW Programs'!$A$2:$B$24,2,FALSE),\"\")","v":""},null,null,{"$f":"IF(LEN(A353)>0,VLOOKUP(A353,Subcontractors!$A$2:$B$3,2,FALSE),\"\")","v":""},null,{"$f":"IF(LEN(A353)>0,VLOOKUP(A353,Subcontractors!$A$2:$B$2,2,FALSE),\"\")","v":""}]
[null,null,null,null,null,null,null,null,null,null,null,null,null,null,null,null,null,null,null,null,null,{"$f":"IF(LEN(X354)>0,VLOOKUP(X354,'TFW Programs'!$A$2:$B$24,2,FALSE),\"\")","v":""},null,null,{"$f":"IF(LEN(A354)>0,VLOOKUP(A354,Subcontractors!$A$2:$B$3,2,FALSE),\"\")","v":""},null,{"$f":"IF(LEN(A354)>0,VLOOKUP(A354,Subcontractors!$A$2:$B$2,2,FALSE),\"\")","v":""}]
[null,null,null,null,null,null,null,null,null,null,null,null,null,null,null,null,null,null,null,null,null,{"$f":"IF(LEN(X355)>0,VLOOKUP(X355,'TFW Programs'!$A$2:$B$24,2,FALSE),\"\")","v":""},null,null,{"$f":"IF(LEN(A355)>0,VLOOKUP(A355,Subcontractors!$A$2:$B$3,2,FALSE),\"\")","v":""},null,{"$f":"IF(LEN(A355)>0,VLOOKUP(A355,Subcontractors!$A$2:$B$2,2,FALSE),\"\")","v":""}]
[null,null,null,null,null,null,null,null,null,null,null,null,null,null,null,null,null,null,null,null,null,{"$f":"IF(LEN(X356)>0,VLOOKUP(X356,'TFW Programs'!$A$2:$B$24,2,FALSE),\"\")","v":""},null,null,{"$f":"IF(LEN(A356)>0,VLOOKUP(A356,Subcontractors!$A$2:$B$3,2,FALSE),\"\")","v":""},null,{"$f":"IF(LEN(A356)>0,VLOOKUP(A356,Subcontractors!$A$2:$B$2,2,FALSE),\"\")","v":""}]
[null,null,null,null,null,null,null,null,null,null,null,null,null,null,null,null,null,null,null,null,null,{"$f":"IF(LEN(X357)>0,VLOOKUP(X357,'TFW Programs'!$A$2:$B$24,2,FALSE),\"\")","v":""},null,null,{"$f":"IF(LEN(A357)>0,VLOOKUP(A357,Subcontractors!$A$2:$B$3,2,FALSE),\"\")","v":""},null,{"$f":"IF(LEN(A357)>0,VLOOKUP(A357,Subcontractors!$A$2:$B$2,2,FALSE),\"\")","v":""}]
[null,null,null,null,null,null,null,null,null,null,null,null,null,null,null,null,null,null,null,null,null,{"$f":"IF(LEN(X358)>0,VLOOKUP(X358,'TFW Programs'!$A$2:$B$24,2,FALSE),\"\")","v":""},null,null,{"$f":"IF(LEN(A358)>0,VLOOKUP(A358,Subcontractors!$A$2:$B$3,2,FALSE),\"\")","v":""},null,{"$f":"IF(LEN(A358)>0,VLOOKUP(A358,Subcontractors!$A$2:$B$2,2,FALSE),\"\")","v":""}]
[null,null,null,null,null,null,null,null,null,null,null,null,null,null,null,null,null,null,null,null,null,{"$f":"IF(LEN(X359)>0,VLOOKUP(X359,'TFW Programs'!$A$2:$B$24,2,FALSE),\"\")","v":""},null,null,{"$f":"IF(LEN(A359)>0,VLOOKUP(A359,Subcontractors!$A$2:$B$3,2,FALSE),\"\")","v":""},null,{"$f":"IF(LEN(A359)>0,VLOOKUP(A359,Subcontractors!$A$2:$B$2,2,FALSE),\"\")","v":""}]
[null,null,null,null,null,null,null,null,null,null,null,null,null,null,null,null,null,null,null,null,null,{"$f":"IF(LEN(X360)>0,VLOOKUP(X360,'TFW Programs'!$A$2:$B$24,2,FALSE),\"\")","v":""},null,null,{"$f":"IF(LEN(A360)>0,VLOOKUP(A360,Subcontractors!$A$2:$B$3,2,FALSE),\"\")","v":""},null,{"$f":"IF(LEN(A360)>0,VLOOKUP(A360,Subcontractors!$A$2:$B$2,2,FALSE),\"\")","v":""}]
[null,null,null,null,null,null,null,null,null,null,null,null,null,null,null,null,null,null,null,null,null,{"$f":"IF(LEN(X361)>0,VLOOKUP(X361,'TFW Programs'!$A$2:$B$24,2,FALSE),\"\")","v":""},null,null,{"$f":"IF(LEN(A361)>0,VLOOKUP(A361,Subcontractors!$A$2:$B$3,2,FALSE),\"\")","v":""},null,{"$f":"IF(LEN(A361)>0,VLOOKUP(A361,Subcontractors!$A$2:$B$2,2,FALSE),\"\")","v":""}]
[null,null,null,null,null,null,null,null,null,null,null,null,null,null,null,null,null,null,null,null,null,{"$f":"IF(LEN(X362)>0,VLOOKUP(X362,'TFW Programs'!$A$2:$B$24,2,FALSE),\"\")","v":""},null,null,{"$f":"IF(LEN(A362)>0,VLOOKUP(A362,Subcontractors!$A$2:$B$3,2,FALSE),\"\")","v":""},null,{"$f":"IF(LEN(A362)>0,VLOOKUP(A362,Subcontractors!$A$2:$B$2,2,FALSE),\"\")","v":""}]
[null,null,null,null,null,null,null,null,null,null,null,null,null,null,null,null,null,null,null,null,null,{"$f":"IF(LEN(X363)>0,VLOOKUP(X363,'TFW Programs'!$A$2:$B$24,2,FALSE),\"\")","v":""},null,null,{"$f":"IF(LEN(A363)>0,VLOOKUP(A363,Subcontractors!$A$2:$B$3,2,FALSE),\"\")","v":""},null,{"$f":"IF(LEN(A363)>0,VLOOKUP(A363,Subcontractors!$A$2:$B$2,2,FALSE),\"\")","v":""}]
[null,null,null,null,null,null,null,null,null,null,null,null,null,null,null,null,null,null,null,null,null,{"$f":"IF(LEN(X364)>0,VLOOKUP(X364,'TFW Programs'!$A$2:$B$24,2,FALSE),\"\")","v":""},null,null,{"$f":"IF(LEN(A364)>0,VLOOKUP(A364,Subcontractors!$A$2:$B$3,2,FALSE),\"\")","v":""},null,{"$f":"IF(LEN(A364)>0,VLOOKUP(A364,Subcontractors!$A$2:$B$2,2,FALSE),\"\")","v":""}]
[null,null,null,null,null,null,null,null,null,null,null,null,null,null,null,null,null,null,null,null,null,{"$f":"IF(LEN(X365)>0,VLOOKUP(X365,'TFW Programs'!$A$2:$B$24,2,FALSE),\"\")","v":""},null,null,{"$f":"IF(LEN(A365)>0,VLOOKUP(A365,Subcontractors!$A$2:$B$3,2,FALSE),\"\")","v":""},null,{"$f":"IF(LEN(A365)>0,VLOOKUP(A365,Subcontractors!$A$2:$B$2,2,FALSE),\"\")","v":""}]
[null,null,null,null,null,null,null,null,null,null,null,null,null,null,null,null,null,null,null,null,null,{"$f":"IF(LEN(X366)>0,VLOOKUP(X366,'TFW Programs'!$A$2:$B$24,2,FALSE),\"\")","v":""},null,null,{"$f":"IF(LEN(A366)>0,VLOOKUP(A366,Subcontractors!$A$2:$B$3,2,FALSE),\"\")","v":""},null,{"$f":"IF(LEN(A366)>0,VLOOKUP(A366,Subcontractors!$A$2:$B$2,2,FALSE),\"\")","v":""}]
[null,null,null,null,null,null,null,null,null,null,null,null,null,null,null,null,null,null,null,null,null,{"$f":"IF(LEN(X367)>0,VLOOKUP(X367,'TFW Programs'!$A$2:$B$24,2,FALSE),\"\")","v":""},null,null,{"$f":"IF(LEN(A367)>0,VLOOKUP(A367,Subcontractors!$A$2:$B$3,2,FALSE),\"\")","v":""},null,{"$f":"IF(LEN(A367)>0,VLOOKUP(A367,Subcontractors!$A$2:$B$2,2,FALSE),\"\")","v":""}]
[null,null,null,null,null,null,null,null,null,null,null,null,null,null,null,null,null,null,null,null,null,{"$f":"IF(LEN(X368)>0,VLOOKUP(X368,'TFW Programs'!$A$2:$B$24,2,FALSE),\"\")","v":""},null,null,{"$f":"IF(LEN(A368)>0,VLOOKUP(A368,Subcontractors!$A$2:$B$3,2,FALSE),\"\")","v":""},null,{"$f":"IF(LEN(A368)>0,VLOOKUP(A368,Subcontractors!$A$2:$B$2,2,FALSE),\"\")","v":""}]
[null,null,null,null,null,null,null,null,null,null,null,null,null,null,null,null,null,null,null,null,null,{"$f":"IF(LEN(X369)>0,VLOOKUP(X369,'TFW Programs'!$A$2:$B$24,2,FALSE),\"\")","v":""},null,null,{"$f":"IF(LEN(A369)>0,VLOOKUP(A369,Subcontractors!$A$2:$B$3,2,FALSE),\"\")","v":""},null,{"$f":"IF(LEN(A369)>0,VLOOKUP(A369,Subcontractors!$A$2:$B$2,2,FALSE),\"\")","v":""}]
[null,null,null,null,null,null,null,null,null,null,null,null,null,null,null,null,null,null,null,null,null,{"$f":"IF(LEN(X370)>0,VLOOKUP(X370,'TFW Programs'!$A$2:$B$24,2,FALSE),\"\")","v":""},null,null,{"$f":"IF(LEN(A370)>0,VLOOKUP(A370,Subcontractors!$A$2:$B$3,2,FALSE),\"\")","v":""},null,{"$f":"IF(LEN(A370)>0,VLOOKUP(A370,Subcontractors!$A$2:$B$2,2,FALSE),\"\")","v":""}]
[null,null,null,null,null,null,null,null,null,null,null,null,null,null,null,null,null,null,null,null,null,{"$f":"IF(LEN(X371)>0,VLOOKUP(X371,'TFW Programs'!$A$2:$B$24,2,FALSE),\"\")","v":""},null,null,{"$f":"IF(LEN(A371)>0,VLOOKUP(A371,Subcontractors!$A$2:$B$3,2,FALSE),\"\")","v":""},null,{"$f":"IF(LEN(A371)>0,VLOOKUP(A371,Subcontractors!$A$2:$B$2,2,FALSE),\"\")","v":""}]
[null,null,null,null,null,null,null,null,null,null,null,null,null,null,null,null,null,null,null,null,null,{"$f":"IF(LEN(X372)>0,VLOOKUP(X372,'TFW Programs'!$A$2:$B$24,2,FALSE),\"\")","v":""},null,null,{"$f":"IF(LEN(A372)>0,VLOOKUP(A372,Subcontractors!$A$2:$B$3,2,FALSE),\"\")","v":""},null,{"$f":"IF(LEN(A372)>0,VLOOKUP(A372,Subcontractors!$A$2:$B$2,2,FALSE),\"\")","v":""}]
[null,null,null,null,null,null,null,null,null,null,null,null,null,null,null,null,null,null,null,null,null,{"$f":"IF(LEN(X373)>0,VLOOKUP(X373,'TFW Programs'!$A$2:$B$24,2,FALSE),\"\")","v":""},null,null,{"$f":"IF(LEN(A373)>0,VLOOKUP(A373,Subcontractors!$A$2:$B$3,2,FALSE),\"\")","v":""},null,{"$f":"IF(LEN(A373)>0,VLOOKUP(A373,Subcontractors!$A$2:$B$2,2,FALSE),\"\")","v":""}]
[null,null,null,null,null,null,null,null,null,null,null,null,null,null,null,null,null,null,null,null,null,{"$f":"IF(LEN(X374)>0,VLOOKUP(X374,'TFW Programs'!$A$2:$B$24,2,FALSE),\"\")","v":""},null,null,{"$f":"IF(LEN(A374)>0,VLOOKUP(A374,Subcontractors!$A$2:$B$3,2,FALSE),\"\")","v":""},null,{"$f":"IF(LEN(A374)>0,VLOOKUP(A374,Subcontractors!$A$2:$B$2,2,FALSE),\"\")","v":""}]
[null,null,null,null,null,null,null,null,null,null,null,null,null,null,null,null,null,null,null,null,null,{"$f":"IF(LEN(X375)>0,VLOOKUP(X375,'TFW Programs'!$A$2:$B$24,2,FALSE),\"\")","v":""},null,null,{"$f":"IF(LEN(A375)>0,VLOOKUP(A375,Subcontractors!$A$2:$B$3,2,FALSE),\"\")","v":""},null,{"$f":"IF(LEN(A375)>0,VLOOKUP(A375,Subcontractors!$A$2:$B$2,2,FALSE),\"\")","v":""}]
[null,null,null,null,null,null,null,null,null,null,null,null,null,null,null,null,null,null,null,null,null,{"$f":"IF(LEN(X376)>0,VLOOKUP(X376,'TFW Programs'!$A$2:$B$24,2,FALSE),\"\")","v":""},null,null,{"$f":"IF(LEN(A376)>0,VLOOKUP(A376,Subcontractors!$A$2:$B$3,2,FALSE),\"\")","v":""},null,{"$f":"IF(LEN(A376)>0,VLOOKUP(A376,Subcontractors!$A$2:$B$2,2,FALSE),\"\")","v":""}]
[null,null,null,null,null,null,null,null,null,null,null,null,null,null,null,null,null,null,null,null,null,{"$f":"IF(LEN(X377)>0,VLOOKUP(X377,'TFW Programs'!$A$2:$B$24,2,FALSE),\"\")","v":""},null,null,{"$f":"IF(LEN(A377)>0,VLOOKUP(A377,Subcontractors!$A$2:$B$3,2,FALSE),\"\")","v":""},null,{"$f":"IF(LEN(A377)>0,VLOOKUP(A377,Subcontractors!$A$2:$B$2,2,FALSE),\"\")","v":""}]
[null,null,null,null,null,null,null,null,null,null,null,null,null,null,null,null,null,null,null,null,null,{"$f":"IF(LEN(X378)>0,VLOOKUP(X378,'TFW Programs'!$A$2:$B$24,2,FALSE),\"\")","v":""},null,null,{"$f":"IF(LEN(A378)>0,VLOOKUP(A378,Subcontractors!$A$2:$B$3,2,FALSE),\"\")","v":""},null,{"$f":"IF(LEN(A378)>0,VLOOKUP(A378,Subcontractors!$A$2:$B$2,2,FALSE),\"\")","v":""}]
[null,null,null,null,null,null,null,null,null,null,null,null,null,null,null,null,null,null,null,null,null,{"$f":"IF(LEN(X379)>0,VLOOKUP(X379,'TFW Programs'!$A$2:$B$24,2,FALSE),\"\")","v":""},null,null,{"$f":"IF(LEN(A379)>0,VLOOKUP(A379,Subcontractors!$A$2:$B$3,2,FALSE),\"\")","v":""},null,{"$f":"IF(LEN(A379)>0,VLOOKUP(A379,Subcontractors!$A$2:$B$2,2,FALSE),\"\")","v":""}]
[null,null,null,null,null,null,null,null,null,null,null,null,null,null,null,null,null,null,null,null,null,{"$f":"IF(LEN(X380)>0,VLOOKUP(X380,'TFW Programs'!$A$2:$B$24,2,FALSE),\"\")","v":""},null,null,{"$f":"IF(LEN(A380)>0,VLOOKUP(A380,Subcontractors!$A$2:$B$3,2,FALSE),\"\")","v":""},null,{"$f":"IF(LEN(A380)>0,VLOOKUP(A380,Subcontractors!$A$2:$B$2,2,FALSE),\"\")","v":""}]
[null,null,null,null,null,null,null,null,null,null,null,null,null,null,null,null,null,null,null,null,null,{"$f":"IF(LEN(X381)>0,VLOOKUP(X381,'TFW Programs'!$A$2:$B$24,2,FALSE),\"\")","v":""},null,null,{"$f":"IF(LEN(A381)>0,VLOOKUP(A381,Subcontractors!$A$2:$B$3,2,FALSE),\"\")","v":""},null,{"$f":"IF(LEN(A381)>0,VLOOKUP(A381,Subcontractors!$A$2:$B$2,2,FALSE),\"\")","v":""}]
[null,null,null,null,null,null,null,null,null,null,null,null,null,null,null,null,null,null,null,null,null,{"$f":"IF(LEN(X382)>0,VLOOKUP(X382,'TFW Programs'!$A$2:$B$24,2,FALSE),\"\")","v":""},null,null,{"$f":"IF(LEN(A382)>0,VLOOKUP(A382,Subcontractors!$A$2:$B$3,2,FALSE),\"\")","v":""},null,{"$f":"IF(LEN(A382)>0,VLOOKUP(A382,Subcontractors!$A$2:$B$2,2,FALSE),\"\")","v":""}]
[null,null,null,null,null,null,null,null,null,null,null,null,null,null,null,null,null,null,null,null,null,{"$f":"IF(LEN(X383)>0,VLOOKUP(X383,'TFW Programs'!$A$2:$B$24,2,FALSE),\"\")","v":""},null,null,{"$f":"IF(LEN(A383)>0,VLOOKUP(A383,Subcontractors!$A$2:$B$3,2,FALSE),\"\")","v":""},null,{"$f":"IF(LEN(A383)>0,VLOOKUP(A383,Subcontractors!$A$2:$B$2,2,FALSE),\"\")","v":""}]
[null,null,null,null,null,null,null,null,null,null,null,null,null,null,null,null,null,null,null,null,null,{"$f":"IF(LEN(X384)>0,VLOOKUP(X384,'TFW Programs'!$A$2:$B$24,2,FALSE),\"\")","v":""},null,null,{"$f":"IF(LEN(A384)>0,VLOOKUP(A384,Subcontractors!$A$2:$B$3,2,FALSE),\"\")","v":""},null,{"$f":"IF(LEN(A384)>0,VLOOKUP(A384,Subcontractors!$A$2:$B$2,2,FALSE),\"\")","v":""}]
[null,null,null,null,null,null,null,null,null,null,null,null,null,null,null,null,null,null,null,null,null,{"$f":"IF(LEN(X385)>0,VLOOKUP(X385,'TFW Programs'!$A$2:$B$24,2,FALSE),\"\")","v":""},null,null,{"$f":"IF(LEN(A385)>0,VLOOKUP(A385,Subcontractors!$A$2:$B$3,2,FALSE),\"\")","v":""},null,{"$f":"IF(LEN(A385)>0,VLOOKUP(A385,Subcontractors!$A$2:$B$2,2,FALSE),\"\")","v":""}]
[null,null,null,null,null,null,null,null,null,null,null,null,null,null,null,null,null,null,null,null,null,{"$f":"IF(LEN(X386)>0,VLOOKUP(X386,'TFW Programs'!$A$2:$B$24,2,FALSE),\"\")","v":""},null,null,{"$f":"IF(LEN(A386)>0,VLOOKUP(A386,Subcontractors!$A$2:$B$3,2,FALSE),\"\")","v":""},null,{"$f":"IF(LEN(A386)>0,VLOOKUP(A386,Subcontractors!$A$2:$B$2,2,FALSE),\"\")","v":""}]
[null,null,null,null,null,null,null,null,null,null,null,null,null,null,null,null,null,null,null,null,null,{"$f":"IF(LEN(X387)>0,VLOOKUP(X387,'TFW Programs'!$A$2:$B$24,2,FALSE),\"\")","v":""},null,null,{"$f":"IF(LEN(A387)>0,VLOOKUP(A387,Subcontractors!$A$2:$B$3,2,FALSE),\"\")","v":""},null,{"$f":"IF(LEN(A387)>0,VLOOKUP(A387,Subcontractors!$A$2:$B$2,2,FALSE),\"\")","v":""}]
[null,null,null,null,null,null,null,null,null,null,null,null,null,null,null,null,null,null,null,null,null,{"$f":"IF(LEN(X388)>0,VLOOKUP(X388,'TFW Programs'!$A$2:$B$24,2,FALSE),\"\")","v":""},null,null,{"$f":"IF(LEN(A388)>0,VLOOKUP(A388,Subcontractors!$A$2:$B$3,2,FALSE),\"\")","v":""},null,{"$f":"IF(LEN(A388)>0,VLOOKUP(A388,Subcontractors!$A$2:$B$2,2,FALSE),\"\")","v":""}]
[null,null,null,null,null,null,null,null,null,null,null,null,null,null,null,null,null,null,null,null,null,{"$f":"IF(LEN(X389)>0,VLOOKUP(X389,'TFW Programs'!$A$2:$B$24,2,FALSE),\"\")","v":""},null,null,{"$f":"IF(LEN(A389)>0,VLOOKUP(A389,Subcontractors!$A$2:$B$3,2,FALSE),\"\")","v":""},null,{"$f":"IF(LEN(A389)>0,VLOOKUP(A389,Subcontractors!$A$2:$B$2,2,FALSE),\"\")","v":""}]
[null,null,null,null,null,null,null,null,null,null,null,null,null,null,null,null,null,null,null,null,null,{"$f":"IF(LEN(X390)>0,VLOOKUP(X390,'TFW Programs'!$A$2:$B$24,2,FALSE),\"\")","v":""},null,null,{"$f":"IF(LEN(A390)>0,VLOOKUP(A390,Subcontractors!$A$2:$B$3,2,FALSE),\"\")","v":""},null,{"$f":"IF(LEN(A390)>0,VLOOKUP(A390,Subcontractors!$A$2:$B$2,2,FALSE),\"\")","v":""}]
[null,null,null,null,null,null,null,null,null,null,null,null,null,null,null,null,null,null,null,null,null,{"$f":"IF(LEN(X391)>0,VLOOKUP(X391,'TFW Programs'!$A$2:$B$24,2,FALSE),\"\")","v":""},null,null,{"$f":"IF(LEN(A391)>0,VLOOKUP(A391,Subcontractors!$A$2:$B$3,2,FALSE),\"\")","v":""},null,{"$f":"IF(LEN(A391)>0,VLOOKUP(A391,Subcontractors!$A$2:$B$2,2,FALSE),\"\")","v":""}]
[null,null,null,null,null,null,null,null,null,null,null,null,null,null,null,null,null,null,null,null,null,{"$f":"IF(LEN(X392)>0,VLOOKUP(X392,'TFW Programs'!$A$2:$B$24,2,FALSE),\"\")","v":""},null,null,{"$f":"IF(LEN(A392)>0,VLOOKUP(A392,Subcontractors!$A$2:$B$3,2,FALSE),\"\")","v":""},null,{"$f":"IF(LEN(A392)>0,VLOOKUP(A392,Subcontractors!$A$2:$B$2,2,FALSE),\"\")","v":""}]
[null,null,null,null,null,null,null,null,null,null,null,null,null,null,null,null,null,null,null,null,null,{"$f":"IF(LEN(X393)>0,VLOOKUP(X393,'TFW Programs'!$A$2:$B$24,2,FALSE),\"\")","v":""},null,null,{"$f":"IF(LEN(A393)>0,VLOOKUP(A393,Subcontractors!$A$2:$B$3,2,FALSE),\"\")","v":""},null,{"$f":"IF(LEN(A393)>0,VLOOKUP(A393,Subcontractors!$A$2:$B$2,2,FALSE),\"\")","v":""}]
[null,null,null,null,null,null,null,null,null,null,null,null,null,null,null,null,null,null,null,null,null,{"$f":"IF(LEN(X394)>0,VLOOKUP(X394,'TFW Programs'!$A$2:$B$24,2,FALSE),\"\")","v":""},null,null,{"$f":"IF(LEN(A394)>0,VLOOKUP(A394,Subcontractors!$A$2:$B$3,2,FALSE),\"\")","v":""},null,{"$f":"IF(LEN(A394)>0,VLOOKUP(A394,Subcontractors!$A$2:$B$2,2,FALSE),\"\")","v":""}]
[null,null,null,null,null,null,null,null,null,null,null,null,null,null,null,null,null,null,null,null,null,{"$f":"IF(LEN(X395)>0,VLOOKUP(X395,'TFW Programs'!$A$2:$B$24,2,FALSE),\"\")","v":""},null,null,{"$f":"IF(LEN(A395)>0,VLOOKUP(A395,Subcontractors!$A$2:$B$3,2,FALSE),\"\")","v":""},null,{"$f":"IF(LEN(A395)>0,VLOOKUP(A395,Subcontractors!$A$2:$B$2,2,FALSE),\"\")","v":""}]
[null,null,null,null,null,null,null,null,null,null,null,null,null,null,null,null,null,null,null,null,null,{"$f":"IF(LEN(X396)>0,VLOOKUP(X396,'TFW Programs'!$A$2:$B$24,2,FALSE),\"\")","v":""},null,null,{"$f":"IF(LEN(A396)>0,VLOOKUP(A396,Subcontractors!$A$2:$B$3,2,FALSE),\"\")","v":""},null,{"$f":"IF(LEN(A396)>0,VLOOKUP(A396,Subcontractors!$A$2:$B$2,2,FALSE),\"\")","v":""}]
[null,null,null,null,null,null,null,null,null,null,null,null,null,null,null,null,null,null,null,null,null,{"$f":"IF(LEN(X397)>0,VLOOKUP(X397,'TFW Programs'!$A$2:$B$24,2,FALSE),\"\")","v":""},null,null,{"$f":"IF(LEN(A397)>0,VLOOKUP(A397,Subcontractors!$A$2:$B$3,2,FALSE),\"\")","v":""},null,{"$f":"IF(LEN(A397)>0,VLOOKUP(A397,Subcontractors!$A$2:$B$2,2,FALSE),\"\")","v":""}]
[null,null,null,null,null,null,null,null,null,null,null,null,null,null,null,null,null,null,null,null,null,{"$f":"IF(LEN(X398)>0,VLOOKUP(X398,'TFW Programs'!$A$2:$B$24,2,FALSE),\"\")","v":""},null,null,{"$f":"IF(LEN(A398)>0,VLOOKUP(A398,Subcontractors!$A$2:$B$3,2,FALSE),\"\")","v":""},null,{"$f":"IF(LEN(A398)>0,VLOOKUP(A398,Subcontractors!$A$2:$B$2,2,FALSE),\"\")","v":""}]
[null,null,null,null,null,null,null,null,null,null,null,null,null,null,null,null,null,null,null,null,null,{"$f":"IF(LEN(X399)>0,VLOOKUP(X399,'TFW Programs'!$A$2:$B$24,2,FALSE),\"\")","v":""},null,null,{"$f":"IF(LEN(A399)>0,VLOOKUP(A399,Subcontractors!$A$2:$B$3,2,FALSE),\"\")","v":""},null,{"$f":"IF(LEN(A399)>0,VLOOKUP(A399,Subcontractors!$A$2:$B$2,2,FALSE),\"\")","v":""}]
[null,null,null,null,null,null,null,null,null,null,null,null,null,null,null,null,null,null,null,null,null,{"$f":"IF(LEN(X400)>0,VLOOKUP(X400,'TFW Programs'!$A$2:$B$24,2,FALSE),\"\")","v":""},null,null,{"$f":"IF(LEN(A400)>0,VLOOKUP(A400,Subcontractors!$A$2:$B$3,2,FALSE),\"\")","v":""},null,{"$f":"IF(LEN(A400)>0,VLOOKUP(A400,Subcontractors!$A$2:$B$2,2,FALSE),\"\")","v":""}]
[null,null,null,null,null,null,null,null,null,null,null,null,null,null,null,null,null,null,null,null,null,{"$f":"IF(LEN(X401)>0,VLOOKUP(X401,'TFW Programs'!$A$2:$B$24,2,FALSE),\"\")","v":""},null,null,{"$f":"IF(LEN(A401)>0,VLOOKUP(A401,Subcontractors!$A$2:$B$3,2,FALSE),\"\")","v":""},null,{"$f":"IF(LEN(A401)>0,VLOOKUP(A401,Subcontractors!$A$2:$B$2,2,FALSE),\"\")","v":""}]
[null,null,null,null,null,null,null,null,null,null,null,null,null,null,null,null,null,null,null,null,null,{"$f":"IF(LEN(X402)>0,VLOOKUP(X402,'TFW Programs'!$A$2:$B$24,2,FALSE),\"\")","v":""},null,null,{"$f":"IF(LEN(A402)>0,VLOOKUP(A402,Subcontractors!$A$2:$B$3,2,FALSE),\"\")","v":""},null,{"$f":"IF(LEN(A402)>0,VLOOKUP(A402,Subcontractors!$A$2:$B$2,2,FALSE),\"\")","v":""}]
[null,null,null,null,null,null,null,null,null,null,null,null,null,null,null,null,null,null,null,null,null,{"$f":"IF(LEN(X403)>0,VLOOKUP(X403,'TFW Programs'!$A$2:$B$24,2,FALSE),\"\")","v":""},null,null,{"$f":"IF(LEN(A403)>0,VLOOKUP(A403,Subcontractors!$A$2:$B$3,2,FALSE),\"\")","v":""},null,{"$f":"IF(LEN(A403)>0,VLOOKUP(A403,Subcontractors!$A$2:$B$2,2,FALSE),\"\")","v":""}]
[null,null,null,null,null,null,null,null,null,null,null,null,null,null,null,null,null,null,null,null,null,{"$f":"IF(LEN(X404)>0,VLOOKUP(X404,'TFW Programs'!$A$2:$B$24,2,FALSE),\"\")","v":""},null,null,{"$f":"IF(LEN(A404)>0,VLOOKUP(A404,Subcontractors!$A$2:$B$3,2,FALSE),\"\")","v":""},null,{"$f":"IF(LEN(A404)>0,VLOOKUP(A404,Subcontractors!$A$2:$B$2,2,FALSE),\"\")","v":""}]
[null,null,null,null,null,null,null,null,null,null,null,null,null,null,null,null,null,null,null,null,null,{"$f":"IF(LEN(X405)>0,VLOOKUP(X405,'TFW Programs'!$A$2:$B$24,2,FALSE),\"\")","v":""},null,null,{"$f":"IF(LEN(A405)>0,VLOOKUP(A405,Subcontractors!$A$2:$B$3,2,FALSE),\"\")","v":""},null,{"$f":"IF(LEN(A405)>0,VLOOKUP(A405,Subcontractors!$A$2:$B$2,2,FALSE),\"\")","v":""}]
[null,null,null,null,null,null,null,null,null,null,null,null,null,null,null,null,null,null,null,null,null,{"$f":"IF(LEN(X406)>0,VLOOKUP(X406,'TFW Programs'!$A$2:$B$24,2,FALSE),\"\")","v":""},null,null,{"$f":"IF(LEN(A406)>0,VLOOKUP(A406,Subcontractors!$A$2:$B$3,2,FALSE),\"\")","v":""},null,{"$f":"IF(LEN(A406)>0,VLOOKUP(A406,Subcontractors!$A$2:$B$2,2,FALSE),\"\")","v":""}]
[null,null,null,null,null,null,null,null,null,null,null,null,null,null,null,null,null,null,null,null,null,{"$f":"IF(LEN(X407)>0,VLOOKUP(X407,'TFW Programs'!$A$2:$B$24,2,FALSE),\"\")","v":""},null,null,{"$f":"IF(LEN(A407)>0,VLOOKUP(A407,Subcontractors!$A$2:$B$3,2,FALSE),\"\")","v":""},null,{"$f":"IF(LEN(A407)>0,VLOOKUP(A407,Subcontractors!$A$2:$B$2,2,FALSE),\"\")","v":""}]
[null,null,null,null,null,null,null,null,null,null,null,null,null,null,null,null,null,null,null,null,null,{"$f":"IF(LEN(X408)>0,VLOOKUP(X408,'TFW Programs'!$A$2:$B$24,2,FALSE),\"\")","v":""},null,null,{"$f":"IF(LEN(A408)>0,VLOOKUP(A408,Subcontractors!$A$2:$B$3,2,FALSE),\"\")","v":""},null,{"$f":"IF(LEN(A408)>0,VLOOKUP(A408,Subcontractors!$A$2:$B$2,2,FALSE),\"\")","v":""}]
[null,null,null,null,null,null,null,null,null,null,null,null,null,null,null,null,null,null,null,null,null,{"$f":"IF(LEN(X409)>0,VLOOKUP(X409,'TFW Programs'!$A$2:$B$24,2,FALSE),\"\")","v":""},null,null,{"$f":"IF(LEN(A409)>0,VLOOKUP(A409,Subcontractors!$A$2:$B$3,2,FALSE),\"\")","v":""},null,{"$f":"IF(LEN(A409)>0,VLOOKUP(A409,Subcontractors!$A$2:$B$2,2,FALSE),\"\")","v":""}]
[null,null,null,null,null,null,null,null,null,null,null,null,null,null,null,null,null,null,null,null,null,{"$f":"IF(LEN(X410)>0,VLOOKUP(X410,'TFW Programs'!$A$2:$B$24,2,FALSE),\"\")","v":""},null,null,{"$f":"IF(LEN(A410)>0,VLOOKUP(A410,Subcontractors!$A$2:$B$3,2,FALSE),\"\")","v":""},null,{"$f":"IF(LEN(A410)>0,VLOOKUP(A410,Subcontractors!$A$2:$B$2,2,FALSE),\"\")","v":""}]
[null,null,null,null,null,null,null,null,null,null,null,null,null,null,null,null,null,null,null,null,null,{"$f":"IF(LEN(X411)>0,VLOOKUP(X411,'TFW Programs'!$A$2:$B$24,2,FALSE),\"\")","v":""},null,null,{"$f":"IF(LEN(A411)>0,VLOOKUP(A411,Subcontractors!$A$2:$B$3,2,FALSE),\"\")","v":""},null,{"$f":"IF(LEN(A411)>0,VLOOKUP(A411,Subcontractors!$A$2:$B$2,2,FALSE),\"\")","v":""}]
[null,null,null,null,null,null,null,null,null,null,null,null,null,null,null,null,null,null,null,null,null,{"$f":"IF(LEN(X412)>0,VLOOKUP(X412,'TFW Programs'!$A$2:$B$24,2,FALSE),\"\")","v":""},null,null,{"$f":"IF(LEN(A412)>0,VLOOKUP(A412,Subcontractors!$A$2:$B$3,2,FALSE),\"\")","v":""},null,{"$f":"IF(LEN(A412)>0,VLOOKUP(A412,Subcontractors!$A$2:$B$2,2,FALSE),\"\")","v":""}]
[null,null,null,null,null,null,null,null,null,null,null,null,null,null,null,null,null,null,null,null,null,{"$f":"IF(LEN(X413)>0,VLOOKUP(X413,'TFW Programs'!$A$2:$B$24,2,FALSE),\"\")","v":""},null,null,{"$f":"IF(LEN(A413)>0,VLOOKUP(A413,Subcontractors!$A$2:$B$3,2,FALSE),\"\")","v":""},null,{"$f":"IF(LEN(A413)>0,VLOOKUP(A413,Subcontractors!$A$2:$B$2,2,FALSE),\"\")","v":""}]
[null,null,null,null,null,null,null,null,null,null,null,null,null,null,null,null,null,null,null,null,null,{"$f":"IF(LEN(X414)>0,VLOOKUP(X414,'TFW Programs'!$A$2:$B$24,2,FALSE),\"\")","v":""},null,null,{"$f":"IF(LEN(A414)>0,VLOOKUP(A414,Subcontractors!$A$2:$B$3,2,FALSE),\"\")","v":""},null,{"$f":"IF(LEN(A414)>0,VLOOKUP(A414,Subcontractors!$A$2:$B$2,2,FALSE),\"\")","v":""}]
[null,null,null,null,null,null,null,null,null,null,null,null,null,null,null,null,null,null,null,null,null,{"$f":"IF(LEN(X415)>0,VLOOKUP(X415,'TFW Programs'!$A$2:$B$24,2,FALSE),\"\")","v":""},null,null,{"$f":"IF(LEN(A415)>0,VLOOKUP(A415,Subcontractors!$A$2:$B$3,2,FALSE),\"\")","v":""},null,{"$f":"IF(LEN(A415)>0,VLOOKUP(A415,Subcontractors!$A$2:$B$2,2,FALSE),\"\")","v":""}]
[null,null,null,null,null,null,null,null,null,null,null,null,null,null,null,null,null,null,null,null,null,{"$f":"IF(LEN(X416)>0,VLOOKUP(X416,'TFW Programs'!$A$2:$B$24,2,FALSE),\"\")","v":""},null,null,{"$f":"IF(LEN(A416)>0,VLOOKUP(A416,Subcontractors!$A$2:$B$3,2,FALSE),\"\")","v":""},null,{"$f":"IF(LEN(A416)>0,VLOOKUP(A416,Subcontractors!$A$2:$B$2,2,FALSE),\"\")","v":""}]
[null,null,null,null,null,null,null,null,null,null,null,null,null,null,null,null,null,null,null,null,null,{"$f":"IF(LEN(X417)>0,VLOOKUP(X417,'TFW Programs'!$A$2:$B$24,2,FALSE),\"\")","v":""},null,null,{"$f":"IF(LEN(A417)>0,VLOOKUP(A417,Subcontractors!$A$2:$B$3,2,FALSE),\"\")","v":""},null,{"$f":"IF(LEN(A417)>0,VLOOKUP(A417,Subcontractors!$A$2:$B$2,2,FALSE),\"\")","v":""}]
[null,null,null,null,null,null,null,null,null,null,null,null,null,null,null,null,null,null,null,null,null,{"$f":"IF(LEN(X418)>0,VLOOKUP(X418,'TFW Programs'!$A$2:$B$24,2,FALSE),\"\")","v":""},null,null,{"$f":"IF(LEN(A418)>0,VLOOKUP(A418,Subcontractors!$A$2:$B$3,2,FALSE),\"\")","v":""},null,{"$f":"IF(LEN(A418)>0,VLOOKUP(A418,Subcontractors!$A$2:$B$2,2,FALSE),\"\")","v":""}]
[null,null,null,null,null,null,null,null,null,null,null,null,null,null,null,null,null,null,null,null,null,{"$f":"IF(LEN(X419)>0,VLOOKUP(X419,'TFW Programs'!$A$2:$B$24,2,FALSE),\"\")","v":""},null,null,{"$f":"IF(LEN(A419)>0,VLOOKUP(A419,Subcontractors!$A$2:$B$3,2,FALSE),\"\")","v":""},null,{"$f":"IF(LEN(A419)>0,VLOOKUP(A419,Subcontractors!$A$2:$B$2,2,FALSE),\"\")","v":""}]
[null,null,null,null,null,null,null,null,null,null,null,null,null,null,null,null,null,null,null,null,null,{"$f":"IF(LEN(X420)>0,VLOOKUP(X420,'TFW Programs'!$A$2:$B$24,2,FALSE),\"\")","v":""},null,null,{"$f":"IF(LEN(A420)>0,VLOOKUP(A420,Subcontractors!$A$2:$B$3,2,FALSE),\"\")","v":""},null,{"$f":"IF(LEN(A420)>0,VLOOKUP(A420,Subcontractors!$A$2:$B$2,2,FALSE),\"\")","v":""}]
[null,null,null,null,null,null,null,null,null,null,null,null,null,null,null,null,null,null,null,null,null,{"$f":"IF(LEN(X421)>0,VLOOKUP(X421,'TFW Programs'!$A$2:$B$24,2,FALSE),\"\")","v":""},null,null,{"$f":"IF(LEN(A421)>0,VLOOKUP(A421,Subcontractors!$A$2:$B$3,2,FALSE),\"\")","v":""},null,{"$f":"IF(LEN(A421)>0,VLOOKUP(A421,Subcontractors!$A$2:$B$2,2,FALSE),\"\")","v":""}]
[null,null,null,null,null,null,null,null,null,null,null,null,null,null,null,null,null,null,null,null,null,{"$f":"IF(LEN(X422)>0,VLOOKUP(X422,'TFW Programs'!$A$2:$B$24,2,FALSE),\"\")","v":""},null,null,{"$f":"IF(LEN(A422)>0,VLOOKUP(A422,Subcontractors!$A$2:$B$3,2,FALSE),\"\")","v":""},null,{"$f":"IF(LEN(A422)>0,VLOOKUP(A422,Subcontractors!$A$2:$B$2,2,FALSE),\"\")","v":""}]
[null,null,null,null,null,null,null,null,null,null,null,null,null,null,null,null,null,null,null,null,null,{"$f":"IF(LEN(X423)>0,VLOOKUP(X423,'TFW Programs'!$A$2:$B$24,2,FALSE),\"\")","v":""},null,null,{"$f":"IF(LEN(A423)>0,VLOOKUP(A423,Subcontractors!$A$2:$B$3,2,FALSE),\"\")","v":""},null,{"$f":"IF(LEN(A423)>0,VLOOKUP(A423,Subcontractors!$A$2:$B$2,2,FALSE),\"\")","v":""}]
[null,null,null,null,null,null,null,null,null,null,null,null,null,null,null,null,null,null,null,null,null,{"$f":"IF(LEN(X424)>0,VLOOKUP(X424,'TFW Programs'!$A$2:$B$24,2,FALSE),\"\")","v":""},null,null,{"$f":"IF(LEN(A424)>0,VLOOKUP(A424,Subcontractors!$A$2:$B$3,2,FALSE),\"\")","v":""},null,{"$f":"IF(LEN(A424)>0,VLOOKUP(A424,Subcontractors!$A$2:$B$2,2,FALSE),\"\")","v":""}]
[null,null,null,null,null,null,null,null,null,null,null,null,null,null,null,null,null,null,null,null,null,{"$f":"IF(LEN(X425)>0,VLOOKUP(X425,'TFW Programs'!$A$2:$B$24,2,FALSE),\"\")","v":""},null,null,{"$f":"IF(LEN(A425)>0,VLOOKUP(A425,Subcontractors!$A$2:$B$3,2,FALSE),\"\")","v":""},null,{"$f":"IF(LEN(A425)>0,VLOOKUP(A425,Subcontractors!$A$2:$B$2,2,FALSE),\"\")","v":""}]
[null,null,null,null,null,null,null,null,null,null,null,null,null,null,null,null,null,null,null,null,null,{"$f":"IF(LEN(X426)>0,VLOOKUP(X426,'TFW Programs'!$A$2:$B$24,2,FALSE),\"\")","v":""},null,null,{"$f":"IF(LEN(A426)>0,VLOOKUP(A426,Subcontractors!$A$2:$B$3,2,FALSE),\"\")","v":""},null,{"$f":"IF(LEN(A426)>0,VLOOKUP(A426,Subcontractors!$A$2:$B$2,2,FALSE),\"\")","v":""}]
[null,null,null,null,null,null,null,null,null,null,null,null,null,null,null,null,null,null,null,null,null,{"$f":"IF(LEN(X427)>0,VLOOKUP(X427,'TFW Programs'!$A$2:$B$24,2,FALSE),\"\")","v":""},null,null,{"$f":"IF(LEN(A427)>0,VLOOKUP(A427,Subcontractors!$A$2:$B$3,2,FALSE),\"\")","v":""},null,{"$f":"IF(LEN(A427)>0,VLOOKUP(A427,Subcontractors!$A$2:$B$2,2,FALSE),\"\")","v":""}]
[null,null,null,null,null,null,null,null,null,null,null,null,null,null,null,null,null,null,null,null,null,{"$f":"IF(LEN(X428)>0,VLOOKUP(X428,'TFW Programs'!$A$2:$B$24,2,FALSE),\"\")","v":""},null,null,{"$f":"IF(LEN(A428)>0,VLOOKUP(A428,Subcontractors!$A$2:$B$3,2,FALSE),\"\")","v":""},null,{"$f":"IF(LEN(A428)>0,VLOOKUP(A428,Subcontractors!$A$2:$B$2,2,FALSE),\"\")","v":""}]
[null,null,null,null,null,null,null,null,null,null,null,null,null,null,null,null,null,null,null,null,null,{"$f":"IF(LEN(X429)>0,VLOOKUP(X429,'TFW Programs'!$A$2:$B$24,2,FALSE),\"\")","v":""},null,null,{"$f":"IF(LEN(A429)>0,VLOOKUP(A429,Subcontractors!$A$2:$B$3,2,FALSE),\"\")","v":""},null,{"$f":"IF(LEN(A429)>0,VLOOKUP(A429,Subcontractors!$A$2:$B$2,2,FALSE),\"\")","v":""}]
[null,null,null,null,null,null,null,null,null,null,null,null,null,null,null,null,null,null,null,null,null,{"$f":"IF(LEN(X430)>0,VLOOKUP(X430,'TFW Programs'!$A$2:$B$24,2,FALSE),\"\")","v":""},null,null,{"$f":"IF(LEN(A430)>0,VLOOKUP(A430,Subcontractors!$A$2:$B$3,2,FALSE),\"\")","v":""},null,{"$f":"IF(LEN(A430)>0,VLOOKUP(A430,Subcontractors!$A$2:$B$2,2,FALSE),\"\")","v":""}]
[null,null,null,null,null,null,null,null,null,null,null,null,null,null,null,null,null,null,null,null,null,{"$f":"IF(LEN(X431)>0,VLOOKUP(X431,'TFW Programs'!$A$2:$B$24,2,FALSE),\"\")","v":""},null,null,{"$f":"IF(LEN(A431)>0,VLOOKUP(A431,Subcontractors!$A$2:$B$3,2,FALSE),\"\")","v":""},null,{"$f":"IF(LEN(A431)>0,VLOOKUP(A431,Subcontractors!$A$2:$B$2,2,FALSE),\"\")","v":""}]
[null,null,null,null,null,null,null,null,null,null,null,null,null,null,null,null,null,null,null,null,null,{"$f":"IF(LEN(X432)>0,VLOOKUP(X432,'TFW Programs'!$A$2:$B$24,2,FALSE),\"\")","v":""},null,null,{"$f":"IF(LEN(A432)>0,VLOOKUP(A432,Subcontractors!$A$2:$B$3,2,FALSE),\"\")","v":""},null,{"$f":"IF(LEN(A432)>0,VLOOKUP(A432,Subcontractors!$A$2:$B$2,2,FALSE),\"\")","v":""}]
[null,null,null,null,null,null,null,null,null,null,null,null,null,null,null,null,null,null,null,null,null,{"$f":"IF(LEN(X433)>0,VLOOKUP(X433,'TFW Programs'!$A$2:$B$24,2,FALSE),\"\")","v":""},null,null,{"$f":"IF(LEN(A433)>0,VLOOKUP(A433,Subcontractors!$A$2:$B$3,2,FALSE),\"\")","v":""},null,{"$f":"IF(LEN(A433)>0,VLOOKUP(A433,Subcontractors!$A$2:$B$2,2,FALSE),\"\")","v":""}]
[null,null,null,null,null,null,null,null,null,null,null,null,null,null,null,null,null,null,null,null,null,{"$f":"IF(LEN(X434)>0,VLOOKUP(X434,'TFW Programs'!$A$2:$B$24,2,FALSE),\"\")","v":""},null,null,{"$f":"IF(LEN(A434)>0,VLOOKUP(A434,Subcontractors!$A$2:$B$3,2,FALSE),\"\")","v":""},null,{"$f":"IF(LEN(A434)>0,VLOOKUP(A434,Subcontractors!$A$2:$B$2,2,FALSE),\"\")","v":""}]
[null,null,null,null,null,null,null,null,null,null,null,null,null,null,null,null,null,null,null,null,null,{"$f":"IF(LEN(X435)>0,VLOOKUP(X435,'TFW Programs'!$A$2:$B$24,2,FALSE),\"\")","v":""},null,null,{"$f":"IF(LEN(A435)>0,VLOOKUP(A435,Subcontractors!$A$2:$B$3,2,FALSE),\"\")","v":""},null,{"$f":"IF(LEN(A435)>0,VLOOKUP(A435,Subcontractors!$A$2:$B$2,2,FALSE),\"\")","v":""}]
[null,null,null,null,null,null,null,null,null,null,null,null,null,null,null,null,null,null,null,null,null,{"$f":"IF(LEN(X436)>0,VLOOKUP(X436,'TFW Programs'!$A$2:$B$24,2,FALSE),\"\")","v":""},null,null,{"$f":"IF(LEN(A436)>0,VLOOKUP(A436,Subcontractors!$A$2:$B$3,2,FALSE),\"\")","v":""},null,{"$f":"IF(LEN(A436)>0,VLOOKUP(A436,Subcontractors!$A$2:$B$2,2,FALSE),\"\")","v":""}]
[null,null,null,null,null,null,null,null,null,null,null,null,null,null,null,null,null,null,null,null,null,{"$f":"IF(LEN(X437)>0,VLOOKUP(X437,'TFW Programs'!$A$2:$B$24,2,FALSE),\"\")","v":""},null,null,{"$f":"IF(LEN(A437)>0,VLOOKUP(A437,Subcontractors!$A$2:$B$3,2,FALSE),\"\")","v":""},null,{"$f":"IF(LEN(A437)>0,VLOOKUP(A437,Subcontractors!$A$2:$B$2,2,FALSE),\"\")","v":""}]
[null,null,null,null,null,null,null,null,null,null,null,null,null,null,null,null,null,null,null,null,null,{"$f":"IF(LEN(X438)>0,VLOOKUP(X438,'TFW Programs'!$A$2:$B$24,2,FALSE),\"\")","v":""},null,null,{"$f":"IF(LEN(A438)>0,VLOOKUP(A438,Subcontractors!$A$2:$B$3,2,FALSE),\"\")","v":""},null,{"$f":"IF(LEN(A438)>0,VLOOKUP(A438,Subcontractors!$A$2:$B$2,2,FALSE),\"\")","v":""}]
[null,null,null,null,null,null,null,null,null,null,null,null,null,null,null,null,null,null,null,null,null,{"$f":"IF(LEN(X439)>0,VLOOKUP(X439,'TFW Programs'!$A$2:$B$24,2,FALSE),\"\")","v":""},null,null,{"$f":"IF(LEN(A439)>0,VLOOKUP(A439,Subcontractors!$A$2:$B$3,2,FALSE),\"\")","v":""},null,{"$f":"IF(LEN(A439)>0,VLOOKUP(A439,Subcontractors!$A$2:$B$2,2,FALSE),\"\")","v":""}]
[null,null,null,null,null,null,null,null,null,null,null,null,null,null,null,null,null,null,null,null,null,{"$f":"IF(LEN(X440)>0,VLOOKUP(X440,'TFW Programs'!$A$2:$B$24,2,FALSE),\"\")","v":""},null,null,{"$f":"IF(LEN(A440)>0,VLOOKUP(A440,Subcontractors!$A$2:$B$3,2,FALSE),\"\")","v":""},null,{"$f":"IF(LEN(A440)>0,VLOOKUP(A440,Subcontractors!$A$2:$B$2,2,FALSE),\"\")","v":""}]
[null,null,null,null,null,null,null,null,null,null,null,null,null,null,null,null,null,null,null,null,null,{"$f":"IF(LEN(X441)>0,VLOOKUP(X441,'TFW Programs'!$A$2:$B$24,2,FALSE),\"\")","v":""},null,null,{"$f":"IF(LEN(A441)>0,VLOOKUP(A441,Subcontractors!$A$2:$B$3,2,FALSE),\"\")","v":""},null,{"$f":"IF(LEN(A441)>0,VLOOKUP(A441,Subcontractors!$A$2:$B$2,2,FALSE),\"\")","v":""}]
[null,null,null,null,null,null,null,null,null,null,null,null,null,null,null,null,null,null,null,null,null,{"$f":"IF(LEN(X442)>0,VLOOKUP(X442,'TFW Programs'!$A$2:$B$24,2,FALSE),\"\")","v":""},null,null,{"$f":"IF(LEN(A442)>0,VLOOKUP(A442,Subcontractors!$A$2:$B$3,2,FALSE),\"\")","v":""},null,{"$f":"IF(LEN(A442)>0,VLOOKUP(A442,Subcontractors!$A$2:$B$2,2,FALSE),\"\")","v":""}]
[null,null,null,null,null,null,null,null,null,null,null,null,null,null,null,null,null,null,null,null,null,{"$f":"IF(LEN(X443)>0,VLOOKUP(X443,'TFW Programs'!$A$2:$B$24,2,FALSE),\"\")","v":""},null,null,{"$f":"IF(LEN(A443)>0,VLOOKUP(A443,Subcontractors!$A$2:$B$3,2,FALSE),\"\")","v":""},null,{"$f":"IF(LEN(A443)>0,VLOOKUP(A443,Subcontractors!$A$2:$B$2,2,FALSE),\"\")","v":""}]
[null,null,null,null,null,null,null,null,null,null,null,null,null,null,null,null,null,null,null,null,null,{"$f":"IF(LEN(X444)>0,VLOOKUP(X444,'TFW Programs'!$A$2:$B$24,2,FALSE),\"\")","v":""},null,null,{"$f":"IF(LEN(A444)>0,VLOOKUP(A444,Subcontractors!$A$2:$B$3,2,FALSE),\"\")","v":""},null,{"$f":"IF(LEN(A444)>0,VLOOKUP(A444,Subcontractors!$A$2:$B$2,2,FALSE),\"\")","v":""}]
[null,null,null,null,null,null,null,null,null,null,null,null,null,null,null,null,null,null,null,null,null,{"$f":"IF(LEN(X445)>0,VLOOKUP(X445,'TFW Programs'!$A$2:$B$24,2,FALSE),\"\")","v":""},null,null,{"$f":"IF(LEN(A445)>0,VLOOKUP(A445,Subcontractors!$A$2:$B$3,2,FALSE),\"\")","v":""},null,{"$f":"IF(LEN(A445)>0,VLOOKUP(A445,Subcontractors!$A$2:$B$2,2,FALSE),\"\")","v":""}]
[null,null,null,null,null,null,null,null,null,null,null,null,null,null,null,null,null,null,null,null,null,{"$f":"IF(LEN(X446)>0,VLOOKUP(X446,'TFW Programs'!$A$2:$B$24,2,FALSE),\"\")","v":""},null,null,{"$f":"IF(LEN(A446)>0,VLOOKUP(A446,Subcontractors!$A$2:$B$3,2,FALSE),\"\")","v":""},null,{"$f":"IF(LEN(A446)>0,VLOOKUP(A446,Subcontractors!$A$2:$B$2,2,FALSE),\"\")","v":""}]
[null,null,null,null,null,null,null,null,null,null,null,null,null,null,null,null,null,null,null,null,null,{"$f":"IF(LEN(X447)>0,VLOOKUP(X447,'TFW Programs'!$A$2:$B$24,2,FALSE),\"\")","v":""},null,null,{"$f":"IF(LEN(A447)>0,VLOOKUP(A447,Subcontractors!$A$2:$B$3,2,FALSE),\"\")","v":""},null,{"$f":"IF(LEN(A447)>0,VLOOKUP(A447,Subcontractors!$A$2:$B$2,2,FALSE),\"\")","v":""}]
[null,null,null,null,null,null,null,null,null,null,null,null,null,null,null,null,null,null,null,null,null,{"$f":"IF(LEN(X448)>0,VLOOKUP(X448,'TFW Programs'!$A$2:$B$24,2,FALSE),\"\")","v":""},null,null,{"$f":"IF(LEN(A448)>0,VLOOKUP(A448,Subcontractors!$A$2:$B$3,2,FALSE),\"\")","v":""},null,{"$f":"IF(LEN(A448)>0,VLOOKUP(A448,Subcontractors!$A$2:$B$2,2,FALSE),\"\")","v":""}]
[null,null,null,null,null,null,null,null,null,null,null,null,null,null,null,null,null,null,null,null,null,{"$f":"IF(LEN(X449)>0,VLOOKUP(X449,'TFW Programs'!$A$2:$B$24,2,FALSE),\"\")","v":""},null,null,{"$f":"IF(LEN(A449)>0,VLOOKUP(A449,Subcontractors!$A$2:$B$3,2,FALSE),\"\")","v":""},null,{"$f":"IF(LEN(A449)>0,VLOOKUP(A449,Subcontractors!$A$2:$B$2,2,FALSE),\"\")","v":""}]
[null,null,null,null,null,null,null,null,null,null,null,null,null,null,null,null,null,null,null,null,null,{"$f":"IF(LEN(X450)>0,VLOOKUP(X450,'TFW Programs'!$A$2:$B$24,2,FALSE),\"\")","v":""},null,null,{"$f":"IF(LEN(A450)>0,VLOOKUP(A450,Subcontractors!$A$2:$B$3,2,FALSE),\"\")","v":""},null,{"$f":"IF(LEN(A450)>0,VLOOKUP(A450,Subcontractors!$A$2:$B$2,2,FALSE),\"\")","v":""}]
[null,null,null,null,null,null,null,null,null,null,null,null,null,null,null,null,null,null,null,null,null,{"$f":"IF(LEN(X451)>0,VLOOKUP(X451,'TFW Programs'!$A$2:$B$24,2,FALSE),\"\")","v":""},null,null,{"$f":"IF(LEN(A451)>0,VLOOKUP(A451,Subcontractors!$A$2:$B$3,2,FALSE),\"\")","v":""},null,{"$f":"IF(LEN(A451)>0,VLOOKUP(A451,Subcontractors!$A$2:$B$2,2,FALSE),\"\")","v":""}]
[null,null,null,null,null,null,null,null,null,null,null,null,null,null,null,null,null,null,null,null,null,{"$f":"IF(LEN(X452)>0,VLOOKUP(X452,'TFW Programs'!$A$2:$B$24,2,FALSE),\"\")","v":""},null,null,{"$f":"IF(LEN(A452)>0,VLOOKUP(A452,Subcontractors!$A$2:$B$3,2,FALSE),\"\")","v":""},null,{"$f":"IF(LEN(A452)>0,VLOOKUP(A452,Subcontractors!$A$2:$B$2,2,FALSE),\"\")","v":""}]
[null,null,null,null,null,null,null,null,null,null,null,null,null,null,null,null,null,null,null,null,null,{"$f":"IF(LEN(X453)>0,VLOOKUP(X453,'TFW Programs'!$A$2:$B$24,2,FALSE),\"\")","v":""},null,null,{"$f":"IF(LEN(A453)>0,VLOOKUP(A453,Subcontractors!$A$2:$B$3,2,FALSE),\"\")","v":""},null,{"$f":"IF(LEN(A453)>0,VLOOKUP(A453,Subcontractors!$A$2:$B$2,2,FALSE),\"\")","v":""}]
[null,null,null,null,null,null,null,null,null,null,null,null,null,null,null,null,null,null,null,null,null,{"$f":"IF(LEN(X454)>0,VLOOKUP(X454,'TFW Programs'!$A$2:$B$24,2,FALSE),\"\")","v":""},null,null,{"$f":"IF(LEN(A454)>0,VLOOKUP(A454,Subcontractors!$A$2:$B$3,2,FALSE),\"\")","v":""},null,{"$f":"IF(LEN(A454)>0,VLOOKUP(A454,Subcontractors!$A$2:$B$2,2,FALSE),\"\")","v":""}]
[null,null,null,null,null,null,null,null,null,null,null,null,null,null,null,null,null,null,null,null,null,{"$f":"IF(LEN(X455)>0,VLOOKUP(X455,'TFW Programs'!$A$2:$B$24,2,FALSE),\"\")","v":""},null,null,{"$f":"IF(LEN(A455)>0,VLOOKUP(A455,Subcontractors!$A$2:$B$3,2,FALSE),\"\")","v":""},null,{"$f":"IF(LEN(A455)>0,VLOOKUP(A455,Subcontractors!$A$2:$B$2,2,FALSE),\"\")","v":""}]
[null,null,null,null,null,null,null,null,null,null,null,null,null,null,null,null,null,null,null,null,null,{"$f":"IF(LEN(X456)>0,VLOOKUP(X456,'TFW Programs'!$A$2:$B$24,2,FALSE),\"\")","v":""},null,null,{"$f":"IF(LEN(A456)>0,VLOOKUP(A456,Subcontractors!$A$2:$B$3,2,FALSE),\"\")","v":""},null,{"$f":"IF(LEN(A456)>0,VLOOKUP(A456,Subcontractors!$A$2:$B$2,2,FALSE),\"\")","v":""}]
[null,null,null,null,null,null,null,null,null,null,null,null,null,null,null,null,null,null,null,null,null,{"$f":"IF(LEN(X457)>0,VLOOKUP(X457,'TFW Programs'!$A$2:$B$24,2,FALSE),\"\")","v":""},null,null,{"$f":"IF(LEN(A457)>0,VLOOKUP(A457,Subcontractors!$A$2:$B$3,2,FALSE),\"\")","v":""},null,{"$f":"IF(LEN(A457)>0,VLOOKUP(A457,Subcontractors!$A$2:$B$2,2,FALSE),\"\")","v":""}]
[null,null,null,null,null,null,null,null,null,null,null,null,null,null,null,null,null,null,null,null,null,{"$f":"IF(LEN(X458)>0,VLOOKUP(X458,'TFW Programs'!$A$2:$B$24,2,FALSE),\"\")","v":""},null,null,{"$f":"IF(LEN(A458)>0,VLOOKUP(A458,Subcontractors!$A$2:$B$3,2,FALSE),\"\")","v":""},null,{"$f":"IF(LEN(A458)>0,VLOOKUP(A458,Subcontractors!$A$2:$B$2,2,FALSE),\"\")","v":""}]
[null,null,null,null,null,null,null,null,null,null,null,null,null,null,null,null,null,null,null,null,null,{"$f":"IF(LEN(X459)>0,VLOOKUP(X459,'TFW Programs'!$A$2:$B$24,2,FALSE),\"\")","v":""},null,null,{"$f":"IF(LEN(A459)>0,VLOOKUP(A459,Subcontractors!$A$2:$B$3,2,FALSE),\"\")","v":""},null,{"$f":"IF(LEN(A459)>0,VLOOKUP(A459,Subcontractors!$A$2:$B$2,2,FALSE),\"\")","v":""}]
[null,null,null,null,null,null,null,null,null,null,null,null,null,null,null,null,null,null,null,null,null,{"$f":"IF(LEN(X460)>0,VLOOKUP(X460,'TFW Programs'!$A$2:$B$24,2,FALSE),\"\")","v":""},null,null,{"$f":"IF(LEN(A460)>0,VLOOKUP(A460,Subcontractors!$A$2:$B$3,2,FALSE),\"\")","v":""},null,{"$f":"IF(LEN(A460)>0,VLOOKUP(A460,Subcontractors!$A$2:$B$2,2,FALSE),\"\")","v":""}]
[null,null,null,null,null,null,null,null,null,null,null,null,null,null,null,null,null,null,null,null,null,{"$f":"IF(LEN(X461)>0,VLOOKUP(X461,'TFW Programs'!$A$2:$B$24,2,FALSE),\"\")","v":""},null,null,{"$f":"IF(LEN(A461)>0,VLOOKUP(A461,Subcontractors!$A$2:$B$3,2,FALSE),\"\")","v":""},null,{"$f":"IF(LEN(A461)>0,VLOOKUP(A461,Subcontractors!$A$2:$B$2,2,FALSE),\"\")","v":""}]
[null,null,null,null,null,null,null,null,null,null,null,null,null,null,null,null,null,null,null,null,null,{"$f":"IF(LEN(X462)>0,VLOOKUP(X462,'TFW Programs'!$A$2:$B$24,2,FALSE),\"\")","v":""},null,null,{"$f":"IF(LEN(A462)>0,VLOOKUP(A462,Subcontractors!$A$2:$B$3,2,FALSE),\"\")","v":""},null,{"$f":"IF(LEN(A462)>0,VLOOKUP(A462,Subcontractors!$A$2:$B$2,2,FALSE),\"\")","v":""}]
[null,null,null,null,null,null,null,null,null,null,null,null,null,null,null,null,null,null,null,null,null,{"$f":"IF(LEN(X463)>0,VLOOKUP(X463,'TFW Programs'!$A$2:$B$24,2,FALSE),\"\")","v":""},null,null,{"$f":"IF(LEN(A463)>0,VLOOKUP(A463,Subcontractors!$A$2:$B$3,2,FALSE),\"\")","v":""},null,{"$f":"IF(LEN(A463)>0,VLOOKUP(A463,Subcontractors!$A$2:$B$2,2,FALSE),\"\")","v":""}]
[null,null,null,null,null,null,null,null,null,null,null,null,null,null,null,null,null,null,null,null,null,{"$f":"IF(LEN(X464)>0,VLOOKUP(X464,'TFW Programs'!$A$2:$B$24,2,FALSE),\"\")","v":""},null,null,{"$f":"IF(LEN(A464)>0,VLOOKUP(A464,Subcontractors!$A$2:$B$3,2,FALSE),\"\")","v":""},null,{"$f":"IF(LEN(A464)>0,VLOOKUP(A464,Subcontractors!$A$2:$B$2,2,FALSE),\"\")","v":""}]
[null,null,null,null,null,null,null,null,null,null,null,null,null,null,null,null,null,null,null,null,null,{"$f":"IF(LEN(X465)>0,VLOOKUP(X465,'TFW Programs'!$A$2:$B$24,2,FALSE),\"\")","v":""},null,null,{"$f":"IF(LEN(A465)>0,VLOOKUP(A465,Subcontractors!$A$2:$B$3,2,FALSE),\"\")","v":""},null,{"$f":"IF(LEN(A465)>0,VLOOKUP(A465,Subcontractors!$A$2:$B$2,2,FALSE),\"\")","v":""}]
[null,null,null,null,null,null,null,null,null,null,null,null,null,null,null,null,null,null,null,null,null,{"$f":"IF(LEN(X466)>0,VLOOKUP(X466,'TFW Programs'!$A$2:$B$24,2,FALSE),\"\")","v":""},null,null,{"$f":"IF(LEN(A466)>0,VLOOKUP(A466,Subcontractors!$A$2:$B$3,2,FALSE),\"\")","v":""},null,{"$f":"IF(LEN(A466)>0,VLOOKUP(A466,Subcontractors!$A$2:$B$2,2,FALSE),\"\")","v":""}]
[null,null,null,null,null,null,null,null,null,null,null,null,null,null,null,null,null,null,null,null,null,{"$f":"IF(LEN(X467)>0,VLOOKUP(X467,'TFW Programs'!$A$2:$B$24,2,FALSE),\"\")","v":""},null,null,{"$f":"IF(LEN(A467)>0,VLOOKUP(A467,Subcontractors!$A$2:$B$3,2,FALSE),\"\")","v":""},null,{"$f":"IF(LEN(A467)>0,VLOOKUP(A467,Subcontractors!$A$2:$B$2,2,FALSE),\"\")","v":""}]
[null,null,null,null,null,null,null,null,null,null,null,null,null,null,null,null,null,null,null,null,null,{"$f":"IF(LEN(X468)>0,VLOOKUP(X468,'TFW Programs'!$A$2:$B$24,2,FALSE),\"\")","v":""},null,null,{"$f":"IF(LEN(A468)>0,VLOOKUP(A468,Subcontractors!$A$2:$B$3,2,FALSE),\"\")","v":""},null,{"$f":"IF(LEN(A468)>0,VLOOKUP(A468,Subcontractors!$A$2:$B$2,2,FALSE),\"\")","v":""}]
[null,null,null,null,null,null,null,null,null,null,null,null,null,null,null,null,null,null,null,null,null,{"$f":"IF(LEN(X469)>0,VLOOKUP(X469,'TFW Programs'!$A$2:$B$24,2,FALSE),\"\")","v":""},null,null,{"$f":"IF(LEN(A469)>0,VLOOKUP(A469,Subcontractors!$A$2:$B$3,2,FALSE),\"\")","v":""},null,{"$f":"IF(LEN(A469)>0,VLOOKUP(A469,Subcontractors!$A$2:$B$2,2,FALSE),\"\")","v":""}]
[null,null,null,null,null,null,null,null,null,null,null,null,null,null,null,null,null,null,null,null,null,{"$f":"IF(LEN(X470)>0,VLOOKUP(X470,'TFW Programs'!$A$2:$B$24,2,FALSE),\"\")","v":""},null,null,{"$f":"IF(LEN(A470)>0,VLOOKUP(A470,Subcontractors!$A$2:$B$3,2,FALSE),\"\")","v":""},null,{"$f":"IF(LEN(A470)>0,VLOOKUP(A470,Subcontractors!$A$2:$B$2,2,FALSE),\"\")","v":""}]
[null,null,null,null,null,null,null,null,null,null,null,null,null,null,null,null,null,null,null,null,null,{"$f":"IF(LEN(X471)>0,VLOOKUP(X471,'TFW Programs'!$A$2:$B$24,2,FALSE),\"\")","v":""},null,null,{"$f":"IF(LEN(A471)>0,VLOOKUP(A471,Subcontractors!$A$2:$B$3,2,FALSE),\"\")","v":""},null,{"$f":"IF(LEN(A471)>0,VLOOKUP(A471,Subcontractors!$A$2:$B$2,2,FALSE),\"\")","v":""}]
[null,null,null,null,null,null,null,null,null,null,null,null,null,null,null,null,null,null,null,null,null,{"$f":"IF(LEN(X472)>0,VLOOKUP(X472,'TFW Programs'!$A$2:$B$24,2,FALSE),\"\")","v":""},null,null,{"$f":"IF(LEN(A472)>0,VLOOKUP(A472,Subcontractors!$A$2:$B$3,2,FALSE),\"\")","v":""},null,{"$f":"IF(LEN(A472)>0,VLOOKUP(A472,Subcontractors!$A$2:$B$2,2,FALSE),\"\")","v":""}]
[null,null,null,null,null,null,null,null,null,null,null,null,null,null,null,null,null,null,null,null,null,{"$f":"IF(LEN(X473)>0,VLOOKUP(X473,'TFW Programs'!$A$2:$B$24,2,FALSE),\"\")","v":""},null,null,{"$f":"IF(LEN(A473)>0,VLOOKUP(A473,Subcontractors!$A$2:$B$3,2,FALSE),\"\")","v":""},null,{"$f":"IF(LEN(A473)>0,VLOOKUP(A473,Subcontractors!$A$2:$B$2,2,FALSE),\"\")","v":""}]
[null,null,null,null,null,null,null,null,null,null,null,null,null,null,null,null,null,null,null,null,null,{"$f":"IF(LEN(X474)>0,VLOOKUP(X474,'TFW Programs'!$A$2:$B$24,2,FALSE),\"\")","v":""},null,null,{"$f":"IF(LEN(A474)>0,VLOOKUP(A474,Subcontractors!$A$2:$B$3,2,FALSE),\"\")","v":""},null,{"$f":"IF(LEN(A474)>0,VLOOKUP(A474,Subcontractors!$A$2:$B$2,2,FALSE),\"\")","v":""}]
[null,null,null,null,null,null,null,null,null,null,null,null,null,null,null,null,null,null,null,null,null,{"$f":"IF(LEN(X475)>0,VLOOKUP(X475,'TFW Programs'!$A$2:$B$24,2,FALSE),\"\")","v":""},null,null,{"$f":"IF(LEN(A475)>0,VLOOKUP(A475,Subcontractors!$A$2:$B$3,2,FALSE),\"\")","v":""},null,{"$f":"IF(LEN(A475)>0,VLOOKUP(A475,Subcontractors!$A$2:$B$2,2,FALSE),\"\")","v":""}]
[null,null,null,null,null,null,null,null,null,null,null,null,null,null,null,null,null,null,null,null,null,{"$f":"IF(LEN(X476)>0,VLOOKUP(X476,'TFW Programs'!$A$2:$B$24,2,FALSE),\"\")","v":""},null,null,{"$f":"IF(LEN(A476)>0,VLOOKUP(A476,Subcontractors!$A$2:$B$3,2,FALSE),\"\")","v":""},null,{"$f":"IF(LEN(A476)>0,VLOOKUP(A476,Subcontractors!$A$2:$B$2,2,FALSE),\"\")","v":""}]
[null,null,null,null,null,null,null,null,null,null,null,null,null,null,null,null,null,null,null,null,null,{"$f":"IF(LEN(X477)>0,VLOOKUP(X477,'TFW Programs'!$A$2:$B$24,2,FALSE),\"\")","v":""},null,null,{"$f":"IF(LEN(A477)>0,VLOOKUP(A477,Subcontractors!$A$2:$B$3,2,FALSE),\"\")","v":""},null,{"$f":"IF(LEN(A477)>0,VLOOKUP(A477,Subcontractors!$A$2:$B$2,2,FALSE),\"\")","v":""}]
[null,null,null,null,null,null,null,null,null,null,null,null,null,null,null,null,null,null,null,null,null,{"$f":"IF(LEN(X478)>0,VLOOKUP(X478,'TFW Programs'!$A$2:$B$24,2,FALSE),\"\")","v":""},null,null,{"$f":"IF(LEN(A478)>0,VLOOKUP(A478,Subcontractors!$A$2:$B$3,2,FALSE),\"\")","v":""},null,{"$f":"IF(LEN(A478)>0,VLOOKUP(A478,Subcontractors!$A$2:$B$2,2,FALSE),\"\")","v":""}]
[null,null,null,null,null,null,null,null,null,null,null,null,null,null,null,null,null,null,null,null,null,{"$f":"IF(LEN(X479)>0,VLOOKUP(X479,'TFW Programs'!$A$2:$B$24,2,FALSE),\"\")","v":""},null,null,{"$f":"IF(LEN(A479)>0,VLOOKUP(A479,Subcontractors!$A$2:$B$3,2,FALSE),\"\")","v":""},null,{"$f":"IF(LEN(A479)>0,VLOOKUP(A479,Subcontractors!$A$2:$B$2,2,FALSE),\"\")","v":""}]
[null,null,null,null,null,null,null,null,null,null,null,null,null,null,null,null,null,null,null,null,null,{"$f":"IF(LEN(X480)>0,VLOOKUP(X480,'TFW Programs'!$A$2:$B$24,2,FALSE),\"\")","v":""},null,null,{"$f":"IF(LEN(A480)>0,VLOOKUP(A480,Subcontractors!$A$2:$B$3,2,FALSE),\"\")","v":""},null,{"$f":"IF(LEN(A480)>0,VLOOKUP(A480,Subcontractors!$A$2:$B$2,2,FALSE),\"\")","v":""}]
[null,null,null,null,null,null,null,null,null,null,null,null,null,null,null,null,null,null,null,null,null,{"$f":"IF(LEN(X481)>0,VLOOKUP(X481,'TFW Programs'!$A$2:$B$24,2,FALSE),\"\")","v":""},null,null,{"$f":"IF(LEN(A481)>0,VLOOKUP(A481,Subcontractors!$A$2:$B$3,2,FALSE),\"\")","v":""},null,{"$f":"IF(LEN(A481)>0,VLOOKUP(A481,Subcontractors!$A$2:$B$2,2,FALSE),\"\")","v":""}]
[null,null,null,null,null,null,null,null,null,null,null,null,null,null,null,null,null,null,null,null,null,{"$f":"IF(LEN(X482)>0,VLOOKUP(X482,'TFW Programs'!$A$2:$B$24,2,FALSE),\"\")","v":""},null,null,{"$f":"IF(LEN(A482)>0,VLOOKUP(A482,Subcontractors!$A$2:$B$3,2,FALSE),\"\")","v":""},null,{"$f":"IF(LEN(A482)>0,VLOOKUP(A482,Subcontractors!$A$2:$B$2,2,FALSE),\"\")","v":""}]
[null,null,null,null,null,null,null,null,null,null,null,null,null,null,null,null,null,null,null,null,null,{"$f":"IF(LEN(X483)>0,VLOOKUP(X483,'TFW Programs'!$A$2:$B$24,2,FALSE),\"\")","v":""},null,null,{"$f":"IF(LEN(A483)>0,VLOOKUP(A483,Subcontractors!$A$2:$B$3,2,FALSE),\"\")","v":""},null,{"$f":"IF(LEN(A483)>0,VLOOKUP(A483,Subcontractors!$A$2:$B$2,2,FALSE),\"\")","v":""}]
[null,null,null,null,null,null,null,null,null,null,null,null,null,null,null,null,null,null,null,null,null,{"$f":"IF(LEN(X484)>0,VLOOKUP(X484,'TFW Programs'!$A$2:$B$24,2,FALSE),\"\")","v":""},null,null,{"$f":"IF(LEN(A484)>0,VLOOKUP(A484,Subcontractors!$A$2:$B$3,2,FALSE),\"\")","v":""},null,{"$f":"IF(LEN(A484)>0,VLOOKUP(A484,Subcontractors!$A$2:$B$2,2,FALSE),\"\")","v":""}]
[null,null,null,null,null,null,null,null,null,null,null,null,null,null,null,null,null,null,null,null,null,{"$f":"IF(LEN(X485)>0,VLOOKUP(X485,'TFW Programs'!$A$2:$B$24,2,FALSE),\"\")","v":""},null,null,{"$f":"IF(LEN(A485)>0,VLOOKUP(A485,Subcontractors!$A$2:$B$3,2,FALSE),\"\")","v":""},null,{"$f":"IF(LEN(A485)>0,VLOOKUP(A485,Subcontractors!$A$2:$B$2,2,FALSE),\"\")","v":""}]
[null,null,null,null,null,null,null,null,null,null,null,null,null,null,null,null,null,null,null,null,null,{"$f":"IF(LEN(X486)>0,VLOOKUP(X486,'TFW Programs'!$A$2:$B$24,2,FALSE),\"\")","v":""},null,null,{"$f":"IF(LEN(A486)>0,VLOOKUP(A486,Subcontractors!$A$2:$B$3,2,FALSE),\"\")","v":""},null,{"$f":"IF(LEN(A486)>0,VLOOKUP(A486,Subcontractors!$A$2:$B$2,2,FALSE),\"\")","v":""}]
[null,null,null,null,null,null,null,null,null,null,null,null,null,null,null,null,null,null,null,null,null,{"$f":"IF(LEN(X487)>0,VLOOKUP(X487,'TFW Programs'!$A$2:$B$24,2,FALSE),\"\")","v":""},null,null,{"$f":"IF(LEN(A487)>0,VLOOKUP(A487,Subcontractors!$A$2:$B$3,2,FALSE),\"\")","v":""},null,{"$f":"IF(LEN(A487)>0,VLOOKUP(A487,Subcontractors!$A$2:$B$2,2,FALSE),\"\")","v":""}]
[null,null,null,null,null,null,null,null,null,null,null,null,null,null,null,null,null,null,null,null,null,{"$f":"IF(LEN(X488)>0,VLOOKUP(X488,'TFW Programs'!$A$2:$B$24,2,FALSE),\"\")","v":""},null,null,{"$f":"IF(LEN(A488)>0,VLOOKUP(A488,Subcontractors!$A$2:$B$3,2,FALSE),\"\")","v":""},null,{"$f":"IF(LEN(A488)>0,VLOOKUP(A488,Subcontractors!$A$2:$B$2,2,FALSE),\"\")","v":""}]
[null,null,null,null,null,null,null,null,null,null,null,null,null,null,null,null,null,null,null,null,null,{"$f":"IF(LEN(X489)>0,VLOOKUP(X489,'TFW Programs'!$A$2:$B$24,2,FALSE),\"\")","v":""},null,null,{"$f":"IF(LEN(A489)>0,VLOOKUP(A489,Subcontractors!$A$2:$B$3,2,FALSE),\"\")","v":""},null,{"$f":"IF(LEN(A489)>0,VLOOKUP(A489,Subcontractors!$A$2:$B$2,2,FALSE),\"\")","v":""}]
[null,null,null,null,null,null,null,null,null,null,null,null,null,null,null,null,null,null,null,null,null,{"$f":"IF(LEN(X490)>0,VLOOKUP(X490,'TFW Programs'!$A$2:$B$24,2,FALSE),\"\")","v":""},null,null,{"$f":"IF(LEN(A490)>0,VLOOKUP(A490,Subcontractors!$A$2:$B$3,2,FALSE),\"\")","v":""},null,{"$f":"IF(LEN(A490)>0,VLOOKUP(A490,Subcontractors!$A$2:$B$2,2,FALSE),\"\")","v":""}]
[null,null,null,null,null,null,null,null,null,null,null,null,null,null,null,null,null,null,null,null,null,{"$f":"IF(LEN(X491)>0,VLOOKUP(X491,'TFW Programs'!$A$2:$B$24,2,FALSE),\"\")","v":""},null,null,{"$f":"IF(LEN(A491)>0,VLOOKUP(A491,Subcontractors!$A$2:$B$3,2,FALSE),\"\")","v":""},null,{"$f":"IF(LEN(A491)>0,VLOOKUP(A491,Subcontractors!$A$2:$B$2,2,FALSE),\"\")","v":""}]
[null,null,null,null,null,null,null,null,null,null,null,null,null,null,null,null,null,null,null,null,null,{"$f":"IF(LEN(X492)>0,VLOOKUP(X492,'TFW Programs'!$A$2:$B$24,2,FALSE),\"\")","v":""},null,null,{"$f":"IF(LEN(A492)>0,VLOOKUP(A492,Subcontractors!$A$2:$B$3,2,FALSE),\"\")","v":""},null,{"$f":"IF(LEN(A492)>0,VLOOKUP(A492,Subcontractors!$A$2:$B$2,2,FALSE),\"\")","v":""}]
[null,null,null,null,null,null,null,null,null,null,null,null,null,null,null,null,null,null,null,null,null,{"$f":"IF(LEN(X493)>0,VLOOKUP(X493,'TFW Programs'!$A$2:$B$24,2,FALSE),\"\")","v":""},null,null,{"$f":"IF(LEN(A493)>0,VLOOKUP(A493,Subcontractors!$A$2:$B$3,2,FALSE),\"\")","v":""},null,{"$f":"IF(LEN(A493)>0,VLOOKUP(A493,Subcontractors!$A$2:$B$2,2,FALSE),\"\")","v":""}]
[null,null,null,null,null,null,null,null,null,null,null,null,null,null,null,null,null,null,null,null,null,{"$f":"IF(LEN(X494)>0,VLOOKUP(X494,'TFW Programs'!$A$2:$B$24,2,FALSE),\"\")","v":""},null,null,{"$f":"IF(LEN(A494)>0,VLOOKUP(A494,Subcontractors!$A$2:$B$3,2,FALSE),\"\")","v":""},null,{"$f":"IF(LEN(A494)>0,VLOOKUP(A494,Subcontractors!$A$2:$B$2,2,FALSE),\"\")","v":""}]
[null,null,null,null,null,null,null,null,null,null,null,null,null,null,null,null,null,null,null,null,null,{"$f":"IF(LEN(X495)>0,VLOOKUP(X495,'TFW Programs'!$A$2:$B$24,2,FALSE),\"\")","v":""},null,null,{"$f":"IF(LEN(A495)>0,VLOOKUP(A495,Subcontractors!$A$2:$B$3,2,FALSE),\"\")","v":""},null,{"$f":"IF(LEN(A495)>0,VLOOKUP(A495,Subcontractors!$A$2:$B$2,2,FALSE),\"\")","v":""}]
[null,null,null,null,null,null,null,null,null,null,null,null,null,null,null,null,null,null,null,null,null,{"$f":"IF(LEN(X496)>0,VLOOKUP(X496,'TFW Programs'!$A$2:$B$24,2,FALSE),\"\")","v":""},null,null,{"$f":"IF(LEN(A496)>0,VLOOKUP(A496,Subcontractors!$A$2:$B$3,2,FALSE),\"\")","v":""},null,{"$f":"IF(LEN(A496)>0,VLOOKUP(A496,Subcontractors!$A$2:$B$2,2,FALSE),\"\")","v":""}]
[null,null,null,null,null,null,null,null,null,null,null,null,null,null,null,null,null,null,null,null,null,{"$f":"IF(LEN(X497)>0,VLOOKUP(X497,'TFW Programs'!$A$2:$B$24,2,FALSE),\"\")","v":""},null,null,{"$f":"IF(LEN(A497)>0,VLOOKUP(A497,Subcontractors!$A$2:$B$3,2,FALSE),\"\")","v":""},null,{"$f":"IF(LEN(A497)>0,VLOOKUP(A497,Subcontractors!$A$2:$B$2,2,FALSE),\"\")","v":""}]
[null,null,null,null,null,null,null,null,null,null,null,null,null,null,null,null,null,null,null,null,null,{"$f":"IF(LEN(X498)>0,VLOOKUP(X498,'TFW Programs'!$A$2:$B$24,2,FALSE),\"\")","v":""},null,null,{"$f":"IF(LEN(A498)>0,VLOOKUP(A498,Subcontractors!$A$2:$B$3,2,FALSE),\"\")","v":""},null,{"$f":"IF(LEN(A498)>0,VLOOKUP(A498,Subcontractors!$A$2:$B$2,2,FALSE),\"\")","v":""}]
[null,null,null,null,null,null,null,null,null,null,null,null,null,null,null,null,null,null,null,null,null,{"$f":"IF(LEN(X499)>0,VLOOKUP(X499,'TFW Programs'!$A$2:$B$24,2,FALSE),\"\")","v":""},null,null,{"$f":"IF(LEN(A499)>0,VLOOKUP(A499,Subcontractors!$A$2:$B$3,2,FALSE),\"\")","v":""},null,{"$f":"IF(LEN(A499)>0,VLOOKUP(A499,Subcontractors!$A$2:$B$2,2,FALSE),\"\")","v":""}]
[null,null,null,null,null,null,null,null,null,null,null,null,null,null,null,null,null,null,null,null,null,{"$f":"IF(LEN(X500)>0,VLOOKUP(X500,'TFW Programs'!$A$2:$B$24,2,FALSE),\"\")","v":""},null,null,{"$f":"IF(LEN(A500)>0,VLOOKUP(A500,Subcontractors!$A$2:$B$3,2,FALSE),\"\")","v":""},null,{"$f":"IF(LEN(A500)>0,VLOOKUP(A500,Subcontractors!$A$2:$B$2,2,FALSE),\"\")","v":""}]
[null,null,null,null,null,null,null,null,null,null,null,null,null,null,null,null,null,null,null,null,null,{"$f":"IF(LEN(X501)>0,VLOOKUP(X501,'TFW Programs'!$A$2:$B$24,2,FALSE),\"\")","v":""},null,null,{"$f":"IF(LEN(A501)>0,VLOOKUP(A501,Subcontractors!$A$2:$B$3,2,FALSE),\"\")","v":""},null,{"$f":"IF(LEN(A501)>0,VLOOKUP(A501,Subcontractors!$A$2:$B$2,2,FALSE),\"\")","v":""}]
[null,null,null,null,null,null,null,null,null,null,null,null,null,null,null,null,null,null,null,null,null,{"$f":"IF(LEN(X502)>0,VLOOKUP(X502,'TFW Programs'!$A$2:$B$24,2,FALSE),\"\")","v":""},null,null,{"$f":"IF(LEN(A502)>0,VLOOKUP(A502,Subcontractors!$A$2:$B$3,2,FALSE),\"\")","v":""},null,{"$f":"IF(LEN(A502)>0,VLOOKUP(A502,Subcontractors!$A$2:$B$2,2,FALSE),\"\")","v":""}]
[null,null,null,null,null,null,null,null,null,null,null,null,null,null,null,null,null,null,null,null,null,{"$f":"IF(LEN(X503)>0,VLOOKUP(X503,'TFW Programs'!$A$2:$B$24,2,FALSE),\"\")","v":""},null,null,{"$f":"IF(LEN(A503)>0,VLOOKUP(A503,Subcontractors!$A$2:$B$3,2,FALSE),\"\")","v":""},null,{"$f":"IF(LEN(A503)>0,VLOOKUP(A503,Subcontractors!$A$2:$B$2,2,FALSE),\"\")","v":""}]
[null,null,null,null,null,null,null,null,null,null,null,null,null,null,null,null,null,null,null,null,null,{"$f":"IF(LEN(X504)>0,VLOOKUP(X504,'TFW Programs'!$A$2:$B$24,2,FALSE),\"\")","v":""},null,null,{"$f":"IF(LEN(A504)>0,VLOOKUP(A504,Subcontractors!$A$2:$B$3,2,FALSE),\"\")","v":""},null,{"$f":"IF(LEN(A504)>0,VLOOKUP(A504,Subcontractors!$A$2:$B$2,2,FALSE),\"\")","v":""}]
[null,null,null,null,null,null,null,null,null,null,null,null,null,null,null,null,null,null,null,null,null,{"$f":"IF(LEN(X505)>0,VLOOKUP(X505,'TFW Programs'!$A$2:$B$24,2,FALSE),\"\")","v":""},null,null,{"$f":"IF(LEN(A505)>0,VLOOKUP(A505,Subcontractors!$A$2:$B$3,2,FALSE),\"\")","v":""},null,{"$f":"IF(LEN(A505)>0,VLOOKUP(A505,Subcontractors!$A$2:$B$2,2,FALSE),\"\")","v":""}]
[null,null,null,null,null,null,null,null,null,null,null,null,null,null,null,null,null,null,null,null,null,{"$f":"IF(LEN(X506)>0,VLOOKUP(X506,'TFW Programs'!$A$2:$B$24,2,FALSE),\"\")","v":""},null,null,{"$f":"IF(LEN(A506)>0,VLOOKUP(A506,Subcontractors!$A$2:$B$3,2,FALSE),\"\")","v":""},null,{"$f":"IF(LEN(A506)>0,VLOOKUP(A506,Subcontractors!$A$2:$B$2,2,FALSE),\"\")","v":""}]
[null,null,null,null,null,null,null,null,null,null,null,null,null,null,null,null,null,null,null,null,null,{"$f":"IF(LEN(X507)>0,VLOOKUP(X507,'TFW Programs'!$A$2:$B$24,2,FALSE),\"\")","v":""},null,null,{"$f":"IF(LEN(A507)>0,VLOOKUP(A507,Subcontractors!$A$2:$B$3,2,FALSE),\"\")","v":""},null,{"$f":"IF(LEN(A507)>0,VLOOKUP(A507,Subcontractors!$A$2:$B$2,2,FALSE),\"\")","v":""}]
[null,null,null,null,null,null,null,null,null,null,null,null,null,null,null,null,null,null,null,null,null,{"$f":"IF(LEN(X508)>0,VLOOKUP(X508,'TFW Programs'!$A$2:$B$24,2,FALSE),\"\")","v":""},null,null,{"$f":"IF(LEN(A508)>0,VLOOKUP(A508,Subcontractors!$A$2:$B$3,2,FALSE),\"\")","v":""},null,{"$f":"IF(LEN(A508)>0,VLOOKUP(A508,Subcontractors!$A$2:$B$2,2,FALSE),\"\")","v":""}]
[null,null,null,null,null,null,null,null,null,null,null,null,null,null,null,null,null,null,null,null,null,{"$f":"IF(LEN(X509)>0,VLOOKUP(X509,'TFW Programs'!$A$2:$B$24,2,FALSE),\"\")","v":""},null,null,{"$f":"IF(LEN(A509)>0,VLOOKUP(A509,Subcontractors!$A$2:$B$3,2,FALSE),\"\")","v":""},null,{"$f":"IF(LEN(A509)>0,VLOOKUP(A509,Subcontractors!$A$2:$B$2,2,FALSE),\"\")","v":""}]
[null,null,null,null,null,null,null,null,null,null,null,null,null,null,null,null,null,null,null,null,null,{"$f":"IF(LEN(X510)>0,VLOOKUP(X510,'TFW Programs'!$A$2:$B$24,2,FALSE),\"\")","v":""},null,null,{"$f":"IF(LEN(A510)>0,VLOOKUP(A510,Subcontractors!$A$2:$B$3,2,FALSE),\"\")","v":""},null,{"$f":"IF(LEN(A510)>0,VLOOKUP(A510,Subcontractors!$A$2:$B$2,2,FALSE),\"\")","v":""}]
[null,null,null,null,null,null,null,null,null,null,null,null,null,null,null,null,null,null,null,null,null,{"$f":"IF(LEN(X511)>0,VLOOKUP(X511,'TFW Programs'!$A$2:$B$24,2,FALSE),\"\")","v":""},null,null,{"$f":"IF(LEN(A511)>0,VLOOKUP(A511,Subcontractors!$A$2:$B$3,2,FALSE),\"\")","v":""},null,{"$f":"IF(LEN(A511)>0,VLOOKUP(A511,Subcontractors!$A$2:$B$2,2,FALSE),\"\")","v":""}]
[null,null,null,null,null,null,null,null,null,null,null,null,null,null,null,null,null,null,null,null,null,{"$f":"IF(LEN(X512)>0,VLOOKUP(X512,'TFW Programs'!$A$2:$B$24,2,FALSE),\"\")","v":""},null,null,{"$f":"IF(LEN(A512)>0,VLOOKUP(A512,Subcontractors!$A$2:$B$3,2,FALSE),\"\")","v":""},null,{"$f":"IF(LEN(A512)>0,VLOOKUP(A512,Subcontractors!$A$2:$B$2,2,FALSE),\"\")","v":""}]
[null,null,null,null,null,null,null,null,null,null,null,null,null,null,null,null,null,null,null,null,null,{"$f":"IF(LEN(X513)>0,VLOOKUP(X513,'TFW Programs'!$A$2:$B$24,2,FALSE),\"\")","v":""},null,null,{"$f":"IF(LEN(A513)>0,VLOOKUP(A513,Subcontractors!$A$2:$B$3,2,FALSE),\"\")","v":""},null,{"$f":"IF(LEN(A513)>0,VLOOKUP(A513,Subcontractors!$A$2:$B$2,2,FALSE),\"\")","v":""}]
[null,null,null,null,null,null,null,null,null,null,null,null,null,null,null,null,null,null,null,null,null,{"$f":"IF(LEN(X514)>0,VLOOKUP(X514,'TFW Programs'!$A$2:$B$24,2,FALSE),\"\")","v":""},null,null,{"$f":"IF(LEN(A514)>0,VLOOKUP(A514,Subcontractors!$A$2:$B$3,2,FALSE),\"\")","v":""},null,{"$f":"IF(LEN(A514)>0,VLOOKUP(A514,Subcontractors!$A$2:$B$2,2,FALSE),\"\")","v":""}]
[null,null,null,null,null,null,null,null,null,null,null,null,null,null,null,null,null,null,null,null,null,{"$f":"IF(LEN(X515)>0,VLOOKUP(X515,'TFW Programs'!$A$2:$B$24,2,FALSE),\"\")","v":""},null,null,{"$f":"IF(LEN(A515)>0,VLOOKUP(A515,Subcontractors!$A$2:$B$3,2,FALSE),\"\")","v":""},null,{"$f":"IF(LEN(A515)>0,VLOOKUP(A515,Subcontractors!$A$2:$B$2,2,FALSE),\"\")","v":""}]
[null,null,null,null,null,null,null,null,null,null,null,null,null,null,null,null,null,null,null,null,null,{"$f":"IF(LEN(X516)>0,VLOOKUP(X516,'TFW Programs'!$A$2:$B$24,2,FALSE),\"\")","v":""},null,null,{"$f":"IF(LEN(A516)>0,VLOOKUP(A516,Subcontractors!$A$2:$B$3,2,FALSE),\"\")","v":""},null,{"$f":"IF(LEN(A516)>0,VLOOKUP(A516,Subcontractors!$A$2:$B$2,2,FALSE),\"\")","v":""}]
[null,null,null,null,null,null,null,null,null,null,null,null,null,null,null,null,null,null,null,null,null,{"$f":"IF(LEN(X517)>0,VLOOKUP(X517,'TFW Programs'!$A$2:$B$24,2,FALSE),\"\")","v":""},null,null,{"$f":"IF(LEN(A517)>0,VLOOKUP(A517,Subcontractors!$A$2:$B$3,2,FALSE),\"\")","v":""},null,{"$f":"IF(LEN(A517)>0,VLOOKUP(A517,Subcontractors!$A$2:$B$2,2,FALSE),\"\")","v":""}]
[null,null,null,null,null,null,null,null,null,null,null,null,null,null,null,null,null,null,null,null,null,{"$f":"IF(LEN(X518)>0,VLOOKUP(X518,'TFW Programs'!$A$2:$B$24,2,FALSE),\"\")","v":""},null,null,{"$f":"IF(LEN(A518)>0,VLOOKUP(A518,Subcontractors!$A$2:$B$3,2,FALSE),\"\")","v":""},null,{"$f":"IF(LEN(A518)>0,VLOOKUP(A518,Subcontractors!$A$2:$B$2,2,FALSE),\"\")","v":""}]
[null,null,null,null,null,null,null,null,null,null,null,null,null,null,null,null,null,null,null,null,null,{"$f":"IF(LEN(X519)>0,VLOOKUP(X519,'TFW Programs'!$A$2:$B$24,2,FALSE),\"\")","v":""},null,null,{"$f":"IF(LEN(A519)>0,VLOOKUP(A519,Subcontractors!$A$2:$B$3,2,FALSE),\"\")","v":""},null,{"$f":"IF(LEN(A519)>0,VLOOKUP(A519,Subcontractors!$A$2:$B$2,2,FALSE),\"\")","v":""}]
[null,null,null,null,null,null,null,null,null,null,null,null,null,null,null,null,null,null,null,null,null,{"$f":"IF(LEN(X520)>0,VLOOKUP(X520,'TFW Programs'!$A$2:$B$24,2,FALSE),\"\")","v":""},null,null,{"$f":"IF(LEN(A520)>0,VLOOKUP(A520,Subcontractors!$A$2:$B$3,2,FALSE),\"\")","v":""},null,{"$f":"IF(LEN(A520)>0,VLOOKUP(A520,Subcontractors!$A$2:$B$2,2,FALSE),\"\")","v":""}]
[null,null,null,null,null,null,null,null,null,null,null,null,null,null,null,null,null,null,null,null,null,{"$f":"IF(LEN(X521)>0,VLOOKUP(X521,'TFW Programs'!$A$2:$B$24,2,FALSE),\"\")","v":""},null,null,{"$f":"IF(LEN(A521)>0,VLOOKUP(A521,Subcontractors!$A$2:$B$3,2,FALSE),\"\")","v":""},null,{"$f":"IF(LEN(A521)>0,VLOOKUP(A521,Subcontractors!$A$2:$B$2,2,FALSE),\"\")","v":""}]
[null,null,null,null,null,null,null,null,null,null,null,null,null,null,null,null,null,null,null,null,null,{"$f":"IF(LEN(X522)>0,VLOOKUP(X522,'TFW Programs'!$A$2:$B$24,2,FALSE),\"\")","v":""},null,null,{"$f":"IF(LEN(A522)>0,VLOOKUP(A522,Subcontractors!$A$2:$B$3,2,FALSE),\"\")","v":""},null,{"$f":"IF(LEN(A522)>0,VLOOKUP(A522,Subcontractors!$A$2:$B$2,2,FALSE),\"\")","v":""}]
[null,null,null,null,null,null,null,null,null,null,null,null,null,null,null,null,null,null,null,null,null,{"$f":"IF(LEN(X523)>0,VLOOKUP(X523,'TFW Programs'!$A$2:$B$24,2,FALSE),\"\")","v":""},null,null,{"$f":"IF(LEN(A523)>0,VLOOKUP(A523,Subcontractors!$A$2:$B$3,2,FALSE),\"\")","v":""},null,{"$f":"IF(LEN(A523)>0,VLOOKUP(A523,Subcontractors!$A$2:$B$2,2,FALSE),\"\")","v":""}]
[null,null,null,null,null,null,null,null,null,null,null,null,null,null,null,null,null,null,null,null,null,{"$f":"IF(LEN(X524)>0,VLOOKUP(X524,'TFW Programs'!$A$2:$B$24,2,FALSE),\"\")","v":""},null,null,{"$f":"IF(LEN(A524)>0,VLOOKUP(A524,Subcontractors!$A$2:$B$3,2,FALSE),\"\")","v":""},null,{"$f":"IF(LEN(A524)>0,VLOOKUP(A524,Subcontractors!$A$2:$B$2,2,FALSE),\"\")","v":""}]
[null,null,null,null,null,null,null,null,null,null,null,null,null,null,null,null,null,null,null,null,null,{"$f":"IF(LEN(X525)>0,VLOOKUP(X525,'TFW Programs'!$A$2:$B$24,2,FALSE),\"\")","v":""},null,null,{"$f":"IF(LEN(A525)>0,VLOOKUP(A525,Subcontractors!$A$2:$B$3,2,FALSE),\"\")","v":""},null,{"$f":"IF(LEN(A525)>0,VLOOKUP(A525,Subcontractors!$A$2:$B$2,2,FALSE),\"\")","v":""}]
[null,null,null,null,null,null,null,null,null,null,null,null,null,null,null,null,null,null,null,null,null,{"$f":"IF(LEN(X526)>0,VLOOKUP(X526,'TFW Programs'!$A$2:$B$24,2,FALSE),\"\")","v":""},null,null,{"$f":"IF(LEN(A526)>0,VLOOKUP(A526,Subcontractors!$A$2:$B$3,2,FALSE),\"\")","v":""},null,{"$f":"IF(LEN(A526)>0,VLOOKUP(A526,Subcontractors!$A$2:$B$2,2,FALSE),\"\")","v":""}]
[null,null,null,null,null,null,null,null,null,null,null,null,null,null,null,null,null,null,null,null,null,{"$f":"IF(LEN(X527)>0,VLOOKUP(X527,'TFW Programs'!$A$2:$B$24,2,FALSE),\"\")","v":""},null,null,{"$f":"IF(LEN(A527)>0,VLOOKUP(A527,Subcontractors!$A$2:$B$3,2,FALSE),\"\")","v":""},null,{"$f":"IF(LEN(A527)>0,VLOOKUP(A527,Subcontractors!$A$2:$B$2,2,FALSE),\"\")","v":""}]
[null,null,null,null,null,null,null,null,null,null,null,null,null,null,null,null,null,null,null,null,null,{"$f":"IF(LEN(X528)>0,VLOOKUP(X528,'TFW Programs'!$A$2:$B$24,2,FALSE),\"\")","v":""},null,null,{"$f":"IF(LEN(A528)>0,VLOOKUP(A528,Subcontractors!$A$2:$B$3,2,FALSE),\"\")","v":""},null,{"$f":"IF(LEN(A528)>0,VLOOKUP(A528,Subcontractors!$A$2:$B$2,2,FALSE),\"\")","v":""}]
[null,null,null,null,null,null,null,null,null,null,null,null,null,null,null,null,null,null,null,null,null,{"$f":"IF(LEN(X529)>0,VLOOKUP(X529,'TFW Programs'!$A$2:$B$24,2,FALSE),\"\")","v":""},null,null,{"$f":"IF(LEN(A529)>0,VLOOKUP(A529,Subcontractors!$A$2:$B$3,2,FALSE),\"\")","v":""},null,{"$f":"IF(LEN(A529)>0,VLOOKUP(A529,Subcontractors!$A$2:$B$2,2,FALSE),\"\")","v":""}]
[null,null,null,null,null,null,null,null,null,null,null,null,null,null,null,null,null,null,null,null,null,{"$f":"IF(LEN(X530)>0,VLOOKUP(X530,'TFW Programs'!$A$2:$B$24,2,FALSE),\"\")","v":""},null,null,{"$f":"IF(LEN(A530)>0,VLOOKUP(A530,Subcontractors!$A$2:$B$3,2,FALSE),\"\")","v":""},null,{"$f":"IF(LEN(A530)>0,VLOOKUP(A530,Subcontractors!$A$2:$B$2,2,FALSE),\"\")","v":""}]
[null,null,null,null,null,null,null,null,null,null,null,null,null,null,null,null,null,null,null,null,null,{"$f":"IF(LEN(X531)>0,VLOOKUP(X531,'TFW Programs'!$A$2:$B$24,2,FALSE),\"\")","v":""},null,null,{"$f":"IF(LEN(A531)>0,VLOOKUP(A531,Subcontractors!$A$2:$B$3,2,FALSE),\"\")","v":""},null,{"$f":"IF(LEN(A531)>0,VLOOKUP(A531,Subcontractors!$A$2:$B$2,2,FALSE),\"\")","v":""}]
[null,null,null,null,null,null,null,null,null,null,null,null,null,null,null,null,null,null,null,null,null,{"$f":"IF(LEN(X532)>0,VLOOKUP(X532,'TFW Programs'!$A$2:$B$24,2,FALSE),\"\")","v":""},null,null,{"$f":"IF(LEN(A532)>0,VLOOKUP(A532,Subcontractors!$A$2:$B$3,2,FALSE),\"\")","v":""},null,{"$f":"IF(LEN(A532)>0,VLOOKUP(A532,Subcontractors!$A$2:$B$2,2,FALSE),\"\")","v":""}]
[null,null,null,null,null,null,null,null,null,null,null,null,null,null,null,null,null,null,null,null,null,{"$f":"IF(LEN(X533)>0,VLOOKUP(X533,'TFW Programs'!$A$2:$B$24,2,FALSE),\"\")","v":""},null,null,{"$f":"IF(LEN(A533)>0,VLOOKUP(A533,Subcontractors!$A$2:$B$3,2,FALSE),\"\")","v":""},null,{"$f":"IF(LEN(A533)>0,VLOOKUP(A533,Subcontractors!$A$2:$B$2,2,FALSE),\"\")","v":""}]
[null,null,null,null,null,null,null,null,null,null,null,null,null,null,null,null,null,null,null,null,null,{"$f":"IF(LEN(X534)>0,VLOOKUP(X534,'TFW Programs'!$A$2:$B$24,2,FALSE),\"\")","v":""},null,null,{"$f":"IF(LEN(A534)>0,VLOOKUP(A534,Subcontractors!$A$2:$B$3,2,FALSE),\"\")","v":""},null,{"$f":"IF(LEN(A534)>0,VLOOKUP(A534,Subcontractors!$A$2:$B$2,2,FALSE),\"\")","v":""}]
[null,null,null,null,null,null,null,null,null,null,null,null,null,null,null,null,null,null,null,null,null,{"$f":"IF(LEN(X535)>0,VLOOKUP(X535,'TFW Programs'!$A$2:$B$24,2,FALSE),\"\")","v":""},null,null,{"$f":"IF(LEN(A535)>0,VLOOKUP(A535,Subcontractors!$A$2:$B$3,2,FALSE),\"\")","v":""},null,{"$f":"IF(LEN(A535)>0,VLOOKUP(A535,Subcontractors!$A$2:$B$2,2,FALSE),\"\")","v":""}]
[null,null,null,null,null,null,null,null,null,null,null,null,null,null,null,null,null,null,null,null,null,{"$f":"IF(LEN(X536)>0,VLOOKUP(X536,'TFW Programs'!$A$2:$B$24,2,FALSE),\"\")","v":""},null,null,{"$f":"IF(LEN(A536)>0,VLOOKUP(A536,Subcontractors!$A$2:$B$3,2,FALSE),\"\")","v":""},null,{"$f":"IF(LEN(A536)>0,VLOOKUP(A536,Subcontractors!$A$2:$B$2,2,FALSE),\"\")","v":""}]
[null,null,null,null,null,null,null,null,null,null,null,null,null,null,null,null,null,null,null,null,null,{"$f":"IF(LEN(X537)>0,VLOOKUP(X537,'TFW Programs'!$A$2:$B$24,2,FALSE),\"\")","v":""},null,null,{"$f":"IF(LEN(A537)>0,VLOOKUP(A537,Subcontractors!$A$2:$B$3,2,FALSE),\"\")","v":""},null,{"$f":"IF(LEN(A537)>0,VLOOKUP(A537,Subcontractors!$A$2:$B$2,2,FALSE),\"\")","v":""}]
[null,null,null,null,null,null,null,null,null,null,null,null,null,null,null,null,null,null,null,null,null,{"$f":"IF(LEN(X538)>0,VLOOKUP(X538,'TFW Programs'!$A$2:$B$24,2,FALSE),\"\")","v":""},null,null,{"$f":"IF(LEN(A538)>0,VLOOKUP(A538,Subcontractors!$A$2:$B$3,2,FALSE),\"\")","v":""},null,{"$f":"IF(LEN(A538)>0,VLOOKUP(A538,Subcontractors!$A$2:$B$2,2,FALSE),\"\")","v":""}]
[null,null,null,null,null,null,null,null,null,null,null,null,null,null,null,null,null,null,null,null,null,{"$f":"IF(LEN(X539)>0,VLOOKUP(X539,'TFW Programs'!$A$2:$B$24,2,FALSE),\"\")","v":""},null,null,{"$f":"IF(LEN(A539)>0,VLOOKUP(A539,Subcontractors!$A$2:$B$3,2,FALSE),\"\")","v":""},null,{"$f":"IF(LEN(A539)>0,VLOOKUP(A539,Subcontractors!$A$2:$B$2,2,FALSE),\"\")","v":""}]
[null,null,null,null,null,null,null,null,null,null,null,null,null,null,null,null,null,null,null,null,null,{"$f":"IF(LEN(X540)>0,VLOOKUP(X540,'TFW Programs'!$A$2:$B$24,2,FALSE),\"\")","v":""},null,null,{"$f":"IF(LEN(A540)>0,VLOOKUP(A540,Subcontractors!$A$2:$B$3,2,FALSE),\"\")","v":""},null,{"$f":"IF(LEN(A540)>0,VLOOKUP(A540,Subcontractors!$A$2:$B$2,2,FALSE),\"\")","v":""}]
[null,null,null,null,null,null,null,null,null,null,null,null,null,null,null,null,null,null,null,null,null,{"$f":"IF(LEN(X541)>0,VLOOKUP(X541,'TFW Programs'!$A$2:$B$24,2,FALSE),\"\")","v":""},null,null,{"$f":"IF(LEN(A541)>0,VLOOKUP(A541,Subcontractors!$A$2:$B$3,2,FALSE),\"\")","v":""},null,{"$f":"IF(LEN(A541)>0,VLOOKUP(A541,Subcontractors!$A$2:$B$2,2,FALSE),\"\")","v":""}]
[null,null,null,null,null,null,null,null,null,null,null,null,null,null,null,null,null,null,null,null,null,{"$f":"IF(LEN(X542)>0,VLOOKUP(X542,'TFW Programs'!$A$2:$B$24,2,FALSE),\"\")","v":""},null,null,{"$f":"IF(LEN(A542)>0,VLOOKUP(A542,Subcontractors!$A$2:$B$3,2,FALSE),\"\")","v":""},null,{"$f":"IF(LEN(A542)>0,VLOOKUP(A542,Subcontractors!$A$2:$B$2,2,FALSE),\"\")","v":""}]
[null,null,null,null,null,null,null,null,null,null,null,null,null,null,null,null,null,null,null,null,null,{"$f":"IF(LEN(X543)>0,VLOOKUP(X543,'TFW Programs'!$A$2:$B$24,2,FALSE),\"\")","v":""},null,null,{"$f":"IF(LEN(A543)>0,VLOOKUP(A543,Subcontractors!$A$2:$B$3,2,FALSE),\"\")","v":""},null,{"$f":"IF(LEN(A543)>0,VLOOKUP(A543,Subcontractors!$A$2:$B$2,2,FALSE),\"\")","v":""}]
[null,null,null,null,null,null,null,null,null,null,null,null,null,null,null,null,null,null,null,null,null,{"$f":"IF(LEN(X544)>0,VLOOKUP(X544,'TFW Programs'!$A$2:$B$24,2,FALSE),\"\")","v":""},null,null,{"$f":"IF(LEN(A544)>0,VLOOKUP(A544,Subcontractors!$A$2:$B$3,2,FALSE),\"\")","v":""},null,{"$f":"IF(LEN(A544)>0,VLOOKUP(A544,Subcontractors!$A$2:$B$2,2,FALSE),\"\")","v":""}]
[null,null,null,null,null,null,null,null,null,null,null,null,null,null,null,null,null,null,null,null,null,{"$f":"IF(LEN(X545)>0,VLOOKUP(X545,'TFW Programs'!$A$2:$B$24,2,FALSE),\"\")","v":""},null,null,{"$f":"IF(LEN(A545)>0,VLOOKUP(A545,Subcontractors!$A$2:$B$3,2,FALSE),\"\")","v":""},null,{"$f":"IF(LEN(A545)>0,VLOOKUP(A545,Subcontractors!$A$2:$B$2,2,FALSE),\"\")","v":""}]
[null,null,null,null,null,null,null,null,null,null,null,null,null,null,null,null,null,null,null,null,null,{"$f":"IF(LEN(X546)>0,VLOOKUP(X546,'TFW Programs'!$A$2:$B$24,2,FALSE),\"\")","v":""},null,null,{"$f":"IF(LEN(A546)>0,VLOOKUP(A546,Subcontractors!$A$2:$B$3,2,FALSE),\"\")","v":""},null,{"$f":"IF(LEN(A546)>0,VLOOKUP(A546,Subcontractors!$A$2:$B$2,2,FALSE),\"\")","v":""}]
[null,null,null,null,null,null,null,null,null,null,null,null,null,null,null,null,null,null,null,null,null,{"$f":"IF(LEN(X547)>0,VLOOKUP(X547,'TFW Programs'!$A$2:$B$24,2,FALSE),\"\")","v":""},null,null,{"$f":"IF(LEN(A547)>0,VLOOKUP(A547,Subcontractors!$A$2:$B$3,2,FALSE),\"\")","v":""},null,{"$f":"IF(LEN(A547)>0,VLOOKUP(A547,Subcontractors!$A$2:$B$2,2,FALSE),\"\")","v":""}]
[null,null,null,null,null,null,null,null,null,null,null,null,null,null,null,null,null,null,null,null,null,{"$f":"IF(LEN(X548)>0,VLOOKUP(X548,'TFW Programs'!$A$2:$B$24,2,FALSE),\"\")","v":""},null,null,{"$f":"IF(LEN(A548)>0,VLOOKUP(A548,Subcontractors!$A$2:$B$3,2,FALSE),\"\")","v":""},null,{"$f":"IF(LEN(A548)>0,VLOOKUP(A548,Subcontractors!$A$2:$B$2,2,FALSE),\"\")","v":""}]
[null,null,null,null,null,null,null,null,null,null,null,null,null,null,null,null,null,null,null,null,null,{"$f":"IF(LEN(X549)>0,VLOOKUP(X549,'TFW Programs'!$A$2:$B$24,2,FALSE),\"\")","v":""},null,null,{"$f":"IF(LEN(A549)>0,VLOOKUP(A549,Subcontractors!$A$2:$B$3,2,FALSE),\"\")","v":""},null,{"$f":"IF(LEN(A549)>0,VLOOKUP(A549,Subcontractors!$A$2:$B$2,2,FALSE),\"\")","v":""}]
[null,null,null,null,null,null,null,null,null,null,null,null,null,null,null,null,null,null,null,null,null,{"$f":"IF(LEN(X550)>0,VLOOKUP(X550,'TFW Programs'!$A$2:$B$24,2,FALSE),\"\")","v":""},null,null,{"$f":"IF(LEN(A550)>0,VLOOKUP(A550,Subcontractors!$A$2:$B$3,2,FALSE),\"\")","v":""},null,{"$f":"IF(LEN(A550)>0,VLOOKUP(A550,Subcontractors!$A$2:$B$2,2,FALSE),\"\")","v":""}]
[null,null,null,null,null,null,null,null,null,null,null,null,null,null,null,null,null,null,null,null,null,{"$f":"IF(LEN(X551)>0,VLOOKUP(X551,'TFW Programs'!$A$2:$B$24,2,FALSE),\"\")","v":""},null,null,{"$f":"IF(LEN(A551)>0,VLOOKUP(A551,Subcontractors!$A$2:$B$3,2,FALSE),\"\")","v":""},null,{"$f":"IF(LEN(A551)>0,VLOOKUP(A551,Subcontractors!$A$2:$B$2,2,FALSE),\"\")","v":""}]
[null,null,null,null,null,null,null,null,null,null,null,null,null,null,null,null,null,null,null,null,null,{"$f":"IF(LEN(X552)>0,VLOOKUP(X552,'TFW Programs'!$A$2:$B$24,2,FALSE),\"\")","v":""},null,null,{"$f":"IF(LEN(A552)>0,VLOOKUP(A552,Subcontractors!$A$2:$B$3,2,FALSE),\"\")","v":""},null,{"$f":"IF(LEN(A552)>0,VLOOKUP(A552,Subcontractors!$A$2:$B$2,2,FALSE),\"\")","v":""}]
[null,null,null,null,null,null,null,null,null,null,null,null,null,null,null,null,null,null,null,null,null,{"$f":"IF(LEN(X553)>0,VLOOKUP(X553,'TFW Programs'!$A$2:$B$24,2,FALSE),\"\")","v":""},null,null,{"$f":"IF(LEN(A553)>0,VLOOKUP(A553,Subcontractors!$A$2:$B$3,2,FALSE),\"\")","v":""},null,{"$f":"IF(LEN(A553)>0,VLOOKUP(A553,Subcontractors!$A$2:$B$2,2,FALSE),\"\")","v":""}]
[null,null,null,null,null,null,null,null,null,null,null,null,null,null,null,null,null,null,null,null,null,{"$f":"IF(LEN(X554)>0,VLOOKUP(X554,'TFW Programs'!$A$2:$B$24,2,FALSE),\"\")","v":""},null,null,{"$f":"IF(LEN(A554)>0,VLOOKUP(A554,Subcontractors!$A$2:$B$3,2,FALSE),\"\")","v":""},null,{"$f":"IF(LEN(A554)>0,VLOOKUP(A554,Subcontractors!$A$2:$B$2,2,FALSE),\"\")","v":""}]
[null,null,null,null,null,null,null,null,null,null,null,null,null,null,null,null,null,null,null,null,null,{"$f":"IF(LEN(X555)>0,VLOOKUP(X555,'TFW Programs'!$A$2:$B$24,2,FALSE),\"\")","v":""},null,null,{"$f":"IF(LEN(A555)>0,VLOOKUP(A555,Subcontractors!$A$2:$B$3,2,FALSE),\"\")","v":""},null,{"$f":"IF(LEN(A555)>0,VLOOKUP(A555,Subcontractors!$A$2:$B$2,2,FALSE),\"\")","v":""}]
[null,null,null,null,null,null,null,null,null,null,null,null,null,null,null,null,null,null,null,null,null,{"$f":"IF(LEN(X556)>0,VLOOKUP(X556,'TFW Programs'!$A$2:$B$24,2,FALSE),\"\")","v":""},null,null,{"$f":"IF(LEN(A556)>0,VLOOKUP(A556,Subcontractors!$A$2:$B$3,2,FALSE),\"\")","v":""},null,{"$f":"IF(LEN(A556)>0,VLOOKUP(A556,Subcontractors!$A$2:$B$2,2,FALSE),\"\")","v":""}]
[null,null,null,null,null,null,null,null,null,null,null,null,null,null,null,null,null,null,null,null,null,{"$f":"IF(LEN(X557)>0,VLOOKUP(X557,'TFW Programs'!$A$2:$B$24,2,FALSE),\"\")","v":""},null,null,{"$f":"IF(LEN(A557)>0,VLOOKUP(A557,Subcontractors!$A$2:$B$3,2,FALSE),\"\")","v":""},null,{"$f":"IF(LEN(A557)>0,VLOOKUP(A557,Subcontractors!$A$2:$B$2,2,FALSE),\"\")","v":""}]
[null,null,null,null,null,null,null,null,null,null,null,null,null,null,null,null,null,null,null,null,null,{"$f":"IF(LEN(X558)>0,VLOOKUP(X558,'TFW Programs'!$A$2:$B$24,2,FALSE),\"\")","v":""},null,null,{"$f":"IF(LEN(A558)>0,VLOOKUP(A558,Subcontractors!$A$2:$B$3,2,FALSE),\"\")","v":""},null,{"$f":"IF(LEN(A558)>0,VLOOKUP(A558,Subcontractors!$A$2:$B$2,2,FALSE),\"\")","v":""}]
[null,null,null,null,null,null,null,null,null,null,null,null,null,null,null,null,null,null,null,null,null,{"$f":"IF(LEN(X559)>0,VLOOKUP(X559,'TFW Programs'!$A$2:$B$24,2,FALSE),\"\")","v":""},null,null,{"$f":"IF(LEN(A559)>0,VLOOKUP(A559,Subcontractors!$A$2:$B$3,2,FALSE),\"\")","v":""},null,{"$f":"IF(LEN(A559)>0,VLOOKUP(A559,Subcontractors!$A$2:$B$2,2,FALSE),\"\")","v":""}]
[null,null,null,null,null,null,null,null,null,null,null,null,null,null,null,null,null,null,null,null,null,{"$f":"IF(LEN(X560)>0,VLOOKUP(X560,'TFW Programs'!$A$2:$B$24,2,FALSE),\"\")","v":""},null,null,{"$f":"IF(LEN(A560)>0,VLOOKUP(A560,Subcontractors!$A$2:$B$3,2,FALSE),\"\")","v":""},null,{"$f":"IF(LEN(A560)>0,VLOOKUP(A560,Subcontractors!$A$2:$B$2,2,FALSE),\"\")","v":""}]
[null,null,null,null,null,null,null,null,null,null,null,null,null,null,null,null,null,null,null,null,null,{"$f":"IF(LEN(X561)>0,VLOOKUP(X561,'TFW Programs'!$A$2:$B$24,2,FALSE),\"\")","v":""},null,null,{"$f":"IF(LEN(A561)>0,VLOOKUP(A561,Subcontractors!$A$2:$B$3,2,FALSE),\"\")","v":""},null,{"$f":"IF(LEN(A561)>0,VLOOKUP(A561,Subcontractors!$A$2:$B$2,2,FALSE),\"\")","v":""}]
[null,null,null,null,null,null,null,null,null,null,null,null,null,null,null,null,null,null,null,null,null,{"$f":"IF(LEN(X562)>0,VLOOKUP(X562,'TFW Programs'!$A$2:$B$24,2,FALSE),\"\")","v":""},null,null,{"$f":"IF(LEN(A562)>0,VLOOKUP(A562,Subcontractors!$A$2:$B$3,2,FALSE),\"\")","v":""},null,{"$f":"IF(LEN(A562)>0,VLOOKUP(A562,Subcontractors!$A$2:$B$2,2,FALSE),\"\")","v":""}]
[null,null,null,null,null,null,null,null,null,null,null,null,null,null,null,null,null,null,null,null,null,{"$f":"IF(LEN(X563)>0,VLOOKUP(X563,'TFW Programs'!$A$2:$B$24,2,FALSE),\"\")","v":""},null,null,{"$f":"IF(LEN(A563)>0,VLOOKUP(A563,Subcontractors!$A$2:$B$3,2,FALSE),\"\")","v":""},null,{"$f":"IF(LEN(A563)>0,VLOOKUP(A563,Subcontractors!$A$2:$B$2,2,FALSE),\"\")","v":""}]
[null,null,null,null,null,null,null,null,null,null,null,null,null,null,null,null,null,null,null,null,null,{"$f":"IF(LEN(X564)>0,VLOOKUP(X564,'TFW Programs'!$A$2:$B$24,2,FALSE),\"\")","v":""},null,null,{"$f":"IF(LEN(A564)>0,VLOOKUP(A564,Subcontractors!$A$2:$B$3,2,FALSE),\"\")","v":""},null,{"$f":"IF(LEN(A564)>0,VLOOKUP(A564,Subcontractors!$A$2:$B$2,2,FALSE),\"\")","v":""}]
[null,null,null,null,null,null,null,null,null,null,null,null,null,null,null,null,null,null,null,null,null,{"$f":"IF(LEN(X565)>0,VLOOKUP(X565,'TFW Programs'!$A$2:$B$24,2,FALSE),\"\")","v":""},null,null,{"$f":"IF(LEN(A565)>0,VLOOKUP(A565,Subcontractors!$A$2:$B$3,2,FALSE),\"\")","v":""},null,{"$f":"IF(LEN(A565)>0,VLOOKUP(A565,Subcontractors!$A$2:$B$2,2,FALSE),\"\")","v":""}]
[null,null,null,null,null,null,null,null,null,null,null,null,null,null,null,null,null,null,null,null,null,{"$f":"IF(LEN(X566)>0,VLOOKUP(X566,'TFW Programs'!$A$2:$B$24,2,FALSE),\"\")","v":""},null,null,{"$f":"IF(LEN(A566)>0,VLOOKUP(A566,Subcontractors!$A$2:$B$3,2,FALSE),\"\")","v":""},null,{"$f":"IF(LEN(A566)>0,VLOOKUP(A566,Subcontractors!$A$2:$B$2,2,FALSE),\"\")","v":""}]
[null,null,null,null,null,null,null,null,null,null,null,null,null,null,null,null,null,null,null,null,null,{"$f":"IF(LEN(X567)>0,VLOOKUP(X567,'TFW Programs'!$A$2:$B$24,2,FALSE),\"\")","v":""},null,null,{"$f":"IF(LEN(A567)>0,VLOOKUP(A567,Subcontractors!$A$2:$B$3,2,FALSE),\"\")","v":""},null,{"$f":"IF(LEN(A567)>0,VLOOKUP(A567,Subcontractors!$A$2:$B$2,2,FALSE),\"\")","v":""}]
[null,null,null,null,null,null,null,null,null,null,null,null,null,null,null,null,null,null,null,null,null,{"$f":"IF(LEN(X568)>0,VLOOKUP(X568,'TFW Programs'!$A$2:$B$24,2,FALSE),\"\")","v":""},null,null,{"$f":"IF(LEN(A568)>0,VLOOKUP(A568,Subcontractors!$A$2:$B$3,2,FALSE),\"\")","v":""},null,{"$f":"IF(LEN(A568)>0,VLOOKUP(A568,Subcontractors!$A$2:$B$2,2,FALSE),\"\")","v":""}]
[null,null,null,null,null,null,null,null,null,null,null,null,null,null,null,null,null,null,null,null,null,{"$f":"IF(LEN(X569)>0,VLOOKUP(X569,'TFW Programs'!$A$2:$B$24,2,FALSE),\"\")","v":""},null,null,{"$f":"IF(LEN(A569)>0,VLOOKUP(A569,Subcontractors!$A$2:$B$3,2,FALSE),\"\")","v":""},null,{"$f":"IF(LEN(A569)>0,VLOOKUP(A569,Subcontractors!$A$2:$B$2,2,FALSE),\"\")","v":""}]
[null,null,null,null,null,null,null,null,null,null,null,null,null,null,null,null,null,null,null,null,null,{"$f":"IF(LEN(X570)>0,VLOOKUP(X570,'TFW Programs'!$A$2:$B$24,2,FALSE),\"\")","v":""},null,null,{"$f":"IF(LEN(A570)>0,VLOOKUP(A570,Subcontractors!$A$2:$B$3,2,FALSE),\"\")","v":""},null,{"$f":"IF(LEN(A570)>0,VLOOKUP(A570,Subcontractors!$A$2:$B$2,2,FALSE),\"\")","v":""}]
[null,null,null,null,null,null,null,null,null,null,null,null,null,null,null,null,null,null,null,null,null,{"$f":"IF(LEN(X571)>0,VLOOKUP(X571,'TFW Programs'!$A$2:$B$24,2,FALSE),\"\")","v":""},null,null,{"$f":"IF(LEN(A571)>0,VLOOKUP(A571,Subcontractors!$A$2:$B$3,2,FALSE),\"\")","v":""},null,{"$f":"IF(LEN(A571)>0,VLOOKUP(A571,Subcontractors!$A$2:$B$2,2,FALSE),\"\")","v":""}]
[null,null,null,null,null,null,null,null,null,null,null,null,null,null,null,null,null,null,null,null,null,{"$f":"IF(LEN(X572)>0,VLOOKUP(X572,'TFW Programs'!$A$2:$B$24,2,FALSE),\"\")","v":""},null,null,{"$f":"IF(LEN(A572)>0,VLOOKUP(A572,Subcontractors!$A$2:$B$3,2,FALSE),\"\")","v":""},null,{"$f":"IF(LEN(A572)>0,VLOOKUP(A572,Subcontractors!$A$2:$B$2,2,FALSE),\"\")","v":""}]
[null,null,null,null,null,null,null,null,null,null,null,null,null,null,null,null,null,null,null,null,null,{"$f":"IF(LEN(X573)>0,VLOOKUP(X573,'TFW Programs'!$A$2:$B$24,2,FALSE),\"\")","v":""},null,null,{"$f":"IF(LEN(A573)>0,VLOOKUP(A573,Subcontractors!$A$2:$B$3,2,FALSE),\"\")","v":""},null,{"$f":"IF(LEN(A573)>0,VLOOKUP(A573,Subcontractors!$A$2:$B$2,2,FALSE),\"\")","v":""}]
[null,null,null,null,null,null,null,null,null,null,null,null,null,null,null,null,null,null,null,null,null,{"$f":"IF(LEN(X574)>0,VLOOKUP(X574,'TFW Programs'!$A$2:$B$24,2,FALSE),\"\")","v":""},null,null,{"$f":"IF(LEN(A574)>0,VLOOKUP(A574,Subcontractors!$A$2:$B$3,2,FALSE),\"\")","v":""},null,{"$f":"IF(LEN(A574)>0,VLOOKUP(A574,Subcontractors!$A$2:$B$2,2,FALSE),\"\")","v":""}]
[null,null,null,null,null,null,null,null,null,null,null,null,null,null,null,null,null,null,null,null,null,{"$f":"IF(LEN(X575)>0,VLOOKUP(X575,'TFW Programs'!$A$2:$B$24,2,FALSE),\"\")","v":""},null,null,{"$f":"IF(LEN(A575)>0,VLOOKUP(A575,Subcontractors!$A$2:$B$3,2,FALSE),\"\")","v":""},null,{"$f":"IF(LEN(A575)>0,VLOOKUP(A575,Subcontractors!$A$2:$B$2,2,FALSE),\"\")","v":""}]
[null,null,null,null,null,null,null,null,null,null,null,null,null,null,null,null,null,null,null,null,null,{"$f":"IF(LEN(X576)>0,VLOOKUP(X576,'TFW Programs'!$A$2:$B$24,2,FALSE),\"\")","v":""},null,null,{"$f":"IF(LEN(A576)>0,VLOOKUP(A576,Subcontractors!$A$2:$B$3,2,FALSE),\"\")","v":""},null,{"$f":"IF(LEN(A576)>0,VLOOKUP(A576,Subcontractors!$A$2:$B$2,2,FALSE),\"\")","v":""}]
[null,null,null,null,null,null,null,null,null,null,null,null,null,null,null,null,null,null,null,null,null,{"$f":"IF(LEN(X577)>0,VLOOKUP(X577,'TFW Programs'!$A$2:$B$24,2,FALSE),\"\")","v":""},null,null,{"$f":"IF(LEN(A577)>0,VLOOKUP(A577,Subcontractors!$A$2:$B$3,2,FALSE),\"\")","v":""},null,{"$f":"IF(LEN(A577)>0,VLOOKUP(A577,Subcontractors!$A$2:$B$2,2,FALSE),\"\")","v":""}]
[null,null,null,null,null,null,null,null,null,null,null,null,null,null,null,null,null,null,null,null,null,{"$f":"IF(LEN(X578)>0,VLOOKUP(X578,'TFW Programs'!$A$2:$B$24,2,FALSE),\"\")","v":""},null,null,{"$f":"IF(LEN(A578)>0,VLOOKUP(A578,Subcontractors!$A$2:$B$3,2,FALSE),\"\")","v":""},null,{"$f":"IF(LEN(A578)>0,VLOOKUP(A578,Subcontractors!$A$2:$B$2,2,FALSE),\"\")","v":""}]
[null,null,null,null,null,null,null,null,null,null,null,null,null,null,null,null,null,null,null,null,null,{"$f":"IF(LEN(X579)>0,VLOOKUP(X579,'TFW Programs'!$A$2:$B$24,2,FALSE),\"\")","v":""},null,null,{"$f":"IF(LEN(A579)>0,VLOOKUP(A579,Subcontractors!$A$2:$B$3,2,FALSE),\"\")","v":""},null,{"$f":"IF(LEN(A579)>0,VLOOKUP(A579,Subcontractors!$A$2:$B$2,2,FALSE),\"\")","v":""}]
[null,null,null,null,null,null,null,null,null,null,null,null,null,null,null,null,null,null,null,null,null,{"$f":"IF(LEN(X580)>0,VLOOKUP(X580,'TFW Programs'!$A$2:$B$24,2,FALSE),\"\")","v":""},null,null,{"$f":"IF(LEN(A580)>0,VLOOKUP(A580,Subcontractors!$A$2:$B$3,2,FALSE),\"\")","v":""},null,{"$f":"IF(LEN(A580)>0,VLOOKUP(A580,Subcontractors!$A$2:$B$2,2,FALSE),\"\")","v":""}]
[null,null,null,null,null,null,null,null,null,null,null,null,null,null,null,null,null,null,null,null,null,{"$f":"IF(LEN(X581)>0,VLOOKUP(X581,'TFW Programs'!$A$2:$B$24,2,FALSE),\"\")","v":""},null,null,{"$f":"IF(LEN(A581)>0,VLOOKUP(A581,Subcontractors!$A$2:$B$3,2,FALSE),\"\")","v":""},null,{"$f":"IF(LEN(A581)>0,VLOOKUP(A581,Subcontractors!$A$2:$B$2,2,FALSE),\"\")","v":""}]
[null,null,null,null,null,null,null,null,null,null,null,null,null,null,null,null,null,null,null,null,null,{"$f":"IF(LEN(X582)>0,VLOOKUP(X582,'TFW Programs'!$A$2:$B$24,2,FALSE),\"\")","v":""},null,null,{"$f":"IF(LEN(A582)>0,VLOOKUP(A582,Subcontractors!$A$2:$B$3,2,FALSE),\"\")","v":""},null,{"$f":"IF(LEN(A582)>0,VLOOKUP(A582,Subcontractors!$A$2:$B$2,2,FALSE),\"\")","v":""}]
[null,null,null,null,null,null,null,null,null,null,null,null,null,null,null,null,null,null,null,null,null,{"$f":"IF(LEN(X583)>0,VLOOKUP(X583,'TFW Programs'!$A$2:$B$24,2,FALSE),\"\")","v":""},null,null,{"$f":"IF(LEN(A583)>0,VLOOKUP(A583,Subcontractors!$A$2:$B$3,2,FALSE),\"\")","v":""},null,{"$f":"IF(LEN(A583)>0,VLOOKUP(A583,Subcontractors!$A$2:$B$2,2,FALSE),\"\")","v":""}]
[null,null,null,null,null,null,null,null,null,null,null,null,null,null,null,null,null,null,null,null,null,{"$f":"IF(LEN(X584)>0,VLOOKUP(X584,'TFW Programs'!$A$2:$B$24,2,FALSE),\"\")","v":""},null,null,{"$f":"IF(LEN(A584)>0,VLOOKUP(A584,Subcontractors!$A$2:$B$3,2,FALSE),\"\")","v":""},null,{"$f":"IF(LEN(A584)>0,VLOOKUP(A584,Subcontractors!$A$2:$B$2,2,FALSE),\"\")","v":""}]
[null,null,null,null,null,null,null,null,null,null,null,null,null,null,null,null,null,null,null,null,null,{"$f":"IF(LEN(X585)>0,VLOOKUP(X585,'TFW Programs'!$A$2:$B$24,2,FALSE),\"\")","v":""},null,null,{"$f":"IF(LEN(A585)>0,VLOOKUP(A585,Subcontractors!$A$2:$B$3,2,FALSE),\"\")","v":""},null,{"$f":"IF(LEN(A585)>0,VLOOKUP(A585,Subcontractors!$A$2:$B$2,2,FALSE),\"\")","v":""}]
[null,null,null,null,null,null,null,null,null,null,null,null,null,null,null,null,null,null,null,null,null,{"$f":"IF(LEN(X586)>0,VLOOKUP(X586,'TFW Programs'!$A$2:$B$24,2,FALSE),\"\")","v":""},null,null,{"$f":"IF(LEN(A586)>0,VLOOKUP(A586,Subcontractors!$A$2:$B$3,2,FALSE),\"\")","v":""},null,{"$f":"IF(LEN(A586)>0,VLOOKUP(A586,Subcontractors!$A$2:$B$2,2,FALSE),\"\")","v":""}]
[null,null,null,null,null,null,null,null,null,null,null,null,null,null,null,null,null,null,null,null,null,{"$f":"IF(LEN(X587)>0,VLOOKUP(X587,'TFW Programs'!$A$2:$B$24,2,FALSE),\"\")","v":""},null,null,{"$f":"IF(LEN(A587)>0,VLOOKUP(A587,Subcontractors!$A$2:$B$3,2,FALSE),\"\")","v":""},null,{"$f":"IF(LEN(A587)>0,VLOOKUP(A587,Subcontractors!$A$2:$B$2,2,FALSE),\"\")","v":""}]
[null,null,null,null,null,null,null,null,null,null,null,null,null,null,null,null,null,null,null,null,null,{"$f":"IF(LEN(X588)>0,VLOOKUP(X588,'TFW Programs'!$A$2:$B$24,2,FALSE),\"\")","v":""},null,null,{"$f":"IF(LEN(A588)>0,VLOOKUP(A588,Subcontractors!$A$2:$B$3,2,FALSE),\"\")","v":""},null,{"$f":"IF(LEN(A588)>0,VLOOKUP(A588,Subcontractors!$A$2:$B$2,2,FALSE),\"\")","v":""}]
[null,null,null,null,null,null,null,null,null,null,null,null,null,null,null,null,null,null,null,null,null,{"$f":"IF(LEN(X589)>0,VLOOKUP(X589,'TFW Programs'!$A$2:$B$24,2,FALSE),\"\")","v":""},null,null,{"$f":"IF(LEN(A589)>0,VLOOKUP(A589,Subcontractors!$A$2:$B$3,2,FALSE),\"\")","v":""},null,{"$f":"IF(LEN(A589)>0,VLOOKUP(A589,Subcontractors!$A$2:$B$2,2,FALSE),\"\")","v":""}]
[null,null,null,null,null,null,null,null,null,null,null,null,null,null,null,null,null,null,null,null,null,{"$f":"IF(LEN(X590)>0,VLOOKUP(X590,'TFW Programs'!$A$2:$B$24,2,FALSE),\"\")","v":""},null,null,{"$f":"IF(LEN(A590)>0,VLOOKUP(A590,Subcontractors!$A$2:$B$3,2,FALSE),\"\")","v":""},null,{"$f":"IF(LEN(A590)>0,VLOOKUP(A590,Subcontractors!$A$2:$B$2,2,FALSE),\"\")","v":""}]
[null,null,null,null,null,null,null,null,null,null,null,null,null,null,null,null,null,null,null,null,null,{"$f":"IF(LEN(X591)>0,VLOOKUP(X591,'TFW Programs'!$A$2:$B$24,2,FALSE),\"\")","v":""},null,null,{"$f":"IF(LEN(A591)>0,VLOOKUP(A591,Subcontractors!$A$2:$B$3,2,FALSE),\"\")","v":""},null,{"$f":"IF(LEN(A591)>0,VLOOKUP(A591,Subcontractors!$A$2:$B$2,2,FALSE),\"\")","v":""}]
[null,null,null,null,null,null,null,null,null,null,null,null,null,null,null,null,null,null,null,null,null,{"$f":"IF(LEN(X592)>0,VLOOKUP(X592,'TFW Programs'!$A$2:$B$24,2,FALSE),\"\")","v":""},null,null,{"$f":"IF(LEN(A592)>0,VLOOKUP(A592,Subcontractors!$A$2:$B$3,2,FALSE),\"\")","v":""},null,{"$f":"IF(LEN(A592)>0,VLOOKUP(A592,Subcontractors!$A$2:$B$2,2,FALSE),\"\")","v":""}]
[null,null,null,null,null,null,null,null,null,null,null,null,null,null,null,null,null,null,null,null,null,{"$f":"IF(LEN(X593)>0,VLOOKUP(X593,'TFW Programs'!$A$2:$B$24,2,FALSE),\"\")","v":""},null,null,{"$f":"IF(LEN(A593)>0,VLOOKUP(A593,Subcontractors!$A$2:$B$3,2,FALSE),\"\")","v":""},null,{"$f":"IF(LEN(A593)>0,VLOOKUP(A593,Subcontractors!$A$2:$B$2,2,FALSE),\"\")","v":""}]
[null,null,null,null,null,null,null,null,null,null,null,null,null,null,null,null,null,null,null,null,null,{"$f":"IF(LEN(X594)>0,VLOOKUP(X594,'TFW Programs'!$A$2:$B$24,2,FALSE),\"\")","v":""},null,null,{"$f":"IF(LEN(A594)>0,VLOOKUP(A594,Subcontractors!$A$2:$B$3,2,FALSE),\"\")","v":""},null,{"$f":"IF(LEN(A594)>0,VLOOKUP(A594,Subcontractors!$A$2:$B$2,2,FALSE),\"\")","v":""}]
[null,null,null,null,null,null,null,null,null,null,null,null,null,null,null,null,null,null,null,null,null,{"$f":"IF(LEN(X595)>0,VLOOKUP(X595,'TFW Programs'!$A$2:$B$24,2,FALSE),\"\")","v":""},null,null,{"$f":"IF(LEN(A595)>0,VLOOKUP(A595,Subcontractors!$A$2:$B$3,2,FALSE),\"\")","v":""},null,{"$f":"IF(LEN(A595)>0,VLOOKUP(A595,Subcontractors!$A$2:$B$2,2,FALSE),\"\")","v":""}]
[null,null,null,null,null,null,null,null,null,null,null,null,null,null,null,null,null,null,null,null,null,{"$f":"IF(LEN(X596)>0,VLOOKUP(X596,'TFW Programs'!$A$2:$B$24,2,FALSE),\"\")","v":""},null,null,{"$f":"IF(LEN(A596)>0,VLOOKUP(A596,Subcontractors!$A$2:$B$3,2,FALSE),\"\")","v":""},null,{"$f":"IF(LEN(A596)>0,VLOOKUP(A596,Subcontractors!$A$2:$B$2,2,FALSE),\"\")","v":""}]
[null,null,null,null,null,null,null,null,null,null,null,null,null,null,null,null,null,null,null,null,null,{"$f":"IF(LEN(X597)>0,VLOOKUP(X597,'TFW Programs'!$A$2:$B$24,2,FALSE),\"\")","v":""},null,null,{"$f":"IF(LEN(A597)>0,VLOOKUP(A597,Subcontractors!$A$2:$B$3,2,FALSE),\"\")","v":""},null,{"$f":"IF(LEN(A597)>0,VLOOKUP(A597,Subcontractors!$A$2:$B$2,2,FALSE),\"\")","v":""}]
[null,null,null,null,null,null,null,null,null,null,null,null,null,null,null,null,null,null,null,null,null,{"$f":"IF(LEN(X598)>0,VLOOKUP(X598,'TFW Programs'!$A$2:$B$24,2,FALSE),\"\")","v":""},null,null,{"$f":"IF(LEN(A598)>0,VLOOKUP(A598,Subcontractors!$A$2:$B$3,2,FALSE),\"\")","v":""},null,{"$f":"IF(LEN(A598)>0,VLOOKUP(A598,Subcontractors!$A$2:$B$2,2,FALSE),\"\")","v":""}]
[null,null,null,null,null,null,null,null,null,null,null,null,null,null,null,null,null,null,null,null,null,{"$f":"IF(LEN(X599)>0,VLOOKUP(X599,'TFW Programs'!$A$2:$B$24,2,FALSE),\"\")","v":""},null,null,{"$f":"IF(LEN(A599)>0,VLOOKUP(A599,Subcontractors!$A$2:$B$3,2,FALSE),\"\")","v":""},null,{"$f":"IF(LEN(A599)>0,VLOOKUP(A599,Subcontractors!$A$2:$B$2,2,FALSE),\"\")","v":""}]
[null,null,null,null,null,null,null,null,null,null,null,null,null,null,null,null,null,null,null,null,null,{"$f":"IF(LEN(X600)>0,VLOOKUP(X600,'TFW Programs'!$A$2:$B$24,2,FALSE),\"\")","v":""},null,null,{"$f":"IF(LEN(A600)>0,VLOOKUP(A600,Subcontractors!$A$2:$B$3,2,FALSE),\"\")","v":""},null,{"$f":"IF(LEN(A600)>0,VLOOKUP(A600,Subcontractors!$A$2:$B$2,2,FALSE),\"\")","v":""}]
[null,null,null,null,null,null,null,null,null,null,null,null,null,null,null,null,null,null,null,null,null,{"$f":"IF(LEN(X601)>0,VLOOKUP(X601,'TFW Programs'!$A$2:$B$24,2,FALSE),\"\")","v":""},null,null,{"$f":"IF(LEN(A601)>0,VLOOKUP(A601,Subcontractors!$A$2:$B$3,2,FALSE),\"\")","v":""},null,{"$f":"IF(LEN(A601)>0,VLOOKUP(A601,Subcontractors!$A$2:$B$2,2,FALSE),\"\")","v":""}]
[null,null,null,null,null,null,null,null,null,null,null,null,null,null,null,null,null,null,null,null,null,{"$f":"IF(LEN(X602)>0,VLOOKUP(X602,'TFW Programs'!$A$2:$B$24,2,FALSE),\"\")","v":""},null,null,{"$f":"IF(LEN(A602)>0,VLOOKUP(A602,Subcontractors!$A$2:$B$3,2,FALSE),\"\")","v":""},null,{"$f":"IF(LEN(A602)>0,VLOOKUP(A602,Subcontractors!$A$2:$B$2,2,FALSE),\"\")","v":""}]
[null,null,null,null,null,null,null,null,null,null,null,null,null,null,null,null,null,null,null,null,null,{"$f":"IF(LEN(X603)>0,VLOOKUP(X603,'TFW Programs'!$A$2:$B$24,2,FALSE),\"\")","v":""},null,null,{"$f":"IF(LEN(A603)>0,VLOOKUP(A603,Subcontractors!$A$2:$B$3,2,FALSE),\"\")","v":""},null,{"$f":"IF(LEN(A603)>0,VLOOKUP(A603,Subcontractors!$A$2:$B$2,2,FALSE),\"\")","v":""}]
[null,null,null,null,null,null,null,null,null,null,null,null,null,null,null,null,null,null,null,null,null,{"$f":"IF(LEN(X604)>0,VLOOKUP(X604,'TFW Programs'!$A$2:$B$24,2,FALSE),\"\")","v":""},null,null,{"$f":"IF(LEN(A604)>0,VLOOKUP(A604,Subcontractors!$A$2:$B$3,2,FALSE),\"\")","v":""},null,{"$f":"IF(LEN(A604)>0,VLOOKUP(A604,Subcontractors!$A$2:$B$2,2,FALSE),\"\")","v":""}]
[null,null,null,null,null,null,null,null,null,null,null,null,null,null,null,null,null,null,null,null,null,{"$f":"IF(LEN(X605)>0,VLOOKUP(X605,'TFW Programs'!$A$2:$B$24,2,FALSE),\"\")","v":""},null,null,{"$f":"IF(LEN(A605)>0,VLOOKUP(A605,Subcontractors!$A$2:$B$3,2,FALSE),\"\")","v":""},null,{"$f":"IF(LEN(A605)>0,VLOOKUP(A605,Subcontractors!$A$2:$B$2,2,FALSE),\"\")","v":""}]
[null,null,null,null,null,null,null,null,null,null,null,null,null,null,null,null,null,null,null,null,null,{"$f":"IF(LEN(X606)>0,VLOOKUP(X606,'TFW Programs'!$A$2:$B$24,2,FALSE),\"\")","v":""},null,null,{"$f":"IF(LEN(A606)>0,VLOOKUP(A606,Subcontractors!$A$2:$B$3,2,FALSE),\"\")","v":""},null,{"$f":"IF(LEN(A606)>0,VLOOKUP(A606,Subcontractors!$A$2:$B$2,2,FALSE),\"\")","v":""}]
[null,null,null,null,null,null,null,null,null,null,null,null,null,null,null,null,null,null,null,null,null,{"$f":"IF(LEN(X607)>0,VLOOKUP(X607,'TFW Programs'!$A$2:$B$24,2,FALSE),\"\")","v":""},null,null,{"$f":"IF(LEN(A607)>0,VLOOKUP(A607,Subcontractors!$A$2:$B$3,2,FALSE),\"\")","v":""},null,{"$f":"IF(LEN(A607)>0,VLOOKUP(A607,Subcontractors!$A$2:$B$2,2,FALSE),\"\")","v":""}]
[null,null,null,null,null,null,null,null,null,null,null,null,null,null,null,null,null,null,null,null,null,{"$f":"IF(LEN(X608)>0,VLOOKUP(X608,'TFW Programs'!$A$2:$B$24,2,FALSE),\"\")","v":""},null,null,{"$f":"IF(LEN(A608)>0,VLOOKUP(A608,Subcontractors!$A$2:$B$3,2,FALSE),\"\")","v":""},null,{"$f":"IF(LEN(A608)>0,VLOOKUP(A608,Subcontractors!$A$2:$B$2,2,FALSE),\"\")","v":""}]
[null,null,null,null,null,null,null,null,null,null,null,null,null,null,null,null,null,null,null,null,null,{"$f":"IF(LEN(X609)>0,VLOOKUP(X609,'TFW Programs'!$A$2:$B$24,2,FALSE),\"\")","v":""},null,null,{"$f":"IF(LEN(A609)>0,VLOOKUP(A609,Subcontractors!$A$2:$B$3,2,FALSE),\"\")","v":""},null,{"$f":"IF(LEN(A609)>0,VLOOKUP(A609,Subcontractors!$A$2:$B$2,2,FALSE),\"\")","v":""}]
[null,null,null,null,null,null,null,null,null,null,null,null,null,null,null,null,null,null,null,null,null,{"$f":"IF(LEN(X610)>0,VLOOKUP(X610,'TFW Programs'!$A$2:$B$24,2,FALSE),\"\")","v":""},null,null,{"$f":"IF(LEN(A610)>0,VLOOKUP(A610,Subcontractors!$A$2:$B$3,2,FALSE),\"\")","v":""},null,{"$f":"IF(LEN(A610)>0,VLOOKUP(A610,Subcontractors!$A$2:$B$2,2,FALSE),\"\")","v":""}]
[null,null,null,null,null,null,null,null,null,null,null,null,null,null,null,null,null,null,null,null,null,{"$f":"IF(LEN(X611)>0,VLOOKUP(X611,'TFW Programs'!$A$2:$B$24,2,FALSE),\"\")","v":""},null,null,{"$f":"IF(LEN(A611)>0,VLOOKUP(A611,Subcontractors!$A$2:$B$3,2,FALSE),\"\")","v":""},null,{"$f":"IF(LEN(A611)>0,VLOOKUP(A611,Subcontractors!$A$2:$B$2,2,FALSE),\"\")","v":""}]
[null,null,null,null,null,null,null,null,null,null,null,null,null,null,null,null,null,null,null,null,null,{"$f":"IF(LEN(X612)>0,VLOOKUP(X612,'TFW Programs'!$A$2:$B$24,2,FALSE),\"\")","v":""},null,null,{"$f":"IF(LEN(A612)>0,VLOOKUP(A612,Subcontractors!$A$2:$B$3,2,FALSE),\"\")","v":""},null,{"$f":"IF(LEN(A612)>0,VLOOKUP(A612,Subcontractors!$A$2:$B$2,2,FALSE),\"\")","v":""}]
[null,null,null,null,null,null,null,null,null,null,null,null,null,null,null,null,null,null,null,null,null,{"$f":"IF(LEN(X613)>0,VLOOKUP(X613,'TFW Programs'!$A$2:$B$24,2,FALSE),\"\")","v":""},null,null,{"$f":"IF(LEN(A613)>0,VLOOKUP(A613,Subcontractors!$A$2:$B$3,2,FALSE),\"\")","v":""},null,{"$f":"IF(LEN(A613)>0,VLOOKUP(A613,Subcontractors!$A$2:$B$2,2,FALSE),\"\")","v":""}]
[null,null,null,null,null,null,null,null,null,null,null,null,null,null,null,null,null,null,null,null,null,{"$f":"IF(LEN(X614)>0,VLOOKUP(X614,'TFW Programs'!$A$2:$B$24,2,FALSE),\"\")","v":""},null,null,{"$f":"IF(LEN(A614)>0,VLOOKUP(A614,Subcontractors!$A$2:$B$3,2,FALSE),\"\")","v":""},null,{"$f":"IF(LEN(A614)>0,VLOOKUP(A614,Subcontractors!$A$2:$B$2,2,FALSE),\"\")","v":""}]
[null,null,null,null,null,null,null,null,null,null,null,null,null,null,null,null,null,null,null,null,null,{"$f":"IF(LEN(X615)>0,VLOOKUP(X615,'TFW Programs'!$A$2:$B$24,2,FALSE),\"\")","v":""},null,null,{"$f":"IF(LEN(A615)>0,VLOOKUP(A615,Subcontractors!$A$2:$B$3,2,FALSE),\"\")","v":""},null,{"$f":"IF(LEN(A615)>0,VLOOKUP(A615,Subcontractors!$A$2:$B$2,2,FALSE),\"\")","v":""}]
[null,null,null,null,null,null,null,null,null,null,null,null,null,null,null,null,null,null,null,null,null,{"$f":"IF(LEN(X616)>0,VLOOKUP(X616,'TFW Programs'!$A$2:$B$24,2,FALSE),\"\")","v":""},null,null,{"$f":"IF(LEN(A616)>0,VLOOKUP(A616,Subcontractors!$A$2:$B$3,2,FALSE),\"\")","v":""},null,{"$f":"IF(LEN(A616)>0,VLOOKUP(A616,Subcontractors!$A$2:$B$2,2,FALSE),\"\")","v":""}]
[null,null,null,null,null,null,null,null,null,null,null,null,null,null,null,null,null,null,null,null,null,{"$f":"IF(LEN(X617)>0,VLOOKUP(X617,'TFW Programs'!$A$2:$B$24,2,FALSE),\"\")","v":""},null,null,{"$f":"IF(LEN(A617)>0,VLOOKUP(A617,Subcontractors!$A$2:$B$3,2,FALSE),\"\")","v":""},null,{"$f":"IF(LEN(A617)>0,VLOOKUP(A617,Subcontractors!$A$2:$B$2,2,FALSE),\"\")","v":""}]
[null,null,null,null,null,null,null,null,null,null,null,null,null,null,null,null,null,null,null,null,null,{"$f":"IF(LEN(X618)>0,VLOOKUP(X618,'TFW Programs'!$A$2:$B$24,2,FALSE),\"\")","v":""},null,null,{"$f":"IF(LEN(A618)>0,VLOOKUP(A618,Subcontractors!$A$2:$B$3,2,FALSE),\"\")","v":""},null,{"$f":"IF(LEN(A618)>0,VLOOKUP(A618,Subcontractors!$A$2:$B$2,2,FALSE),\"\")","v":""}]
[null,null,null,null,null,null,null,null,null,null,null,null,null,null,null,null,null,null,null,null,null,{"$f":"IF(LEN(X619)>0,VLOOKUP(X619,'TFW Programs'!$A$2:$B$24,2,FALSE),\"\")","v":""},null,null,{"$f":"IF(LEN(A619)>0,VLOOKUP(A619,Subcontractors!$A$2:$B$3,2,FALSE),\"\")","v":""},null,{"$f":"IF(LEN(A619)>0,VLOOKUP(A619,Subcontractors!$A$2:$B$2,2,FALSE),\"\")","v":""}]
[null,null,null,null,null,null,null,null,null,null,null,null,null,null,null,null,null,null,null,null,null,{"$f":"IF(LEN(X620)>0,VLOOKUP(X620,'TFW Programs'!$A$2:$B$24,2,FALSE),\"\")","v":""},null,null,{"$f":"IF(LEN(A620)>0,VLOOKUP(A620,Subcontractors!$A$2:$B$3,2,FALSE),\"\")","v":""},null,{"$f":"IF(LEN(A620)>0,VLOOKUP(A620,Subcontractors!$A$2:$B$2,2,FALSE),\"\")","v":""}]
[null,null,null,null,null,null,null,null,null,null,null,null,null,null,null,null,null,null,null,null,null,{"$f":"IF(LEN(X621)>0,VLOOKUP(X621,'TFW Programs'!$A$2:$B$24,2,FALSE),\"\")","v":""},null,null,{"$f":"IF(LEN(A621)>0,VLOOKUP(A621,Subcontractors!$A$2:$B$3,2,FALSE),\"\")","v":""},null,{"$f":"IF(LEN(A621)>0,VLOOKUP(A621,Subcontractors!$A$2:$B$2,2,FALSE),\"\")","v":""}]
[null,null,null,null,null,null,null,null,null,null,null,null,null,null,null,null,null,null,null,null,null,{"$f":"IF(LEN(X622)>0,VLOOKUP(X622,'TFW Programs'!$A$2:$B$24,2,FALSE),\"\")","v":""},null,null,{"$f":"IF(LEN(A622)>0,VLOOKUP(A622,Subcontractors!$A$2:$B$3,2,FALSE),\"\")","v":""},null,{"$f":"IF(LEN(A622)>0,VLOOKUP(A622,Subcontractors!$A$2:$B$2,2,FALSE),\"\")","v":""}]
[null,null,null,null,null,null,null,null,null,null,null,null,null,null,null,null,null,null,null,null,null,{"$f":"IF(LEN(X623)>0,VLOOKUP(X623,'TFW Programs'!$A$2:$B$24,2,FALSE),\"\")","v":""},null,null,{"$f":"IF(LEN(A623)>0,VLOOKUP(A623,Subcontractors!$A$2:$B$3,2,FALSE),\"\")","v":""},null,{"$f":"IF(LEN(A623)>0,VLOOKUP(A623,Subcontractors!$A$2:$B$2,2,FALSE),\"\")","v":""}]
[null,null,null,null,null,null,null,null,null,null,null,null,null,null,null,null,null,null,null,null,null,{"$f":"IF(LEN(X624)>0,VLOOKUP(X624,'TFW Programs'!$A$2:$B$24,2,FALSE),\"\")","v":""},null,null,{"$f":"IF(LEN(A624)>0,VLOOKUP(A624,Subcontractors!$A$2:$B$3,2,FALSE),\"\")","v":""},null,{"$f":"IF(LEN(A624)>0,VLOOKUP(A624,Subcontractors!$A$2:$B$2,2,FALSE),\"\")","v":""}]
[null,null,null,null,null,null,null,null,null,null,null,null,null,null,null,null,null,null,null,null,null,{"$f":"IF(LEN(X625)>0,VLOOKUP(X625,'TFW Programs'!$A$2:$B$24,2,FALSE),\"\")","v":""},null,null,{"$f":"IF(LEN(A625)>0,VLOOKUP(A625,Subcontractors!$A$2:$B$3,2,FALSE),\"\")","v":""},null,{"$f":"IF(LEN(A625)>0,VLOOKUP(A625,Subcontractors!$A$2:$B$2,2,FALSE),\"\")","v":""}]
[null,null,null,null,null,null,null,null,null,null,null,null,null,null,null,null,null,null,null,null,null,{"$f":"IF(LEN(X626)>0,VLOOKUP(X626,'TFW Programs'!$A$2:$B$24,2,FALSE),\"\")","v":""},null,null,{"$f":"IF(LEN(A626)>0,VLOOKUP(A626,Subcontractors!$A$2:$B$3,2,FALSE),\"\")","v":""},null,{"$f":"IF(LEN(A626)>0,VLOOKUP(A626,Subcontractors!$A$2:$B$2,2,FALSE),\"\")","v":""}]
[null,null,null,null,null,null,null,null,null,null,null,null,null,null,null,null,null,null,null,null,null,{"$f":"IF(LEN(X627)>0,VLOOKUP(X627,'TFW Programs'!$A$2:$B$24,2,FALSE),\"\")","v":""},null,null,{"$f":"IF(LEN(A627)>0,VLOOKUP(A627,Subcontractors!$A$2:$B$3,2,FALSE),\"\")","v":""},null,{"$f":"IF(LEN(A627)>0,VLOOKUP(A627,Subcontractors!$A$2:$B$2,2,FALSE),\"\")","v":""}]
[null,null,null,null,null,null,null,null,null,null,null,null,null,null,null,null,null,null,null,null,null,{"$f":"IF(LEN(X628)>0,VLOOKUP(X628,'TFW Programs'!$A$2:$B$24,2,FALSE),\"\")","v":""},null,null,{"$f":"IF(LEN(A628)>0,VLOOKUP(A628,Subcontractors!$A$2:$B$3,2,FALSE),\"\")","v":""},null,{"$f":"IF(LEN(A628)>0,VLOOKUP(A628,Subcontractors!$A$2:$B$2,2,FALSE),\"\")","v":""}]
[null,null,null,null,null,null,null,null,null,null,null,null,null,null,null,null,null,null,null,null,null,{"$f":"IF(LEN(X629)>0,VLOOKUP(X629,'TFW Programs'!$A$2:$B$24,2,FALSE),\"\")","v":""},null,null,{"$f":"IF(LEN(A629)>0,VLOOKUP(A629,Subcontractors!$A$2:$B$3,2,FALSE),\"\")","v":""},null,{"$f":"IF(LEN(A629)>0,VLOOKUP(A629,Subcontractors!$A$2:$B$2,2,FALSE),\"\")","v":""}]
[null,null,null,null,null,null,null,null,null,null,null,null,null,null,null,null,null,null,null,null,null,{"$f":"IF(LEN(X630)>0,VLOOKUP(X630,'TFW Programs'!$A$2:$B$24,2,FALSE),\"\")","v":""},null,null,{"$f":"IF(LEN(A630)>0,VLOOKUP(A630,Subcontractors!$A$2:$B$3,2,FALSE),\"\")","v":""},null,{"$f":"IF(LEN(A630)>0,VLOOKUP(A630,Subcontractors!$A$2:$B$2,2,FALSE),\"\")","v":""}]
[null,null,null,null,null,null,null,null,null,null,null,null,null,null,null,null,null,null,null,null,null,{"$f":"IF(LEN(X631)>0,VLOOKUP(X631,'TFW Programs'!$A$2:$B$24,2,FALSE),\"\")","v":""},null,null,{"$f":"IF(LEN(A631)>0,VLOOKUP(A631,Subcontractors!$A$2:$B$3,2,FALSE),\"\")","v":""},null,{"$f":"IF(LEN(A631)>0,VLOOKUP(A631,Subcontractors!$A$2:$B$2,2,FALSE),\"\")","v":""}]
[null,null,null,null,null,null,null,null,null,null,null,null,null,null,null,null,null,null,null,null,null,{"$f":"IF(LEN(X632)>0,VLOOKUP(X632,'TFW Programs'!$A$2:$B$24,2,FALSE),\"\")","v":""},null,null,{"$f":"IF(LEN(A632)>0,VLOOKUP(A632,Subcontractors!$A$2:$B$3,2,FALSE),\"\")","v":""},null,{"$f":"IF(LEN(A632)>0,VLOOKUP(A632,Subcontractors!$A$2:$B$2,2,FALSE),\"\")","v":""}]
[null,null,null,null,null,null,null,null,null,null,null,null,null,null,null,null,null,null,null,null,null,{"$f":"IF(LEN(X633)>0,VLOOKUP(X633,'TFW Programs'!$A$2:$B$24,2,FALSE),\"\")","v":""},null,null,{"$f":"IF(LEN(A633)>0,VLOOKUP(A633,Subcontractors!$A$2:$B$3,2,FALSE),\"\")","v":""},null,{"$f":"IF(LEN(A633)>0,VLOOKUP(A633,Subcontractors!$A$2:$B$2,2,FALSE),\"\")","v":""}]
[null,null,null,null,null,null,null,null,null,null,null,null,null,null,null,null,null,null,null,null,null,{"$f":"IF(LEN(X634)>0,VLOOKUP(X634,'TFW Programs'!$A$2:$B$24,2,FALSE),\"\")","v":""},null,null,{"$f":"IF(LEN(A634)>0,VLOOKUP(A634,Subcontractors!$A$2:$B$3,2,FALSE),\"\")","v":""},null,{"$f":"IF(LEN(A634)>0,VLOOKUP(A634,Subcontractors!$A$2:$B$2,2,FALSE),\"\")","v":""}]
[null,null,null,null,null,null,null,null,null,null,null,null,null,null,null,null,null,null,null,null,null,{"$f":"IF(LEN(X635)>0,VLOOKUP(X635,'TFW Programs'!$A$2:$B$24,2,FALSE),\"\")","v":""},null,null,{"$f":"IF(LEN(A635)>0,VLOOKUP(A635,Subcontractors!$A$2:$B$3,2,FALSE),\"\")","v":""},null,{"$f":"IF(LEN(A635)>0,VLOOKUP(A635,Subcontractors!$A$2:$B$2,2,FALSE),\"\")","v":""}]
[null,null,null,null,null,null,null,null,null,null,null,null,null,null,null,null,null,null,null,null,null,{"$f":"IF(LEN(X636)>0,VLOOKUP(X636,'TFW Programs'!$A$2:$B$24,2,FALSE),\"\")","v":""},null,null,{"$f":"IF(LEN(A636)>0,VLOOKUP(A636,Subcontractors!$A$2:$B$3,2,FALSE),\"\")","v":""},null,{"$f":"IF(LEN(A636)>0,VLOOKUP(A636,Subcontractors!$A$2:$B$2,2,FALSE),\"\")","v":""}]
[null,null,null,null,null,null,null,null,null,null,null,null,null,null,null,null,null,null,null,null,null,{"$f":"IF(LEN(X637)>0,VLOOKUP(X637,'TFW Programs'!$A$2:$B$24,2,FALSE),\"\")","v":""},null,null,{"$f":"IF(LEN(A637)>0,VLOOKUP(A637,Subcontractors!$A$2:$B$3,2,FALSE),\"\")","v":""},null,{"$f":"IF(LEN(A637)>0,VLOOKUP(A637,Subcontractors!$A$2:$B$2,2,FALSE),\"\")","v":""}]
[null,null,null,null,null,null,null,null,null,null,null,null,null,null,null,null,null,null,null,null,null,{"$f":"IF(LEN(X638)>0,VLOOKUP(X638,'TFW Programs'!$A$2:$B$24,2,FALSE),\"\")","v":""},null,null,{"$f":"IF(LEN(A638)>0,VLOOKUP(A638,Subcontractors!$A$2:$B$3,2,FALSE),\"\")","v":""},null,{"$f":"IF(LEN(A638)>0,VLOOKUP(A638,Subcontractors!$A$2:$B$2,2,FALSE),\"\")","v":""}]
[null,null,null,null,null,null,null,null,null,null,null,null,null,null,null,null,null,null,null,null,null,{"$f":"IF(LEN(X639)>0,VLOOKUP(X639,'TFW Programs'!$A$2:$B$24,2,FALSE),\"\")","v":""},null,null,{"$f":"IF(LEN(A639)>0,VLOOKUP(A639,Subcontractors!$A$2:$B$3,2,FALSE),\"\")","v":""},null,{"$f":"IF(LEN(A639)>0,VLOOKUP(A639,Subcontractors!$A$2:$B$2,2,FALSE),\"\")","v":""}]
[null,null,null,null,null,null,null,null,null,null,null,null,null,null,null,null,null,null,null,null,null,{"$f":"IF(LEN(X640)>0,VLOOKUP(X640,'TFW Programs'!$A$2:$B$24,2,FALSE),\"\")","v":""},null,null,{"$f":"IF(LEN(A640)>0,VLOOKUP(A640,Subcontractors!$A$2:$B$3,2,FALSE),\"\")","v":""},null,{"$f":"IF(LEN(A640)>0,VLOOKUP(A640,Subcontractors!$A$2:$B$2,2,FALSE),\"\")","v":""}]
[null,null,null,null,null,null,null,null,null,null,null,null,null,null,null,null,null,null,null,null,null,{"$f":"IF(LEN(X641)>0,VLOOKUP(X641,'TFW Programs'!$A$2:$B$24,2,FALSE),\"\")","v":""},null,null,{"$f":"IF(LEN(A641)>0,VLOOKUP(A641,Subcontractors!$A$2:$B$3,2,FALSE),\"\")","v":""},null,{"$f":"IF(LEN(A641)>0,VLOOKUP(A641,Subcontractors!$A$2:$B$2,2,FALSE),\"\")","v":""}]
[null,null,null,null,null,null,null,null,null,null,null,null,null,null,null,null,null,null,null,null,null,{"$f":"IF(LEN(X642)>0,VLOOKUP(X642,'TFW Programs'!$A$2:$B$24,2,FALSE),\"\")","v":""},null,null,{"$f":"IF(LEN(A642)>0,VLOOKUP(A642,Subcontractors!$A$2:$B$3,2,FALSE),\"\")","v":""},null,{"$f":"IF(LEN(A642)>0,VLOOKUP(A642,Subcontractors!$A$2:$B$2,2,FALSE),\"\")","v":""}]
[null,null,null,null,null,null,null,null,null,null,null,null,null,null,null,null,null,null,null,null,null,{"$f":"IF(LEN(X643)>0,VLOOKUP(X643,'TFW Programs'!$A$2:$B$24,2,FALSE),\"\")","v":""},null,null,{"$f":"IF(LEN(A643)>0,VLOOKUP(A643,Subcontractors!$A$2:$B$3,2,FALSE),\"\")","v":""},null,{"$f":"IF(LEN(A643)>0,VLOOKUP(A643,Subcontractors!$A$2:$B$2,2,FALSE),\"\")","v":""}]
[null,null,null,null,null,null,null,null,null,null,null,null,null,null,null,null,null,null,null,null,null,{"$f":"IF(LEN(X644)>0,VLOOKUP(X644,'TFW Programs'!$A$2:$B$24,2,FALSE),\"\")","v":""},null,null,{"$f":"IF(LEN(A644)>0,VLOOKUP(A644,Subcontractors!$A$2:$B$3,2,FALSE),\"\")","v":""},null,{"$f":"IF(LEN(A644)>0,VLOOKUP(A644,Subcontractors!$A$2:$B$2,2,FALSE),\"\")","v":""}]
[null,null,null,null,null,null,null,null,null,null,null,null,null,null,null,null,null,null,null,null,null,{"$f":"IF(LEN(X645)>0,VLOOKUP(X645,'TFW Programs'!$A$2:$B$24,2,FALSE),\"\")","v":""},null,null,{"$f":"IF(LEN(A645)>0,VLOOKUP(A645,Subcontractors!$A$2:$B$3,2,FALSE),\"\")","v":""},null,{"$f":"IF(LEN(A645)>0,VLOOKUP(A645,Subcontractors!$A$2:$B$2,2,FALSE),\"\")","v":""}]
[null,null,null,null,null,null,null,null,null,null,null,null,null,null,null,null,null,null,null,null,null,{"$f":"IF(LEN(X646)>0,VLOOKUP(X646,'TFW Programs'!$A$2:$B$24,2,FALSE),\"\")","v":""},null,null,{"$f":"IF(LEN(A646)>0,VLOOKUP(A646,Subcontractors!$A$2:$B$3,2,FALSE),\"\")","v":""},null,{"$f":"IF(LEN(A646)>0,VLOOKUP(A646,Subcontractors!$A$2:$B$2,2,FALSE),\"\")","v":""}]
[null,null,null,null,null,null,null,null,null,null,null,null,null,null,null,null,null,null,null,null,null,{"$f":"IF(LEN(X647)>0,VLOOKUP(X647,'TFW Programs'!$A$2:$B$24,2,FALSE),\"\")","v":""},null,null,{"$f":"IF(LEN(A647)>0,VLOOKUP(A647,Subcontractors!$A$2:$B$3,2,FALSE),\"\")","v":""},null,{"$f":"IF(LEN(A647)>0,VLOOKUP(A647,Subcontractors!$A$2:$B$2,2,FALSE),\"\")","v":""}]
[null,null,null,null,null,null,null,null,null,null,null,null,null,null,null,null,null,null,null,null,null,{"$f":"IF(LEN(X648)>0,VLOOKUP(X648,'TFW Programs'!$A$2:$B$24,2,FALSE),\"\")","v":""},null,null,{"$f":"IF(LEN(A648)>0,VLOOKUP(A648,Subcontractors!$A$2:$B$3,2,FALSE),\"\")","v":""},null,{"$f":"IF(LEN(A648)>0,VLOOKUP(A648,Subcontractors!$A$2:$B$2,2,FALSE),\"\")","v":""}]
[null,null,null,null,null,null,null,null,null,null,null,null,null,null,null,null,null,null,null,null,null,{"$f":"IF(LEN(X649)>0,VLOOKUP(X649,'TFW Programs'!$A$2:$B$24,2,FALSE),\"\")","v":""},null,null,{"$f":"IF(LEN(A649)>0,VLOOKUP(A649,Subcontractors!$A$2:$B$3,2,FALSE),\"\")","v":""},null,{"$f":"IF(LEN(A649)>0,VLOOKUP(A649,Subcontractors!$A$2:$B$2,2,FALSE),\"\")","v":""}]
[null,null,null,null,null,null,null,null,null,null,null,null,null,null,null,null,null,null,null,null,null,{"$f":"IF(LEN(X650)>0,VLOOKUP(X650,'TFW Programs'!$A$2:$B$24,2,FALSE),\"\")","v":""},null,null,{"$f":"IF(LEN(A650)>0,VLOOKUP(A650,Subcontractors!$A$2:$B$3,2,FALSE),\"\")","v":""},null,{"$f":"IF(LEN(A650)>0,VLOOKUP(A650,Subcontractors!$A$2:$B$2,2,FALSE),\"\")","v":""}]
[null,null,null,null,null,null,null,null,null,null,null,null,null,null,null,null,null,null,null,null,null,{"$f":"IF(LEN(X651)>0,VLOOKUP(X651,'TFW Programs'!$A$2:$B$24,2,FALSE),\"\")","v":""},null,null,{"$f":"IF(LEN(A651)>0,VLOOKUP(A651,Subcontractors!$A$2:$B$3,2,FALSE),\"\")","v":""},null,{"$f":"IF(LEN(A651)>0,VLOOKUP(A651,Subcontractors!$A$2:$B$2,2,FALSE),\"\")","v":""}]
[null,null,null,null,null,null,null,null,null,null,null,null,null,null,null,null,null,null,null,null,null,{"$f":"IF(LEN(X652)>0,VLOOKUP(X652,'TFW Programs'!$A$2:$B$24,2,FALSE),\"\")","v":""},null,null,{"$f":"IF(LEN(A652)>0,VLOOKUP(A652,Subcontractors!$A$2:$B$3,2,FALSE),\"\")","v":""},null,{"$f":"IF(LEN(A652)>0,VLOOKUP(A652,Subcontractors!$A$2:$B$2,2,FALSE),\"\")","v":""}]
[null,null,null,null,null,null,null,null,null,null,null,null,null,null,null,null,null,null,null,null,null,{"$f":"IF(LEN(X653)>0,VLOOKUP(X653,'TFW Programs'!$A$2:$B$24,2,FALSE),\"\")","v":""},null,null,{"$f":"IF(LEN(A653)>0,VLOOKUP(A653,Subcontractors!$A$2:$B$3,2,FALSE),\"\")","v":""},null,{"$f":"IF(LEN(A653)>0,VLOOKUP(A653,Subcontractors!$A$2:$B$2,2,FALSE),\"\")","v":""}]
[null,null,null,null,null,null,null,null,null,null,null,null,null,null,null,null,null,null,null,null,null,{"$f":"IF(LEN(X654)>0,VLOOKUP(X654,'TFW Programs'!$A$2:$B$24,2,FALSE),\"\")","v":""},null,null,{"$f":"IF(LEN(A654)>0,VLOOKUP(A654,Subcontractors!$A$2:$B$3,2,FALSE),\"\")","v":""},null,{"$f":"IF(LEN(A654)>0,VLOOKUP(A654,Subcontractors!$A$2:$B$2,2,FALSE),\"\")","v":""}]
[null,null,null,null,null,null,null,null,null,null,null,null,null,null,null,null,null,null,null,null,null,{"$f":"IF(LEN(X655)>0,VLOOKUP(X655,'TFW Programs'!$A$2:$B$24,2,FALSE),\"\")","v":""},null,null,{"$f":"IF(LEN(A655)>0,VLOOKUP(A655,Subcontractors!$A$2:$B$3,2,FALSE),\"\")","v":""},null,{"$f":"IF(LEN(A655)>0,VLOOKUP(A655,Subcontractors!$A$2:$B$2,2,FALSE),\"\")","v":""}]
[null,null,null,null,null,null,null,null,null,null,null,null,null,null,null,null,null,null,null,null,null,{"$f":"IF(LEN(X656)>0,VLOOKUP(X656,'TFW Programs'!$A$2:$B$24,2,FALSE),\"\")","v":""},null,null,{"$f":"IF(LEN(A656)>0,VLOOKUP(A656,Subcontractors!$A$2:$B$3,2,FALSE),\"\")","v":""},null,{"$f":"IF(LEN(A656)>0,VLOOKUP(A656,Subcontractors!$A$2:$B$2,2,FALSE),\"\")","v":""}]
[null,null,null,null,null,null,null,null,null,null,null,null,null,null,null,null,null,null,null,null,null,{"$f":"IF(LEN(X657)>0,VLOOKUP(X657,'TFW Programs'!$A$2:$B$24,2,FALSE),\"\")","v":""},null,null,{"$f":"IF(LEN(A657)>0,VLOOKUP(A657,Subcontractors!$A$2:$B$3,2,FALSE),\"\")","v":""},null,{"$f":"IF(LEN(A657)>0,VLOOKUP(A657,Subcontractors!$A$2:$B$2,2,FALSE),\"\")","v":""}]
[null,null,null,null,null,null,null,null,null,null,null,null,null,null,null,null,null,null,null,null,null,{"$f":"IF(LEN(X658)>0,VLOOKUP(X658,'TFW Programs'!$A$2:$B$24,2,FALSE),\"\")","v":""},null,null,{"$f":"IF(LEN(A658)>0,VLOOKUP(A658,Subcontractors!$A$2:$B$3,2,FALSE),\"\")","v":""},null,{"$f":"IF(LEN(A658)>0,VLOOKUP(A658,Subcontractors!$A$2:$B$2,2,FALSE),\"\")","v":""}]
[null,null,null,null,null,null,null,null,null,null,null,null,null,null,null,null,null,null,null,null,null,{"$f":"IF(LEN(X659)>0,VLOOKUP(X659,'TFW Programs'!$A$2:$B$24,2,FALSE),\"\")","v":""},null,null,{"$f":"IF(LEN(A659)>0,VLOOKUP(A659,Subcontractors!$A$2:$B$3,2,FALSE),\"\")","v":""},null,{"$f":"IF(LEN(A659)>0,VLOOKUP(A659,Subcontractors!$A$2:$B$2,2,FALSE),\"\")","v":""}]
[null,null,null,null,null,null,null,null,null,null,null,null,null,null,null,null,null,null,null,null,null,{"$f":"IF(LEN(X660)>0,VLOOKUP(X660,'TFW Programs'!$A$2:$B$24,2,FALSE),\"\")","v":""},null,null,{"$f":"IF(LEN(A660)>0,VLOOKUP(A660,Subcontractors!$A$2:$B$3,2,FALSE),\"\")","v":""},null,{"$f":"IF(LEN(A660)>0,VLOOKUP(A660,Subcontractors!$A$2:$B$2,2,FALSE),\"\")","v":""}]
[null,null,null,null,null,null,null,null,null,null,null,null,null,null,null,null,null,null,null,null,null,{"$f":"IF(LEN(X661)>0,VLOOKUP(X661,'TFW Programs'!$A$2:$B$24,2,FALSE),\"\")","v":""},null,null,{"$f":"IF(LEN(A661)>0,VLOOKUP(A661,Subcontractors!$A$2:$B$3,2,FALSE),\"\")","v":""},null,{"$f":"IF(LEN(A661)>0,VLOOKUP(A661,Subcontractors!$A$2:$B$2,2,FALSE),\"\")","v":""}]
[null,null,null,null,null,null,null,null,null,null,null,null,null,null,null,null,null,null,null,null,null,{"$f":"IF(LEN(X662)>0,VLOOKUP(X662,'TFW Programs'!$A$2:$B$24,2,FALSE),\"\")","v":""},null,null,{"$f":"IF(LEN(A662)>0,VLOOKUP(A662,Subcontractors!$A$2:$B$3,2,FALSE),\"\")","v":""},null,{"$f":"IF(LEN(A662)>0,VLOOKUP(A662,Subcontractors!$A$2:$B$2,2,FALSE),\"\")","v":""}]
[null,null,null,null,null,null,null,null,null,null,null,null,null,null,null,null,null,null,null,null,null,{"$f":"IF(LEN(X663)>0,VLOOKUP(X663,'TFW Programs'!$A$2:$B$24,2,FALSE),\"\")","v":""},null,null,{"$f":"IF(LEN(A663)>0,VLOOKUP(A663,Subcontractors!$A$2:$B$3,2,FALSE),\"\")","v":""},null,{"$f":"IF(LEN(A663)>0,VLOOKUP(A663,Subcontractors!$A$2:$B$2,2,FALSE),\"\")","v":""}]
[null,null,null,null,null,null,null,null,null,null,null,null,null,null,null,null,null,null,null,null,null,{"$f":"IF(LEN(X664)>0,VLOOKUP(X664,'TFW Programs'!$A$2:$B$24,2,FALSE),\"\")","v":""},null,null,{"$f":"IF(LEN(A664)>0,VLOOKUP(A664,Subcontractors!$A$2:$B$3,2,FALSE),\"\")","v":""},null,{"$f":"IF(LEN(A664)>0,VLOOKUP(A664,Subcontractors!$A$2:$B$2,2,FALSE),\"\")","v":""}]
[null,null,null,null,null,null,null,null,null,null,null,null,null,null,null,null,null,null,null,null,null,{"$f":"IF(LEN(X665)>0,VLOOKUP(X665,'TFW Programs'!$A$2:$B$24,2,FALSE),\"\")","v":""},null,null,{"$f":"IF(LEN(A665)>0,VLOOKUP(A665,Subcontractors!$A$2:$B$3,2,FALSE),\"\")","v":""},null,{"$f":"IF(LEN(A665)>0,VLOOKUP(A665,Subcontractors!$A$2:$B$2,2,FALSE),\"\")","v":""}]
[null,null,null,null,null,null,null,null,null,null,null,null,null,null,null,null,null,null,null,null,null,{"$f":"IF(LEN(X666)>0,VLOOKUP(X666,'TFW Programs'!$A$2:$B$24,2,FALSE),\"\")","v":""},null,null,{"$f":"IF(LEN(A666)>0,VLOOKUP(A666,Subcontractors!$A$2:$B$3,2,FALSE),\"\")","v":""},null,{"$f":"IF(LEN(A666)>0,VLOOKUP(A666,Subcontractors!$A$2:$B$2,2,FALSE),\"\")","v":""}]
[null,null,null,null,null,null,null,null,null,null,null,null,null,null,null,null,null,null,null,null,null,{"$f":"IF(LEN(X667)>0,VLOOKUP(X667,'TFW Programs'!$A$2:$B$24,2,FALSE),\"\")","v":""},null,null,{"$f":"IF(LEN(A667)>0,VLOOKUP(A667,Subcontractors!$A$2:$B$3,2,FALSE),\"\")","v":""},null,{"$f":"IF(LEN(A667)>0,VLOOKUP(A667,Subcontractors!$A$2:$B$2,2,FALSE),\"\")","v":""}]
[null,null,null,null,null,null,null,null,null,null,null,null,null,null,null,null,null,null,null,null,null,{"$f":"IF(LEN(X668)>0,VLOOKUP(X668,'TFW Programs'!$A$2:$B$24,2,FALSE),\"\")","v":""},null,null,{"$f":"IF(LEN(A668)>0,VLOOKUP(A668,Subcontractors!$A$2:$B$3,2,FALSE),\"\")","v":""},null,{"$f":"IF(LEN(A668)>0,VLOOKUP(A668,Subcontractors!$A$2:$B$2,2,FALSE),\"\")","v":""}]
[null,null,null,null,null,null,null,null,null,null,null,null,null,null,null,null,null,null,null,null,null,{"$f":"IF(LEN(X669)>0,VLOOKUP(X669,'TFW Programs'!$A$2:$B$24,2,FALSE),\"\")","v":""},null,null,{"$f":"IF(LEN(A669)>0,VLOOKUP(A669,Subcontractors!$A$2:$B$3,2,FALSE),\"\")","v":""},null,{"$f":"IF(LEN(A669)>0,VLOOKUP(A669,Subcontractors!$A$2:$B$2,2,FALSE),\"\")","v":""}]
[null,null,null,null,null,null,null,null,null,null,null,null,null,null,null,null,null,null,null,null,null,{"$f":"IF(LEN(X670)>0,VLOOKUP(X670,'TFW Programs'!$A$2:$B$24,2,FALSE),\"\")","v":""},null,null,{"$f":"IF(LEN(A670)>0,VLOOKUP(A670,Subcontractors!$A$2:$B$3,2,FALSE),\"\")","v":""},null,{"$f":"IF(LEN(A670)>0,VLOOKUP(A670,Subcontractors!$A$2:$B$2,2,FALSE),\"\")","v":""}]
[null,null,null,null,null,null,null,null,null,null,null,null,null,null,null,null,null,null,null,null,null,{"$f":"IF(LEN(X671)>0,VLOOKUP(X671,'TFW Programs'!$A$2:$B$24,2,FALSE),\"\")","v":""},null,null,{"$f":"IF(LEN(A671)>0,VLOOKUP(A671,Subcontractors!$A$2:$B$3,2,FALSE),\"\")","v":""},null,{"$f":"IF(LEN(A671)>0,VLOOKUP(A671,Subcontractors!$A$2:$B$2,2,FALSE),\"\")","v":""}]
[null,null,null,null,null,null,null,null,null,null,null,null,null,null,null,null,null,null,null,null,null,{"$f":"IF(LEN(X672)>0,VLOOKUP(X672,'TFW Programs'!$A$2:$B$24,2,FALSE),\"\")","v":""},null,null,{"$f":"IF(LEN(A672)>0,VLOOKUP(A672,Subcontractors!$A$2:$B$3,2,FALSE),\"\")","v":""},null,{"$f":"IF(LEN(A672)>0,VLOOKUP(A672,Subcontractors!$A$2:$B$2,2,FALSE),\"\")","v":""}]
[null,null,null,null,null,null,null,null,null,null,null,null,null,null,null,null,null,null,null,null,null,{"$f":"IF(LEN(X673)>0,VLOOKUP(X673,'TFW Programs'!$A$2:$B$24,2,FALSE),\"\")","v":""},null,null,{"$f":"IF(LEN(A673)>0,VLOOKUP(A673,Subcontractors!$A$2:$B$3,2,FALSE),\"\")","v":""},null,{"$f":"IF(LEN(A673)>0,VLOOKUP(A673,Subcontractors!$A$2:$B$2,2,FALSE),\"\")","v":""}]
[null,null,null,null,null,null,null,null,null,null,null,null,null,null,null,null,null,null,null,null,null,{"$f":"IF(LEN(X674)>0,VLOOKUP(X674,'TFW Programs'!$A$2:$B$24,2,FALSE),\"\")","v":""},null,null,{"$f":"IF(LEN(A674)>0,VLOOKUP(A674,Subcontractors!$A$2:$B$3,2,FALSE),\"\")","v":""},null,{"$f":"IF(LEN(A674)>0,VLOOKUP(A674,Subcontractors!$A$2:$B$2,2,FALSE),\"\")","v":""}]
[null,null,null,null,null,null,null,null,null,null,null,null,null,null,null,null,null,null,null,null,null,{"$f":"IF(LEN(X675)>0,VLOOKUP(X675,'TFW Programs'!$A$2:$B$24,2,FALSE),\"\")","v":""},null,null,{"$f":"IF(LEN(A675)>0,VLOOKUP(A675,Subcontractors!$A$2:$B$3,2,FALSE),\"\")","v":""},null,{"$f":"IF(LEN(A675)>0,VLOOKUP(A675,Subcontractors!$A$2:$B$2,2,FALSE),\"\")","v":""}]
[null,null,null,null,null,null,null,null,null,null,null,null,null,null,null,null,null,null,null,null,null,{"$f":"IF(LEN(X676)>0,VLOOKUP(X676,'TFW Programs'!$A$2:$B$24,2,FALSE),\"\")","v":""},null,null,{"$f":"IF(LEN(A676)>0,VLOOKUP(A676,Subcontractors!$A$2:$B$3,2,FALSE),\"\")","v":""},null,{"$f":"IF(LEN(A676)>0,VLOOKUP(A676,Subcontractors!$A$2:$B$2,2,FALSE),\"\")","v":""}]
[null,null,null,null,null,null,null,null,null,null,null,null,null,null,null,null,null,null,null,null,null,{"$f":"IF(LEN(X677)>0,VLOOKUP(X677,'TFW Programs'!$A$2:$B$24,2,FALSE),\"\")","v":""},null,null,{"$f":"IF(LEN(A677)>0,VLOOKUP(A677,Subcontractors!$A$2:$B$3,2,FALSE),\"\")","v":""},null,{"$f":"IF(LEN(A677)>0,VLOOKUP(A677,Subcontractors!$A$2:$B$2,2,FALSE),\"\")","v":""}]
[null,null,null,null,null,null,null,null,null,null,null,null,null,null,null,null,null,null,null,null,null,{"$f":"IF(LEN(X678)>0,VLOOKUP(X678,'TFW Programs'!$A$2:$B$24,2,FALSE),\"\")","v":""},null,null,{"$f":"IF(LEN(A678)>0,VLOOKUP(A678,Subcontractors!$A$2:$B$3,2,FALSE),\"\")","v":""},null,{"$f":"IF(LEN(A678)>0,VLOOKUP(A678,Subcontractors!$A$2:$B$2,2,FALSE),\"\")","v":""}]
[null,null,null,null,null,null,null,null,null,null,null,null,null,null,null,null,null,null,null,null,null,{"$f":"IF(LEN(X679)>0,VLOOKUP(X679,'TFW Programs'!$A$2:$B$24,2,FALSE),\"\")","v":""},null,null,{"$f":"IF(LEN(A679)>0,VLOOKUP(A679,Subcontractors!$A$2:$B$3,2,FALSE),\"\")","v":""},null,{"$f":"IF(LEN(A679)>0,VLOOKUP(A679,Subcontractors!$A$2:$B$2,2,FALSE),\"\")","v":""}]
[null,null,null,null,null,null,null,null,null,null,null,null,null,null,null,null,null,null,null,null,null,{"$f":"IF(LEN(X680)>0,VLOOKUP(X680,'TFW Programs'!$A$2:$B$24,2,FALSE),\"\")","v":""},null,null,{"$f":"IF(LEN(A680)>0,VLOOKUP(A680,Subcontractors!$A$2:$B$3,2,FALSE),\"\")","v":""},null,{"$f":"IF(LEN(A680)>0,VLOOKUP(A680,Subcontractors!$A$2:$B$2,2,FALSE),\"\")","v":""}]
[null,null,null,null,null,null,null,null,null,null,null,null,null,null,null,null,null,null,null,null,null,{"$f":"IF(LEN(X681)>0,VLOOKUP(X681,'TFW Programs'!$A$2:$B$24,2,FALSE),\"\")","v":""},null,null,{"$f":"IF(LEN(A681)>0,VLOOKUP(A681,Subcontractors!$A$2:$B$3,2,FALSE),\"\")","v":""},null,{"$f":"IF(LEN(A681)>0,VLOOKUP(A681,Subcontractors!$A$2:$B$2,2,FALSE),\"\")","v":""}]
[null,null,null,null,null,null,null,null,null,null,null,null,null,null,null,null,null,null,null,null,null,{"$f":"IF(LEN(X682)>0,VLOOKUP(X682,'TFW Programs'!$A$2:$B$24,2,FALSE),\"\")","v":""},null,null,{"$f":"IF(LEN(A682)>0,VLOOKUP(A682,Subcontractors!$A$2:$B$3,2,FALSE),\"\")","v":""},null,{"$f":"IF(LEN(A682)>0,VLOOKUP(A682,Subcontractors!$A$2:$B$2,2,FALSE),\"\")","v":""}]
[null,null,null,null,null,null,null,null,null,null,null,null,null,null,null,null,null,null,null,null,null,{"$f":"IF(LEN(X683)>0,VLOOKUP(X683,'TFW Programs'!$A$2:$B$24,2,FALSE),\"\")","v":""},null,null,{"$f":"IF(LEN(A683)>0,VLOOKUP(A683,Subcontractors!$A$2:$B$3,2,FALSE),\"\")","v":""},null,{"$f":"IF(LEN(A683)>0,VLOOKUP(A683,Subcontractors!$A$2:$B$2,2,FALSE),\"\")","v":""}]
[null,null,null,null,null,null,null,null,null,null,null,null,null,null,null,null,null,null,null,null,null,{"$f":"IF(LEN(X684)>0,VLOOKUP(X684,'TFW Programs'!$A$2:$B$24,2,FALSE),\"\")","v":""},null,null,{"$f":"IF(LEN(A684)>0,VLOOKUP(A684,Subcontractors!$A$2:$B$3,2,FALSE),\"\")","v":""},null,{"$f":"IF(LEN(A684)>0,VLOOKUP(A684,Subcontractors!$A$2:$B$2,2,FALSE),\"\")","v":""}]
[null,null,null,null,null,null,null,null,null,null,null,null,null,null,null,null,null,null,null,null,null,{"$f":"IF(LEN(X685)>0,VLOOKUP(X685,'TFW Programs'!$A$2:$B$24,2,FALSE),\"\")","v":""},null,null,{"$f":"IF(LEN(A685)>0,VLOOKUP(A685,Subcontractors!$A$2:$B$3,2,FALSE),\"\")","v":""},null,{"$f":"IF(LEN(A685)>0,VLOOKUP(A685,Subcontractors!$A$2:$B$2,2,FALSE),\"\")","v":""}]
[null,null,null,null,null,null,null,null,null,null,null,null,null,null,null,null,null,null,null,null,null,{"$f":"IF(LEN(X686)>0,VLOOKUP(X686,'TFW Programs'!$A$2:$B$24,2,FALSE),\"\")","v":""},null,null,{"$f":"IF(LEN(A686)>0,VLOOKUP(A686,Subcontractors!$A$2:$B$3,2,FALSE),\"\")","v":""},null,{"$f":"IF(LEN(A686)>0,VLOOKUP(A686,Subcontractors!$A$2:$B$2,2,FALSE),\"\")","v":""}]
[null,null,null,null,null,null,null,null,null,null,null,null,null,null,null,null,null,null,null,null,null,{"$f":"IF(LEN(X687)>0,VLOOKUP(X687,'TFW Programs'!$A$2:$B$24,2,FALSE),\"\")","v":""},null,null,{"$f":"IF(LEN(A687)>0,VLOOKUP(A687,Subcontractors!$A$2:$B$3,2,FALSE),\"\")","v":""},null,{"$f":"IF(LEN(A687)>0,VLOOKUP(A687,Subcontractors!$A$2:$B$2,2,FALSE),\"\")","v":""}]
[null,null,null,null,null,null,null,null,null,null,null,null,null,null,null,null,null,null,null,null,null,{"$f":"IF(LEN(X688)>0,VLOOKUP(X688,'TFW Programs'!$A$2:$B$24,2,FALSE),\"\")","v":""},null,null,{"$f":"IF(LEN(A688)>0,VLOOKUP(A688,Subcontractors!$A$2:$B$3,2,FALSE),\"\")","v":""},null,{"$f":"IF(LEN(A688)>0,VLOOKUP(A688,Subcontractors!$A$2:$B$2,2,FALSE),\"\")","v":""}]
[null,null,null,null,null,null,null,null,null,null,null,null,null,null,null,null,null,null,null,null,null,{"$f":"IF(LEN(X689)>0,VLOOKUP(X689,'TFW Programs'!$A$2:$B$24,2,FALSE),\"\")","v":""},null,null,{"$f":"IF(LEN(A689)>0,VLOOKUP(A689,Subcontractors!$A$2:$B$3,2,FALSE),\"\")","v":""},null,{"$f":"IF(LEN(A689)>0,VLOOKUP(A689,Subcontractors!$A$2:$B$2,2,FALSE),\"\")","v":""}]
[null,null,null,null,null,null,null,null,null,null,null,null,null,null,null,null,null,null,null,null,null,{"$f":"IF(LEN(X690)>0,VLOOKUP(X690,'TFW Programs'!$A$2:$B$24,2,FALSE),\"\")","v":""},null,null,{"$f":"IF(LEN(A690)>0,VLOOKUP(A690,Subcontractors!$A$2:$B$3,2,FALSE),\"\")","v":""},null,{"$f":"IF(LEN(A690)>0,VLOOKUP(A690,Subcontractors!$A$2:$B$2,2,FALSE),\"\")","v":""}]
[null,null,null,null,null,null,null,null,null,null,null,null,null,null,null,null,null,null,null,null,null,{"$f":"IF(LEN(X691)>0,VLOOKUP(X691,'TFW Programs'!$A$2:$B$24,2,FALSE),\"\")","v":""},null,null,{"$f":"IF(LEN(A691)>0,VLOOKUP(A691,Subcontractors!$A$2:$B$3,2,FALSE),\"\")","v":""},null,{"$f":"IF(LEN(A691)>0,VLOOKUP(A691,Subcontractors!$A$2:$B$2,2,FALSE),\"\")","v":""}]
[null,null,null,null,null,null,null,null,null,null,null,null,null,null,null,null,null,null,null,null,null,{"$f":"IF(LEN(X692)>0,VLOOKUP(X692,'TFW Programs'!$A$2:$B$24,2,FALSE),\"\")","v":""},null,null,{"$f":"IF(LEN(A692)>0,VLOOKUP(A692,Subcontractors!$A$2:$B$3,2,FALSE),\"\")","v":""},null,{"$f":"IF(LEN(A692)>0,VLOOKUP(A692,Subcontractors!$A$2:$B$2,2,FALSE),\"\")","v":""}]
[null,null,null,null,null,null,null,null,null,null,null,null,null,null,null,null,null,null,null,null,null,{"$f":"IF(LEN(X693)>0,VLOOKUP(X693,'TFW Programs'!$A$2:$B$24,2,FALSE),\"\")","v":""},null,null,{"$f":"IF(LEN(A693)>0,VLOOKUP(A693,Subcontractors!$A$2:$B$3,2,FALSE),\"\")","v":""},null,{"$f":"IF(LEN(A693)>0,VLOOKUP(A693,Subcontractors!$A$2:$B$2,2,FALSE),\"\")","v":""}]
[null,null,null,null,null,null,null,null,null,null,null,null,null,null,null,null,null,null,null,null,null,{"$f":"IF(LEN(X694)>0,VLOOKUP(X694,'TFW Programs'!$A$2:$B$24,2,FALSE),\"\")","v":""},null,null,{"$f":"IF(LEN(A694)>0,VLOOKUP(A694,Subcontractors!$A$2:$B$3,2,FALSE),\"\")","v":""},null,{"$f":"IF(LEN(A694)>0,VLOOKUP(A694,Subcontractors!$A$2:$B$2,2,FALSE),\"\")","v":""}]
[null,null,null,null,null,null,null,null,null,null,null,null,null,null,null,null,null,null,null,null,null,{"$f":"IF(LEN(X695)>0,VLOOKUP(X695,'TFW Programs'!$A$2:$B$24,2,FALSE),\"\")","v":""},null,null,{"$f":"IF(LEN(A695)>0,VLOOKUP(A695,Subcontractors!$A$2:$B$3,2,FALSE),\"\")","v":""},null,{"$f":"IF(LEN(A695)>0,VLOOKUP(A695,Subcontractors!$A$2:$B$2,2,FALSE),\"\")","v":""}]
[null,null,null,null,null,null,null,null,null,null,null,null,null,null,null,null,null,null,null,null,null,{"$f":"IF(LEN(X696)>0,VLOOKUP(X696,'TFW Programs'!$A$2:$B$24,2,FALSE),\"\")","v":""},null,null,{"$f":"IF(LEN(A696)>0,VLOOKUP(A696,Subcontractors!$A$2:$B$3,2,FALSE),\"\")","v":""},null,{"$f":"IF(LEN(A696)>0,VLOOKUP(A696,Subcontractors!$A$2:$B$2,2,FALSE),\"\")","v":""}]
[null,null,null,null,null,null,null,null,null,null,null,null,null,null,null,null,null,null,null,null,null,{"$f":"IF(LEN(X697)>0,VLOOKUP(X697,'TFW Programs'!$A$2:$B$24,2,FALSE),\"\")","v":""},null,null,{"$f":"IF(LEN(A697)>0,VLOOKUP(A697,Subcontractors!$A$2:$B$3,2,FALSE),\"\")","v":""},null,{"$f":"IF(LEN(A697)>0,VLOOKUP(A697,Subcontractors!$A$2:$B$2,2,FALSE),\"\")","v":""}]
[null,null,null,null,null,null,null,null,null,null,null,null,null,null,null,null,null,null,null,null,null,{"$f":"IF(LEN(X698)>0,VLOOKUP(X698,'TFW Programs'!$A$2:$B$24,2,FALSE),\"\")","v":""},null,null,{"$f":"IF(LEN(A698)>0,VLOOKUP(A698,Subcontractors!$A$2:$B$3,2,FALSE),\"\")","v":""},null,{"$f":"IF(LEN(A698)>0,VLOOKUP(A698,Subcontractors!$A$2:$B$2,2,FALSE),\"\")","v":""}]
[null,null,null,null,null,null,null,null,null,null,null,null,null,null,null,null,null,null,null,null,null,{"$f":"IF(LEN(X699)>0,VLOOKUP(X699,'TFW Programs'!$A$2:$B$24,2,FALSE),\"\")","v":""},null,null,{"$f":"IF(LEN(A699)>0,VLOOKUP(A699,Subcontractors!$A$2:$B$3,2,FALSE),\"\")","v":""},null,{"$f":"IF(LEN(A699)>0,VLOOKUP(A699,Subcontractors!$A$2:$B$2,2,FALSE),\"\")","v":""}]
[null,null,null,null,null,null,null,null,null,null,null,null,null,null,null,null,null,null,null,null,null,{"$f":"IF(LEN(X700)>0,VLOOKUP(X700,'TFW Programs'!$A$2:$B$24,2,FALSE),\"\")","v":""},null,null,{"$f":"IF(LEN(A700)>0,VLOOKUP(A700,Subcontractors!$A$2:$B$3,2,FALSE),\"\")","v":""},null,{"$f":"IF(LEN(A700)>0,VLOOKUP(A700,Subcontractors!$A$2:$B$2,2,FALSE),\"\")","v":""}]
[null,null,null,null,null,null,null,null,null,null,null,null,null,null,null,null,null,null,null,null,null,{"$f":"IF(LEN(X701)>0,VLOOKUP(X701,'TFW Programs'!$A$2:$B$24,2,FALSE),\"\")","v":""},null,null,{"$f":"IF(LEN(A701)>0,VLOOKUP(A701,Subcontractors!$A$2:$B$3,2,FALSE),\"\")","v":""},null,{"$f":"IF(LEN(A701)>0,VLOOKUP(A701,Subcontractors!$A$2:$B$2,2,FALSE),\"\")","v":""}]
[null,null,null,null,null,null,null,null,null,null,null,null,null,null,null,null,null,null,null,null,null,{"$f":"IF(LEN(X702)>0,VLOOKUP(X702,'TFW Programs'!$A$2:$B$24,2,FALSE),\"\")","v":""},null,null,{"$f":"IF(LEN(A702)>0,VLOOKUP(A702,Subcontractors!$A$2:$B$3,2,FALSE),\"\")","v":""},null,{"$f":"IF(LEN(A702)>0,VLOOKUP(A702,Subcontractors!$A$2:$B$2,2,FALSE),\"\")","v":""}]
[null,null,null,null,null,null,null,null,null,null,null,null,null,null,null,null,null,null,null,null,null,{"$f":"IF(LEN(X703)>0,VLOOKUP(X703,'TFW Programs'!$A$2:$B$24,2,FALSE),\"\")","v":""},null,null,{"$f":"IF(LEN(A703)>0,VLOOKUP(A703,Subcontractors!$A$2:$B$3,2,FALSE),\"\")","v":""},null,{"$f":"IF(LEN(A703)>0,VLOOKUP(A703,Subcontractors!$A$2:$B$2,2,FALSE),\"\")","v":""}]
[null,null,null,null,null,null,null,null,null,null,null,null,null,null,null,null,null,null,null,null,null,{"$f":"IF(LEN(X704)>0,VLOOKUP(X704,'TFW Programs'!$A$2:$B$24,2,FALSE),\"\")","v":""},null,null,{"$f":"IF(LEN(A704)>0,VLOOKUP(A704,Subcontractors!$A$2:$B$3,2,FALSE),\"\")","v":""},null,{"$f":"IF(LEN(A704)>0,VLOOKUP(A704,Subcontractors!$A$2:$B$2,2,FALSE),\"\")","v":""}]
[null,null,null,null,null,null,null,null,null,null,null,null,null,null,null,null,null,null,null,null,null,{"$f":"IF(LEN(X705)>0,VLOOKUP(X705,'TFW Programs'!$A$2:$B$24,2,FALSE),\"\")","v":""},null,null,{"$f":"IF(LEN(A705)>0,VLOOKUP(A705,Subcontractors!$A$2:$B$3,2,FALSE),\"\")","v":""},null,{"$f":"IF(LEN(A705)>0,VLOOKUP(A705,Subcontractors!$A$2:$B$2,2,FALSE),\"\")","v":""}]
[null,null,null,null,null,null,null,null,null,null,null,null,null,null,null,null,null,null,null,null,null,{"$f":"IF(LEN(X706)>0,VLOOKUP(X706,'TFW Programs'!$A$2:$B$24,2,FALSE),\"\")","v":""},null,null,{"$f":"IF(LEN(A706)>0,VLOOKUP(A706,Subcontractors!$A$2:$B$3,2,FALSE),\"\")","v":""},null,{"$f":"IF(LEN(A706)>0,VLOOKUP(A706,Subcontractors!$A$2:$B$2,2,FALSE),\"\")","v":""}]
[null,null,null,null,null,null,null,null,null,null,null,null,null,null,null,null,null,null,null,null,null,{"$f":"IF(LEN(X707)>0,VLOOKUP(X707,'TFW Programs'!$A$2:$B$24,2,FALSE),\"\")","v":""},null,null,{"$f":"IF(LEN(A707)>0,VLOOKUP(A707,Subcontractors!$A$2:$B$3,2,FALSE),\"\")","v":""},null,{"$f":"IF(LEN(A707)>0,VLOOKUP(A707,Subcontractors!$A$2:$B$2,2,FALSE),\"\")","v":""}]
[null,null,null,null,null,null,null,null,null,null,null,null,null,null,null,null,null,null,null,null,null,{"$f":"IF(LEN(X708)>0,VLOOKUP(X708,'TFW Programs'!$A$2:$B$24,2,FALSE),\"\")","v":""},null,null,{"$f":"IF(LEN(A708)>0,VLOOKUP(A708,Subcontractors!$A$2:$B$3,2,FALSE),\"\")","v":""},null,{"$f":"IF(LEN(A708)>0,VLOOKUP(A708,Subcontractors!$A$2:$B$2,2,FALSE),\"\")","v":""}]
[null,null,null,null,null,null,null,null,null,null,null,null,null,null,null,null,null,null,null,null,null,{"$f":"IF(LEN(X709)>0,VLOOKUP(X709,'TFW Programs'!$A$2:$B$24,2,FALSE),\"\")","v":""},null,null,{"$f":"IF(LEN(A709)>0,VLOOKUP(A709,Subcontractors!$A$2:$B$3,2,FALSE),\"\")","v":""},null,{"$f":"IF(LEN(A709)>0,VLOOKUP(A709,Subcontractors!$A$2:$B$2,2,FALSE),\"\")","v":""}]
[null,null,null,null,null,null,null,null,null,null,null,null,null,null,null,null,null,null,null,null,null,{"$f":"IF(LEN(X710)>0,VLOOKUP(X710,'TFW Programs'!$A$2:$B$24,2,FALSE),\"\")","v":""},null,null,{"$f":"IF(LEN(A710)>0,VLOOKUP(A710,Subcontractors!$A$2:$B$3,2,FALSE),\"\")","v":""},null,{"$f":"IF(LEN(A710)>0,VLOOKUP(A710,Subcontractors!$A$2:$B$2,2,FALSE),\"\")","v":""}]
[null,null,null,null,null,null,null,null,null,null,null,null,null,null,null,null,null,null,null,null,null,{"$f":"IF(LEN(X711)>0,VLOOKUP(X711,'TFW Programs'!$A$2:$B$24,2,FALSE),\"\")","v":""},null,null,{"$f":"IF(LEN(A711)>0,VLOOKUP(A711,Subcontractors!$A$2:$B$3,2,FALSE),\"\")","v":""},null,{"$f":"IF(LEN(A711)>0,VLOOKUP(A711,Subcontractors!$A$2:$B$2,2,FALSE),\"\")","v":""}]
[null,null,null,null,null,null,null,null,null,null,null,null,null,null,null,null,null,null,null,null,null,{"$f":"IF(LEN(X712)>0,VLOOKUP(X712,'TFW Programs'!$A$2:$B$24,2,FALSE),\"\")","v":""},null,null,{"$f":"IF(LEN(A712)>0,VLOOKUP(A712,Subcontractors!$A$2:$B$3,2,FALSE),\"\")","v":""},null,{"$f":"IF(LEN(A712)>0,VLOOKUP(A712,Subcontractors!$A$2:$B$2,2,FALSE),\"\")","v":""}]
[null,null,null,null,null,null,null,null,null,null,null,null,null,null,null,null,null,null,null,null,null,{"$f":"IF(LEN(X713)>0,VLOOKUP(X713,'TFW Programs'!$A$2:$B$24,2,FALSE),\"\")","v":""},null,null,{"$f":"IF(LEN(A713)>0,VLOOKUP(A713,Subcontractors!$A$2:$B$3,2,FALSE),\"\")","v":""},null,{"$f":"IF(LEN(A713)>0,VLOOKUP(A713,Subcontractors!$A$2:$B$2,2,FALSE),\"\")","v":""}]
[null,null,null,null,null,null,null,null,null,null,null,null,null,null,null,null,null,null,null,null,null,{"$f":"IF(LEN(X714)>0,VLOOKUP(X714,'TFW Programs'!$A$2:$B$24,2,FALSE),\"\")","v":""},null,null,{"$f":"IF(LEN(A714)>0,VLOOKUP(A714,Subcontractors!$A$2:$B$3,2,FALSE),\"\")","v":""},null,{"$f":"IF(LEN(A714)>0,VLOOKUP(A714,Subcontractors!$A$2:$B$2,2,FALSE),\"\")","v":""}]
[null,null,null,null,null,null,null,null,null,null,null,null,null,null,null,null,null,null,null,null,null,{"$f":"IF(LEN(X715)>0,VLOOKUP(X715,'TFW Programs'!$A$2:$B$24,2,FALSE),\"\")","v":""},null,null,{"$f":"IF(LEN(A715)>0,VLOOKUP(A715,Subcontractors!$A$2:$B$3,2,FALSE),\"\")","v":""},null,{"$f":"IF(LEN(A715)>0,VLOOKUP(A715,Subcontractors!$A$2:$B$2,2,FALSE),\"\")","v":""}]
[null,null,null,null,null,null,null,null,null,null,null,null,null,null,null,null,null,null,null,null,null,{"$f":"IF(LEN(X716)>0,VLOOKUP(X716,'TFW Programs'!$A$2:$B$24,2,FALSE),\"\")","v":""},null,null,{"$f":"IF(LEN(A716)>0,VLOOKUP(A716,Subcontractors!$A$2:$B$3,2,FALSE),\"\")","v":""},null,{"$f":"IF(LEN(A716)>0,VLOOKUP(A716,Subcontractors!$A$2:$B$2,2,FALSE),\"\")","v":""}]
[null,null,null,null,null,null,null,null,null,null,null,null,null,null,null,null,null,null,null,null,null,{"$f":"IF(LEN(X717)>0,VLOOKUP(X717,'TFW Programs'!$A$2:$B$24,2,FALSE),\"\")","v":""},null,null,{"$f":"IF(LEN(A717)>0,VLOOKUP(A717,Subcontractors!$A$2:$B$3,2,FALSE),\"\")","v":""},null,{"$f":"IF(LEN(A717)>0,VLOOKUP(A717,Subcontractors!$A$2:$B$2,2,FALSE),\"\")","v":""}]
[null,null,null,null,null,null,null,null,null,null,null,null,null,null,null,null,null,null,null,null,null,{"$f":"IF(LEN(X718)>0,VLOOKUP(X718,'TFW Programs'!$A$2:$B$24,2,FALSE),\"\")","v":""},null,null,{"$f":"IF(LEN(A718)>0,VLOOKUP(A718,Subcontractors!$A$2:$B$3,2,FALSE),\"\")","v":""},null,{"$f":"IF(LEN(A718)>0,VLOOKUP(A718,Subcontractors!$A$2:$B$2,2,FALSE),\"\")","v":""}]
[null,null,null,null,null,null,null,null,null,null,null,null,null,null,null,null,null,null,null,null,null,{"$f":"IF(LEN(X719)>0,VLOOKUP(X719,'TFW Programs'!$A$2:$B$24,2,FALSE),\"\")","v":""},null,null,{"$f":"IF(LEN(A719)>0,VLOOKUP(A719,Subcontractors!$A$2:$B$3,2,FALSE),\"\")","v":""},null,{"$f":"IF(LEN(A719)>0,VLOOKUP(A719,Subcontractors!$A$2:$B$2,2,FALSE),\"\")","v":""}]
[null,null,null,null,null,null,null,null,null,null,null,null,null,null,null,null,null,null,null,null,null,{"$f":"IF(LEN(X720)>0,VLOOKUP(X720,'TFW Programs'!$A$2:$B$24,2,FALSE),\"\")","v":""},null,null,{"$f":"IF(LEN(A720)>0,VLOOKUP(A720,Subcontractors!$A$2:$B$3,2,FALSE),\"\")","v":""},null,{"$f":"IF(LEN(A720)>0,VLOOKUP(A720,Subcontractors!$A$2:$B$2,2,FALSE),\"\")","v":""}]
[null,null,null,null,null,null,null,null,null,null,null,null,null,null,null,null,null,null,null,null,null,{"$f":"IF(LEN(X721)>0,VLOOKUP(X721,'TFW Programs'!$A$2:$B$24,2,FALSE),\"\")","v":""},null,null,{"$f":"IF(LEN(A721)>0,VLOOKUP(A721,Subcontractors!$A$2:$B$3,2,FALSE),\"\")","v":""},null,{"$f":"IF(LEN(A721)>0,VLOOKUP(A721,Subcontractors!$A$2:$B$2,2,FALSE),\"\")","v":""}]
[null,null,null,null,null,null,null,null,null,null,null,null,null,null,null,null,null,null,null,null,null,{"$f":"IF(LEN(X722)>0,VLOOKUP(X722,'TFW Programs'!$A$2:$B$24,2,FALSE),\"\")","v":""},null,null,{"$f":"IF(LEN(A722)>0,VLOOKUP(A722,Subcontractors!$A$2:$B$3,2,FALSE),\"\")","v":""},null,{"$f":"IF(LEN(A722)>0,VLOOKUP(A722,Subcontractors!$A$2:$B$2,2,FALSE),\"\")","v":""}]
[null,null,null,null,null,null,null,null,null,null,null,null,null,null,null,null,null,null,null,null,null,{"$f":"IF(LEN(X723)>0,VLOOKUP(X723,'TFW Programs'!$A$2:$B$24,2,FALSE),\"\")","v":""},null,null,{"$f":"IF(LEN(A723)>0,VLOOKUP(A723,Subcontractors!$A$2:$B$3,2,FALSE),\"\")","v":""},null,{"$f":"IF(LEN(A723)>0,VLOOKUP(A723,Subcontractors!$A$2:$B$2,2,FALSE),\"\")","v":""}]
[null,null,null,null,null,null,null,null,null,null,null,null,null,null,null,null,null,null,null,null,null,{"$f":"IF(LEN(X724)>0,VLOOKUP(X724,'TFW Programs'!$A$2:$B$24,2,FALSE),\"\")","v":""},null,null,{"$f":"IF(LEN(A724)>0,VLOOKUP(A724,Subcontractors!$A$2:$B$3,2,FALSE),\"\")","v":""},null,{"$f":"IF(LEN(A724)>0,VLOOKUP(A724,Subcontractors!$A$2:$B$2,2,FALSE),\"\")","v":""}]
[null,null,null,null,null,null,null,null,null,null,null,null,null,null,null,null,null,null,null,null,null,{"$f":"IF(LEN(X725)>0,VLOOKUP(X725,'TFW Programs'!$A$2:$B$24,2,FALSE),\"\")","v":""},null,null,{"$f":"IF(LEN(A725)>0,VLOOKUP(A725,Subcontractors!$A$2:$B$3,2,FALSE),\"\")","v":""},null,{"$f":"IF(LEN(A725)>0,VLOOKUP(A725,Subcontractors!$A$2:$B$2,2,FALSE),\"\")","v":""}]
[null,null,null,null,null,null,null,null,null,null,null,null,null,null,null,null,null,null,null,null,null,{"$f":"IF(LEN(X726)>0,VLOOKUP(X726,'TFW Programs'!$A$2:$B$24,2,FALSE),\"\")","v":""},null,null,{"$f":"IF(LEN(A726)>0,VLOOKUP(A726,Subcontractors!$A$2:$B$3,2,FALSE),\"\")","v":""},null,{"$f":"IF(LEN(A726)>0,VLOOKUP(A726,Subcontractors!$A$2:$B$2,2,FALSE),\"\")","v":""}]
[null,null,null,null,null,null,null,null,null,null,null,null,null,null,null,null,null,null,null,null,null,{"$f":"IF(LEN(X727)>0,VLOOKUP(X727,'TFW Programs'!$A$2:$B$24,2,FALSE),\"\")","v":""},null,null,{"$f":"IF(LEN(A727)>0,VLOOKUP(A727,Subcontractors!$A$2:$B$3,2,FALSE),\"\")","v":""},null,{"$f":"IF(LEN(A727)>0,VLOOKUP(A727,Subcontractors!$A$2:$B$2,2,FALSE),\"\")","v":""}]
[null,null,null,null,null,null,null,null,null,null,null,null,null,null,null,null,null,null,null,null,null,{"$f":"IF(LEN(X728)>0,VLOOKUP(X728,'TFW Programs'!$A$2:$B$24,2,FALSE),\"\")","v":""},null,null,{"$f":"IF(LEN(A728)>0,VLOOKUP(A728,Subcontractors!$A$2:$B$3,2,FALSE),\"\")","v":""},null,{"$f":"IF(LEN(A728)>0,VLOOKUP(A728,Subcontractors!$A$2:$B$2,2,FALSE),\"\")","v":""}]
[null,null,null,null,null,null,null,null,null,null,null,null,null,null,null,null,null,null,null,null,null,{"$f":"IF(LEN(X729)>0,VLOOKUP(X729,'TFW Programs'!$A$2:$B$24,2,FALSE),\"\")","v":""},null,null,{"$f":"IF(LEN(A729)>0,VLOOKUP(A729,Subcontractors!$A$2:$B$3,2,FALSE),\"\")","v":""},null,{"$f":"IF(LEN(A729)>0,VLOOKUP(A729,Subcontractors!$A$2:$B$2,2,FALSE),\"\")","v":""}]
[null,null,null,null,null,null,null,null,null,null,null,null,null,null,null,null,null,null,null,null,null,{"$f":"IF(LEN(X730)>0,VLOOKUP(X730,'TFW Programs'!$A$2:$B$24,2,FALSE),\"\")","v":""},null,null,{"$f":"IF(LEN(A730)>0,VLOOKUP(A730,Subcontractors!$A$2:$B$3,2,FALSE),\"\")","v":""},null,{"$f":"IF(LEN(A730)>0,VLOOKUP(A730,Subcontractors!$A$2:$B$2,2,FALSE),\"\")","v":""}]
[null,null,null,null,null,null,null,null,null,null,null,null,null,null,null,null,null,null,null,null,null,{"$f":"IF(LEN(X731)>0,VLOOKUP(X731,'TFW Programs'!$A$2:$B$24,2,FALSE),\"\")","v":""},null,null,{"$f":"IF(LEN(A731)>0,VLOOKUP(A731,Subcontractors!$A$2:$B$3,2,FALSE),\"\")","v":""},null,{"$f":"IF(LEN(A731)>0,VLOOKUP(A731,Subcontractors!$A$2:$B$2,2,FALSE),\"\")","v":""}]
[null,null,null,null,null,null,null,null,null,null,null,null,null,null,null,null,null,null,null,null,null,{"$f":"IF(LEN(X732)>0,VLOOKUP(X732,'TFW Programs'!$A$2:$B$24,2,FALSE),\"\")","v":""},null,null,{"$f":"IF(LEN(A732)>0,VLOOKUP(A732,Subcontractors!$A$2:$B$3,2,FALSE),\"\")","v":""},null,{"$f":"IF(LEN(A732)>0,VLOOKUP(A732,Subcontractors!$A$2:$B$2,2,FALSE),\"\")","v":""}]
[null,null,null,null,null,null,null,null,null,null,null,null,null,null,null,null,null,null,null,null,null,{"$f":"IF(LEN(X733)>0,VLOOKUP(X733,'TFW Programs'!$A$2:$B$24,2,FALSE),\"\")","v":""},null,null,{"$f":"IF(LEN(A733)>0,VLOOKUP(A733,Subcontractors!$A$2:$B$3,2,FALSE),\"\")","v":""},null,{"$f":"IF(LEN(A733)>0,VLOOKUP(A733,Subcontractors!$A$2:$B$2,2,FALSE),\"\")","v":""}]
[null,null,null,null,null,null,null,null,null,null,null,null,null,null,null,null,null,null,null,null,null,{"$f":"IF(LEN(X734)>0,VLOOKUP(X734,'TFW Programs'!$A$2:$B$24,2,FALSE),\"\")","v":""},null,null,{"$f":"IF(LEN(A734)>0,VLOOKUP(A734,Subcontractors!$A$2:$B$3,2,FALSE),\"\")","v":""},null,{"$f":"IF(LEN(A734)>0,VLOOKUP(A734,Subcontractors!$A$2:$B$2,2,FALSE),\"\")","v":""}]
[null,null,null,null,null,null,null,null,null,null,null,null,null,null,null,null,null,null,null,null,null,{"$f":"IF(LEN(X735)>0,VLOOKUP(X735,'TFW Programs'!$A$2:$B$24,2,FALSE),\"\")","v":""},null,null,{"$f":"IF(LEN(A735)>0,VLOOKUP(A735,Subcontractors!$A$2:$B$3,2,FALSE),\"\")","v":""},null,{"$f":"IF(LEN(A735)>0,VLOOKUP(A735,Subcontractors!$A$2:$B$2,2,FALSE),\"\")","v":""}]
[null,null,null,null,null,null,null,null,null,null,null,null,null,null,null,null,null,null,null,null,null,{"$f":"IF(LEN(X736)>0,VLOOKUP(X736,'TFW Programs'!$A$2:$B$24,2,FALSE),\"\")","v":""},null,null,{"$f":"IF(LEN(A736)>0,VLOOKUP(A736,Subcontractors!$A$2:$B$3,2,FALSE),\"\")","v":""},null,{"$f":"IF(LEN(A736)>0,VLOOKUP(A736,Subcontractors!$A$2:$B$2,2,FALSE),\"\")","v":""}]
[null,null,null,null,null,null,null,null,null,null,null,null,null,null,null,null,null,null,null,null,null,{"$f":"IF(LEN(X737)>0,VLOOKUP(X737,'TFW Programs'!$A$2:$B$24,2,FALSE),\"\")","v":""},null,null,{"$f":"IF(LEN(A737)>0,VLOOKUP(A737,Subcontractors!$A$2:$B$3,2,FALSE),\"\")","v":""},null,{"$f":"IF(LEN(A737)>0,VLOOKUP(A737,Subcontractors!$A$2:$B$2,2,FALSE),\"\")","v":""}]
[null,null,null,null,null,null,null,null,null,null,null,null,null,null,null,null,null,null,null,null,null,{"$f":"IF(LEN(X738)>0,VLOOKUP(X738,'TFW Programs'!$A$2:$B$24,2,FALSE),\"\")","v":""},null,null,{"$f":"IF(LEN(A738)>0,VLOOKUP(A738,Subcontractors!$A$2:$B$3,2,FALSE),\"\")","v":""},null,{"$f":"IF(LEN(A738)>0,VLOOKUP(A738,Subcontractors!$A$2:$B$2,2,FALSE),\"\")","v":""}]
[null,null,null,null,null,null,null,null,null,null,null,null,null,null,null,null,null,null,null,null,null,{"$f":"IF(LEN(X739)>0,VLOOKUP(X739,'TFW Programs'!$A$2:$B$24,2,FALSE),\"\")","v":""},null,null,{"$f":"IF(LEN(A739)>0,VLOOKUP(A739,Subcontractors!$A$2:$B$3,2,FALSE),\"\")","v":""},null,{"$f":"IF(LEN(A739)>0,VLOOKUP(A739,Subcontractors!$A$2:$B$2,2,FALSE),\"\")","v":""}]
[null,null,null,null,null,null,null,null,null,null,null,null,null,null,null,null,null,null,null,null,null,{"$f":"IF(LEN(X740)>0,VLOOKUP(X740,'TFW Programs'!$A$2:$B$24,2,FALSE),\"\")","v":""},null,null,{"$f":"IF(LEN(A740)>0,VLOOKUP(A740,Subcontractors!$A$2:$B$3,2,FALSE),\"\")","v":""},null,{"$f":"IF(LEN(A740)>0,VLOOKUP(A740,Subcontractors!$A$2:$B$2,2,FALSE),\"\")","v":""}]
[null,null,null,null,null,null,null,null,null,null,null,null,null,null,null,null,null,null,null,null,null,{"$f":"IF(LEN(X741)>0,VLOOKUP(X741,'TFW Programs'!$A$2:$B$24,2,FALSE),\"\")","v":""},null,null,{"$f":"IF(LEN(A741)>0,VLOOKUP(A741,Subcontractors!$A$2:$B$3,2,FALSE),\"\")","v":""},null,{"$f":"IF(LEN(A741)>0,VLOOKUP(A741,Subcontractors!$A$2:$B$2,2,FALSE),\"\")","v":""}]
[null,null,null,null,null,null,null,null,null,null,null,null,null,null,null,null,null,null,null,null,null,{"$f":"IF(LEN(X742)>0,VLOOKUP(X742,'TFW Programs'!$A$2:$B$24,2,FALSE),\"\")","v":""},null,null,{"$f":"IF(LEN(A742)>0,VLOOKUP(A742,Subcontractors!$A$2:$B$3,2,FALSE),\"\")","v":""},null,{"$f":"IF(LEN(A742)>0,VLOOKUP(A742,Subcontractors!$A$2:$B$2,2,FALSE),\"\")","v":""}]
[null,null,null,null,null,null,null,null,null,null,null,null,null,null,null,null,null,null,null,null,null,{"$f":"IF(LEN(X743)>0,VLOOKUP(X743,'TFW Programs'!$A$2:$B$24,2,FALSE),\"\")","v":""},null,null,{"$f":"IF(LEN(A743)>0,VLOOKUP(A743,Subcontractors!$A$2:$B$3,2,FALSE),\"\")","v":""},null,{"$f":"IF(LEN(A743)>0,VLOOKUP(A743,Subcontractors!$A$2:$B$2,2,FALSE),\"\")","v":""}]
[null,null,null,null,null,null,null,null,null,null,null,null,null,null,null,null,null,null,null,null,null,{"$f":"IF(LEN(X744)>0,VLOOKUP(X744,'TFW Programs'!$A$2:$B$24,2,FALSE),\"\")","v":""},null,null,{"$f":"IF(LEN(A744)>0,VLOOKUP(A744,Subcontractors!$A$2:$B$3,2,FALSE),\"\")","v":""},null,{"$f":"IF(LEN(A744)>0,VLOOKUP(A744,Subcontractors!$A$2:$B$2,2,FALSE),\"\")","v":""}]
[null,null,null,null,null,null,null,null,null,null,null,null,null,null,null,null,null,null,null,null,null,{"$f":"IF(LEN(X745)>0,VLOOKUP(X745,'TFW Programs'!$A$2:$B$24,2,FALSE),\"\")","v":""},null,null,{"$f":"IF(LEN(A745)>0,VLOOKUP(A745,Subcontractors!$A$2:$B$3,2,FALSE),\"\")","v":""},null,{"$f":"IF(LEN(A745)>0,VLOOKUP(A745,Subcontractors!$A$2:$B$2,2,FALSE),\"\")","v":""}]
[null,null,null,null,null,null,null,null,null,null,null,null,null,null,null,null,null,null,null,null,null,{"$f":"IF(LEN(X746)>0,VLOOKUP(X746,'TFW Programs'!$A$2:$B$24,2,FALSE),\"\")","v":""},null,null,{"$f":"IF(LEN(A746)>0,VLOOKUP(A746,Subcontractors!$A$2:$B$3,2,FALSE),\"\")","v":""},null,{"$f":"IF(LEN(A746)>0,VLOOKUP(A746,Subcontractors!$A$2:$B$2,2,FALSE),\"\")","v":""}]
[null,null,null,null,null,null,null,null,null,null,null,null,null,null,null,null,null,null,null,null,null,{"$f":"IF(LEN(X747)>0,VLOOKUP(X747,'TFW Programs'!$A$2:$B$24,2,FALSE),\"\")","v":""},null,null,{"$f":"IF(LEN(A747)>0,VLOOKUP(A747,Subcontractors!$A$2:$B$3,2,FALSE),\"\")","v":""},null,{"$f":"IF(LEN(A747)>0,VLOOKUP(A747,Subcontractors!$A$2:$B$2,2,FALSE),\"\")","v":""}]
[null,null,null,null,null,null,null,null,null,null,null,null,null,null,null,null,null,null,null,null,null,{"$f":"IF(LEN(X748)>0,VLOOKUP(X748,'TFW Programs'!$A$2:$B$24,2,FALSE),\"\")","v":""},null,null,{"$f":"IF(LEN(A748)>0,VLOOKUP(A748,Subcontractors!$A$2:$B$3,2,FALSE),\"\")","v":""},null,{"$f":"IF(LEN(A748)>0,VLOOKUP(A748,Subcontractors!$A$2:$B$2,2,FALSE),\"\")","v":""}]
[null,null,null,null,null,null,null,null,null,null,null,null,null,null,null,null,null,null,null,null,null,{"$f":"IF(LEN(X749)>0,VLOOKUP(X749,'TFW Programs'!$A$2:$B$24,2,FALSE),\"\")","v":""},null,null,{"$f":"IF(LEN(A749)>0,VLOOKUP(A749,Subcontractors!$A$2:$B$3,2,FALSE),\"\")","v":""},null,{"$f":"IF(LEN(A749)>0,VLOOKUP(A749,Subcontractors!$A$2:$B$2,2,FALSE),\"\")","v":""}]
[null,null,null,null,null,null,null,null,null,null,null,null,null,null,null,null,null,null,null,null,null,{"$f":"IF(LEN(X750)>0,VLOOKUP(X750,'TFW Programs'!$A$2:$B$24,2,FALSE),\"\")","v":""},null,null,{"$f":"IF(LEN(A750)>0,VLOOKUP(A750,Subcontractors!$A$2:$B$3,2,FALSE),\"\")","v":""},null,{"$f":"IF(LEN(A750)>0,VLOOKUP(A750,Subcontractors!$A$2:$B$2,2,FALSE),\"\")","v":""}]
[null,null,null,null,null,null,null,null,null,null,null,null,null,null,null,null,null,null,null,null,null,{"$f":"IF(LEN(X751)>0,VLOOKUP(X751,'TFW Programs'!$A$2:$B$24,2,FALSE),\"\")","v":""},null,null,{"$f":"IF(LEN(A751)>0,VLOOKUP(A751,Subcontractors!$A$2:$B$3,2,FALSE),\"\")","v":""},null,{"$f":"IF(LEN(A751)>0,VLOOKUP(A751,Subcontractors!$A$2:$B$2,2,FALSE),\"\")","v":""}]
[null,null,null,null,null,null,null,null,null,null,null,null,null,null,null,null,null,null,null,null,null,{"$f":"IF(LEN(X752)>0,VLOOKUP(X752,'TFW Programs'!$A$2:$B$24,2,FALSE),\"\")","v":""},null,null,{"$f":"IF(LEN(A752)>0,VLOOKUP(A752,Subcontractors!$A$2:$B$3,2,FALSE),\"\")","v":""},null,{"$f":"IF(LEN(A752)>0,VLOOKUP(A752,Subcontractors!$A$2:$B$2,2,FALSE),\"\")","v":""}]
[null,null,null,null,null,null,null,null,null,null,null,null,null,null,null,null,null,null,null,null,null,{"$f":"IF(LEN(X753)>0,VLOOKUP(X753,'TFW Programs'!$A$2:$B$24,2,FALSE),\"\")","v":""},null,null,{"$f":"IF(LEN(A753)>0,VLOOKUP(A753,Subcontractors!$A$2:$B$3,2,FALSE),\"\")","v":""},null,{"$f":"IF(LEN(A753)>0,VLOOKUP(A753,Subcontractors!$A$2:$B$2,2,FALSE),\"\")","v":""}]
[null,null,null,null,null,null,null,null,null,null,null,null,null,null,null,null,null,null,null,null,null,{"$f":"IF(LEN(X754)>0,VLOOKUP(X754,'TFW Programs'!$A$2:$B$24,2,FALSE),\"\")","v":""},null,null,{"$f":"IF(LEN(A754)>0,VLOOKUP(A754,Subcontractors!$A$2:$B$3,2,FALSE),\"\")","v":""},null,{"$f":"IF(LEN(A754)>0,VLOOKUP(A754,Subcontractors!$A$2:$B$2,2,FALSE),\"\")","v":""}]
[null,null,null,null,null,null,null,null,null,null,null,null,null,null,null,null,null,null,null,null,null,{"$f":"IF(LEN(X755)>0,VLOOKUP(X755,'TFW Programs'!$A$2:$B$24,2,FALSE),\"\")","v":""},null,null,{"$f":"IF(LEN(A755)>0,VLOOKUP(A755,Subcontractors!$A$2:$B$3,2,FALSE),\"\")","v":""},null,{"$f":"IF(LEN(A755)>0,VLOOKUP(A755,Subcontractors!$A$2:$B$2,2,FALSE),\"\")","v":""}]
[null,null,null,null,null,null,null,null,null,null,null,null,null,null,null,null,null,null,null,null,null,{"$f":"IF(LEN(X756)>0,VLOOKUP(X756,'TFW Programs'!$A$2:$B$24,2,FALSE),\"\")","v":""},null,null,{"$f":"IF(LEN(A756)>0,VLOOKUP(A756,Subcontractors!$A$2:$B$3,2,FALSE),\"\")","v":""},null,{"$f":"IF(LEN(A756)>0,VLOOKUP(A756,Subcontractors!$A$2:$B$2,2,FALSE),\"\")","v":""}]
[null,null,null,null,null,null,null,null,null,null,null,null,null,null,null,null,null,null,null,null,null,{"$f":"IF(LEN(X757)>0,VLOOKUP(X757,'TFW Programs'!$A$2:$B$24,2,FALSE),\"\")","v":""},null,null,{"$f":"IF(LEN(A757)>0,VLOOKUP(A757,Subcontractors!$A$2:$B$3,2,FALSE),\"\")","v":""},null,{"$f":"IF(LEN(A757)>0,VLOOKUP(A757,Subcontractors!$A$2:$B$2,2,FALSE),\"\")","v":""}]
[null,null,null,null,null,null,null,null,null,null,null,null,null,null,null,null,null,null,null,null,null,{"$f":"IF(LEN(X758)>0,VLOOKUP(X758,'TFW Programs'!$A$2:$B$24,2,FALSE),\"\")","v":""},null,null,{"$f":"IF(LEN(A758)>0,VLOOKUP(A758,Subcontractors!$A$2:$B$3,2,FALSE),\"\")","v":""},null,{"$f":"IF(LEN(A758)>0,VLOOKUP(A758,Subcontractors!$A$2:$B$2,2,FALSE),\"\")","v":""}]
[null,null,null,null,null,null,null,null,null,null,null,null,null,null,null,null,null,null,null,null,null,{"$f":"IF(LEN(X759)>0,VLOOKUP(X759,'TFW Programs'!$A$2:$B$24,2,FALSE),\"\")","v":""},null,null,{"$f":"IF(LEN(A759)>0,VLOOKUP(A759,Subcontractors!$A$2:$B$3,2,FALSE),\"\")","v":""},null,{"$f":"IF(LEN(A759)>0,VLOOKUP(A759,Subcontractors!$A$2:$B$2,2,FALSE),\"\")","v":""}]
[null,null,null,null,null,null,null,null,null,null,null,null,null,null,null,null,null,null,null,null,null,{"$f":"IF(LEN(X760)>0,VLOOKUP(X760,'TFW Programs'!$A$2:$B$24,2,FALSE),\"\")","v":""},null,null,{"$f":"IF(LEN(A760)>0,VLOOKUP(A760,Subcontractors!$A$2:$B$3,2,FALSE),\"\")","v":""},null,{"$f":"IF(LEN(A760)>0,VLOOKUP(A760,Subcontractors!$A$2:$B$2,2,FALSE),\"\")","v":""}]
[null,null,null,null,null,null,null,null,null,null,null,null,null,null,null,null,null,null,null,null,null,{"$f":"IF(LEN(X761)>0,VLOOKUP(X761,'TFW Programs'!$A$2:$B$24,2,FALSE),\"\")","v":""},null,null,{"$f":"IF(LEN(A761)>0,VLOOKUP(A761,Subcontractors!$A$2:$B$3,2,FALSE),\"\")","v":""},null,{"$f":"IF(LEN(A761)>0,VLOOKUP(A761,Subcontractors!$A$2:$B$2,2,FALSE),\"\")","v":""}]
[null,null,null,null,null,null,null,null,null,null,null,null,null,null,null,null,null,null,null,null,null,{"$f":"IF(LEN(X762)>0,VLOOKUP(X762,'TFW Programs'!$A$2:$B$24,2,FALSE),\"\")","v":""},null,null,{"$f":"IF(LEN(A762)>0,VLOOKUP(A762,Subcontractors!$A$2:$B$3,2,FALSE),\"\")","v":""},null,{"$f":"IF(LEN(A762)>0,VLOOKUP(A762,Subcontractors!$A$2:$B$2,2,FALSE),\"\")","v":""}]
[null,null,null,null,null,null,null,null,null,null,null,null,null,null,null,null,null,null,null,null,null,{"$f":"IF(LEN(X763)>0,VLOOKUP(X763,'TFW Programs'!$A$2:$B$24,2,FALSE),\"\")","v":""},null,null,{"$f":"IF(LEN(A763)>0,VLOOKUP(A763,Subcontractors!$A$2:$B$3,2,FALSE),\"\")","v":""},null,{"$f":"IF(LEN(A763)>0,VLOOKUP(A763,Subcontractors!$A$2:$B$2,2,FALSE),\"\")","v":""}]
[null,null,null,null,null,null,null,null,null,null,null,null,null,null,null,null,null,null,null,null,null,{"$f":"IF(LEN(X764)>0,VLOOKUP(X764,'TFW Programs'!$A$2:$B$24,2,FALSE),\"\")","v":""},null,null,{"$f":"IF(LEN(A764)>0,VLOOKUP(A764,Subcontractors!$A$2:$B$3,2,FALSE),\"\")","v":""},null,{"$f":"IF(LEN(A764)>0,VLOOKUP(A764,Subcontractors!$A$2:$B$2,2,FALSE),\"\")","v":""}]
[null,null,null,null,null,null,null,null,null,null,null,null,null,null,null,null,null,null,null,null,null,{"$f":"IF(LEN(X765)>0,VLOOKUP(X765,'TFW Programs'!$A$2:$B$24,2,FALSE),\"\")","v":""},null,null,{"$f":"IF(LEN(A765)>0,VLOOKUP(A765,Subcontractors!$A$2:$B$3,2,FALSE),\"\")","v":""},null,{"$f":"IF(LEN(A765)>0,VLOOKUP(A765,Subcontractors!$A$2:$B$2,2,FALSE),\"\")","v":""}]
[null,null,null,null,null,null,null,null,null,null,null,null,null,null,null,null,null,null,null,null,null,{"$f":"IF(LEN(X766)>0,VLOOKUP(X766,'TFW Programs'!$A$2:$B$24,2,FALSE),\"\")","v":""},null,null,{"$f":"IF(LEN(A766)>0,VLOOKUP(A766,Subcontractors!$A$2:$B$3,2,FALSE),\"\")","v":""},null,{"$f":"IF(LEN(A766)>0,VLOOKUP(A766,Subcontractors!$A$2:$B$2,2,FALSE),\"\")","v":""}]
[null,null,null,null,null,null,null,null,null,null,null,null,null,null,null,null,null,null,null,null,null,{"$f":"IF(LEN(X767)>0,VLOOKUP(X767,'TFW Programs'!$A$2:$B$24,2,FALSE),\"\")","v":""},null,null,{"$f":"IF(LEN(A767)>0,VLOOKUP(A767,Subcontractors!$A$2:$B$3,2,FALSE),\"\")","v":""},null,{"$f":"IF(LEN(A767)>0,VLOOKUP(A767,Subcontractors!$A$2:$B$2,2,FALSE),\"\")","v":""}]
[null,null,null,null,null,null,null,null,null,null,null,null,null,null,null,null,null,null,null,null,null,{"$f":"IF(LEN(X768)>0,VLOOKUP(X768,'TFW Programs'!$A$2:$B$24,2,FALSE),\"\")","v":""},null,null,{"$f":"IF(LEN(A768)>0,VLOOKUP(A768,Subcontractors!$A$2:$B$3,2,FALSE),\"\")","v":""},null,{"$f":"IF(LEN(A768)>0,VLOOKUP(A768,Subcontractors!$A$2:$B$2,2,FALSE),\"\")","v":""}]
[null,null,null,null,null,null,null,null,null,null,null,null,null,null,null,null,null,null,null,null,null,{"$f":"IF(LEN(X769)>0,VLOOKUP(X769,'TFW Programs'!$A$2:$B$24,2,FALSE),\"\")","v":""},null,null,{"$f":"IF(LEN(A769)>0,VLOOKUP(A769,Subcontractors!$A$2:$B$3,2,FALSE),\"\")","v":""},null,{"$f":"IF(LEN(A769)>0,VLOOKUP(A769,Subcontractors!$A$2:$B$2,2,FALSE),\"\")","v":""}]
[null,null,null,null,null,null,null,null,null,null,null,null,null,null,null,null,null,null,null,null,null,{"$f":"IF(LEN(X770)>0,VLOOKUP(X770,'TFW Programs'!$A$2:$B$24,2,FALSE),\"\")","v":""},null,null,{"$f":"IF(LEN(A770)>0,VLOOKUP(A770,Subcontractors!$A$2:$B$3,2,FALSE),\"\")","v":""},null,{"$f":"IF(LEN(A770)>0,VLOOKUP(A770,Subcontractors!$A$2:$B$2,2,FALSE),\"\")","v":""}]
[null,null,null,null,null,null,null,null,null,null,null,null,null,null,null,null,null,null,null,null,null,{"$f":"IF(LEN(X771)>0,VLOOKUP(X771,'TFW Programs'!$A$2:$B$24,2,FALSE),\"\")","v":""},null,null,{"$f":"IF(LEN(A771)>0,VLOOKUP(A771,Subcontractors!$A$2:$B$3,2,FALSE),\"\")","v":""},null,{"$f":"IF(LEN(A771)>0,VLOOKUP(A771,Subcontractors!$A$2:$B$2,2,FALSE),\"\")","v":""}]
[null,null,null,null,null,null,null,null,null,null,null,null,null,null,null,null,null,null,null,null,null,{"$f":"IF(LEN(X772)>0,VLOOKUP(X772,'TFW Programs'!$A$2:$B$24,2,FALSE),\"\")","v":""},null,null,{"$f":"IF(LEN(A772)>0,VLOOKUP(A772,Subcontractors!$A$2:$B$3,2,FALSE),\"\")","v":""},null,{"$f":"IF(LEN(A772)>0,VLOOKUP(A772,Subcontractors!$A$2:$B$2,2,FALSE),\"\")","v":""}]
[null,null,null,null,null,null,null,null,null,null,null,null,null,null,null,null,null,null,null,null,null,{"$f":"IF(LEN(X773)>0,VLOOKUP(X773,'TFW Programs'!$A$2:$B$24,2,FALSE),\"\")","v":""},null,null,{"$f":"IF(LEN(A773)>0,VLOOKUP(A773,Subcontractors!$A$2:$B$3,2,FALSE),\"\")","v":""},null,{"$f":"IF(LEN(A773)>0,VLOOKUP(A773,Subcontractors!$A$2:$B$2,2,FALSE),\"\")","v":""}]
[null,null,null,null,null,null,null,null,null,null,null,null,null,null,null,null,null,null,null,null,null,{"$f":"IF(LEN(X774)>0,VLOOKUP(X774,'TFW Programs'!$A$2:$B$24,2,FALSE),\"\")","v":""},null,null,{"$f":"IF(LEN(A774)>0,VLOOKUP(A774,Subcontractors!$A$2:$B$3,2,FALSE),\"\")","v":""},null,{"$f":"IF(LEN(A774)>0,VLOOKUP(A774,Subcontractors!$A$2:$B$2,2,FALSE),\"\")","v":""}]
[null,null,null,null,null,null,null,null,null,null,null,null,null,null,null,null,null,null,null,null,null,{"$f":"IF(LEN(X775)>0,VLOOKUP(X775,'TFW Programs'!$A$2:$B$24,2,FALSE),\"\")","v":""},null,null,{"$f":"IF(LEN(A775)>0,VLOOKUP(A775,Subcontractors!$A$2:$B$3,2,FALSE),\"\")","v":""},null,{"$f":"IF(LEN(A775)>0,VLOOKUP(A775,Subcontractors!$A$2:$B$2,2,FALSE),\"\")","v":""}]
[null,null,null,null,null,null,null,null,null,null,null,null,null,null,null,null,null,null,null,null,null,{"$f":"IF(LEN(X776)>0,VLOOKUP(X776,'TFW Programs'!$A$2:$B$24,2,FALSE),\"\")","v":""},null,null,{"$f":"IF(LEN(A776)>0,VLOOKUP(A776,Subcontractors!$A$2:$B$3,2,FALSE),\"\")","v":""},null,{"$f":"IF(LEN(A776)>0,VLOOKUP(A776,Subcontractors!$A$2:$B$2,2,FALSE),\"\")","v":""}]
[null,null,null,null,null,null,null,null,null,null,null,null,null,null,null,null,null,null,null,null,null,{"$f":"IF(LEN(X777)>0,VLOOKUP(X777,'TFW Programs'!$A$2:$B$24,2,FALSE),\"\")","v":""},null,null,{"$f":"IF(LEN(A777)>0,VLOOKUP(A777,Subcontractors!$A$2:$B$3,2,FALSE),\"\")","v":""},null,{"$f":"IF(LEN(A777)>0,VLOOKUP(A777,Subcontractors!$A$2:$B$2,2,FALSE),\"\")","v":""}]
[null,null,null,null,null,null,null,null,null,null,null,null,null,null,null,null,null,null,null,null,null,{"$f":"IF(LEN(X778)>0,VLOOKUP(X778,'TFW Programs'!$A$2:$B$24,2,FALSE),\"\")","v":""},null,null,{"$f":"IF(LEN(A778)>0,VLOOKUP(A778,Subcontractors!$A$2:$B$3,2,FALSE),\"\")","v":""},null,{"$f":"IF(LEN(A778)>0,VLOOKUP(A778,Subcontractors!$A$2:$B$2,2,FALSE),\"\")","v":""}]
[null,null,null,null,null,null,null,null,null,null,null,null,null,null,null,null,null,null,null,null,null,{"$f":"IF(LEN(X779)>0,VLOOKUP(X779,'TFW Programs'!$A$2:$B$24,2,FALSE),\"\")","v":""},null,null,{"$f":"IF(LEN(A779)>0,VLOOKUP(A779,Subcontractors!$A$2:$B$3,2,FALSE),\"\")","v":""},null,{"$f":"IF(LEN(A779)>0,VLOOKUP(A779,Subcontractors!$A$2:$B$2,2,FALSE),\"\")","v":""}]
[null,null,null,null,null,null,null,null,null,null,null,null,null,null,null,null,null,null,null,null,null,{"$f":"IF(LEN(X780)>0,VLOOKUP(X780,'TFW Programs'!$A$2:$B$24,2,FALSE),\"\")","v":""},null,null,{"$f":"IF(LEN(A780)>0,VLOOKUP(A780,Subcontractors!$A$2:$B$3,2,FALSE),\"\")","v":""},null,{"$f":"IF(LEN(A780)>0,VLOOKUP(A780,Subcontractors!$A$2:$B$2,2,FALSE),\"\")","v":""}]
[null,null,null,null,null,null,null,null,null,null,null,null,null,null,null,null,null,null,null,null,null,{"$f":"IF(LEN(X781)>0,VLOOKUP(X781,'TFW Programs'!$A$2:$B$24,2,FALSE),\"\")","v":""},null,null,{"$f":"IF(LEN(A781)>0,VLOOKUP(A781,Subcontractors!$A$2:$B$3,2,FALSE),\"\")","v":""},null,{"$f":"IF(LEN(A781)>0,VLOOKUP(A781,Subcontractors!$A$2:$B$2,2,FALSE),\"\")","v":""}]
[null,null,null,null,null,null,null,null,null,null,null,null,null,null,null,null,null,null,null,null,null,{"$f":"IF(LEN(X782)>0,VLOOKUP(X782,'TFW Programs'!$A$2:$B$24,2,FALSE),\"\")","v":""},null,null,{"$f":"IF(LEN(A782)>0,VLOOKUP(A782,Subcontractors!$A$2:$B$3,2,FALSE),\"\")","v":""},null,{"$f":"IF(LEN(A782)>0,VLOOKUP(A782,Subcontractors!$A$2:$B$2,2,FALSE),\"\")","v":""}]
[null,null,null,null,null,null,null,null,null,null,null,null,null,null,null,null,null,null,null,null,null,{"$f":"IF(LEN(X783)>0,VLOOKUP(X783,'TFW Programs'!$A$2:$B$24,2,FALSE),\"\")","v":""},null,null,{"$f":"IF(LEN(A783)>0,VLOOKUP(A783,Subcontractors!$A$2:$B$3,2,FALSE),\"\")","v":""},null,{"$f":"IF(LEN(A783)>0,VLOOKUP(A783,Subcontractors!$A$2:$B$2,2,FALSE),\"\")","v":""}]
[null,null,null,null,null,null,null,null,null,null,null,null,null,null,null,null,null,null,null,null,null,{"$f":"IF(LEN(X784)>0,VLOOKUP(X784,'TFW Programs'!$A$2:$B$24,2,FALSE),\"\")","v":""},null,null,{"$f":"IF(LEN(A784)>0,VLOOKUP(A784,Subcontractors!$A$2:$B$3,2,FALSE),\"\")","v":""},null,{"$f":"IF(LEN(A784)>0,VLOOKUP(A784,Subcontractors!$A$2:$B$2,2,FALSE),\"\")","v":""}]
[null,null,null,null,null,null,null,null,null,null,null,null,null,null,null,null,null,null,null,null,null,{"$f":"IF(LEN(X785)>0,VLOOKUP(X785,'TFW Programs'!$A$2:$B$24,2,FALSE),\"\")","v":""},null,null,{"$f":"IF(LEN(A785)>0,VLOOKUP(A785,Subcontractors!$A$2:$B$3,2,FALSE),\"\")","v":""},null,{"$f":"IF(LEN(A785)>0,VLOOKUP(A785,Subcontractors!$A$2:$B$2,2,FALSE),\"\")","v":""}]
[null,null,null,null,null,null,null,null,null,null,null,null,null,null,null,null,null,null,null,null,null,{"$f":"IF(LEN(X786)>0,VLOOKUP(X786,'TFW Programs'!$A$2:$B$24,2,FALSE),\"\")","v":""},null,null,{"$f":"IF(LEN(A786)>0,VLOOKUP(A786,Subcontractors!$A$2:$B$3,2,FALSE),\"\")","v":""},null,{"$f":"IF(LEN(A786)>0,VLOOKUP(A786,Subcontractors!$A$2:$B$2,2,FALSE),\"\")","v":""}]
[null,null,null,null,null,null,null,null,null,null,null,null,null,null,null,null,null,null,null,null,null,{"$f":"IF(LEN(X787)>0,VLOOKUP(X787,'TFW Programs'!$A$2:$B$24,2,FALSE),\"\")","v":""},null,null,{"$f":"IF(LEN(A787)>0,VLOOKUP(A787,Subcontractors!$A$2:$B$3,2,FALSE),\"\")","v":""},null,{"$f":"IF(LEN(A787)>0,VLOOKUP(A787,Subcontractors!$A$2:$B$2,2,FALSE),\"\")","v":""}]
[null,null,null,null,null,null,null,null,null,null,null,null,null,null,null,null,null,null,null,null,null,{"$f":"IF(LEN(X788)>0,VLOOKUP(X788,'TFW Programs'!$A$2:$B$24,2,FALSE),\"\")","v":""},null,null,{"$f":"IF(LEN(A788)>0,VLOOKUP(A788,Subcontractors!$A$2:$B$3,2,FALSE),\"\")","v":""},null,{"$f":"IF(LEN(A788)>0,VLOOKUP(A788,Subcontractors!$A$2:$B$2,2,FALSE),\"\")","v":""}]
[null,null,null,null,null,null,null,null,null,null,null,null,null,null,null,null,null,null,null,null,null,{"$f":"IF(LEN(X789)>0,VLOOKUP(X789,'TFW Programs'!$A$2:$B$24,2,FALSE),\"\")","v":""},null,null,{"$f":"IF(LEN(A789)>0,VLOOKUP(A789,Subcontractors!$A$2:$B$3,2,FALSE),\"\")","v":""},null,{"$f":"IF(LEN(A789)>0,VLOOKUP(A789,Subcontractors!$A$2:$B$2,2,FALSE),\"\")","v":""}]
[null,null,null,null,null,null,null,null,null,null,null,null,null,null,null,null,null,null,null,null,null,{"$f":"IF(LEN(X790)>0,VLOOKUP(X790,'TFW Programs'!$A$2:$B$24,2,FALSE),\"\")","v":""},null,null,{"$f":"IF(LEN(A790)>0,VLOOKUP(A790,Subcontractors!$A$2:$B$3,2,FALSE),\"\")","v":""},null,{"$f":"IF(LEN(A790)>0,VLOOKUP(A790,Subcontractors!$A$2:$B$2,2,FALSE),\"\")","v":""}]
[null,null,null,null,null,null,null,null,null,null,null,null,null,null,null,null,null,null,null,null,null,{"$f":"IF(LEN(X791)>0,VLOOKUP(X791,'TFW Programs'!$A$2:$B$24,2,FALSE),\"\")","v":""},null,null,{"$f":"IF(LEN(A791)>0,VLOOKUP(A791,Subcontractors!$A$2:$B$3,2,FALSE),\"\")","v":""},null,{"$f":"IF(LEN(A791)>0,VLOOKUP(A791,Subcontractors!$A$2:$B$2,2,FALSE),\"\")","v":""}]
[null,null,null,null,null,null,null,null,null,null,null,null,null,null,null,null,null,null,null,null,null,{"$f":"IF(LEN(X792)>0,VLOOKUP(X792,'TFW Programs'!$A$2:$B$24,2,FALSE),\"\")","v":""},null,null,{"$f":"IF(LEN(A792)>0,VLOOKUP(A792,Subcontractors!$A$2:$B$3,2,FALSE),\"\")","v":""},null,{"$f":"IF(LEN(A792)>0,VLOOKUP(A792,Subcontractors!$A$2:$B$2,2,FALSE),\"\")","v":""}]
[null,null,null,null,null,null,null,null,null,null,null,null,null,null,null,null,null,null,null,null,null,{"$f":"IF(LEN(X793)>0,VLOOKUP(X793,'TFW Programs'!$A$2:$B$24,2,FALSE),\"\")","v":""},null,null,{"$f":"IF(LEN(A793)>0,VLOOKUP(A793,Subcontractors!$A$2:$B$3,2,FALSE),\"\")","v":""},null,{"$f":"IF(LEN(A793)>0,VLOOKUP(A793,Subcontractors!$A$2:$B$2,2,FALSE),\"\")","v":""}]
[null,null,null,null,null,null,null,null,null,null,null,null,null,null,null,null,null,null,null,null,null,{"$f":"IF(LEN(X794)>0,VLOOKUP(X794,'TFW Programs'!$A$2:$B$24,2,FALSE),\"\")","v":""},null,null,{"$f":"IF(LEN(A794)>0,VLOOKUP(A794,Subcontractors!$A$2:$B$3,2,FALSE),\"\")","v":""},null,{"$f":"IF(LEN(A794)>0,VLOOKUP(A794,Subcontractors!$A$2:$B$2,2,FALSE),\"\")","v":""}]
[null,null,null,null,null,null,null,null,null,null,null,null,null,null,null,null,null,null,null,null,null,{"$f":"IF(LEN(X795)>0,VLOOKUP(X795,'TFW Programs'!$A$2:$B$24,2,FALSE),\"\")","v":""},null,null,{"$f":"IF(LEN(A795)>0,VLOOKUP(A795,Subcontractors!$A$2:$B$3,2,FALSE),\"\")","v":""},null,{"$f":"IF(LEN(A795)>0,VLOOKUP(A795,Subcontractors!$A$2:$B$2,2,FALSE),\"\")","v":""}]
[null,null,null,null,null,null,null,null,null,null,null,null,null,null,null,null,null,null,null,null,null,{"$f":"IF(LEN(X796)>0,VLOOKUP(X796,'TFW Programs'!$A$2:$B$24,2,FALSE),\"\")","v":""},null,null,{"$f":"IF(LEN(A796)>0,VLOOKUP(A796,Subcontractors!$A$2:$B$3,2,FALSE),\"\")","v":""},null,{"$f":"IF(LEN(A796)>0,VLOOKUP(A796,Subcontractors!$A$2:$B$2,2,FALSE),\"\")","v":""}]
[null,null,null,null,null,null,null,null,null,null,null,null,null,null,null,null,null,null,null,null,null,{"$f":"IF(LEN(X797)>0,VLOOKUP(X797,'TFW Programs'!$A$2:$B$24,2,FALSE),\"\")","v":""},null,null,{"$f":"IF(LEN(A797)>0,VLOOKUP(A797,Subcontractors!$A$2:$B$3,2,FALSE),\"\")","v":""},null,{"$f":"IF(LEN(A797)>0,VLOOKUP(A797,Subcontractors!$A$2:$B$2,2,FALSE),\"\")","v":""}]
[null,null,null,null,null,null,null,null,null,null,null,null,null,null,null,null,null,null,null,null,null,{"$f":"IF(LEN(X798)>0,VLOOKUP(X798,'TFW Programs'!$A$2:$B$24,2,FALSE),\"\")","v":""},null,null,{"$f":"IF(LEN(A798)>0,VLOOKUP(A798,Subcontractors!$A$2:$B$3,2,FALSE),\"\")","v":""},null,{"$f":"IF(LEN(A798)>0,VLOOKUP(A798,Subcontractors!$A$2:$B$2,2,FALSE),\"\")","v":""}]
[null,null,null,null,null,null,null,null,null,null,null,null,null,null,null,null,null,null,null,null,null,{"$f":"IF(LEN(X799)>0,VLOOKUP(X799,'TFW Programs'!$A$2:$B$24,2,FALSE),\"\")","v":""},null,null,{"$f":"IF(LEN(A799)>0,VLOOKUP(A799,Subcontractors!$A$2:$B$3,2,FALSE),\"\")","v":""},null,{"$f":"IF(LEN(A799)>0,VLOOKUP(A799,Subcontractors!$A$2:$B$2,2,FALSE),\"\")","v":""}]
[null,null,null,null,null,null,null,null,null,null,null,null,null,null,null,null,null,null,null,null,null,{"$f":"IF(LEN(X800)>0,VLOOKUP(X800,'TFW Programs'!$A$2:$B$24,2,FALSE),\"\")","v":""},null,null,{"$f":"IF(LEN(A800)>0,VLOOKUP(A800,Subcontractors!$A$2:$B$3,2,FALSE),\"\")","v":""},null,{"$f":"IF(LEN(A800)>0,VLOOKUP(A800,Subcontractors!$A$2:$B$2,2,FALSE),\"\")","v":""}]
[null,null,null,null,null,null,null,null,null,null,null,null,null,null,null,null,null,null,null,null,null,{"$f":"IF(LEN(X801)>0,VLOOKUP(X801,'TFW Programs'!$A$2:$B$24,2,FALSE),\"\")","v":""},null,null,{"$f":"IF(LEN(A801)>0,VLOOKUP(A801,Subcontractors!$A$2:$B$3,2,FALSE),\"\")","v":""},null,{"$f":"IF(LEN(A801)>0,VLOOKUP(A801,Subcontractors!$A$2:$B$2,2,FALSE),\"\")","v":""}]
[null,null,null,null,null,null,null,null,null,null,null,null,null,null,null,null,null,null,null,null,null,{"$f":"IF(LEN(X802)>0,VLOOKUP(X802,'TFW Programs'!$A$2:$B$24,2,FALSE),\"\")","v":""},null,null,{"$f":"IF(LEN(A802)>0,VLOOKUP(A802,Subcontractors!$A$2:$B$3,2,FALSE),\"\")","v":""},null,{"$f":"IF(LEN(A802)>0,VLOOKUP(A802,Subcontractors!$A$2:$B$2,2,FALSE),\"\")","v":""}]
[null,null,null,null,null,null,null,null,null,null,null,null,null,null,null,null,null,null,null,null,null,{"$f":"IF(LEN(X803)>0,VLOOKUP(X803,'TFW Programs'!$A$2:$B$24,2,FALSE),\"\")","v":""},null,null,{"$f":"IF(LEN(A803)>0,VLOOKUP(A803,Subcontractors!$A$2:$B$3,2,FALSE),\"\")","v":""},null,{"$f":"IF(LEN(A803)>0,VLOOKUP(A803,Subcontractors!$A$2:$B$2,2,FALSE),\"\")","v":""}]
[null,null,null,null,null,null,null,null,null,null,null,null,null,null,null,null,null,null,null,null,null,{"$f":"IF(LEN(X804)>0,VLOOKUP(X804,'TFW Programs'!$A$2:$B$24,2,FALSE),\"\")","v":""},null,null,{"$f":"IF(LEN(A804)>0,VLOOKUP(A804,Subcontractors!$A$2:$B$3,2,FALSE),\"\")","v":""},null,{"$f":"IF(LEN(A804)>0,VLOOKUP(A804,Subcontractors!$A$2:$B$2,2,FALSE),\"\")","v":""}]
[null,null,null,null,null,null,null,null,null,null,null,null,null,null,null,null,null,null,null,null,null,{"$f":"IF(LEN(X805)>0,VLOOKUP(X805,'TFW Programs'!$A$2:$B$24,2,FALSE),\"\")","v":""},null,null,{"$f":"IF(LEN(A805)>0,VLOOKUP(A805,Subcontractors!$A$2:$B$3,2,FALSE),\"\")","v":""},null,{"$f":"IF(LEN(A805)>0,VLOOKUP(A805,Subcontractors!$A$2:$B$2,2,FALSE),\"\")","v":""}]
[null,null,null,null,null,null,null,null,null,null,null,null,null,null,null,null,null,null,null,null,null,{"$f":"IF(LEN(X806)>0,VLOOKUP(X806,'TFW Programs'!$A$2:$B$24,2,FALSE),\"\")","v":""},null,null,{"$f":"IF(LEN(A806)>0,VLOOKUP(A806,Subcontractors!$A$2:$B$3,2,FALSE),\"\")","v":""},null,{"$f":"IF(LEN(A806)>0,VLOOKUP(A806,Subcontractors!$A$2:$B$2,2,FALSE),\"\")","v":""}]
[null,null,null,null,null,null,null,null,null,null,null,null,null,null,null,null,null,null,null,null,null,{"$f":"IF(LEN(X807)>0,VLOOKUP(X807,'TFW Programs'!$A$2:$B$24,2,FALSE),\"\")","v":""},null,null,{"$f":"IF(LEN(A807)>0,VLOOKUP(A807,Subcontractors!$A$2:$B$3,2,FALSE),\"\")","v":""},null,{"$f":"IF(LEN(A807)>0,VLOOKUP(A807,Subcontractors!$A$2:$B$2,2,FALSE),\"\")","v":""}]
[null,null,null,null,null,null,null,null,null,null,null,null,null,null,null,null,null,null,null,null,null,{"$f":"IF(LEN(X808)>0,VLOOKUP(X808,'TFW Programs'!$A$2:$B$24,2,FALSE),\"\")","v":""},null,null,{"$f":"IF(LEN(A808)>0,VLOOKUP(A808,Subcontractors!$A$2:$B$3,2,FALSE),\"\")","v":""},null,{"$f":"IF(LEN(A808)>0,VLOOKUP(A808,Subcontractors!$A$2:$B$2,2,FALSE),\"\")","v":""}]
[null,null,null,null,null,null,null,null,null,null,null,null,null,null,null,null,null,null,null,null,null,{"$f":"IF(LEN(X809)>0,VLOOKUP(X809,'TFW Programs'!$A$2:$B$24,2,FALSE),\"\")","v":""},null,null,{"$f":"IF(LEN(A809)>0,VLOOKUP(A809,Subcontractors!$A$2:$B$3,2,FALSE),\"\")","v":""},null,{"$f":"IF(LEN(A809)>0,VLOOKUP(A809,Subcontractors!$A$2:$B$2,2,FALSE),\"\")","v":""}]
[null,null,null,null,null,null,null,null,null,null,null,null,null,null,null,null,null,null,null,null,null,{"$f":"IF(LEN(X810)>0,VLOOKUP(X810,'TFW Programs'!$A$2:$B$24,2,FALSE),\"\")","v":""},null,null,{"$f":"IF(LEN(A810)>0,VLOOKUP(A810,Subcontractors!$A$2:$B$3,2,FALSE),\"\")","v":""},null,{"$f":"IF(LEN(A810)>0,VLOOKUP(A810,Subcontractors!$A$2:$B$2,2,FALSE),\"\")","v":""}]
[null,null,null,null,null,null,null,null,null,null,null,null,null,null,null,null,null,null,null,null,null,{"$f":"IF(LEN(X811)>0,VLOOKUP(X811,'TFW Programs'!$A$2:$B$24,2,FALSE),\"\")","v":""},null,null,{"$f":"IF(LEN(A811)>0,VLOOKUP(A811,Subcontractors!$A$2:$B$3,2,FALSE),\"\")","v":""},null,{"$f":"IF(LEN(A811)>0,VLOOKUP(A811,Subcontractors!$A$2:$B$2,2,FALSE),\"\")","v":""}]
[null,null,null,null,null,null,null,null,null,null,null,null,null,null,null,null,null,null,null,null,null,{"$f":"IF(LEN(X812)>0,VLOOKUP(X812,'TFW Programs'!$A$2:$B$24,2,FALSE),\"\")","v":""},null,null,{"$f":"IF(LEN(A812)>0,VLOOKUP(A812,Subcontractors!$A$2:$B$3,2,FALSE),\"\")","v":""},null,{"$f":"IF(LEN(A812)>0,VLOOKUP(A812,Subcontractors!$A$2:$B$2,2,FALSE),\"\")","v":""}]
[null,null,null,null,null,null,null,null,null,null,null,null,null,null,null,null,null,null,null,null,null,{"$f":"IF(LEN(X813)>0,VLOOKUP(X813,'TFW Programs'!$A$2:$B$24,2,FALSE),\"\")","v":""},null,null,{"$f":"IF(LEN(A813)>0,VLOOKUP(A813,Subcontractors!$A$2:$B$3,2,FALSE),\"\")","v":""},null,{"$f":"IF(LEN(A813)>0,VLOOKUP(A813,Subcontractors!$A$2:$B$2,2,FALSE),\"\")","v":""}]
[null,null,null,null,null,null,null,null,null,null,null,null,null,null,null,null,null,null,null,null,null,{"$f":"IF(LEN(X814)>0,VLOOKUP(X814,'TFW Programs'!$A$2:$B$24,2,FALSE),\"\")","v":""},null,null,{"$f":"IF(LEN(A814)>0,VLOOKUP(A814,Subcontractors!$A$2:$B$3,2,FALSE),\"\")","v":""},null,{"$f":"IF(LEN(A814)>0,VLOOKUP(A814,Subcontractors!$A$2:$B$2,2,FALSE),\"\")","v":""}]
[null,null,null,null,null,null,null,null,null,null,null,null,null,null,null,null,null,null,null,null,null,{"$f":"IF(LEN(X815)>0,VLOOKUP(X815,'TFW Programs'!$A$2:$B$24,2,FALSE),\"\")","v":""},null,null,{"$f":"IF(LEN(A815)>0,VLOOKUP(A815,Subcontractors!$A$2:$B$3,2,FALSE),\"\")","v":""},null,{"$f":"IF(LEN(A815)>0,VLOOKUP(A815,Subcontractors!$A$2:$B$2,2,FALSE),\"\")","v":""}]
[null,null,null,null,null,null,null,null,null,null,null,null,null,null,null,null,null,null,null,null,null,{"$f":"IF(LEN(X816)>0,VLOOKUP(X816,'TFW Programs'!$A$2:$B$24,2,FALSE),\"\")","v":""},null,null,{"$f":"IF(LEN(A816)>0,VLOOKUP(A816,Subcontractors!$A$2:$B$3,2,FALSE),\"\")","v":""},null,{"$f":"IF(LEN(A816)>0,VLOOKUP(A816,Subcontractors!$A$2:$B$2,2,FALSE),\"\")","v":""}]
[null,null,null,null,null,null,null,null,null,null,null,null,null,null,null,null,null,null,null,null,null,{"$f":"IF(LEN(X817)>0,VLOOKUP(X817,'TFW Programs'!$A$2:$B$24,2,FALSE),\"\")","v":""},null,null,{"$f":"IF(LEN(A817)>0,VLOOKUP(A817,Subcontractors!$A$2:$B$3,2,FALSE),\"\")","v":""},null,{"$f":"IF(LEN(A817)>0,VLOOKUP(A817,Subcontractors!$A$2:$B$2,2,FALSE),\"\")","v":""}]
[null,null,null,null,null,null,null,null,null,null,null,null,null,null,null,null,null,null,null,null,null,{"$f":"IF(LEN(X818)>0,VLOOKUP(X818,'TFW Programs'!$A$2:$B$24,2,FALSE),\"\")","v":""},null,null,{"$f":"IF(LEN(A818)>0,VLOOKUP(A818,Subcontractors!$A$2:$B$3,2,FALSE),\"\")","v":""},null,{"$f":"IF(LEN(A818)>0,VLOOKUP(A818,Subcontractors!$A$2:$B$2,2,FALSE),\"\")","v":""}]
[null,null,null,null,null,null,null,null,null,null,null,null,null,null,null,null,null,null,null,null,null,{"$f":"IF(LEN(X819)>0,VLOOKUP(X819,'TFW Programs'!$A$2:$B$24,2,FALSE),\"\")","v":""},null,null,{"$f":"IF(LEN(A819)>0,VLOOKUP(A819,Subcontractors!$A$2:$B$3,2,FALSE),\"\")","v":""},null,{"$f":"IF(LEN(A819)>0,VLOOKUP(A819,Subcontractors!$A$2:$B$2,2,FALSE),\"\")","v":""}]
[null,null,null,null,null,null,null,null,null,null,null,null,null,null,null,null,null,null,null,null,null,{"$f":"IF(LEN(X820)>0,VLOOKUP(X820,'TFW Programs'!$A$2:$B$24,2,FALSE),\"\")","v":""},null,null,{"$f":"IF(LEN(A820)>0,VLOOKUP(A820,Subcontractors!$A$2:$B$3,2,FALSE),\"\")","v":""},null,{"$f":"IF(LEN(A820)>0,VLOOKUP(A820,Subcontractors!$A$2:$B$2,2,FALSE),\"\")","v":""}]
[null,null,null,null,null,null,null,null,null,null,null,null,null,null,null,null,null,null,null,null,null,{"$f":"IF(LEN(X821)>0,VLOOKUP(X821,'TFW Programs'!$A$2:$B$24,2,FALSE),\"\")","v":""},null,null,{"$f":"IF(LEN(A821)>0,VLOOKUP(A821,Subcontractors!$A$2:$B$3,2,FALSE),\"\")","v":""},null,{"$f":"IF(LEN(A821)>0,VLOOKUP(A821,Subcontractors!$A$2:$B$2,2,FALSE),\"\")","v":""}]
[null,null,null,null,null,null,null,null,null,null,null,null,null,null,null,null,null,null,null,null,null,{"$f":"IF(LEN(X822)>0,VLOOKUP(X822,'TFW Programs'!$A$2:$B$24,2,FALSE),\"\")","v":""},null,null,{"$f":"IF(LEN(A822)>0,VLOOKUP(A822,Subcontractors!$A$2:$B$3,2,FALSE),\"\")","v":""},null,{"$f":"IF(LEN(A822)>0,VLOOKUP(A822,Subcontractors!$A$2:$B$2,2,FALSE),\"\")","v":""}]
[null,null,null,null,null,null,null,null,null,null,null,null,null,null,null,null,null,null,null,null,null,{"$f":"IF(LEN(X823)>0,VLOOKUP(X823,'TFW Programs'!$A$2:$B$24,2,FALSE),\"\")","v":""},null,null,{"$f":"IF(LEN(A823)>0,VLOOKUP(A823,Subcontractors!$A$2:$B$3,2,FALSE),\"\")","v":""},null,{"$f":"IF(LEN(A823)>0,VLOOKUP(A823,Subcontractors!$A$2:$B$2,2,FALSE),\"\")","v":""}]
[null,null,null,null,null,null,null,null,null,null,null,null,null,null,null,null,null,null,null,null,null,{"$f":"IF(LEN(X824)>0,VLOOKUP(X824,'TFW Programs'!$A$2:$B$24,2,FALSE),\"\")","v":""},null,null,{"$f":"IF(LEN(A824)>0,VLOOKUP(A824,Subcontractors!$A$2:$B$3,2,FALSE),\"\")","v":""},null,{"$f":"IF(LEN(A824)>0,VLOOKUP(A824,Subcontractors!$A$2:$B$2,2,FALSE),\"\")","v":""}]
[null,null,null,null,null,null,null,null,null,null,null,null,null,null,null,null,null,null,null,null,null,{"$f":"IF(LEN(X825)>0,VLOOKUP(X825,'TFW Programs'!$A$2:$B$24,2,FALSE),\"\")","v":""},null,null,{"$f":"IF(LEN(A825)>0,VLOOKUP(A825,Subcontractors!$A$2:$B$3,2,FALSE),\"\")","v":""},null,{"$f":"IF(LEN(A825)>0,VLOOKUP(A825,Subcontractors!$A$2:$B$2,2,FALSE),\"\")","v":""}]
[null,null,null,null,null,null,null,null,null,null,null,null,null,null,null,null,null,null,null,null,null,{"$f":"IF(LEN(X826)>0,VLOOKUP(X826,'TFW Programs'!$A$2:$B$24,2,FALSE),\"\")","v":""},null,null,{"$f":"IF(LEN(A826)>0,VLOOKUP(A826,Subcontractors!$A$2:$B$3,2,FALSE),\"\")","v":""},null,{"$f":"IF(LEN(A826)>0,VLOOKUP(A826,Subcontractors!$A$2:$B$2,2,FALSE),\"\")","v":""}]
[null,null,null,null,null,null,null,null,null,null,null,null,null,null,null,null,null,null,null,null,null,{"$f":"IF(LEN(X827)>0,VLOOKUP(X827,'TFW Programs'!$A$2:$B$24,2,FALSE),\"\")","v":""},null,null,{"$f":"IF(LEN(A827)>0,VLOOKUP(A827,Subcontractors!$A$2:$B$3,2,FALSE),\"\")","v":""},null,{"$f":"IF(LEN(A827)>0,VLOOKUP(A827,Subcontractors!$A$2:$B$2,2,FALSE),\"\")","v":""}]
[null,null,null,null,null,null,null,null,null,null,null,null,null,null,null,null,null,null,null,null,null,{"$f":"IF(LEN(X828)>0,VLOOKUP(X828,'TFW Programs'!$A$2:$B$24,2,FALSE),\"\")","v":""},null,null,{"$f":"IF(LEN(A828)>0,VLOOKUP(A828,Subcontractors!$A$2:$B$3,2,FALSE),\"\")","v":""},null,{"$f":"IF(LEN(A828)>0,VLOOKUP(A828,Subcontractors!$A$2:$B$2,2,FALSE),\"\")","v":""}]
[null,null,null,null,null,null,null,null,null,null,null,null,null,null,null,null,null,null,null,null,null,{"$f":"IF(LEN(X829)>0,VLOOKUP(X829,'TFW Programs'!$A$2:$B$24,2,FALSE),\"\")","v":""},null,null,{"$f":"IF(LEN(A829)>0,VLOOKUP(A829,Subcontractors!$A$2:$B$3,2,FALSE),\"\")","v":""},null,{"$f":"IF(LEN(A829)>0,VLOOKUP(A829,Subcontractors!$A$2:$B$2,2,FALSE),\"\")","v":""}]
[null,null,null,null,null,null,null,null,null,null,null,null,null,null,null,null,null,null,null,null,null,{"$f":"IF(LEN(X830)>0,VLOOKUP(X830,'TFW Programs'!$A$2:$B$24,2,FALSE),\"\")","v":""},null,null,{"$f":"IF(LEN(A830)>0,VLOOKUP(A830,Subcontractors!$A$2:$B$3,2,FALSE),\"\")","v":""},null,{"$f":"IF(LEN(A830)>0,VLOOKUP(A830,Subcontractors!$A$2:$B$2,2,FALSE),\"\")","v":""}]
[null,null,null,null,null,null,null,null,null,null,null,null,null,null,null,null,null,null,null,null,null,{"$f":"IF(LEN(X831)>0,VLOOKUP(X831,'TFW Programs'!$A$2:$B$24,2,FALSE),\"\")","v":""},null,null,{"$f":"IF(LEN(A831)>0,VLOOKUP(A831,Subcontractors!$A$2:$B$3,2,FALSE),\"\")","v":""},null,{"$f":"IF(LEN(A831)>0,VLOOKUP(A831,Subcontractors!$A$2:$B$2,2,FALSE),\"\")","v":""}]
[null,null,null,null,null,null,null,null,null,null,null,null,null,null,null,null,null,null,null,null,null,{"$f":"IF(LEN(X832)>0,VLOOKUP(X832,'TFW Programs'!$A$2:$B$24,2,FALSE),\"\")","v":""},null,null,{"$f":"IF(LEN(A832)>0,VLOOKUP(A832,Subcontractors!$A$2:$B$3,2,FALSE),\"\")","v":""},null,{"$f":"IF(LEN(A832)>0,VLOOKUP(A832,Subcontractors!$A$2:$B$2,2,FALSE),\"\")","v":""}]
[null,null,null,null,null,null,null,null,null,null,null,null,null,null,null,null,null,null,null,null,null,{"$f":"IF(LEN(X833)>0,VLOOKUP(X833,'TFW Programs'!$A$2:$B$24,2,FALSE),\"\")","v":""},null,null,{"$f":"IF(LEN(A833)>0,VLOOKUP(A833,Subcontractors!$A$2:$B$3,2,FALSE),\"\")","v":""},null,{"$f":"IF(LEN(A833)>0,VLOOKUP(A833,Subcontractors!$A$2:$B$2,2,FALSE),\"\")","v":""}]
[null,null,null,null,null,null,null,null,null,null,null,null,null,null,null,null,null,null,null,null,null,{"$f":"IF(LEN(X834)>0,VLOOKUP(X834,'TFW Programs'!$A$2:$B$24,2,FALSE),\"\")","v":""},null,null,{"$f":"IF(LEN(A834)>0,VLOOKUP(A834,Subcontractors!$A$2:$B$3,2,FALSE),\"\")","v":""},null,{"$f":"IF(LEN(A834)>0,VLOOKUP(A834,Subcontractors!$A$2:$B$2,2,FALSE),\"\")","v":""}]
[null,null,null,null,null,null,null,null,null,null,null,null,null,null,null,null,null,null,null,null,null,{"$f":"IF(LEN(X835)>0,VLOOKUP(X835,'TFW Programs'!$A$2:$B$24,2,FALSE),\"\")","v":""},null,null,{"$f":"IF(LEN(A835)>0,VLOOKUP(A835,Subcontractors!$A$2:$B$3,2,FALSE),\"\")","v":""},null,{"$f":"IF(LEN(A835)>0,VLOOKUP(A835,Subcontractors!$A$2:$B$2,2,FALSE),\"\")","v":""}]
[null,null,null,null,null,null,null,null,null,null,null,null,null,null,null,null,null,null,null,null,null,{"$f":"IF(LEN(X836)>0,VLOOKUP(X836,'TFW Programs'!$A$2:$B$24,2,FALSE),\"\")","v":""},null,null,{"$f":"IF(LEN(A836)>0,VLOOKUP(A836,Subcontractors!$A$2:$B$3,2,FALSE),\"\")","v":""},null,{"$f":"IF(LEN(A836)>0,VLOOKUP(A836,Subcontractors!$A$2:$B$2,2,FALSE),\"\")","v":""}]
[null,null,null,null,null,null,null,null,null,null,null,null,null,null,null,null,null,null,null,null,null,{"$f":"IF(LEN(X837)>0,VLOOKUP(X837,'TFW Programs'!$A$2:$B$24,2,FALSE),\"\")","v":""},null,null,{"$f":"IF(LEN(A837)>0,VLOOKUP(A837,Subcontractors!$A$2:$B$3,2,FALSE),\"\")","v":""},null,{"$f":"IF(LEN(A837)>0,VLOOKUP(A837,Subcontractors!$A$2:$B$2,2,FALSE),\"\")","v":""}]
[null,null,null,null,null,null,null,null,null,null,null,null,null,null,null,null,null,null,null,null,null,{"$f":"IF(LEN(X838)>0,VLOOKUP(X838,'TFW Programs'!$A$2:$B$24,2,FALSE),\"\")","v":""},null,null,{"$f":"IF(LEN(A838)>0,VLOOKUP(A838,Subcontractors!$A$2:$B$3,2,FALSE),\"\")","v":""},null,{"$f":"IF(LEN(A838)>0,VLOOKUP(A838,Subcontractors!$A$2:$B$2,2,FALSE),\"\")","v":""}]
[null,null,null,null,null,null,null,null,null,null,null,null,null,null,null,null,null,null,null,null,null,{"$f":"IF(LEN(X839)>0,VLOOKUP(X839,'TFW Programs'!$A$2:$B$24,2,FALSE),\"\")","v":""},null,null,{"$f":"IF(LEN(A839)>0,VLOOKUP(A839,Subcontractors!$A$2:$B$3,2,FALSE),\"\")","v":""},null,{"$f":"IF(LEN(A839)>0,VLOOKUP(A839,Subcontractors!$A$2:$B$2,2,FALSE),\"\")","v":""}]
[null,null,null,null,null,null,null,null,null,null,null,null,null,null,null,null,null,null,null,null,null,{"$f":"IF(LEN(X840)>0,VLOOKUP(X840,'TFW Programs'!$A$2:$B$24,2,FALSE),\"\")","v":""},null,null,{"$f":"IF(LEN(A840)>0,VLOOKUP(A840,Subcontractors!$A$2:$B$3,2,FALSE),\"\")","v":""},null,{"$f":"IF(LEN(A840)>0,VLOOKUP(A840,Subcontractors!$A$2:$B$2,2,FALSE),\"\")","v":""}]
[null,null,null,null,null,null,null,null,null,null,null,null,null,null,null,null,null,null,null,null,null,{"$f":"IF(LEN(X841)>0,VLOOKUP(X841,'TFW Programs'!$A$2:$B$24,2,FALSE),\"\")","v":""},null,null,{"$f":"IF(LEN(A841)>0,VLOOKUP(A841,Subcontractors!$A$2:$B$3,2,FALSE),\"\")","v":""},null,{"$f":"IF(LEN(A841)>0,VLOOKUP(A841,Subcontractors!$A$2:$B$2,2,FALSE),\"\")","v":""}]
[null,null,null,null,null,null,null,null,null,null,null,null,null,null,null,null,null,null,null,null,null,{"$f":"IF(LEN(X842)>0,VLOOKUP(X842,'TFW Programs'!$A$2:$B$24,2,FALSE),\"\")","v":""},null,null,{"$f":"IF(LEN(A842)>0,VLOOKUP(A842,Subcontractors!$A$2:$B$3,2,FALSE),\"\")","v":""},null,{"$f":"IF(LEN(A842)>0,VLOOKUP(A842,Subcontractors!$A$2:$B$2,2,FALSE),\"\")","v":""}]
[null,null,null,null,null,null,null,null,null,null,null,null,null,null,null,null,null,null,null,null,null,{"$f":"IF(LEN(X843)>0,VLOOKUP(X843,'TFW Programs'!$A$2:$B$24,2,FALSE),\"\")","v":""},null,null,{"$f":"IF(LEN(A843)>0,VLOOKUP(A843,Subcontractors!$A$2:$B$3,2,FALSE),\"\")","v":""},null,{"$f":"IF(LEN(A843)>0,VLOOKUP(A843,Subcontractors!$A$2:$B$2,2,FALSE),\"\")","v":""}]
[null,null,null,null,null,null,null,null,null,null,null,null,null,null,null,null,null,null,null,null,null,{"$f":"IF(LEN(X844)>0,VLOOKUP(X844,'TFW Programs'!$A$2:$B$24,2,FALSE),\"\")","v":""},null,null,{"$f":"IF(LEN(A844)>0,VLOOKUP(A844,Subcontractors!$A$2:$B$3,2,FALSE),\"\")","v":""},null,{"$f":"IF(LEN(A844)>0,VLOOKUP(A844,Subcontractors!$A$2:$B$2,2,FALSE),\"\")","v":""}]
[null,null,null,null,null,null,null,null,null,null,null,null,null,null,null,null,null,null,null,null,null,{"$f":"IF(LEN(X845)>0,VLOOKUP(X845,'TFW Programs'!$A$2:$B$24,2,FALSE),\"\")","v":""},null,null,{"$f":"IF(LEN(A845)>0,VLOOKUP(A845,Subcontractors!$A$2:$B$3,2,FALSE),\"\")","v":""},null,{"$f":"IF(LEN(A845)>0,VLOOKUP(A845,Subcontractors!$A$2:$B$2,2,FALSE),\"\")","v":""}]
[null,null,null,null,null,null,null,null,null,null,null,null,null,null,null,null,null,null,null,null,null,{"$f":"IF(LEN(X846)>0,VLOOKUP(X846,'TFW Programs'!$A$2:$B$24,2,FALSE),\"\")","v":""},null,null,{"$f":"IF(LEN(A846)>0,VLOOKUP(A846,Subcontractors!$A$2:$B$3,2,FALSE),\"\")","v":""},null,{"$f":"IF(LEN(A846)>0,VLOOKUP(A846,Subcontractors!$A$2:$B$2,2,FALSE),\"\")","v":""}]
[null,null,null,null,null,null,null,null,null,null,null,null,null,null,null,null,null,null,null,null,null,{"$f":"IF(LEN(X847)>0,VLOOKUP(X847,'TFW Programs'!$A$2:$B$24,2,FALSE),\"\")","v":""},null,null,{"$f":"IF(LEN(A847)>0,VLOOKUP(A847,Subcontractors!$A$2:$B$3,2,FALSE),\"\")","v":""},null,{"$f":"IF(LEN(A847)>0,VLOOKUP(A847,Subcontractors!$A$2:$B$2,2,FALSE),\"\")","v":""}]
[null,null,null,null,null,null,null,null,null,null,null,null,null,null,null,null,null,null,null,null,null,{"$f":"IF(LEN(X848)>0,VLOOKUP(X848,'TFW Programs'!$A$2:$B$24,2,FALSE),\"\")","v":""},null,null,{"$f":"IF(LEN(A848)>0,VLOOKUP(A848,Subcontractors!$A$2:$B$3,2,FALSE),\"\")","v":""},null,{"$f":"IF(LEN(A848)>0,VLOOKUP(A848,Subcontractors!$A$2:$B$2,2,FALSE),\"\")","v":""}]
[null,null,null,null,null,null,null,null,null,null,null,null,null,null,null,null,null,null,null,null,null,{"$f":"IF(LEN(X849)>0,VLOOKUP(X849,'TFW Programs'!$A$2:$B$24,2,FALSE),\"\")","v":""},null,null,{"$f":"IF(LEN(A849)>0,VLOOKUP(A849,Subcontractors!$A$2:$B$3,2,FALSE),\"\")","v":""},null,{"$f":"IF(LEN(A849)>0,VLOOKUP(A849,Subcontractors!$A$2:$B$2,2,FALSE),\"\")","v":""}]
[null,null,null,null,null,null,null,null,null,null,null,null,null,null,null,null,null,null,null,null,null,{"$f":"IF(LEN(X850)>0,VLOOKUP(X850,'TFW Programs'!$A$2:$B$24,2,FALSE),\"\")","v":""},null,null,{"$f":"IF(LEN(A850)>0,VLOOKUP(A850,Subcontractors!$A$2:$B$3,2,FALSE),\"\")","v":""},null,{"$f":"IF(LEN(A850)>0,VLOOKUP(A850,Subcontractors!$A$2:$B$2,2,FALSE),\"\")","v":""}]
[null,null,null,null,null,null,null,null,null,null,null,null,null,null,null,null,null,null,null,null,null,{"$f":"IF(LEN(X851)>0,VLOOKUP(X851,'TFW Programs'!$A$2:$B$24,2,FALSE),\"\")","v":""},null,null,{"$f":"IF(LEN(A851)>0,VLOOKUP(A851,Subcontractors!$A$2:$B$3,2,FALSE),\"\")","v":""},null,{"$f":"IF(LEN(A851)>0,VLOOKUP(A851,Subcontractors!$A$2:$B$2,2,FALSE),\"\")","v":""}]
[null,null,null,null,null,null,null,null,null,null,null,null,null,null,null,null,null,null,null,null,null,{"$f":"IF(LEN(X852)>0,VLOOKUP(X852,'TFW Programs'!$A$2:$B$24,2,FALSE),\"\")","v":""},null,null,{"$f":"IF(LEN(A852)>0,VLOOKUP(A852,Subcontractors!$A$2:$B$3,2,FALSE),\"\")","v":""},null,{"$f":"IF(LEN(A852)>0,VLOOKUP(A852,Subcontractors!$A$2:$B$2,2,FALSE),\"\")","v":""}]
[null,null,null,null,null,null,null,null,null,null,null,null,null,null,null,null,null,null,null,null,null,{"$f":"IF(LEN(X853)>0,VLOOKUP(X853,'TFW Programs'!$A$2:$B$24,2,FALSE),\"\")","v":""},null,null,{"$f":"IF(LEN(A853)>0,VLOOKUP(A853,Subcontractors!$A$2:$B$3,2,FALSE),\"\")","v":""},null,{"$f":"IF(LEN(A853)>0,VLOOKUP(A853,Subcontractors!$A$2:$B$2,2,FALSE),\"\")","v":""}]
[null,null,null,null,null,null,null,null,null,null,null,null,null,null,null,null,null,null,null,null,null,{"$f":"IF(LEN(X854)>0,VLOOKUP(X854,'TFW Programs'!$A$2:$B$24,2,FALSE),\"\")","v":""},null,null,{"$f":"IF(LEN(A854)>0,VLOOKUP(A854,Subcontractors!$A$2:$B$3,2,FALSE),\"\")","v":""},null,{"$f":"IF(LEN(A854)>0,VLOOKUP(A854,Subcontractors!$A$2:$B$2,2,FALSE),\"\")","v":""}]
[null,null,null,null,null,null,null,null,null,null,null,null,null,null,null,null,null,null,null,null,null,{"$f":"IF(LEN(X855)>0,VLOOKUP(X855,'TFW Programs'!$A$2:$B$24,2,FALSE),\"\")","v":""},null,null,{"$f":"IF(LEN(A855)>0,VLOOKUP(A855,Subcontractors!$A$2:$B$3,2,FALSE),\"\")","v":""},null,{"$f":"IF(LEN(A855)>0,VLOOKUP(A855,Subcontractors!$A$2:$B$2,2,FALSE),\"\")","v":""}]
[null,null,null,null,null,null,null,null,null,null,null,null,null,null,null,null,null,null,null,null,null,{"$f":"IF(LEN(X856)>0,VLOOKUP(X856,'TFW Programs'!$A$2:$B$24,2,FALSE),\"\")","v":""},null,null,{"$f":"IF(LEN(A856)>0,VLOOKUP(A856,Subcontractors!$A$2:$B$3,2,FALSE),\"\")","v":""},null,{"$f":"IF(LEN(A856)>0,VLOOKUP(A856,Subcontractors!$A$2:$B$2,2,FALSE),\"\")","v":""}]
[null,null,null,null,null,null,null,null,null,null,null,null,null,null,null,null,null,null,null,null,null,{"$f":"IF(LEN(X857)>0,VLOOKUP(X857,'TFW Programs'!$A$2:$B$24,2,FALSE),\"\")","v":""},null,null,{"$f":"IF(LEN(A857)>0,VLOOKUP(A857,Subcontractors!$A$2:$B$3,2,FALSE),\"\")","v":""},null,{"$f":"IF(LEN(A857)>0,VLOOKUP(A857,Subcontractors!$A$2:$B$2,2,FALSE),\"\")","v":""}]
[null,null,null,null,null,null,null,null,null,null,null,null,null,null,null,null,null,null,null,null,null,{"$f":"IF(LEN(X858)>0,VLOOKUP(X858,'TFW Programs'!$A$2:$B$24,2,FALSE),\"\")","v":""},null,null,{"$f":"IF(LEN(A858)>0,VLOOKUP(A858,Subcontractors!$A$2:$B$3,2,FALSE),\"\")","v":""},null,{"$f":"IF(LEN(A858)>0,VLOOKUP(A858,Subcontractors!$A$2:$B$2,2,FALSE),\"\")","v":""}]
[null,null,null,null,null,null,null,null,null,null,null,null,null,null,null,null,null,null,null,null,null,{"$f":"IF(LEN(X859)>0,VLOOKUP(X859,'TFW Programs'!$A$2:$B$24,2,FALSE),\"\")","v":""},null,null,{"$f":"IF(LEN(A859)>0,VLOOKUP(A859,Subcontractors!$A$2:$B$3,2,FALSE),\"\")","v":""},null,{"$f":"IF(LEN(A859)>0,VLOOKUP(A859,Subcontractors!$A$2:$B$2,2,FALSE),\"\")","v":""}]
[null,null,null,null,null,null,null,null,null,null,null,null,null,null,null,null,null,null,null,null,null,{"$f":"IF(LEN(X860)>0,VLOOKUP(X860,'TFW Programs'!$A$2:$B$24,2,FALSE),\"\")","v":""},null,null,{"$f":"IF(LEN(A860)>0,VLOOKUP(A860,Subcontractors!$A$2:$B$3,2,FALSE),\"\")","v":""},null,{"$f":"IF(LEN(A860)>0,VLOOKUP(A860,Subcontractors!$A$2:$B$2,2,FALSE),\"\")","v":""}]
[null,null,null,null,null,null,null,null,null,null,null,null,null,null,null,null,null,null,null,null,null,{"$f":"IF(LEN(X861)>0,VLOOKUP(X861,'TFW Programs'!$A$2:$B$24,2,FALSE),\"\")","v":""},null,null,{"$f":"IF(LEN(A861)>0,VLOOKUP(A861,Subcontractors!$A$2:$B$3,2,FALSE),\"\")","v":""},null,{"$f":"IF(LEN(A861)>0,VLOOKUP(A861,Subcontractors!$A$2:$B$2,2,FALSE),\"\")","v":""}]
[null,null,null,null,null,null,null,null,null,null,null,null,null,null,null,null,null,null,null,null,null,{"$f":"IF(LEN(X862)>0,VLOOKUP(X862,'TFW Programs'!$A$2:$B$24,2,FALSE),\"\")","v":""},null,null,{"$f":"IF(LEN(A862)>0,VLOOKUP(A862,Subcontractors!$A$2:$B$3,2,FALSE),\"\")","v":""},null,{"$f":"IF(LEN(A862)>0,VLOOKUP(A862,Subcontractors!$A$2:$B$2,2,FALSE),\"\")","v":""}]
[null,null,null,null,null,null,null,null,null,null,null,null,null,null,null,null,null,null,null,null,null,{"$f":"IF(LEN(X863)>0,VLOOKUP(X863,'TFW Programs'!$A$2:$B$24,2,FALSE),\"\")","v":""},null,null,{"$f":"IF(LEN(A863)>0,VLOOKUP(A863,Subcontractors!$A$2:$B$3,2,FALSE),\"\")","v":""},null,{"$f":"IF(LEN(A863)>0,VLOOKUP(A863,Subcontractors!$A$2:$B$2,2,FALSE),\"\")","v":""}]
[null,null,null,null,null,null,null,null,null,null,null,null,null,null,null,null,null,null,null,null,null,{"$f":"IF(LEN(X864)>0,VLOOKUP(X864,'TFW Programs'!$A$2:$B$24,2,FALSE),\"\")","v":""},null,null,{"$f":"IF(LEN(A864)>0,VLOOKUP(A864,Subcontractors!$A$2:$B$3,2,FALSE),\"\")","v":""},null,{"$f":"IF(LEN(A864)>0,VLOOKUP(A864,Subcontractors!$A$2:$B$2,2,FALSE),\"\")","v":""}]
[null,null,null,null,null,null,null,null,null,null,null,null,null,null,null,null,null,null,null,null,null,{"$f":"IF(LEN(X865)>0,VLOOKUP(X865,'TFW Programs'!$A$2:$B$24,2,FALSE),\"\")","v":""},null,null,{"$f":"IF(LEN(A865)>0,VLOOKUP(A865,Subcontractors!$A$2:$B$3,2,FALSE),\"\")","v":""},null,{"$f":"IF(LEN(A865)>0,VLOOKUP(A865,Subcontractors!$A$2:$B$2,2,FALSE),\"\")","v":""}]
[null,null,null,null,null,null,null,null,null,null,null,null,null,null,null,null,null,null,null,null,null,{"$f":"IF(LEN(X866)>0,VLOOKUP(X866,'TFW Programs'!$A$2:$B$24,2,FALSE),\"\")","v":""},null,null,{"$f":"IF(LEN(A866)>0,VLOOKUP(A866,Subcontractors!$A$2:$B$3,2,FALSE),\"\")","v":""},null,{"$f":"IF(LEN(A866)>0,VLOOKUP(A866,Subcontractors!$A$2:$B$2,2,FALSE),\"\")","v":""}]
[null,null,null,null,null,null,null,null,null,null,null,null,null,null,null,null,null,null,null,null,null,{"$f":"IF(LEN(X867)>0,VLOOKUP(X867,'TFW Programs'!$A$2:$B$24,2,FALSE),\"\")","v":""},null,null,{"$f":"IF(LEN(A867)>0,VLOOKUP(A867,Subcontractors!$A$2:$B$3,2,FALSE),\"\")","v":""},null,{"$f":"IF(LEN(A867)>0,VLOOKUP(A867,Subcontractors!$A$2:$B$2,2,FALSE),\"\")","v":""}]
[null,null,null,null,null,null,null,null,null,null,null,null,null,null,null,null,null,null,null,null,null,{"$f":"IF(LEN(X868)>0,VLOOKUP(X868,'TFW Programs'!$A$2:$B$24,2,FALSE),\"\")","v":""},null,null,{"$f":"IF(LEN(A868)>0,VLOOKUP(A868,Subcontractors!$A$2:$B$3,2,FALSE),\"\")","v":""},null,{"$f":"IF(LEN(A868)>0,VLOOKUP(A868,Subcontractors!$A$2:$B$2,2,FALSE),\"\")","v":""}]
[null,null,null,null,null,null,null,null,null,null,null,null,null,null,null,null,null,null,null,null,null,{"$f":"IF(LEN(X869)>0,VLOOKUP(X869,'TFW Programs'!$A$2:$B$24,2,FALSE),\"\")","v":""},null,null,{"$f":"IF(LEN(A869)>0,VLOOKUP(A869,Subcontractors!$A$2:$B$3,2,FALSE),\"\")","v":""},null,{"$f":"IF(LEN(A869)>0,VLOOKUP(A869,Subcontractors!$A$2:$B$2,2,FALSE),\"\")","v":""}]
[null,null,null,null,null,null,null,null,null,null,null,null,null,null,null,null,null,null,null,null,null,{"$f":"IF(LEN(X870)>0,VLOOKUP(X870,'TFW Programs'!$A$2:$B$24,2,FALSE),\"\")","v":""},null,null,{"$f":"IF(LEN(A870)>0,VLOOKUP(A870,Subcontractors!$A$2:$B$3,2,FALSE),\"\")","v":""},null,{"$f":"IF(LEN(A870)>0,VLOOKUP(A870,Subcontractors!$A$2:$B$2,2,FALSE),\"\")","v":""}]
[null,null,null,null,null,null,null,null,null,null,null,null,null,null,null,null,null,null,null,null,null,{"$f":"IF(LEN(X871)>0,VLOOKUP(X871,'TFW Programs'!$A$2:$B$24,2,FALSE),\"\")","v":""},null,null,{"$f":"IF(LEN(A871)>0,VLOOKUP(A871,Subcontractors!$A$2:$B$3,2,FALSE),\"\")","v":""},null,{"$f":"IF(LEN(A871)>0,VLOOKUP(A871,Subcontractors!$A$2:$B$2,2,FALSE),\"\")","v":""}]
[null,null,null,null,null,null,null,null,null,null,null,null,null,null,null,null,null,null,null,null,null,{"$f":"IF(LEN(X872)>0,VLOOKUP(X872,'TFW Programs'!$A$2:$B$24,2,FALSE),\"\")","v":""},null,null,{"$f":"IF(LEN(A872)>0,VLOOKUP(A872,Subcontractors!$A$2:$B$3,2,FALSE),\"\")","v":""},null,{"$f":"IF(LEN(A872)>0,VLOOKUP(A872,Subcontractors!$A$2:$B$2,2,FALSE),\"\")","v":""}]
[null,null,null,null,null,null,null,null,null,null,null,null,null,null,null,null,null,null,null,null,null,{"$f":"IF(LEN(X873)>0,VLOOKUP(X873,'TFW Programs'!$A$2:$B$24,2,FALSE),\"\")","v":""},null,null,{"$f":"IF(LEN(A873)>0,VLOOKUP(A873,Subcontractors!$A$2:$B$3,2,FALSE),\"\")","v":""},null,{"$f":"IF(LEN(A873)>0,VLOOKUP(A873,Subcontractors!$A$2:$B$2,2,FALSE),\"\")","v":""}]
[null,null,null,null,null,null,null,null,null,null,null,null,null,null,null,null,null,null,null,null,null,{"$f":"IF(LEN(X874)>0,VLOOKUP(X874,'TFW Programs'!$A$2:$B$24,2,FALSE),\"\")","v":""},null,null,{"$f":"IF(LEN(A874)>0,VLOOKUP(A874,Subcontractors!$A$2:$B$3,2,FALSE),\"\")","v":""},null,{"$f":"IF(LEN(A874)>0,VLOOKUP(A874,Subcontractors!$A$2:$B$2,2,FALSE),\"\")","v":""}]
[null,null,null,null,null,null,null,null,null,null,null,null,null,null,null,null,null,null,null,null,null,{"$f":"IF(LEN(X875)>0,VLOOKUP(X875,'TFW Programs'!$A$2:$B$24,2,FALSE),\"\")","v":""},null,null,{"$f":"IF(LEN(A875)>0,VLOOKUP(A875,Subcontractors!$A$2:$B$3,2,FALSE),\"\")","v":""},null,{"$f":"IF(LEN(A875)>0,VLOOKUP(A875,Subcontractors!$A$2:$B$2,2,FALSE),\"\")","v":""}]
[null,null,null,null,null,null,null,null,null,null,null,null,null,null,null,null,null,null,null,null,null,{"$f":"IF(LEN(X876)>0,VLOOKUP(X876,'TFW Programs'!$A$2:$B$24,2,FALSE),\"\")","v":""},null,null,{"$f":"IF(LEN(A876)>0,VLOOKUP(A876,Subcontractors!$A$2:$B$3,2,FALSE),\"\")","v":""},null,{"$f":"IF(LEN(A876)>0,VLOOKUP(A876,Subcontractors!$A$2:$B$2,2,FALSE),\"\")","v":""}]
[null,null,null,null,null,null,null,null,null,null,null,null,null,null,null,null,null,null,null,null,null,{"$f":"IF(LEN(X877)>0,VLOOKUP(X877,'TFW Programs'!$A$2:$B$24,2,FALSE),\"\")","v":""},null,null,{"$f":"IF(LEN(A877)>0,VLOOKUP(A877,Subcontractors!$A$2:$B$3,2,FALSE),\"\")","v":""},null,{"$f":"IF(LEN(A877)>0,VLOOKUP(A877,Subcontractors!$A$2:$B$2,2,FALSE),\"\")","v":""}]
[null,null,null,null,null,null,null,null,null,null,null,null,null,null,null,null,null,null,null,null,null,{"$f":"IF(LEN(X878)>0,VLOOKUP(X878,'TFW Programs'!$A$2:$B$24,2,FALSE),\"\")","v":""},null,null,{"$f":"IF(LEN(A878)>0,VLOOKUP(A878,Subcontractors!$A$2:$B$3,2,FALSE),\"\")","v":""},null,{"$f":"IF(LEN(A878)>0,VLOOKUP(A878,Subcontractors!$A$2:$B$2,2,FALSE),\"\")","v":""}]
[null,null,null,null,null,null,null,null,null,null,null,null,null,null,null,null,null,null,null,null,null,{"$f":"IF(LEN(X879)>0,VLOOKUP(X879,'TFW Programs'!$A$2:$B$24,2,FALSE),\"\")","v":""},null,null,{"$f":"IF(LEN(A879)>0,VLOOKUP(A879,Subcontractors!$A$2:$B$3,2,FALSE),\"\")","v":""},null,{"$f":"IF(LEN(A879)>0,VLOOKUP(A879,Subcontractors!$A$2:$B$2,2,FALSE),\"\")","v":""}]
[null,null,null,null,null,null,null,null,null,null,null,null,null,null,null,null,null,null,null,null,null,{"$f":"IF(LEN(X880)>0,VLOOKUP(X880,'TFW Programs'!$A$2:$B$24,2,FALSE),\"\")","v":""},null,null,{"$f":"IF(LEN(A880)>0,VLOOKUP(A880,Subcontractors!$A$2:$B$3,2,FALSE),\"\")","v":""},null,{"$f":"IF(LEN(A880)>0,VLOOKUP(A880,Subcontractors!$A$2:$B$2,2,FALSE),\"\")","v":""}]
[null,null,null,null,null,null,null,null,null,null,null,null,null,null,null,null,null,null,null,null,null,{"$f":"IF(LEN(X881)>0,VLOOKUP(X881,'TFW Programs'!$A$2:$B$24,2,FALSE),\"\")","v":""},null,null,{"$f":"IF(LEN(A881)>0,VLOOKUP(A881,Subcontractors!$A$2:$B$3,2,FALSE),\"\")","v":""},null,{"$f":"IF(LEN(A881)>0,VLOOKUP(A881,Subcontractors!$A$2:$B$2,2,FALSE),\"\")","v":""}]
[null,null,null,null,null,null,null,null,null,null,null,null,null,null,null,null,null,null,null,null,null,{"$f":"IF(LEN(X882)>0,VLOOKUP(X882,'TFW Programs'!$A$2:$B$24,2,FALSE),\"\")","v":""},null,null,{"$f":"IF(LEN(A882)>0,VLOOKUP(A882,Subcontractors!$A$2:$B$3,2,FALSE),\"\")","v":""},null,{"$f":"IF(LEN(A882)>0,VLOOKUP(A882,Subcontractors!$A$2:$B$2,2,FALSE),\"\")","v":""}]
[null,null,null,null,null,null,null,null,null,null,null,null,null,null,null,null,null,null,null,null,null,{"$f":"IF(LEN(X883)>0,VLOOKUP(X883,'TFW Programs'!$A$2:$B$24,2,FALSE),\"\")","v":""},null,null,{"$f":"IF(LEN(A883)>0,VLOOKUP(A883,Subcontractors!$A$2:$B$3,2,FALSE),\"\")","v":""},null,{"$f":"IF(LEN(A883)>0,VLOOKUP(A883,Subcontractors!$A$2:$B$2,2,FALSE),\"\")","v":""}]
[null,null,null,null,null,null,null,null,null,null,null,null,null,null,null,null,null,null,null,null,null,{"$f":"IF(LEN(X884)>0,VLOOKUP(X884,'TFW Programs'!$A$2:$B$24,2,FALSE),\"\")","v":""},null,null,{"$f":"IF(LEN(A884)>0,VLOOKUP(A884,Subcontractors!$A$2:$B$3,2,FALSE),\"\")","v":""},null,{"$f":"IF(LEN(A884)>0,VLOOKUP(A884,Subcontractors!$A$2:$B$2,2,FALSE),\"\")","v":""}]
[null,null,null,null,null,null,null,null,null,null,null,null,null,null,null,null,null,null,null,null,null,{"$f":"IF(LEN(X885)>0,VLOOKUP(X885,'TFW Programs'!$A$2:$B$24,2,FALSE),\"\")","v":""},null,null,{"$f":"IF(LEN(A885)>0,VLOOKUP(A885,Subcontractors!$A$2:$B$3,2,FALSE),\"\")","v":""},null,{"$f":"IF(LEN(A885)>0,VLOOKUP(A885,Subcontractors!$A$2:$B$2,2,FALSE),\"\")","v":""}]
[null,null,null,null,null,null,null,null,null,null,null,null,null,null,null,null,null,null,null,null,null,{"$f":"IF(LEN(X886)>0,VLOOKUP(X886,'TFW Programs'!$A$2:$B$24,2,FALSE),\"\")","v":""},null,null,{"$f":"IF(LEN(A886)>0,VLOOKUP(A886,Subcontractors!$A$2:$B$3,2,FALSE),\"\")","v":""},null,{"$f":"IF(LEN(A886)>0,VLOOKUP(A886,Subcontractors!$A$2:$B$2,2,FALSE),\"\")","v":""}]
[null,null,null,null,null,null,null,null,null,null,null,null,null,null,null,null,null,null,null,null,null,{"$f":"IF(LEN(X887)>0,VLOOKUP(X887,'TFW Programs'!$A$2:$B$24,2,FALSE),\"\")","v":""},null,null,{"$f":"IF(LEN(A887)>0,VLOOKUP(A887,Subcontractors!$A$2:$B$3,2,FALSE),\"\")","v":""},null,{"$f":"IF(LEN(A887)>0,VLOOKUP(A887,Subcontractors!$A$2:$B$2,2,FALSE),\"\")","v":""}]
[null,null,null,null,null,null,null,null,null,null,null,null,null,null,null,null,null,null,null,null,null,{"$f":"IF(LEN(X888)>0,VLOOKUP(X888,'TFW Programs'!$A$2:$B$24,2,FALSE),\"\")","v":""},null,null,{"$f":"IF(LEN(A888)>0,VLOOKUP(A888,Subcontractors!$A$2:$B$3,2,FALSE),\"\")","v":""},null,{"$f":"IF(LEN(A888)>0,VLOOKUP(A888,Subcontractors!$A$2:$B$2,2,FALSE),\"\")","v":""}]
[null,null,null,null,null,null,null,null,null,null,null,null,null,null,null,null,null,null,null,null,null,{"$f":"IF(LEN(X889)>0,VLOOKUP(X889,'TFW Programs'!$A$2:$B$24,2,FALSE),\"\")","v":""},null,null,{"$f":"IF(LEN(A889)>0,VLOOKUP(A889,Subcontractors!$A$2:$B$3,2,FALSE),\"\")","v":""},null,{"$f":"IF(LEN(A889)>0,VLOOKUP(A889,Subcontractors!$A$2:$B$2,2,FALSE),\"\")","v":""}]
[null,null,null,null,null,null,null,null,null,null,null,null,null,null,null,null,null,null,null,null,null,{"$f":"IF(LEN(X890)>0,VLOOKUP(X890,'TFW Programs'!$A$2:$B$24,2,FALSE),\"\")","v":""},null,null,{"$f":"IF(LEN(A890)>0,VLOOKUP(A890,Subcontractors!$A$2:$B$3,2,FALSE),\"\")","v":""},null,{"$f":"IF(LEN(A890)>0,VLOOKUP(A890,Subcontractors!$A$2:$B$2,2,FALSE),\"\")","v":""}]
[null,null,null,null,null,null,null,null,null,null,null,null,null,null,null,null,null,null,null,null,null,{"$f":"IF(LEN(X891)>0,VLOOKUP(X891,'TFW Programs'!$A$2:$B$24,2,FALSE),\"\")","v":""},null,null,{"$f":"IF(LEN(A891)>0,VLOOKUP(A891,Subcontractors!$A$2:$B$3,2,FALSE),\"\")","v":""},null,{"$f":"IF(LEN(A891)>0,VLOOKUP(A891,Subcontractors!$A$2:$B$2,2,FALSE),\"\")","v":""}]
[null,null,null,null,null,null,null,null,null,null,null,null,null,null,null,null,null,null,null,null,null,{"$f":"IF(LEN(X892)>0,VLOOKUP(X892,'TFW Programs'!$A$2:$B$24,2,FALSE),\"\")","v":""},null,null,{"$f":"IF(LEN(A892)>0,VLOOKUP(A892,Subcontractors!$A$2:$B$3,2,FALSE),\"\")","v":""},null,{"$f":"IF(LEN(A892)>0,VLOOKUP(A892,Subcontractors!$A$2:$B$2,2,FALSE),\"\")","v":""}]
[null,null,null,null,null,null,null,null,null,null,null,null,null,null,null,null,null,null,null,null,null,{"$f":"IF(LEN(X893)>0,VLOOKUP(X893,'TFW Programs'!$A$2:$B$24,2,FALSE),\"\")","v":""},null,null,{"$f":"IF(LEN(A893)>0,VLOOKUP(A893,Subcontractors!$A$2:$B$3,2,FALSE),\"\")","v":""},null,{"$f":"IF(LEN(A893)>0,VLOOKUP(A893,Subcontractors!$A$2:$B$2,2,FALSE),\"\")","v":""}]
[null,null,null,null,null,null,null,null,null,null,null,null,null,null,null,null,null,null,null,null,null,{"$f":"IF(LEN(X894)>0,VLOOKUP(X894,'TFW Programs'!$A$2:$B$24,2,FALSE),\"\")","v":""},null,null,{"$f":"IF(LEN(A894)>0,VLOOKUP(A894,Subcontractors!$A$2:$B$3,2,FALSE),\"\")","v":""},null,{"$f":"IF(LEN(A894)>0,VLOOKUP(A894,Subcontractors!$A$2:$B$2,2,FALSE),\"\")","v":""}]
[null,null,null,null,null,null,null,null,null,null,null,null,null,null,null,null,null,null,null,null,null,{"$f":"IF(LEN(X895)>0,VLOOKUP(X895,'TFW Programs'!$A$2:$B$24,2,FALSE),\"\")","v":""},null,null,{"$f":"IF(LEN(A895)>0,VLOOKUP(A895,Subcontractors!$A$2:$B$3,2,FALSE),\"\")","v":""},null,{"$f":"IF(LEN(A895)>0,VLOOKUP(A895,Subcontractors!$A$2:$B$2,2,FALSE),\"\")","v":""}]
[null,null,null,null,null,null,null,null,null,null,null,null,null,null,null,null,null,null,null,null,null,{"$f":"IF(LEN(X896)>0,VLOOKUP(X896,'TFW Programs'!$A$2:$B$24,2,FALSE),\"\")","v":""},null,null,{"$f":"IF(LEN(A896)>0,VLOOKUP(A896,Subcontractors!$A$2:$B$3,2,FALSE),\"\")","v":""},null,{"$f":"IF(LEN(A896)>0,VLOOKUP(A896,Subcontractors!$A$2:$B$2,2,FALSE),\"\")","v":""}]
[null,null,null,null,null,null,null,null,null,null,null,null,null,null,null,null,null,null,null,null,null,{"$f":"IF(LEN(X897)>0,VLOOKUP(X897,'TFW Programs'!$A$2:$B$24,2,FALSE),\"\")","v":""},null,null,{"$f":"IF(LEN(A897)>0,VLOOKUP(A897,Subcontractors!$A$2:$B$3,2,FALSE),\"\")","v":""},null,{"$f":"IF(LEN(A897)>0,VLOOKUP(A897,Subcontractors!$A$2:$B$2,2,FALSE),\"\")","v":""}]
[null,null,null,null,null,null,null,null,null,null,null,null,null,null,null,null,null,null,null,null,null,{"$f":"IF(LEN(X898)>0,VLOOKUP(X898,'TFW Programs'!$A$2:$B$24,2,FALSE),\"\")","v":""},null,null,{"$f":"IF(LEN(A898)>0,VLOOKUP(A898,Subcontractors!$A$2:$B$3,2,FALSE),\"\")","v":""},null,{"$f":"IF(LEN(A898)>0,VLOOKUP(A898,Subcontractors!$A$2:$B$2,2,FALSE),\"\")","v":""}]
[null,null,null,null,null,null,null,null,null,null,null,null,null,null,null,null,null,null,null,null,null,{"$f":"IF(LEN(X899)>0,VLOOKUP(X899,'TFW Programs'!$A$2:$B$24,2,FALSE),\"\")","v":""},null,null,{"$f":"IF(LEN(A899)>0,VLOOKUP(A899,Subcontractors!$A$2:$B$3,2,FALSE),\"\")","v":""},null,{"$f":"IF(LEN(A899)>0,VLOOKUP(A899,Subcontractors!$A$2:$B$2,2,FALSE),\"\")","v":""}]
[null,null,null,null,null,null,null,null,null,null,null,null,null,null,null,null,null,null,null,null,null,{"$f":"IF(LEN(X900)>0,VLOOKUP(X900,'TFW Programs'!$A$2:$B$24,2,FALSE),\"\")","v":""},null,null,{"$f":"IF(LEN(A900)>0,VLOOKUP(A900,Subcontractors!$A$2:$B$3,2,FALSE),\"\")","v":""},null,{"$f":"IF(LEN(A900)>0,VLOOKUP(A900,Subcontractors!$A$2:$B$2,2,FALSE),\"\")","v":""}]
[null,null,null,null,null,null,null,null,null,null,null,null,null,null,null,null,null,null,null,null,null,{"$f":"IF(LEN(X901)>0,VLOOKUP(X901,'TFW Programs'!$A$2:$B$24,2,FALSE),\"\")","v":""},null,null,{"$f":"IF(LEN(A901)>0,VLOOKUP(A901,Subcontractors!$A$2:$B$3,2,FALSE),\"\")","v":""},null,{"$f":"IF(LEN(A901)>0,VLOOKUP(A901,Subcontractors!$A$2:$B$2,2,FALSE),\"\")","v":""}]
[null,null,null,null,null,null,null,null,null,null,null,null,null,null,null,null,null,null,null,null,null,{"$f":"IF(LEN(X902)>0,VLOOKUP(X902,'TFW Programs'!$A$2:$B$24,2,FALSE),\"\")","v":""},null,null,{"$f":"IF(LEN(A902)>0,VLOOKUP(A902,Subcontractors!$A$2:$B$3,2,FALSE),\"\")","v":""},null,{"$f":"IF(LEN(A902)>0,VLOOKUP(A902,Subcontractors!$A$2:$B$2,2,FALSE),\"\")","v":""}]
[null,null,null,null,null,null,null,null,null,null,null,null,null,null,null,null,null,null,null,null,null,{"$f":"IF(LEN(X903)>0,VLOOKUP(X903,'TFW Programs'!$A$2:$B$24,2,FALSE),\"\")","v":""},null,null,{"$f":"IF(LEN(A903)>0,VLOOKUP(A903,Subcontractors!$A$2:$B$3,2,FALSE),\"\")","v":""},null,{"$f":"IF(LEN(A903)>0,VLOOKUP(A903,Subcontractors!$A$2:$B$2,2,FALSE),\"\")","v":""}]
[null,null,null,null,null,null,null,null,null,null,null,null,null,null,null,null,null,null,null,null,null,{"$f":"IF(LEN(X904)>0,VLOOKUP(X904,'TFW Programs'!$A$2:$B$24,2,FALSE),\"\")","v":""},null,null,{"$f":"IF(LEN(A904)>0,VLOOKUP(A904,Subcontractors!$A$2:$B$3,2,FALSE),\"\")","v":""},null,{"$f":"IF(LEN(A904)>0,VLOOKUP(A904,Subcontractors!$A$2:$B$2,2,FALSE),\"\")","v":""}]
[null,null,null,null,null,null,null,null,null,null,null,null,null,null,null,null,null,null,null,null,null,{"$f":"IF(LEN(X905)>0,VLOOKUP(X905,'TFW Programs'!$A$2:$B$24,2,FALSE),\"\")","v":""},null,null,{"$f":"IF(LEN(A905)>0,VLOOKUP(A905,Subcontractors!$A$2:$B$3,2,FALSE),\"\")","v":""},null,{"$f":"IF(LEN(A905)>0,VLOOKUP(A905,Subcontractors!$A$2:$B$2,2,FALSE),\"\")","v":""}]
[null,null,null,null,null,null,null,null,null,null,null,null,null,null,null,null,null,null,null,null,null,{"$f":"IF(LEN(X906)>0,VLOOKUP(X906,'TFW Programs'!$A$2:$B$24,2,FALSE),\"\")","v":""},null,null,{"$f":"IF(LEN(A906)>0,VLOOKUP(A906,Subcontractors!$A$2:$B$3,2,FALSE),\"\")","v":""},null,{"$f":"IF(LEN(A906)>0,VLOOKUP(A906,Subcontractors!$A$2:$B$2,2,FALSE),\"\")","v":""}]
[null,null,null,null,null,null,null,null,null,null,null,null,null,null,null,null,null,null,null,null,null,{"$f":"IF(LEN(X907)>0,VLOOKUP(X907,'TFW Programs'!$A$2:$B$24,2,FALSE),\"\")","v":""},null,null,{"$f":"IF(LEN(A907)>0,VLOOKUP(A907,Subcontractors!$A$2:$B$3,2,FALSE),\"\")","v":""},null,{"$f":"IF(LEN(A907)>0,VLOOKUP(A907,Subcontractors!$A$2:$B$2,2,FALSE),\"\")","v":""}]
[null,null,null,null,null,null,null,null,null,null,null,null,null,null,null,null,null,null,null,null,null,{"$f":"IF(LEN(X908)>0,VLOOKUP(X908,'TFW Programs'!$A$2:$B$24,2,FALSE),\"\")","v":""},null,null,{"$f":"IF(LEN(A908)>0,VLOOKUP(A908,Subcontractors!$A$2:$B$3,2,FALSE),\"\")","v":""},null,{"$f":"IF(LEN(A908)>0,VLOOKUP(A908,Subcontractors!$A$2:$B$2,2,FALSE),\"\")","v":""}]
[null,null,null,null,null,null,null,null,null,null,null,null,null,null,null,null,null,null,null,null,null,{"$f":"IF(LEN(X909)>0,VLOOKUP(X909,'TFW Programs'!$A$2:$B$24,2,FALSE),\"\")","v":""},null,null,{"$f":"IF(LEN(A909)>0,VLOOKUP(A909,Subcontractors!$A$2:$B$3,2,FALSE),\"\")","v":""},null,{"$f":"IF(LEN(A909)>0,VLOOKUP(A909,Subcontractors!$A$2:$B$2,2,FALSE),\"\")","v":""}]
[null,null,null,null,null,null,null,null,null,null,null,null,null,null,null,null,null,null,null,null,null,{"$f":"IF(LEN(X910)>0,VLOOKUP(X910,'TFW Programs'!$A$2:$B$24,2,FALSE),\"\")","v":""},null,null,{"$f":"IF(LEN(A910)>0,VLOOKUP(A910,Subcontractors!$A$2:$B$3,2,FALSE),\"\")","v":""},null,{"$f":"IF(LEN(A910)>0,VLOOKUP(A910,Subcontractors!$A$2:$B$2,2,FALSE),\"\")","v":""}]
[null,null,null,null,null,null,null,null,null,null,null,null,null,null,null,null,null,null,null,null,null,{"$f":"IF(LEN(X911)>0,VLOOKUP(X911,'TFW Programs'!$A$2:$B$24,2,FALSE),\"\")","v":""},null,null,{"$f":"IF(LEN(A911)>0,VLOOKUP(A911,Subcontractors!$A$2:$B$3,2,FALSE),\"\")","v":""},null,{"$f":"IF(LEN(A911)>0,VLOOKUP(A911,Subcontractors!$A$2:$B$2,2,FALSE),\"\")","v":""}]
[null,null,null,null,null,null,null,null,null,null,null,null,null,null,null,null,null,null,null,null,null,{"$f":"IF(LEN(X912)>0,VLOOKUP(X912,'TFW Programs'!$A$2:$B$24,2,FALSE),\"\")","v":""},null,null,{"$f":"IF(LEN(A912)>0,VLOOKUP(A912,Subcontractors!$A$2:$B$3,2,FALSE),\"\")","v":""},null,{"$f":"IF(LEN(A912)>0,VLOOKUP(A912,Subcontractors!$A$2:$B$2,2,FALSE),\"\")","v":""}]
[null,null,null,null,null,null,null,null,null,null,null,null,null,null,null,null,null,null,null,null,null,{"$f":"IF(LEN(X913)>0,VLOOKUP(X913,'TFW Programs'!$A$2:$B$24,2,FALSE),\"\")","v":""},null,null,{"$f":"IF(LEN(A913)>0,VLOOKUP(A913,Subcontractors!$A$2:$B$3,2,FALSE),\"\")","v":""},null,{"$f":"IF(LEN(A913)>0,VLOOKUP(A913,Subcontractors!$A$2:$B$2,2,FALSE),\"\")","v":""}]
[null,null,null,null,null,null,null,null,null,null,null,null,null,null,null,null,null,null,null,null,null,{"$f":"IF(LEN(X914)>0,VLOOKUP(X914,'TFW Programs'!$A$2:$B$24,2,FALSE),\"\")","v":""},null,null,{"$f":"IF(LEN(A914)>0,VLOOKUP(A914,Subcontractors!$A$2:$B$3,2,FALSE),\"\")","v":""},null,{"$f":"IF(LEN(A914)>0,VLOOKUP(A914,Subcontractors!$A$2:$B$2,2,FALSE),\"\")","v":""}]
[null,null,null,null,null,null,null,null,null,null,null,null,null,null,null,null,null,null,null,null,null,{"$f":"IF(LEN(X915)>0,VLOOKUP(X915,'TFW Programs'!$A$2:$B$24,2,FALSE),\"\")","v":""},null,null,{"$f":"IF(LEN(A915)>0,VLOOKUP(A915,Subcontractors!$A$2:$B$3,2,FALSE),\"\")","v":""},null,{"$f":"IF(LEN(A915)>0,VLOOKUP(A915,Subcontractors!$A$2:$B$2,2,FALSE),\"\")","v":""}]
[null,null,null,null,null,null,null,null,null,null,null,null,null,null,null,null,null,null,null,null,null,{"$f":"IF(LEN(X916)>0,VLOOKUP(X916,'TFW Programs'!$A$2:$B$24,2,FALSE),\"\")","v":""},null,null,{"$f":"IF(LEN(A916)>0,VLOOKUP(A916,Subcontractors!$A$2:$B$3,2,FALSE),\"\")","v":""},null,{"$f":"IF(LEN(A916)>0,VLOOKUP(A916,Subcontractors!$A$2:$B$2,2,FALSE),\"\")","v":""}]
[null,null,null,null,null,null,null,null,null,null,null,null,null,null,null,null,null,null,null,null,null,{"$f":"IF(LEN(X917)>0,VLOOKUP(X917,'TFW Programs'!$A$2:$B$24,2,FALSE),\"\")","v":""},null,null,{"$f":"IF(LEN(A917)>0,VLOOKUP(A917,Subcontractors!$A$2:$B$3,2,FALSE),\"\")","v":""},null,{"$f":"IF(LEN(A917)>0,VLOOKUP(A917,Subcontractors!$A$2:$B$2,2,FALSE),\"\")","v":""}]
[null,null,null,null,null,null,null,null,null,null,null,null,null,null,null,null,null,null,null,null,null,{"$f":"IF(LEN(X918)>0,VLOOKUP(X918,'TFW Programs'!$A$2:$B$24,2,FALSE),\"\")","v":""},null,null,{"$f":"IF(LEN(A918)>0,VLOOKUP(A918,Subcontractors!$A$2:$B$3,2,FALSE),\"\")","v":""},null,{"$f":"IF(LEN(A918)>0,VLOOKUP(A918,Subcontractors!$A$2:$B$2,2,FALSE),\"\")","v":""}]
[null,null,null,null,null,null,null,null,null,null,null,null,null,null,null,null,null,null,null,null,null,{"$f":"IF(LEN(X919)>0,VLOOKUP(X919,'TFW Programs'!$A$2:$B$24,2,FALSE),\"\")","v":""},null,null,{"$f":"IF(LEN(A919)>0,VLOOKUP(A919,Subcontractors!$A$2:$B$3,2,FALSE),\"\")","v":""},null,{"$f":"IF(LEN(A919)>0,VLOOKUP(A919,Subcontractors!$A$2:$B$2,2,FALSE),\"\")","v":""}]
[null,null,null,null,null,null,null,null,null,null,null,null,null,null,null,null,null,null,null,null,null,{"$f":"IF(LEN(X920)>0,VLOOKUP(X920,'TFW Programs'!$A$2:$B$24,2,FALSE),\"\")","v":""},null,null,{"$f":"IF(LEN(A920)>0,VLOOKUP(A920,Subcontractors!$A$2:$B$3,2,FALSE),\"\")","v":""},null,{"$f":"IF(LEN(A920)>0,VLOOKUP(A920,Subcontractors!$A$2:$B$2,2,FALSE),\"\")","v":""}]
[null,null,null,null,null,null,null,null,null,null,null,null,null,null,null,null,null,null,null,null,null,{"$f":"IF(LEN(X921)>0,VLOOKUP(X921,'TFW Programs'!$A$2:$B$24,2,FALSE),\"\")","v":""},null,null,{"$f":"IF(LEN(A921)>0,VLOOKUP(A921,Subcontractors!$A$2:$B$3,2,FALSE),\"\")","v":""},null,{"$f":"IF(LEN(A921)>0,VLOOKUP(A921,Subcontractors!$A$2:$B$2,2,FALSE),\"\")","v":""}]
[null,null,null,null,null,null,null,null,null,null,null,null,null,null,null,null,null,null,null,null,null,{"$f":"IF(LEN(X922)>0,VLOOKUP(X922,'TFW Programs'!$A$2:$B$24,2,FALSE),\"\")","v":""},null,null,{"$f":"IF(LEN(A922)>0,VLOOKUP(A922,Subcontractors!$A$2:$B$3,2,FALSE),\"\")","v":""},null,{"$f":"IF(LEN(A922)>0,VLOOKUP(A922,Subcontractors!$A$2:$B$2,2,FALSE),\"\")","v":""}]
[null,null,null,null,null,null,null,null,null,null,null,null,null,null,null,null,null,null,null,null,null,{"$f":"IF(LEN(X923)>0,VLOOKUP(X923,'TFW Programs'!$A$2:$B$24,2,FALSE),\"\")","v":""},null,null,{"$f":"IF(LEN(A923)>0,VLOOKUP(A923,Subcontractors!$A$2:$B$3,2,FALSE),\"\")","v":""},null,{"$f":"IF(LEN(A923)>0,VLOOKUP(A923,Subcontractors!$A$2:$B$2,2,FALSE),\"\")","v":""}]
[null,null,null,null,null,null,null,null,null,null,null,null,null,null,null,null,null,null,null,null,null,{"$f":"IF(LEN(X924)>0,VLOOKUP(X924,'TFW Programs'!$A$2:$B$24,2,FALSE),\"\")","v":""},null,null,{"$f":"IF(LEN(A924)>0,VLOOKUP(A924,Subcontractors!$A$2:$B$3,2,FALSE),\"\")","v":""},null,{"$f":"IF(LEN(A924)>0,VLOOKUP(A924,Subcontractors!$A$2:$B$2,2,FALSE),\"\")","v":""}]
[null,null,null,null,null,null,null,null,null,null,null,null,null,null,null,null,null,null,null,null,null,{"$f":"IF(LEN(X925)>0,VLOOKUP(X925,'TFW Programs'!$A$2:$B$24,2,FALSE),\"\")","v":""},null,null,{"$f":"IF(LEN(A925)>0,VLOOKUP(A925,Subcontractors!$A$2:$B$3,2,FALSE),\"\")","v":""},null,{"$f":"IF(LEN(A925)>0,VLOOKUP(A925,Subcontractors!$A$2:$B$2,2,FALSE),\"\")","v":""}]
[null,null,null,null,null,null,null,null,null,null,null,null,null,null,null,null,null,null,null,null,null,{"$f":"IF(LEN(X926)>0,VLOOKUP(X926,'TFW Programs'!$A$2:$B$24,2,FALSE),\"\")","v":""},null,null,{"$f":"IF(LEN(A926)>0,VLOOKUP(A926,Subcontractors!$A$2:$B$3,2,FALSE),\"\")","v":""},null,{"$f":"IF(LEN(A926)>0,VLOOKUP(A926,Subcontractors!$A$2:$B$2,2,FALSE),\"\")","v":""}]
[null,null,null,null,null,null,null,null,null,null,null,null,null,null,null,null,null,null,null,null,null,{"$f":"IF(LEN(X927)>0,VLOOKUP(X927,'TFW Programs'!$A$2:$B$24,2,FALSE),\"\")","v":""},null,null,{"$f":"IF(LEN(A927)>0,VLOOKUP(A927,Subcontractors!$A$2:$B$3,2,FALSE),\"\")","v":""},null,{"$f":"IF(LEN(A927)>0,VLOOKUP(A927,Subcontractors!$A$2:$B$2,2,FALSE),\"\")","v":""}]
[null,null,null,null,null,null,null,null,null,null,null,null,null,null,null,null,null,null,null,null,null,{"$f":"IF(LEN(X928)>0,VLOOKUP(X928,'TFW Programs'!$A$2:$B$24,2,FALSE),\"\")","v":""},null,null,{"$f":"IF(LEN(A928)>0,VLOOKUP(A928,Subcontractors!$A$2:$B$3,2,FALSE),\"\")","v":""},null,{"$f":"IF(LEN(A928)>0,VLOOKUP(A928,Subcontractors!$A$2:$B$2,2,FALSE),\"\")","v":""}]
[null,null,null,null,null,null,null,null,null,null,null,null,null,null,null,null,null,null,null,null,null,{"$f":"IF(LEN(X929)>0,VLOOKUP(X929,'TFW Programs'!$A$2:$B$24,2,FALSE),\"\")","v":""},null,null,{"$f":"IF(LEN(A929)>0,VLOOKUP(A929,Subcontractors!$A$2:$B$3,2,FALSE),\"\")","v":""},null,{"$f":"IF(LEN(A929)>0,VLOOKUP(A929,Subcontractors!$A$2:$B$2,2,FALSE),\"\")","v":""}]
[null,null,null,null,null,null,null,null,null,null,null,null,null,null,null,null,null,null,null,null,null,{"$f":"IF(LEN(X930)>0,VLOOKUP(X930,'TFW Programs'!$A$2:$B$24,2,FALSE),\"\")","v":""},null,null,{"$f":"IF(LEN(A930)>0,VLOOKUP(A930,Subcontractors!$A$2:$B$3,2,FALSE),\"\")","v":""},null,{"$f":"IF(LEN(A930)>0,VLOOKUP(A930,Subcontractors!$A$2:$B$2,2,FALSE),\"\")","v":""}]
[null,null,null,null,null,null,null,null,null,null,null,null,null,null,null,null,null,null,null,null,null,{"$f":"IF(LEN(X931)>0,VLOOKUP(X931,'TFW Programs'!$A$2:$B$24,2,FALSE),\"\")","v":""},null,null,{"$f":"IF(LEN(A931)>0,VLOOKUP(A931,Subcontractors!$A$2:$B$3,2,FALSE),\"\")","v":""},null,{"$f":"IF(LEN(A931)>0,VLOOKUP(A931,Subcontractors!$A$2:$B$2,2,FALSE),\"\")","v":""}]
[null,null,null,null,null,null,null,null,null,null,null,null,null,null,null,null,null,null,null,null,null,{"$f":"IF(LEN(X932)>0,VLOOKUP(X932,'TFW Programs'!$A$2:$B$24,2,FALSE),\"\")","v":""},null,null,{"$f":"IF(LEN(A932)>0,VLOOKUP(A932,Subcontractors!$A$2:$B$3,2,FALSE),\"\")","v":""},null,{"$f":"IF(LEN(A932)>0,VLOOKUP(A932,Subcontractors!$A$2:$B$2,2,FALSE),\"\")","v":""}]
[null,null,null,null,null,null,null,null,null,null,null,null,null,null,null,null,null,null,null,null,null,{"$f":"IF(LEN(X933)>0,VLOOKUP(X933,'TFW Programs'!$A$2:$B$24,2,FALSE),\"\")","v":""},null,null,{"$f":"IF(LEN(A933)>0,VLOOKUP(A933,Subcontractors!$A$2:$B$3,2,FALSE),\"\")","v":""},null,{"$f":"IF(LEN(A933)>0,VLOOKUP(A933,Subcontractors!$A$2:$B$2,2,FALSE),\"\")","v":""}]
[null,null,null,null,null,null,null,null,null,null,null,null,null,null,null,null,null,null,null,null,null,{"$f":"IF(LEN(X934)>0,VLOOKUP(X934,'TFW Programs'!$A$2:$B$24,2,FALSE),\"\")","v":""},null,null,{"$f":"IF(LEN(A934)>0,VLOOKUP(A934,Subcontractors!$A$2:$B$3,2,FALSE),\"\")","v":""},null,{"$f":"IF(LEN(A934)>0,VLOOKUP(A934,Subcontractors!$A$2:$B$2,2,FALSE),\"\")","v":""}]
[null,null,null,null,null,null,null,null,null,null,null,null,null,null,null,null,null,null,null,null,null,{"$f":"IF(LEN(X935)>0,VLOOKUP(X935,'TFW Programs'!$A$2:$B$24,2,FALSE),\"\")","v":""},null,null,{"$f":"IF(LEN(A935)>0,VLOOKUP(A935,Subcontractors!$A$2:$B$3,2,FALSE),\"\")","v":""},null,{"$f":"IF(LEN(A935)>0,VLOOKUP(A935,Subcontractors!$A$2:$B$2,2,FALSE),\"\")","v":""}]
[null,null,null,null,null,null,null,null,null,null,null,null,null,null,null,null,null,null,null,null,null,{"$f":"IF(LEN(X936)>0,VLOOKUP(X936,'TFW Programs'!$A$2:$B$24,2,FALSE),\"\")","v":""},null,null,{"$f":"IF(LEN(A936)>0,VLOOKUP(A936,Subcontractors!$A$2:$B$3,2,FALSE),\"\")","v":""},null,{"$f":"IF(LEN(A936)>0,VLOOKUP(A936,Subcontractors!$A$2:$B$2,2,FALSE),\"\")","v":""}]
[null,null,null,null,null,null,null,null,null,null,null,null,null,null,null,null,null,null,null,null,null,{"$f":"IF(LEN(X937)>0,VLOOKUP(X937,'TFW Programs'!$A$2:$B$24,2,FALSE),\"\")","v":""},null,null,{"$f":"IF(LEN(A937)>0,VLOOKUP(A937,Subcontractors!$A$2:$B$3,2,FALSE),\"\")","v":""},null,{"$f":"IF(LEN(A937)>0,VLOOKUP(A937,Subcontractors!$A$2:$B$2,2,FALSE),\"\")","v":""}]
[null,null,null,null,null,null,null,null,null,null,null,null,null,null,null,null,null,null,null,null,null,{"$f":"IF(LEN(X938)>0,VLOOKUP(X938,'TFW Programs'!$A$2:$B$24,2,FALSE),\"\")","v":""},null,null,{"$f":"IF(LEN(A938)>0,VLOOKUP(A938,Subcontractors!$A$2:$B$3,2,FALSE),\"\")","v":""},null,{"$f":"IF(LEN(A938)>0,VLOOKUP(A938,Subcontractors!$A$2:$B$2,2,FALSE),\"\")","v":""}]
[null,null,null,null,null,null,null,null,null,null,null,null,null,null,null,null,null,null,null,null,null,{"$f":"IF(LEN(X939)>0,VLOOKUP(X939,'TFW Programs'!$A$2:$B$24,2,FALSE),\"\")","v":""},null,null,{"$f":"IF(LEN(A939)>0,VLOOKUP(A939,Subcontractors!$A$2:$B$3,2,FALSE),\"\")","v":""},null,{"$f":"IF(LEN(A939)>0,VLOOKUP(A939,Subcontractors!$A$2:$B$2,2,FALSE),\"\")","v":""}]
[null,null,null,null,null,null,null,null,null,null,null,null,null,null,null,null,null,null,null,null,null,{"$f":"IF(LEN(X940)>0,VLOOKUP(X940,'TFW Programs'!$A$2:$B$24,2,FALSE),\"\")","v":""},null,null,{"$f":"IF(LEN(A940)>0,VLOOKUP(A940,Subcontractors!$A$2:$B$3,2,FALSE),\"\")","v":""},null,{"$f":"IF(LEN(A940)>0,VLOOKUP(A940,Subcontractors!$A$2:$B$2,2,FALSE),\"\")","v":""}]
[null,null,null,null,null,null,null,null,null,null,null,null,null,null,null,null,null,null,null,null,null,{"$f":"IF(LEN(X941)>0,VLOOKUP(X941,'TFW Programs'!$A$2:$B$24,2,FALSE),\"\")","v":""},null,null,{"$f":"IF(LEN(A941)>0,VLOOKUP(A941,Subcontractors!$A$2:$B$3,2,FALSE),\"\")","v":""},null,{"$f":"IF(LEN(A941)>0,VLOOKUP(A941,Subcontractors!$A$2:$B$2,2,FALSE),\"\")","v":""}]
[null,null,null,null,null,null,null,null,null,null,null,null,null,null,null,null,null,null,null,null,null,{"$f":"IF(LEN(X942)>0,VLOOKUP(X942,'TFW Programs'!$A$2:$B$24,2,FALSE),\"\")","v":""},null,null,{"$f":"IF(LEN(A942)>0,VLOOKUP(A942,Subcontractors!$A$2:$B$3,2,FALSE),\"\")","v":""},null,{"$f":"IF(LEN(A942)>0,VLOOKUP(A942,Subcontractors!$A$2:$B$2,2,FALSE),\"\")","v":""}]
[null,null,null,null,null,null,null,null,null,null,null,null,null,null,null,null,null,null,null,null,null,{"$f":"IF(LEN(X943)>0,VLOOKUP(X943,'TFW Programs'!$A$2:$B$24,2,FALSE),\"\")","v":""},null,null,{"$f":"IF(LEN(A943)>0,VLOOKUP(A943,Subcontractors!$A$2:$B$3,2,FALSE),\"\")","v":""},null,{"$f":"IF(LEN(A943)>0,VLOOKUP(A943,Subcontractors!$A$2:$B$2,2,FALSE),\"\")","v":""}]
[null,null,null,null,null,null,null,null,null,null,null,null,null,null,null,null,null,null,null,null,null,{"$f":"IF(LEN(X944)>0,VLOOKUP(X944,'TFW Programs'!$A$2:$B$24,2,FALSE),\"\")","v":""},null,null,{"$f":"IF(LEN(A944)>0,VLOOKUP(A944,Subcontractors!$A$2:$B$3,2,FALSE),\"\")","v":""},null,{"$f":"IF(LEN(A944)>0,VLOOKUP(A944,Subcontractors!$A$2:$B$2,2,FALSE),\"\")","v":""}]
[null,null,null,null,null,null,null,null,null,null,null,null,null,null,null,null,null,null,null,null,null,{"$f":"IF(LEN(X945)>0,VLOOKUP(X945,'TFW Programs'!$A$2:$B$24,2,FALSE),\"\")","v":""},null,null,{"$f":"IF(LEN(A945)>0,VLOOKUP(A945,Subcontractors!$A$2:$B$3,2,FALSE),\"\")","v":""},null,{"$f":"IF(LEN(A945)>0,VLOOKUP(A945,Subcontractors!$A$2:$B$2,2,FALSE),\"\")","v":""}]
[null,null,null,null,null,null,null,null,null,null,null,null,null,null,null,null,null,null,null,null,null,{"$f":"IF(LEN(X946)>0,VLOOKUP(X946,'TFW Programs'!$A$2:$B$24,2,FALSE),\"\")","v":""},null,null,{"$f":"IF(LEN(A946)>0,VLOOKUP(A946,Subcontractors!$A$2:$B$3,2,FALSE),\"\")","v":""},null,{"$f":"IF(LEN(A946)>0,VLOOKUP(A946,Subcontractors!$A$2:$B$2,2,FALSE),\"\")","v":""}]
[null,null,null,null,null,null,null,null,null,null,null,null,null,null,null,null,null,null,null,null,null,{"$f":"IF(LEN(X947)>0,VLOOKUP(X947,'TFW Programs'!$A$2:$B$24,2,FALSE),\"\")","v":""},null,null,{"$f":"IF(LEN(A947)>0,VLOOKUP(A947,Subcontractors!$A$2:$B$3,2,FALSE),\"\")","v":""},null,{"$f":"IF(LEN(A947)>0,VLOOKUP(A947,Subcontractors!$A$2:$B$2,2,FALSE),\"\")","v":""}]
[null,null,null,null,null,null,null,null,null,null,null,null,null,null,null,null,null,null,null,null,null,{"$f":"IF(LEN(X948)>0,VLOOKUP(X948,'TFW Programs'!$A$2:$B$24,2,FALSE),\"\")","v":""},null,null,{"$f":"IF(LEN(A948)>0,VLOOKUP(A948,Subcontractors!$A$2:$B$3,2,FALSE),\"\")","v":""},null,{"$f":"IF(LEN(A948)>0,VLOOKUP(A948,Subcontractors!$A$2:$B$2,2,FALSE),\"\")","v":""}]
[null,null,null,null,null,null,null,null,null,null,null,null,null,null,null,null,null,null,null,null,null,{"$f":"IF(LEN(X949)>0,VLOOKUP(X949,'TFW Programs'!$A$2:$B$24,2,FALSE),\"\")","v":""},null,null,{"$f":"IF(LEN(A949)>0,VLOOKUP(A949,Subcontractors!$A$2:$B$3,2,FALSE),\"\")","v":""},null,{"$f":"IF(LEN(A949)>0,VLOOKUP(A949,Subcontractors!$A$2:$B$2,2,FALSE),\"\")","v":""}]
[null,null,null,null,null,null,null,null,null,null,null,null,null,null,null,null,null,null,null,null,null,{"$f":"IF(LEN(X950)>0,VLOOKUP(X950,'TFW Programs'!$A$2:$B$24,2,FALSE),\"\")","v":""},null,null,{"$f":"IF(LEN(A950)>0,VLOOKUP(A950,Subcontractors!$A$2:$B$3,2,FALSE),\"\")","v":""},null,{"$f":"IF(LEN(A950)>0,VLOOKUP(A950,Subcontractors!$A$2:$B$2,2,FALSE),\"\")","v":""}]
[null,null,null,null,null,null,null,null,null,null,null,null,null,null,null,null,null,null,null,null,null,{"$f":"IF(LEN(X951)>0,VLOOKUP(X951,'TFW Programs'!$A$2:$B$24,2,FALSE),\"\")","v":""},null,null,{"$f":"IF(LEN(A951)>0,VLOOKUP(A951,Subcontractors!$A$2:$B$3,2,FALSE),\"\")","v":""},null,{"$f":"IF(LEN(A951)>0,VLOOKUP(A951,Subcontractors!$A$2:$B$2,2,FALSE),\"\")","v":""}]
[null,null,null,null,null,null,null,null,null,null,null,null,null,null,null,null,null,null,null,null,null,{"$f":"IF(LEN(X952)>0,VLOOKUP(X952,'TFW Programs'!$A$2:$B$24,2,FALSE),\"\")","v":""},null,null,{"$f":"IF(LEN(A952)>0,VLOOKUP(A952,Subcontractors!$A$2:$B$3,2,FALSE),\"\")","v":""},null,{"$f":"IF(LEN(A952)>0,VLOOKUP(A952,Subcontractors!$A$2:$B$2,2,FALSE),\"\")","v":""}]
[null,null,null,null,null,null,null,null,null,null,null,null,null,null,null,null,null,null,null,null,null,{"$f":"IF(LEN(X953)>0,VLOOKUP(X953,'TFW Programs'!$A$2:$B$24,2,FALSE),\"\")","v":""},null,null,{"$f":"IF(LEN(A953)>0,VLOOKUP(A953,Subcontractors!$A$2:$B$3,2,FALSE),\"\")","v":""},null,{"$f":"IF(LEN(A953)>0,VLOOKUP(A953,Subcontractors!$A$2:$B$2,2,FALSE),\"\")","v":""}]
[null,null,null,null,null,null,null,null,null,null,null,null,null,null,null,null,null,null,null,null,null,{"$f":"IF(LEN(X954)>0,VLOOKUP(X954,'TFW Programs'!$A$2:$B$24,2,FALSE),\"\")","v":""},null,null,{"$f":"IF(LEN(A954)>0,VLOOKUP(A954,Subcontractors!$A$2:$B$3,2,FALSE),\"\")","v":""},null,{"$f":"IF(LEN(A954)>0,VLOOKUP(A954,Subcontractors!$A$2:$B$2,2,FALSE),\"\")","v":""}]
[null,null,null,null,null,null,null,null,null,null,null,null,null,null,null,null,null,null,null,null,null,{"$f":"IF(LEN(X955)>0,VLOOKUP(X955,'TFW Programs'!$A$2:$B$24,2,FALSE),\"\")","v":""},null,null,{"$f":"IF(LEN(A955)>0,VLOOKUP(A955,Subcontractors!$A$2:$B$3,2,FALSE),\"\")","v":""},null,{"$f":"IF(LEN(A955)>0,VLOOKUP(A955,Subcontractors!$A$2:$B$2,2,FALSE),\"\")","v":""}]
[null,null,null,null,null,null,null,null,null,null,null,null,null,null,null,null,null,null,null,null,null,{"$f":"IF(LEN(X956)>0,VLOOKUP(X956,'TFW Programs'!$A$2:$B$24,2,FALSE),\"\")","v":""},null,null,{"$f":"IF(LEN(A956)>0,VLOOKUP(A956,Subcontractors!$A$2:$B$3,2,FALSE),\"\")","v":""},null,{"$f":"IF(LEN(A956)>0,VLOOKUP(A956,Subcontractors!$A$2:$B$2,2,FALSE),\"\")","v":""}]
[null,null,null,null,null,null,null,null,null,null,null,null,null,null,null,null,null,null,null,null,null,{"$f":"IF(LEN(X957)>0,VLOOKUP(X957,'TFW Programs'!$A$2:$B$24,2,FALSE),\"\")","v":""},null,null,{"$f":"IF(LEN(A957)>0,VLOOKUP(A957,Subcontractors!$A$2:$B$3,2,FALSE),\"\")","v":""},null,{"$f":"IF(LEN(A957)>0,VLOOKUP(A957,Subcontractors!$A$2:$B$2,2,FALSE),\"\")","v":""}]
[null,null,null,null,null,null,null,null,null,null,null,null,null,null,null,null,null,null,null,null,null,{"$f":"IF(LEN(X958)>0,VLOOKUP(X958,'TFW Programs'!$A$2:$B$24,2,FALSE),\"\")","v":""},null,null,{"$f":"IF(LEN(A958)>0,VLOOKUP(A958,Subcontractors!$A$2:$B$3,2,FALSE),\"\")","v":""},null,{"$f":"IF(LEN(A958)>0,VLOOKUP(A958,Subcontractors!$A$2:$B$2,2,FALSE),\"\")","v":""}]
[null,null,null,null,null,null,null,null,null,null,null,null,null,null,null,null,null,null,null,null,null,{"$f":"IF(LEN(X959)>0,VLOOKUP(X959,'TFW Programs'!$A$2:$B$24,2,FALSE),\"\")","v":""},null,null,{"$f":"IF(LEN(A959)>0,VLOOKUP(A959,Subcontractors!$A$2:$B$3,2,FALSE),\"\")","v":""},null,{"$f":"IF(LEN(A959)>0,VLOOKUP(A959,Subcontractors!$A$2:$B$2,2,FALSE),\"\")","v":""}]
[null,null,null,null,null,null,null,null,null,null,null,null,null,null,null,null,null,null,null,null,null,{"$f":"IF(LEN(X960)>0,VLOOKUP(X960,'TFW Programs'!$A$2:$B$24,2,FALSE),\"\")","v":""},null,null,{"$f":"IF(LEN(A960)>0,VLOOKUP(A960,Subcontractors!$A$2:$B$3,2,FALSE),\"\")","v":""},null,{"$f":"IF(LEN(A960)>0,VLOOKUP(A960,Subcontractors!$A$2:$B$2,2,FALSE),\"\")","v":""}]
[null,null,null,null,null,null,null,null,null,null,null,null,null,null,null,null,null,null,null,null,null,{"$f":"IF(LEN(X961)>0,VLOOKUP(X961,'TFW Programs'!$A$2:$B$24,2,FALSE),\"\")","v":""},null,null,{"$f":"IF(LEN(A961)>0,VLOOKUP(A961,Subcontractors!$A$2:$B$3,2,FALSE),\"\")","v":""},null,{"$f":"IF(LEN(A961)>0,VLOOKUP(A961,Subcontractors!$A$2:$B$2,2,FALSE),\"\")","v":""}]
[null,null,null,null,null,null,null,null,null,null,null,null,null,null,null,null,null,null,null,null,null,{"$f":"IF(LEN(X962)>0,VLOOKUP(X962,'TFW Programs'!$A$2:$B$24,2,FALSE),\"\")","v":""},null,null,{"$f":"IF(LEN(A962)>0,VLOOKUP(A962,Subcontractors!$A$2:$B$3,2,FALSE),\"\")","v":""},null,{"$f":"IF(LEN(A962)>0,VLOOKUP(A962,Subcontractors!$A$2:$B$2,2,FALSE),\"\")","v":""}]
[null,null,null,null,null,null,null,null,null,null,null,null,null,null,null,null,null,null,null,null,null,{"$f":"IF(LEN(X963)>0,VLOOKUP(X963,'TFW Programs'!$A$2:$B$24,2,FALSE),\"\")","v":""},null,null,{"$f":"IF(LEN(A963)>0,VLOOKUP(A963,Subcontractors!$A$2:$B$3,2,FALSE),\"\")","v":""},null,{"$f":"IF(LEN(A963)>0,VLOOKUP(A963,Subcontractors!$A$2:$B$2,2,FALSE),\"\")","v":""}]
[null,null,null,null,null,null,null,null,null,null,null,null,null,null,null,null,null,null,null,null,null,{"$f":"IF(LEN(X964)>0,VLOOKUP(X964,'TFW Programs'!$A$2:$B$24,2,FALSE),\"\")","v":""},null,null,{"$f":"IF(LEN(A964)>0,VLOOKUP(A964,Subcontractors!$A$2:$B$3,2,FALSE),\"\")","v":""},null,{"$f":"IF(LEN(A964)>0,VLOOKUP(A964,Subcontractors!$A$2:$B$2,2,FALSE),\"\")","v":""}]
[null,null,null,null,null,null,null,null,null,null,null,null,null,null,null,null,null,null,null,null,null,{"$f":"IF(LEN(X965)>0,VLOOKUP(X965,'TFW Programs'!$A$2:$B$24,2,FALSE),\"\")","v":""},null,null,{"$f":"IF(LEN(A965)>0,VLOOKUP(A965,Subcontractors!$A$2:$B$3,2,FALSE),\"\")","v":""},null,{"$f":"IF(LEN(A965)>0,VLOOKUP(A965,Subcontractors!$A$2:$B$2,2,FALSE),\"\")","v":""}]
[null,null,null,null,null,null,null,null,null,null,null,null,null,null,null,null,null,null,null,null,null,{"$f":"IF(LEN(X966)>0,VLOOKUP(X966,'TFW Programs'!$A$2:$B$24,2,FALSE),\"\")","v":""},null,null,{"$f":"IF(LEN(A966)>0,VLOOKUP(A966,Subcontractors!$A$2:$B$3,2,FALSE),\"\")","v":""},null,{"$f":"IF(LEN(A966)>0,VLOOKUP(A966,Subcontractors!$A$2:$B$2,2,FALSE),\"\")","v":""}]
[null,null,null,null,null,null,null,null,null,null,null,null,null,null,null,null,null,null,null,null,null,{"$f":"IF(LEN(X967)>0,VLOOKUP(X967,'TFW Programs'!$A$2:$B$24,2,FALSE),\"\")","v":""},null,null,{"$f":"IF(LEN(A967)>0,VLOOKUP(A967,Subcontractors!$A$2:$B$3,2,FALSE),\"\")","v":""},null,{"$f":"IF(LEN(A967)>0,VLOOKUP(A967,Subcontractors!$A$2:$B$2,2,FALSE),\"\")","v":""}]
[null,null,null,null,null,null,null,null,null,null,null,null,null,null,null,null,null,null,null,null,null,{"$f":"IF(LEN(X968)>0,VLOOKUP(X968,'TFW Programs'!$A$2:$B$24,2,FALSE),\"\")","v":""},null,null,{"$f":"IF(LEN(A968)>0,VLOOKUP(A968,Subcontractors!$A$2:$B$3,2,FALSE),\"\")","v":""},null,{"$f":"IF(LEN(A968)>0,VLOOKUP(A968,Subcontractors!$A$2:$B$2,2,FALSE),\"\")","v":""}]
[null,null,null,null,null,null,null,null,null,null,null,null,null,null,null,null,null,null,null,null,null,{"$f":"IF(LEN(X969)>0,VLOOKUP(X969,'TFW Programs'!$A$2:$B$24,2,FALSE),\"\")","v":""},null,null,{"$f":"IF(LEN(A969)>0,VLOOKUP(A969,Subcontractors!$A$2:$B$3,2,FALSE),\"\")","v":""},null,{"$f":"IF(LEN(A969)>0,VLOOKUP(A969,Subcontractors!$A$2:$B$2,2,FALSE),\"\")","v":""}]
[null,null,null,null,null,null,null,null,null,null,null,null,null,null,null,null,null,null,null,null,null,{"$f":"IF(LEN(X970)>0,VLOOKUP(X970,'TFW Programs'!$A$2:$B$24,2,FALSE),\"\")","v":""},null,null,{"$f":"IF(LEN(A970)>0,VLOOKUP(A970,Subcontractors!$A$2:$B$3,2,FALSE),\"\")","v":""},null,{"$f":"IF(LEN(A970)>0,VLOOKUP(A970,Subcontractors!$A$2:$B$2,2,FALSE),\"\")","v":""}]
[null,null,null,null,null,null,null,null,null,null,null,null,null,null,null,null,null,null,null,null,null,{"$f":"IF(LEN(X971)>0,VLOOKUP(X971,'TFW Programs'!$A$2:$B$24,2,FALSE),\"\")","v":""},null,null,{"$f":"IF(LEN(A971)>0,VLOOKUP(A971,Subcontractors!$A$2:$B$3,2,FALSE),\"\")","v":""},null,{"$f":"IF(LEN(A971)>0,VLOOKUP(A971,Subcontractors!$A$2:$B$2,2,FALSE),\"\")","v":""}]
[null,null,null,null,null,null,null,null,null,null,null,null,null,null,null,null,null,null,null,null,null,{"$f":"IF(LEN(X972)>0,VLOOKUP(X972,'TFW Programs'!$A$2:$B$24,2,FALSE),\"\")","v":""},null,null,{"$f":"IF(LEN(A972)>0,VLOOKUP(A972,Subcontractors!$A$2:$B$3,2,FALSE),\"\")","v":""},null,{"$f":"IF(LEN(A972)>0,VLOOKUP(A972,Subcontractors!$A$2:$B$2,2,FALSE),\"\")","v":""}]
[null,null,null,null,null,null,null,null,null,null,null,null,null,null,null,null,null,null,null,null,null,{"$f":"IF(LEN(X973)>0,VLOOKUP(X973,'TFW Programs'!$A$2:$B$24,2,FALSE),\"\")","v":""},null,null,{"$f":"IF(LEN(A973)>0,VLOOKUP(A973,Subcontractors!$A$2:$B$3,2,FALSE),\"\")","v":""},null,{"$f":"IF(LEN(A973)>0,VLOOKUP(A973,Subcontractors!$A$2:$B$2,2,FALSE),\"\")","v":""}]
[null,null,null,null,null,null,null,null,null,null,null,null,null,null,null,null,null,null,null,null,null,{"$f":"IF(LEN(X974)>0,VLOOKUP(X974,'TFW Programs'!$A$2:$B$24,2,FALSE),\"\")","v":""},null,null,{"$f":"IF(LEN(A974)>0,VLOOKUP(A974,Subcontractors!$A$2:$B$3,2,FALSE),\"\")","v":""},null,{"$f":"IF(LEN(A974)>0,VLOOKUP(A974,Subcontractors!$A$2:$B$2,2,FALSE),\"\")","v":""}]
[null,null,null,null,null,null,null,null,null,null,null,null,null,null,null,null,null,null,null,null,null,{"$f":"IF(LEN(X975)>0,VLOOKUP(X975,'TFW Programs'!$A$2:$B$24,2,FALSE),\"\")","v":""},null,null,{"$f":"IF(LEN(A975)>0,VLOOKUP(A975,Subcontractors!$A$2:$B$3,2,FALSE),\"\")","v":""},null,{"$f":"IF(LEN(A975)>0,VLOOKUP(A975,Subcontractors!$A$2:$B$2,2,FALSE),\"\")","v":""}]
[null,null,null,null,null,null,null,null,null,null,null,null,null,null,null,null,null,null,null,null,null,{"$f":"IF(LEN(X976)>0,VLOOKUP(X976,'TFW Programs'!$A$2:$B$24,2,FALSE),\"\")","v":""},null,null,{"$f":"IF(LEN(A976)>0,VLOOKUP(A976,Subcontractors!$A$2:$B$3,2,FALSE),\"\")","v":""},null,{"$f":"IF(LEN(A976)>0,VLOOKUP(A976,Subcontractors!$A$2:$B$2,2,FALSE),\"\")","v":""}]
[null,null,null,null,null,null,null,null,null,null,null,null,null,null,null,null,null,null,null,null,null,{"$f":"IF(LEN(X977)>0,VLOOKUP(X977,'TFW Programs'!$A$2:$B$24,2,FALSE),\"\")","v":""},null,null,{"$f":"IF(LEN(A977)>0,VLOOKUP(A977,Subcontractors!$A$2:$B$3,2,FALSE),\"\")","v":""},null,{"$f":"IF(LEN(A977)>0,VLOOKUP(A977,Subcontractors!$A$2:$B$2,2,FALSE),\"\")","v":""}]
[null,null,null,null,null,null,null,null,null,null,null,null,null,null,null,null,null,null,null,null,null,{"$f":"IF(LEN(X978)>0,VLOOKUP(X978,'TFW Programs'!$A$2:$B$24,2,FALSE),\"\")","v":""},null,null,{"$f":"IF(LEN(A978)>0,VLOOKUP(A978,Subcontractors!$A$2:$B$3,2,FALSE),\"\")","v":""},null,{"$f":"IF(LEN(A978)>0,VLOOKUP(A978,Subcontractors!$A$2:$B$2,2,FALSE),\"\")","v":""}]
[null,null,null,null,null,null,null,null,null,null,null,null,null,null,null,null,null,null,null,null,null,{"$f":"IF(LEN(X979)>0,VLOOKUP(X979,'TFW Programs'!$A$2:$B$24,2,FALSE),\"\")","v":""},null,null,{"$f":"IF(LEN(A979)>0,VLOOKUP(A979,Subcontractors!$A$2:$B$3,2,FALSE),\"\")","v":""},null,{"$f":"IF(LEN(A979)>0,VLOOKUP(A979,Subcontractors!$A$2:$B$2,2,FALSE),\"\")","v":""}]
[null,null,null,null,null,null,null,null,null,null,null,null,null,null,null,null,null,null,null,null,null,{"$f":"IF(LEN(X980)>0,VLOOKUP(X980,'TFW Programs'!$A$2:$B$24,2,FALSE),\"\")","v":""},null,null,{"$f":"IF(LEN(A980)>0,VLOOKUP(A980,Subcontractors!$A$2:$B$3,2,FALSE),\"\")","v":""},null,{"$f":"IF(LEN(A980)>0,VLOOKUP(A980,Subcontractors!$A$2:$B$2,2,FALSE),\"\")","v":""}]
[null,null,null,null,null,null,null,null,null,null,null,null,null,null,null,null,null,null,null,null,null,{"$f":"IF(LEN(X981)>0,VLOOKUP(X981,'TFW Programs'!$A$2:$B$24,2,FALSE),\"\")","v":""},null,null,{"$f":"IF(LEN(A981)>0,VLOOKUP(A981,Subcontractors!$A$2:$B$3,2,FALSE),\"\")","v":""},null,{"$f":"IF(LEN(A981)>0,VLOOKUP(A981,Subcontractors!$A$2:$B$2,2,FALSE),\"\")","v":""}]
[null,null,null,null,null,null,null,null,null,null,null,null,null,null,null,null,null,null,null,null,null,{"$f":"IF(LEN(X982)>0,VLOOKUP(X982,'TFW Programs'!$A$2:$B$24,2,FALSE),\"\")","v":""},null,null,{"$f":"IF(LEN(A982)>0,VLOOKUP(A982,Subcontractors!$A$2:$B$3,2,FALSE),\"\")","v":""},null,{"$f":"IF(LEN(A982)>0,VLOOKUP(A982,Subcontractors!$A$2:$B$2,2,FALSE),\"\")","v":""}]
[null,null,null,null,null,null,null,null,null,null,null,null,null,null,null,null,null,null,null,null,null,{"$f":"IF(LEN(X983)>0,VLOOKUP(X983,'TFW Programs'!$A$2:$B$24,2,FALSE),\"\")","v":""},null,null,{"$f":"IF(LEN(A983)>0,VLOOKUP(A983,Subcontractors!$A$2:$B$3,2,FALSE),\"\")","v":""},null,{"$f":"IF(LEN(A983)>0,VLOOKUP(A983,Subcontractors!$A$2:$B$2,2,FALSE),\"\")","v":""}]
[null,null,null,null,null,null,null,null,null,null,null,null,null,null,null,null,null,null,null,null,null,{"$f":"IF(LEN(X984)>0,VLOOKUP(X984,'TFW Programs'!$A$2:$B$24,2,FALSE),\"\")","v":""},null,null,{"$f":"IF(LEN(A984)>0,VLOOKUP(A984,Subcontractors!$A$2:$B$3,2,FALSE),\"\")","v":""},null,{"$f":"IF(LEN(A984)>0,VLOOKUP(A984,Subcontractors!$A$2:$B$2,2,FALSE),\"\")","v":""}]
[null,null,null,null,null,null,null,null,null,null,null,null,null,null,null,null,null,null,null,null,null,{"$f":"IF(LEN(X985)>0,VLOOKUP(X985,'TFW Programs'!$A$2:$B$24,2,FALSE),\"\")","v":""},null,null,{"$f":"IF(LEN(A985)>0,VLOOKUP(A985,Subcontractors!$A$2:$B$3,2,FALSE),\"\")","v":""},null,{"$f":"IF(LEN(A985)>0,VLOOKUP(A985,Subcontractors!$A$2:$B$2,2,FALSE),\"\")","v":""}]
[null,null,null,null,null,null,null,null,null,null,null,null,null,null,null,null,null,null,null,null,null,{"$f":"IF(LEN(X986)>0,VLOOKUP(X986,'TFW Programs'!$A$2:$B$24,2,FALSE),\"\")","v":""},null,null,{"$f":"IF(LEN(A986)>0,VLOOKUP(A986,Subcontractors!$A$2:$B$3,2,FALSE),\"\")","v":""},null,{"$f":"IF(LEN(A986)>0,VLOOKUP(A986,Subcontractors!$A$2:$B$2,2,FALSE),\"\")","v":""}]
[null,null,null,null,null,null,null,null,null,null,null,null,null,null,null,null,null,null,null,null,null,{"$f":"IF(LEN(X987)>0,VLOOKUP(X987,'TFW Programs'!$A$2:$B$24,2,FALSE),\"\")","v":""},null,null,{"$f":"IF(LEN(A987)>0,VLOOKUP(A987,Subcontractors!$A$2:$B$3,2,FALSE),\"\")","v":""},null,{"$f":"IF(LEN(A987)>0,VLOOKUP(A987,Subcontractors!$A$2:$B$2,2,FALSE),\"\")","v":""}]
[null,null,null,null,null,null,null,null,null,null,null,null,null,null,null,null,null,null,null,null,null,{"$f":"IF(LEN(X988)>0,VLOOKUP(X988,'TFW Programs'!$A$2:$B$24,2,FALSE),\"\")","v":""},null,null,{"$f":"IF(LEN(A988)>0,VLOOKUP(A988,Subcontractors!$A$2:$B$3,2,FALSE),\"\")","v":""},null,{"$f":"IF(LEN(A988)>0,VLOOKUP(A988,Subcontractors!$A$2:$B$2,2,FALSE),\"\")","v":""}]
[null,null,null,null,null,null,null,null,null,null,null,null,null,null,null,null,null,null,null,null,null,{"$f":"IF(LEN(X989)>0,VLOOKUP(X989,'TFW Programs'!$A$2:$B$24,2,FALSE),\"\")","v":""},null,null,{"$f":"IF(LEN(A989)>0,VLOOKUP(A989,Subcontractors!$A$2:$B$3,2,FALSE),\"\")","v":""},null,{"$f":"IF(LEN(A989)>0,VLOOKUP(A989,Subcontractors!$A$2:$B$2,2,FALSE),\"\")","v":""}]
[null,null,null,null,null,null,null,null,null,null,null,null,null,null,null,null,null,null,null,null,null,{"$f":"IF(LEN(X990)>0,VLOOKUP(X990,'TFW Programs'!$A$2:$B$24,2,FALSE),\"\")","v":""},null,null,{"$f":"IF(LEN(A990)>0,VLOOKUP(A990,Subcontractors!$A$2:$B$3,2,FALSE),\"\")","v":""},null,{"$f":"IF(LEN(A990)>0,VLOOKUP(A990,Subcontractors!$A$2:$B$2,2,FALSE),\"\")","v":""}]
[null,null,null,null,null,null,null,null,null,null,null,null,null,null,null,null,null,null,null,null,null,{"$f":"IF(LEN(X991)>0,VLOOKUP(X991,'TFW Programs'!$A$2:$B$24,2,FALSE),\"\")","v":""},null,null,{"$f":"IF(LEN(A991)>0,VLOOKUP(A991,Subcontractors!$A$2:$B$3,2,FALSE),\"\")","v":""},null,{"$f":"IF(LEN(A991)>0,VLOOKUP(A991,Subcontractors!$A$2:$B$2,2,FALSE),\"\")","v":""}]
[null,null,null,null,null,null,null,null,null,null,null,null,null,null,null,null,null,null,null,null,null,{"$f":"IF(LEN(X992)>0,VLOOKUP(X992,'TFW Programs'!$A$2:$B$24,2,FALSE),\"\")","v":""},null,null,{"$f":"IF(LEN(A992)>0,VLOOKUP(A992,Subcontractors!$A$2:$B$3,2,FALSE),\"\")","v":""},null,{"$f":"IF(LEN(A992)>0,VLOOKUP(A992,Subcontractors!$A$2:$B$2,2,FALSE),\"\")","v":""}]
[null,null,null,null,null,null,null,null,null,null,null,null,null,null,null,null,null,null,null,null,null,{"$f":"IF(LEN(X993)>0,VLOOKUP(X993,'TFW Programs'!$A$2:$B$24,2,FALSE),\"\")","v":""},null,null,{"$f":"IF(LEN(A993)>0,VLOOKUP(A993,Subcontractors!$A$2:$B$3,2,FALSE),\"\")","v":""},null,{"$f":"IF(LEN(A993)>0,VLOOKUP(A993,Subcontractors!$A$2:$B$2,2,FALSE),\"\")","v":""}]
[null,null,null,null,null,null,null,null,null,null,null,null,null,null,null,null,null,null,null,null,null,{"$f":"IF(LEN(X994)>0,VLOOKUP(X994,'TFW Programs'!$A$2:$B$24,2,FALSE),\"\")","v":""},null,null,{"$f":"IF(LEN(A994)>0,VLOOKUP(A994,Subcontractors!$A$2:$B$3,2,FALSE),\"\")","v":""},null,{"$f":"IF(LEN(A994)>0,VLOOKUP(A994,Subcontractors!$A$2:$B$2,2,FALSE),\"\")","v":""}]
[null,null,null,null,null,null,null,null,null,null,null,null,null,null,null,null,null,null,null,null,null,{"$f":"IF(LEN(X995)>0,VLOOKUP(X995,'TFW Programs'!$A$2:$B$24,2,FALSE),\"\")","v":""},null,null,{"$f":"IF(LEN(A995)>0,VLOOKUP(A995,Subcontractors!$A$2:$B$3,2,FALSE),\"\")","v":""},null,{"$f":"IF(LEN(A995)>0,VLOOKUP(A995,Subcontractors!$A$2:$B$2,2,FALSE),\"\")","v":""}]
[null,null,null,null,null,null,null,null,null,null,null,null,null,null,null,null,null,null,null,null,null,{"$f":"IF(LEN(X996)>0,VLOOKUP(X996,'TFW Programs'!$A$2:$B$24,2,FALSE),\"\")","v":""},null,null,{"$f":"IF(LEN(A996)>0,VLOOKUP(A996,Subcontractors!$A$2:$B$3,2,FALSE),\"\")","v":""},null,{"$f":"IF(LEN(A996)>0,VLOOKUP(A996,Subcontractors!$A$2:$B$2,2,FALSE),\"\")","v":""}]
[null,null,null,null,null,null,null,null,null,null,null,null,null,null,null,null,null,null,null,null,null,{"$f":"IF(LEN(X997)>0,VLOOKUP(X997,'TFW Programs'!$A$2:$B$24,2,FALSE),\"\")","v":""},null,null,{"$f":"IF(LEN(A997)>0,VLOOKUP(A997,Subcontractors!$A$2:$B$3,2,FALSE),\"\")","v":""},null,{"$f":"IF(LEN(A997)>0,VLOOKUP(A997,Subcontractors!$A$2:$B$2,2,FALSE),\"\")","v":""}]
[null,null,null,null,null,null,null,null,null,null,null,null,null,null,null,null,null,null,null,null,null,{"$f":"IF(LEN(X998)>0,VLOOKUP(X998,'TFW Programs'!$A$2:$B$24,2,FALSE),\"\")","v":""},null,null,{"$f":"IF(LEN(A998)>0,VLOOKUP(A998,Subcontractors!$A$2:$B$3,2,FALSE),\"\")","v":""},null,{"$f":"IF(LEN(A998)>0,VLOOKUP(A998,Subcontractors!$A$2:$B$2,2,FALSE),\"\")","v":""}]
[null,null,null,null,null,null,null,null,null,null,null,null,null,null,null,null,null,null,null,null,null,{"$f":"IF(LEN(X999)>0,VLOOKUP(X999,'TFW Programs'!$A$2:$B$24,2,FALSE),\"\")","v":""},null,null,{"$f":"IF(LEN(A999)>0,VLOOKUP(A999,Subcontractors!$A$2:$B$3,2,FALSE),\"\")","v":""},null,{"$f":"IF(LEN(A999)>0,VLOOKUP(A999,Subcontractors!$A$2:$B$2,2,FALSE),\"\")","v":""}]
[null,null,null,null,null,null,null,null,null,null,null,null,null,null,null,null,null,null,null,null,null,{"$f":"IF(LEN(X1000)>0,VLOOKUP(X1000,'TFW Programs'!$A$2:$B$24,2,FALSE),\"\")","v":""},null,null,{"$f":"IF(LEN(A1000)>0,VLOOKUP(A1000,Subcontractors!$A$2:$B$3,2,FALSE),\"\")","v":""},null,{"$f":"IF(LEN(A1000)>0,VLOOKUP(A1000,Subcontractors!$A$2:$B$2,2,FALSE),\"\")","v":""}]
[null,null,null,null,null,null,null,null,null,null,null,null,null,null,null,null,null,null,null,null,null,{"$f":"IF(LEN(X1001)>0,VLOOKUP(X1001,'TFW Programs'!$A$2:$B$24,2,FALSE),\"\")","v":""},null,null,{"$f":"IF(LEN(A1001)>0,VLOOKUP(A1001,Subcontractors!$A$2:$B$3,2,FALSE),\"\")","v":""},null,{"$f":"IF(LEN(A1001)>0,VLOOKUP(A1001,Subcontractors!$A$2:$B$2,2,FALSE),\"\")","v":""}]
[null,null,null,null,null,null,null,null,null,null,null,null,null,null,null,null,null,null,null,null,null,{"$f":"IF(LEN(X1006)>0,VLOOKUP(X1006,'TFW Programs'!$A$2:$B$24,2,FALSE),\"\")","v":""},null,null,{"$f":"IF(LEN(A1006)>0,VLOOKUP(A1006,Subcontractors!$A$2:$B$3,2,FALSE),\"\")","v":""},null,{"$f":"IF(LEN(A1006)>0,VLOOKUP(A1006,Subcontractors!$A$2:$B$2,2,FALSE),\"\")","v":""}]
[null,null,null,null,null,null,null,null,null,null,null,null,null,null,null,null,null,null,null,null,null,{"$f":"IF(LEN(X1011)>0,VLOOKUP(X1011,'TFW Programs'!$A$2:$B$24,2,FALSE),\"\")","v":""},null,null,{"$f":"IF(LEN(A1011)>0,VLOOKUP(A1011,Subcontractors!$A$2:$B$3,2,FALSE),\"\")","v":""},null,{"$f":"IF(LEN(A1011)>0,VLOOKUP(A1011,Subcontractors!$A$2:$B$2,2,FALSE),\"\")","v":""}]
[null,null,null,null,null,null,null,null,null,null,null,null,null,null,null,null,null,null,null,null,null,{"$f":"IF(LEN(X1012)>0,VLOOKUP(X1012,'TFW Programs'!$A$2:$B$24,2,FALSE),\"\")","v":""},null,null,{"$f":"IF(LEN(A1012)>0,VLOOKUP(A1012,Subcontractors!$A$2:$B$3,2,FALSE),\"\")","v":""},null,{"$f":"IF(LEN(A1012)>0,VLOOKUP(A1012,Subcontractors!$A$2:$B$2,2,FALSE),\"\")","v":""}]
[null,null,null,null,null,null,null,null,null,null,null,null,null,null,null,null,null,null,null,null,null,{"$f":"IF(LEN(X1018)>0,VLOOKUP(X1018,'TFW Programs'!$A$2:$B$24,2,FALSE),\"\")","v":""},null,null,{"$f":"IF(LEN(A1018)>0,VLOOKUP(A1018,Subcontractors!$A$2:$B$3,2,FALSE),\"\")","v":""},null,{"$f":"IF(LEN(A1018)>0,VLOOKUP(A1018,Subcontractors!$A$2:$B$2,2,FALSE),\"\")","v":""}]
[null,null,null,null,null,null,null,null,null,null,null,null,null,null,null,null,null,null,null,null,null,{"$f":"IF(LEN(X1021)>0,VLOOKUP(X1021,'TFW Programs'!$A$2:$B$24,2,FALSE),\"\")","v":""},null,null,{"$f":"IF(LEN(A1021)>0,VLOOKUP(A1021,Subcontractors!$A$2:$B$3,2,FALSE),\"\")","v":""},null,{"$f":"IF(LEN(A1021)>0,VLOOKUP(A1021,Subcontractors!$A$2:$B$2,2,FALSE),\"\")","v":""}]
[null,null,null,null,null,null,null,null,null,null,null,null,null,null,null,null,null,null,null,null,null,{"$f":"IF(LEN(X1026)>0,VLOOKUP(X1026,'TFW Programs'!$A$2:$B$24,2,FALSE),\"\")","v":""},null,null,{"$f":"IF(LEN(A1026)>0,VLOOKUP(A1026,Subcontractors!$A$2:$B$3,2,FALSE),\"\")","v":""},null,{"$f":"IF(LEN(A1026)>0,VLOOKUP(A1026,Subcontractors!$A$2:$B$2,2,FALSE),\"\")","v":""}]
[null,null,null,null,null,null,null,null,null,null,null,null,null,null,null,null,null,null,null,null,null,{"$f":"IF(LEN(X1027)>0,VLOOKUP(X1027,'TFW Programs'!$A$2:$B$24,2,FALSE),\"\")","v":""},null,null,{"$f":"IF(LEN(A1027)>0,VLOOKUP(A1027,Subcontractors!$A$2:$B$3,2,FALSE),\"\")","v":""},null,{"$f":"IF(LEN(A1027)>0,VLOOKUP(A1027,Subcontractors!$A$2:$B$2,2,FALSE),\"\")","v":""}]
[null,null,null,null,null,null,null,null,null,null,null,null,null,null,null,null,null,null,null,null,null,{"$f":"IF(LEN(X1032)>0,VLOOKUP(X1032,'TFW Programs'!$A$2:$B$24,2,FALSE),\"\")","v":""},null,null,{"$f":"IF(LEN(A1032)>0,VLOOKUP(A1032,Subcontractors!$A$2:$B$3,2,FALSE),\"\")","v":""},null,{"$f":"IF(LEN(A1032)>0,VLOOKUP(A1032,Subcontractors!$A$2:$B$2,2,FALSE),\"\")","v":""}]
[null,null,null,null,null,null,null,null,null,null,null,null,null,null,null,null,null,null,null,null,null,{"$f":"IF(LEN(X1036)>0,VLOOKUP(X1036,'TFW Programs'!$A$2:$B$24,2,FALSE),\"\")","v":""},null,null,{"$f":"IF(LEN(A1036)>0,VLOOKUP(A1036,Subcontractors!$A$2:$B$3,2,FALSE),\"\")","v":""},null,{"$f":"IF(LEN(A1036)>0,VLOOKUP(A1036,Subcontractors!$A$2:$B$2,2,FALSE),\"\")","v":""}]
[null,null,null,null,null,null,null,null,null,null,null,null,null,null,null,null,null,null,null,null,null,{"$f":"IF(LEN(X1041)>0,VLOOKUP(X1041,'TFW Programs'!$A$2:$B$24,2,FALSE),\"\")","v":""},null,null,{"$f":"IF(LEN(A1041)>0,VLOOKUP(A1041,Subcontractors!$A$2:$B$3,2,FALSE),\"\")","v":""},null,{"$f":"IF(LEN(A1041)>0,VLOOKUP(A1041,Subcontractors!$A$2:$B$2,2,FALSE),\"\")","v":""}]
[null,null,null,null,null,null,null,null,null,null,null,null,null,null,null,null,null,null,null,null,null,{"$f":"IF(LEN(X1042)>0,VLOOKUP(X1042,'TFW Programs'!$A$2:$B$24,2,FALSE),\"\")","v":""},null,null,{"$f":"IF(LEN(A1042)>0,VLOOKUP(A1042,Subcontractors!$A$2:$B$3,2,FALSE),\"\")","v":""},null,{"$f":"IF(LEN(A1042)>0,VLOOKUP(A1042,Subcontractors!$A$2:$B$2,2,FALSE),\"\")","v":""}]
[null,null,null,null,null,null,null,null,null,null,null,null,null,null,null,null,null,null,null,null,null,{"$f":"IF(LEN(X1047)>0,VLOOKUP(X1047,'TFW Programs'!$A$2:$B$24,2,FALSE),\"\")","v":""},null,null,{"$f":"IF(LEN(A1047)>0,VLOOKUP(A1047,Subcontractors!$A$2:$B$3,2,FALSE),\"\")","v":""},null,{"$f":"IF(LEN(A1047)>0,VLOOKUP(A1047,Subcontractors!$A$2:$B$2,2,FALSE),\"\")","v":""}]
[null,null,null,null,null,null,null,null,null,null,null,null,null,null,null,null,null,null,null,null,null,{"$f":"IF(LEN(X1052)>0,VLOOKUP(X1052,'TFW Programs'!$A$2:$B$24,2,FALSE),\"\")","v":""},null,null,{"$f":"IF(LEN(A1052)>0,VLOOKUP(A1052,Subcontractors!$A$2:$B$3,2,FALSE),\"\")","v":""},null,{"$f":"IF(LEN(A1052)>0,VLOOKUP(A1052,Subcontractors!$A$2:$B$2,2,FALSE),\"\")","v":""}]
[null,null,null,null,null,null,null,null,null,null,null,null,null,null,null,null,null,null,null,null,null,{"$f":"IF(LEN(X1056)>0,VLOOKUP(X1056,'TFW Programs'!$A$2:$B$24,2,FALSE),\"\")","v":""},null,null,{"$f":"IF(LEN(A1056)>0,VLOOKUP(A1056,Subcontractors!$A$2:$B$3,2,FALSE),\"\")","v":""},null,{"$f":"IF(LEN(A1056)>0,VLOOKUP(A1056,Subcontractors!$A$2:$B$2,2,FALSE),\"\")","v":""}]
[null,null,null,null,null,null,null,null,null,null,null,null,null,null,null,null,null,null,null,null,null,{"$f":"IF(LEN(X1057)>0,VLOOKUP(X1057,'TFW Programs'!$A$2:$B$24,2,FALSE),\"\")","v":""},null,null,{"$f":"IF(LEN(A1057)>0,VLOOKUP(A1057,Subcontractors!$A$2:$B$3,2,FALSE),\"\")","v":""},null,{"$f":"IF(LEN(A1057)>0,VLOOKUP(A1057,Subcontractors!$A$2:$B$2,2,FALSE),\"\")","v":""}]
[null,null,null,null,null,null,null,null,null,null,null,null,null,null,null,null,null,null,null,null,null,{"$f":"IF(LEN(X1062)>0,VLOOKUP(X1062,'TFW Programs'!$A$2:$B$24,2,FALSE),\"\")","v":""},null,null,{"$f":"IF(LEN(A1062)>0,VLOOKUP(A1062,Subcontractors!$A$2:$B$3,2,FALSE),\"\")","v":""},null,{"$f":"IF(LEN(A1062)>0,VLOOKUP(A1062,Subcontractors!$A$2:$B$2,2,FALSE),\"\")","v":""}]
[null,null,null,null,null,null,null,null,null,null,null,null,null,null,null,null,null,null,null,null,null,{"$f":"IF(LEN(X1066)>0,VLOOKUP(X1066,'TFW Programs'!$A$2:$B$24,2,FALSE),\"\")","v":""},null,null,{"$f":"IF(LEN(A1066)>0,VLOOKUP(A1066,Subcontractors!$A$2:$B$3,2,FALSE),\"\")","v":""},null,{"$f":"IF(LEN(A1066)>0,VLOOKUP(A1066,Subcontractors!$A$2:$B$2,2,FALSE),\"\")","v":""}]
[null,null,null,null,null,null,null,null,null,null,null,null,null,null,null,null,null,null,null,null,null,{"$f":"IF(LEN(X1071)>0,VLOOKUP(X1071,'TFW Programs'!$A$2:$B$24,2,FALSE),\"\")","v":""},null,null,{"$f":"IF(LEN(A1071)>0,VLOOKUP(A1071,Subcontractors!$A$2:$B$3,2,FALSE),\"\")","v":""},null,{"$f":"IF(LEN(A1071)>0,VLOOKUP(A1071,Subcontractors!$A$2:$B$2,2,FALSE),\"\")","v":""}]
[null,null,null,null,null,null,null,null,null,null,null,null,null,null,null,null,null,null,null,null,null,{"$f":"IF(LEN(X1072)>0,VLOOKUP(X1072,'TFW Programs'!$A$2:$B$24,2,FALSE),\"\")","v":""},null,null,{"$f":"IF(LEN(A1072)>0,VLOOKUP(A1072,Subcontractors!$A$2:$B$3,2,FALSE),\"\")","v":""},null,{"$f":"IF(LEN(A1072)>0,VLOOKUP(A1072,Subcontractors!$A$2:$B$2,2,FALSE),\"\")","v":""}]
[null,null,null,null,null,null,null,null,null,null,null,null,null,null,null,null,null,null,null,null,null,{"$f":"IF(LEN(X1077)>0,VLOOKUP(X1077,'TFW Programs'!$A$2:$B$24,2,FALSE),\"\")","v":""},null,null,{"$f":"IF(LEN(A1077)>0,VLOOKUP(A1077,Subcontractors!$A$2:$B$3,2,FALSE),\"\")","v":""},null,{"$f":"IF(LEN(A1077)>0,VLOOKUP(A1077,Subcontractors!$A$2:$B$2,2,FALSE),\"\")","v":""}]
[null,null,null,null,null,null,null,null,null,null,null,null,null,null,null,null,null,null,null,null,null,{"$f":"IF(LEN(X1082)>0,VLOOKUP(X1082,'TFW Programs'!$A$2:$B$24,2,FALSE),\"\")","v":""},null,null,{"$f":"IF(LEN(A1082)>0,VLOOKUP(A1082,Subcontractors!$A$2:$B$3,2,FALSE),\"\")","v":""},null,{"$f":"IF(LEN(A1082)>0,VLOOKUP(A1082,Subcontractors!$A$2:$B$2,2,FALSE),\"\")","v":""}]
[null,null,null,null,null,null,null,null,null,null,null,null,null,null,null,null,null,null,null,null,null,{"$f":"IF(LEN(X1084)>0,VLOOKUP(X1084,'TFW Programs'!$A$2:$B$24,2,FALSE),\"\")","v":""},null,null,{"$f":"IF(LEN(A1084)>0,VLOOKUP(A1084,Subcontractors!$A$2:$B$3,2,FALSE),\"\")","v":""},null,{"$f":"IF(LEN(A1084)>0,VLOOKUP(A1084,Subcontractors!$A$2:$B$2,2,FALSE),\"\")","v":""}]
[null,null,null,null,null,null,null,null,null,null,null,null,null,null,null,null,null,null,null,null,null,{"$f":"IF(LEN(X1087)>0,VLOOKUP(X1087,'TFW Programs'!$A$2:$B$24,2,FALSE),\"\")","v":""},null,null,{"$f":"IF(LEN(A1087)>0,VLOOKUP(A1087,Subcontractors!$A$2:$B$3,2,FALSE),\"\")","v":""},null,{"$f":"IF(LEN(A1087)>0,VLOOKUP(A1087,Subcontractors!$A$2:$B$2,2,FALSE),\"\")","v":""}]
[null,null,null,null,null,null,null,null,null,null,null,null,null,null,null,null,null,null,null,null,null,{"$f":"IF(LEN(X1092)>0,VLOOKUP(X1092,'TFW Programs'!$A$2:$B$24,2,FALSE),\"\")","v":""},null,null,{"$f":"IF(LEN(A1092)>0,VLOOKUP(A1092,Subcontractors!$A$2:$B$3,2,FALSE),\"\")","v":""},null,{"$f":"IF(LEN(A1092)>0,VLOOKUP(A1092,Subcontractors!$A$2:$B$2,2,FALSE),\"\")","v":""}]
[null,null,null,null,null,null,null,null,null,null,null,null,null,null,null,null,null,null,null,null,null,{"$f":"IF(LEN(X1097)>0,VLOOKUP(X1097,'TFW Programs'!$A$2:$B$24,2,FALSE),\"\")","v":""},null,null,{"$f":"IF(LEN(A1097)>0,VLOOKUP(A1097,Subcontractors!$A$2:$B$3,2,FALSE),\"\")","v":""},null,{"$f":"IF(LEN(A1097)>0,VLOOKUP(A1097,Subcontractors!$A$2:$B$2,2,FALSE),\"\")","v":""}]
[null,null,null,null,null,null,null,null,null,null,null,null,null,null,null,null,null,null,null,null,null,{"$f":"IF(LEN(X1100)>0,VLOOKUP(X1100,'TFW Programs'!$A$2:$B$24,2,FALSE),\"\")","v":""},null,null,{"$f":"IF(LEN(A1100)>0,VLOOKUP(A1100,Subcontractors!$A$2:$B$3,2,FALSE),\"\")","v":""},null,{"$f":"IF(LEN(A1100)>0,VLOOKUP(A1100,Subcontractors!$A$2:$B$2,2,FALSE),\"\")","v":""}]
[null,null,null,null,null,null,null,null,null,null,null,null,null,null,null,null,null,null,null,null,null,{"$f":"IF(LEN(X1102)>0,VLOOKUP(X1102,'TFW Programs'!$A$2:$B$24,2,FALSE),\"\")","v":""},null,null,{"$f":"IF(LEN(A1102)>0,VLOOKUP(A1102,Subcontractors!$A$2:$B$3,2,FALSE),\"\")","v":""},null,{"$f":"IF(LEN(A1102)>0,VLOOKUP(A1102,Subcontractors!$A$2:$B$2,2,FALSE),\"\")","v":""}]
[null,null,null,null,null,null,null,null,null,null,null,null,null,null,null,null,null,null,null,null,null,{"$f":"IF(LEN(X1107)>0,VLOOKUP(X1107,'TFW Programs'!$A$2:$B$24,2,FALSE),\"\")","v":""},null,null,{"$f":"IF(LEN(A1107)>0,VLOOKUP(A1107,Subcontractors!$A$2:$B$3,2,FALSE),\"\")","v":""},null,{"$f":"IF(LEN(A1107)>0,VLOOKUP(A1107,Subcontractors!$A$2:$B$2,2,FALSE),\"\")","v":""}]
[null,null,null,null,null,null,null,null,null,null,null,null,null,null,null,null,null,null,null,null,null,{"$f":"IF(LEN(X1112)>0,VLOOKUP(X1112,'TFW Programs'!$A$2:$B$24,2,FALSE),\"\")","v":""},null,null,{"$f":"IF(LEN(A1112)>0,VLOOKUP(A1112,Subcontractors!$A$2:$B$3,2,FALSE),\"\")","v":""},null,{"$f":"IF(LEN(A1112)>0,VLOOKUP(A1112,Subcontractors!$A$2:$B$2,2,FALSE),\"\")","v":""}]
[null,null,null,null,null,null,null,null,null,null,null,null,null,null,null,null,null,null,null,null,null,{"$f":"IF(LEN(X1114)>0,VLOOKUP(X1114,'TFW Programs'!$A$2:$B$24,2,FALSE),\"\")","v":""},null,null,{"$f":"IF(LEN(A1114)>0,VLOOKUP(A1114,Subcontractors!$A$2:$B$3,2,FALSE),\"\")","v":""},null,{"$f":"IF(LEN(A1114)>0,VLOOKUP(A1114,Subcontractors!$A$2:$B$2,2,FALSE),\"\")","v":""}]
[null,null,null,null,null,null,null,null,null,null,null,null,null,null,null,null,null,null,null,null,null,{"$f":"IF(LEN(X1117)>0,VLOOKUP(X1117,'TFW Programs'!$A$2:$B$24,2,FALSE),\"\")","v":""},null,null,{"$f":"IF(LEN(A1117)>0,VLOOKUP(A1117,Subcontractors!$A$2:$B$3,2,FALSE),\"\")","v":""},null,{"$f":"IF(LEN(A1117)>0,VLOOKUP(A1117,Subcontractors!$A$2:$B$2,2,FALSE),\"\")","v":""}]
[null,null,null,null,null,null,null,null,null,null,null,null,null,null,null,null,null,null,null,null,null,{"$f":"IF(LEN(X1122)>0,VLOOKUP(X1122,'TFW Programs'!$A$2:$B$24,2,FALSE),\"\")","v":""},null,null,{"$f":"IF(LEN(A1122)>0,VLOOKUP(A1122,Subcontractors!$A$2:$B$3,2,FALSE),\"\")","v":""},null,{"$f":"IF(LEN(A1122)>0,VLOOKUP(A1122,Subcontractors!$A$2:$B$2,2,FALSE),\"\")","v":""}]
[null,null,null,null,null,null,null,null,null,null,null,null,null,null,null,null,null,null,null,null,null,{"$f":"IF(LEN(X1127)>0,VLOOKUP(X1127,'TFW Programs'!$A$2:$B$24,2,FALSE),\"\")","v":""},null,null,{"$f":"IF(LEN(A1127)>0,VLOOKUP(A1127,Subcontractors!$A$2:$B$3,2,FALSE),\"\")","v":""},null,{"$f":"IF(LEN(A1127)>0,VLOOKUP(A1127,Subcontractors!$A$2:$B$2,2,FALSE),\"\")","v":""}]
[null,null,null,null,null,null,null,null,null,null,null,null,null,null,null,null,null,null,null,null,null,{"$f":"IF(LEN(X1132)>0,VLOOKUP(X1132,'TFW Programs'!$A$2:$B$24,2,FALSE),\"\")","v":""},null,null,{"$f":"IF(LEN(A1132)>0,VLOOKUP(A1132,Subcontractors!$A$2:$B$3,2,FALSE),\"\")","v":""},null,{"$f":"IF(LEN(A1132)>0,VLOOKUP(A1132,Subcontractors!$A$2:$B$2,2,FALSE),\"\")","v":""}]
[null,null,null,null,null,null,null,null,null,null,null,null,null,null,null,null,null,null,null,null,null,{"$f":"IF(LEN(X1135)>0,VLOOKUP(X1135,'TFW Programs'!$A$2:$B$24,2,FALSE),\"\")","v":""},null,null,{"$f":"IF(LEN(A1135)>0,VLOOKUP(A1135,Subcontractors!$A$2:$B$3,2,FALSE),\"\")","v":""},null,{"$f":"IF(LEN(A1135)>0,VLOOKUP(A1135,Subcontractors!$A$2:$B$2,2,FALSE),\"\")","v":""}]
[null,null,null,null,null,null,null,null,null,null,null,null,null,null,null,null,null,null,null,null,null,{"$f":"IF(LEN(X1137)>0,VLOOKUP(X1137,'TFW Programs'!$A$2:$B$24,2,FALSE),\"\")","v":""},null,null,{"$f":"IF(LEN(A1137)>0,VLOOKUP(A1137,Subcontractors!$A$2:$B$3,2,FALSE),\"\")","v":""},null,{"$f":"IF(LEN(A1137)>0,VLOOKUP(A1137,Subcontractors!$A$2:$B$2,2,FALSE),\"\")","v":""}]
[null,null,null,null,null,null,null,null,null,null,null,null,null,null,null,null,null,null,null,null,null,{"$f":"IF(LEN(X1142)>0,VLOOKUP(X1142,'TFW Programs'!$A$2:$B$24,2,FALSE),\"\")","v":""},null,null,{"$f":"IF(LEN(A1142)>0,VLOOKUP(A1142,Subcontractors!$A$2:$B$3,2,FALSE),\"\")","v":""},null,{"$f":"IF(LEN(A1142)>0,VLOOKUP(A1142,Subcontractors!$A$2:$B$2,2,FALSE),\"\")","v":""}]
[null,null,null,null,null,null,null,null,null,null,null,null,null,null,null,null,null,null,null,null,null,{"$f":"IF(LEN(X1147)>0,VLOOKUP(X1147,'TFW Programs'!$A$2:$B$24,2,FALSE),\"\")","v":""},null,null,{"$f":"IF(LEN(A1147)>0,VLOOKUP(A1147,Subcontractors!$A$2:$B$3,2,FALSE),\"\")","v":""},null,{"$f":"IF(LEN(A1147)>0,VLOOKUP(A1147,Subcontractors!$A$2:$B$2,2,FALSE),\"\")","v":""}]
[null,null,null,null,null,null,null,null,null,null,null,null,null,null,null,null,null,null,null,null,null,{"$f":"IF(LEN(X1148)>0,VLOOKUP(X1148,'TFW Programs'!$A$2:$B$24,2,FALSE),\"\")","v":""},null,null,{"$f":"IF(LEN(A1148)>0,VLOOKUP(A1148,Subcontractors!$A$2:$B$3,2,FALSE),\"\")","v":""},null,{"$f":"IF(LEN(A1148)>0,VLOOKUP(A1148,Subcontractors!$A$2:$B$2,2,FALSE),\"\")","v":""}]
[null,null,null,null,null,null,null,null,null,null,null,null,null,null,null,null,null,null,null,null,null,{"$f":"IF(LEN(X1152)>0,VLOOKUP(X1152,'TFW Programs'!$A$2:$B$24,2,FALSE),\"\")","v":""},null,null,{"$f":"IF(LEN(A1152)>0,VLOOKUP(A1152,Subcontractors!$A$2:$B$3,2,FALSE),\"\")","v":""},null,{"$f":"IF(LEN(A1152)>0,VLOOKUP(A1152,Subcontractors!$A$2:$B$2,2,FALSE),\"\")","v":""}]
[null,null,null,null,null,null,null,null,null,null,null,null,null,null,null,null,null,null,null,null,null,{"$f":"IF(LEN(X1157)>0,VLOOKUP(X1157,'TFW Programs'!$A$2:$B$24,2,FALSE),\"\")","v":""},null,null,{"$f":"IF(LEN(A1157)>0,VLOOKUP(A1157,Subcontractors!$A$2:$B$3,2,FALSE),\"\")","v":""},null,{"$f":"IF(LEN(A1157)>0,VLOOKUP(A1157,Subcontractors!$A$2:$B$2,2,FALSE),\"\")","v":""}]
[null,null,null,null,null,null,null,null,null,null,null,null,null,null,null,null,null,null,null,null,null,{"$f":"IF(LEN(X1162)>0,VLOOKUP(X1162,'TFW Programs'!$A$2:$B$24,2,FALSE),\"\")","v":""},null,null,{"$f":"IF(LEN(A1162)>0,VLOOKUP(A1162,Subcontractors!$A$2:$B$3,2,FALSE),\"\")","v":""},null,{"$f":"IF(LEN(A1162)>0,VLOOKUP(A1162,Subcontractors!$A$2:$B$2,2,FALSE),\"\")","v":""}]
[null,null,null,null,null,null,null,null,null,null,null,null,null,null,null,null,null,null,null,null,null,{"$f":"IF(LEN(X1163)>0,VLOOKUP(X1163,'TFW Programs'!$A$2:$B$24,2,FALSE),\"\")","v":""},null,null,{"$f":"IF(LEN(A1163)>0,VLOOKUP(A1163,Subcontractors!$A$2:$B$3,2,FALSE),\"\")","v":""},null,{"$f":"IF(LEN(A1163)>0,VLOOKUP(A1163,Subcontractors!$A$2:$B$2,2,FALSE),\"\")","v":""}]
[null,null,null,null,null,null,null,null,null,null,null,null,null,null,null,null,null,null,null,null,null,{"$f":"IF(LEN(X1169)>0,VLOOKUP(X1169,'TFW Programs'!$A$2:$B$24,2,FALSE),\"\")","v":""},null,null,{"$f":"IF(LEN(A1169)>0,VLOOKUP(A1169,Subcontractors!$A$2:$B$3,2,FALSE),\"\")","v":""},null,{"$f":"IF(LEN(A1169)>0,VLOOKUP(A1169,Subcontractors!$A$2:$B$2,2,FALSE),\"\")","v":""}]
[null,null,null,null,null,null,null,null,null,null,null,null,null,null,null,null,null,null,null,null,null,{"$f":"IF(LEN(X1172)>0,VLOOKUP(X1172,'TFW Programs'!$A$2:$B$24,2,FALSE),\"\")","v":""},null,null,{"$f":"IF(LEN(A1172)>0,VLOOKUP(A1172,Subcontractors!$A$2:$B$3,2,FALSE),\"\")","v":""},null,{"$f":"IF(LEN(A1172)>0,VLOOKUP(A1172,Subcontractors!$A$2:$B$2,2,FALSE),\"\")","v":""}]
[null,null,null,null,null,null,null,null,null,null,null,null,null,null,null,null,null,null,null,null,null,{"$f":"IF(LEN(X1177)>0,VLOOKUP(X1177,'TFW Programs'!$A$2:$B$24,2,FALSE),\"\")","v":""},null,null,{"$f":"IF(LEN(A1177)>0,VLOOKUP(A1177,Subcontractors!$A$2:$B$3,2,FALSE),\"\")","v":""},null,{"$f":"IF(LEN(A1177)>0,VLOOKUP(A1177,Subcontractors!$A$2:$B$2,2,FALSE),\"\")","v":""}]
[null,null,null,null,null,null,null,null,null,null,null,null,null,null,null,null,null,null,null,null,null,{"$f":"IF(LEN(X1178)>0,VLOOKUP(X1178,'TFW Programs'!$A$2:$B$24,2,FALSE),\"\")","v":""},null,null,{"$f":"IF(LEN(A1178)>0,VLOOKUP(A1178,Subcontractors!$A$2:$B$3,2,FALSE),\"\")","v":""},null,{"$f":"IF(LEN(A1178)>0,VLOOKUP(A1178,Subcontractors!$A$2:$B$2,2,FALSE),\"\")","v":""}]
[null,null,null,null,null,null,null,null,null,null,null,null,null,null,null,null,null,null,null,null,null,{"$f":"IF(LEN(X1183)>0,VLOOKUP(X1183,'TFW Programs'!$A$2:$B$24,2,FALSE),\"\")","v":""},null,null,{"$f":"IF(LEN(A1183)>0,VLOOKUP(A1183,Subcontractors!$A$2:$B$3,2,FALSE),\"\")","v":""},null,{"$f":"IF(LEN(A1183)>0,VLOOKUP(A1183,Subcontractors!$A$2:$B$2,2,FALSE),\"\")","v":""}]
[null,null,null,null,null,null,null,null,null,null,null,null,null,null,null,null,null,null,null,null,null,{"$f":"IF(LEN(X1187)>0,VLOOKUP(X1187,'TFW Programs'!$A$2:$B$24,2,FALSE),\"\")","v":""},null,null,{"$f":"IF(LEN(A1187)>0,VLOOKUP(A1187,Subcontractors!$A$2:$B$3,2,FALSE),\"\")","v":""},null,{"$f":"IF(LEN(A1187)>0,VLOOKUP(A1187,Subcontractors!$A$2:$B$2,2,FALSE),\"\")","v":""}]
[null,null,null,null,null,null,null,null,null,null,null,null,null,null,null,null,null,null,null,null,null,{"$f":"IF(LEN(X1192)>0,VLOOKUP(X1192,'TFW Programs'!$A$2:$B$24,2,FALSE),\"\")","v":""},null,null,{"$f":"IF(LEN(A1192)>0,VLOOKUP(A1192,Subcontractors!$A$2:$B$3,2,FALSE),\"\")","v":""},null,{"$f":"IF(LEN(A1192)>0,VLOOKUP(A1192,Subcontractors!$A$2:$B$2,2,FALSE),\"\")","v":""}]
[null,null,null,null,null,null,null,null,null,null,null,null,null,null,null,null,null,null,null,null,null,{"$f":"IF(LEN(X1193)>0,VLOOKUP(X1193,'TFW Programs'!$A$2:$B$24,2,FALSE),\"\")","v":""},null,null,{"$f":"IF(LEN(A1193)>0,VLOOKUP(A1193,Subcontractors!$A$2:$B$3,2,FALSE),\"\")","v":""},null,{"$f":"IF(LEN(A1193)>0,VLOOKUP(A1193,Subcontractors!$A$2:$B$2,2,FALSE),\"\")","v":""}]
[null,null,null,null,null,null,null,null,null,null,null,null,null,null,null,null,null,null,null,null,null,{"$f":"IF(LEN(X1198)>0,VLOOKUP(X1198,'TFW Programs'!$A$2:$B$24,2,FALSE),\"\")","v":""},null,null,{"$f":"IF(LEN(A1198)>0,VLOOKUP(A1198,Subcontractors!$A$2:$B$3,2,FALSE),\"\")","v":""},null,{"$f":"IF(LEN(A1198)>0,VLOOKUP(A1198,Subcontractors!$A$2:$B$2,2,FALSE),\"\")","v":""}]
[null,null,null,null,null,null,null,null,null,null,null,null,null,null,null,null,null,null,null,null,null,{"$f":"IF(LEN(X1201)>0,VLOOKUP(X1201,'TFW Programs'!$A$2:$B$24,2,FALSE),\"\")","v":""},null,null,{"$f":"IF(LEN(A1201)>0,VLOOKUP(A1201,Subcontractors!$A$2:$B$3,2,FALSE),\"\")","v":""},null,{"$f":"IF(LEN(A1201)>0,VLOOKUP(A1201,Subcontractors!$A$2:$B$2,2,FALSE),\"\")","v":""}]
[null,null,null,null,null,null,null,null,null,null,null,null,null,null,null,null,null,null,null,null,null,{"$f":"IF(LEN(X1207)>0,VLOOKUP(X1207,'TFW Programs'!$A$2:$B$24,2,FALSE),\"\")","v":""},null,null,{"$f":"IF(LEN(A1207)>0,VLOOKUP(A1207,Subcontractors!$A$2:$B$3,2,FALSE),\"\")","v":""},null,{"$f":"IF(LEN(A1207)>0,VLOOKUP(A1207,Subcontractors!$A$2:$B$2,2,FALSE),\"\")","v":""}]
[null,null,null,null,null,null,null,null,null,null,null,null,null,null,null,null,null,null,null,null,null,{"$f":"IF(LEN(X1208)>0,VLOOKUP(X1208,'TFW Programs'!$A$2:$B$24,2,FALSE),\"\")","v":""},null,null,{"$f":"IF(LEN(A1208)>0,VLOOKUP(A1208,Subcontractors!$A$2:$B$3,2,FALSE),\"\")","v":""},null,{"$f":"IF(LEN(A1208)>0,VLOOKUP(A1208,Subcontractors!$A$2:$B$2,2,FALSE),\"\")","v":""}]
[null,null,null,null,null,null,null,null,null,null,null,null,null,null,null,null,null,null,null,null,null,{"$f":"IF(LEN(X1213)>0,VLOOKUP(X1213,'TFW Programs'!$A$2:$B$24,2,FALSE),\"\")","v":""},null,null,{"$f":"IF(LEN(A1213)>0,VLOOKUP(A1213,Subcontractors!$A$2:$B$3,2,FALSE),\"\")","v":""},null,{"$f":"IF(LEN(A1213)>0,VLOOKUP(A1213,Subcontractors!$A$2:$B$2,2,FALSE),\"\")","v":""}]
[null,null,null,null,null,null,null,null,null,null,null,null,null,null,null,null,null,null,null,null,null,{"$f":"IF(LEN(X1217)>0,VLOOKUP(X1217,'TFW Programs'!$A$2:$B$24,2,FALSE),\"\")","v":""},null,null,{"$f":"IF(LEN(A1217)>0,VLOOKUP(A1217,Subcontractors!$A$2:$B$3,2,FALSE),\"\")","v":""},null,{"$f":"IF(LEN(A1217)>0,VLOOKUP(A1217,Subcontractors!$A$2:$B$2,2,FALSE),\"\")","v":""}]
[null,null,null,null,null,null,null,null,null,null,null,null,null,null,null,null,null,null,null,null,null,{"$f":"IF(LEN(X1222)>0,VLOOKUP(X1222,'TFW Programs'!$A$2:$B$24,2,FALSE),\"\")","v":""},null,null,{"$f":"IF(LEN(A1222)>0,VLOOKUP(A1222,Subcontractors!$A$2:$B$3,2,FALSE),\"\")","v":""},null,{"$f":"IF(LEN(A1222)>0,VLOOKUP(A1222,Subcontractors!$A$2:$B$2,2,FALSE),\"\")","v":""}]
[null,null,null,null,null,null,null,null,null,null,null,null,null,null,null,null,null,null,null,null,null,{"$f":"IF(LEN(X1223)>0,VLOOKUP(X1223,'TFW Programs'!$A$2:$B$24,2,FALSE),\"\")","v":""},null,null,{"$f":"IF(LEN(A1223)>0,VLOOKUP(A1223,Subcontractors!$A$2:$B$3,2,FALSE),\"\")","v":""},null,{"$f":"IF(LEN(A1223)>0,VLOOKUP(A1223,Subcontractors!$A$2:$B$2,2,FALSE),\"\")","v":""}]
[null,null,null,null,null,null,null,null,null,null,null,null,null,null,null,null,null,null,null,null,null,{"$f":"IF(LEN(X1228)>0,VLOOKUP(X1228,'TFW Programs'!$A$2:$B$24,2,FALSE),\"\")","v":""},null,null,{"$f":"IF(LEN(A1228)>0,VLOOKUP(A1228,Subcontractors!$A$2:$B$3,2,FALSE),\"\")","v":""},null,{"$f":"IF(LEN(A1228)>0,VLOOKUP(A1228,Subcontractors!$A$2:$B$2,2,FALSE),\"\")","v":""}]
[null,null,null,null,null,null,null,null,null,null,null,null,null,null,null,null,null,null,null,null,null,{"$f":"IF(LEN(X1231)>0,VLOOKUP(X1231,'TFW Programs'!$A$2:$B$24,2,FALSE),\"\")","v":""},null,null,{"$f":"IF(LEN(A1231)>0,VLOOKUP(A1231,Subcontractors!$A$2:$B$3,2,FALSE),\"\")","v":""},null,{"$f":"IF(LEN(A1231)>0,VLOOKUP(A1231,Subcontractors!$A$2:$B$2,2,FALSE),\"\")","v":""}]
[null,null,null,null,null,null,null,null,null,null,null,null,null,null,null,null,null,null,null,null,null,{"$f":"IF(LEN(X1237)>0,VLOOKUP(X1237,'TFW Programs'!$A$2:$B$24,2,FALSE),\"\")","v":""},null,null,{"$f":"IF(LEN(A1237)>0,VLOOKUP(A1237,Subcontractors!$A$2:$B$3,2,FALSE),\"\")","v":""},null,{"$f":"IF(LEN(A1237)>0,VLOOKUP(A1237,Subcontractors!$A$2:$B$2,2,FALSE),\"\")","v":""}]
[null,null,null,null,null,null,null,null,null,null,null,null,null,null,null,null,null,null,null,null,null,{"$f":"IF(LEN(X1238)>0,VLOOKUP(X1238,'TFW Programs'!$A$2:$B$24,2,FALSE),\"\")","v":""},null,null,{"$f":"IF(LEN(A1238)>0,VLOOKUP(A1238,Subcontractors!$A$2:$B$3,2,FALSE),\"\")","v":""},null,{"$f":"IF(LEN(A1238)>0,VLOOKUP(A1238,Subcontractors!$A$2:$B$2,2,FALSE),\"\")","v":""}]
[null,null,null,null,null,null,null,null,null,null,null,null,null,null,null,null,null,null,null,null,null,{"$f":"IF(LEN(X1243)>0,VLOOKUP(X1243,'TFW Programs'!$A$2:$B$24,2,FALSE),\"\")","v":""},null,null,{"$f":"IF(LEN(A1243)>0,VLOOKUP(A1243,Subcontractors!$A$2:$B$3,2,FALSE),\"\")","v":""},null,{"$f":"IF(LEN(A1243)>0,VLOOKUP(A1243,Subcontractors!$A$2:$B$2,2,FALSE),\"\")","v":""}]
[null,null,null,null,null,null,null,null,null,null,null,null,null,null,null,null,null,null,null,null,null,{"$f":"IF(LEN(X1248)>0,VLOOKUP(X1248,'TFW Programs'!$A$2:$B$24,2,FALSE),\"\")","v":""},null,null,{"$f":"IF(LEN(A1248)>0,VLOOKUP(A1248,Subcontractors!$A$2:$B$3,2,FALSE),\"\")","v":""},null,{"$f":"IF(LEN(A1248)>0,VLOOKUP(A1248,Subcontractors!$A$2:$B$2,2,FALSE),\"\")","v":""}]
[null,null,null,null,null,null,null,null,null,null,null,null,null,null,null,null,null,null,null,null,null,{"$f":"IF(LEN(X1252)>0,VLOOKUP(X1252,'TFW Programs'!$A$2:$B$24,2,FALSE),\"\")","v":""},null,null,{"$f":"IF(LEN(A1252)>0,VLOOKUP(A1252,Subcontractors!$A$2:$B$3,2,FALSE),\"\")","v":""},null,{"$f":"IF(LEN(A1252)>0,VLOOKUP(A1252,Subcontractors!$A$2:$B$2,2,FALSE),\"\")","v":""}]
[null,null,null,null,null,null,null,null,null,null,null,null,null,null,null,null,null,null,null,null,null,{"$f":"IF(LEN(X1253)>0,VLOOKUP(X1253,'TFW Programs'!$A$2:$B$24,2,FALSE),\"\")","v":""},null,null,{"$f":"IF(LEN(A1253)>0,VLOOKUP(A1253,Subcontractors!$A$2:$B$3,2,FALSE),\"\")","v":""},null,{"$f":"IF(LEN(A1253)>0,VLOOKUP(A1253,Subcontractors!$A$2:$B$2,2,FALSE),\"\")","v":""}]
[null,null,null,null,null,null,null,null,null,null,null,null,null,null,null,null,null,null,null,null,null,{"$f":"IF(LEN(X1258)>0,VLOOKUP(X1258,'TFW Programs'!$A$2:$B$24,2,FALSE),\"\")","v":""},null,null,{"$f":"IF(LEN(A1258)>0,VLOOKUP(A1258,Subcontractors!$A$2:$B$3,2,FALSE),\"\")","v":""},null,{"$f":"IF(LEN(A1258)>0,VLOOKUP(A1258,Subcontractors!$A$2:$B$2,2,FALSE),\"\")","v":""}]
[null,null,null,null,null,null,null,null,null,null,null,null,null,null,null,null,null,null,null,null,null,{"$f":"IF(LEN(X1263)>0,VLOOKUP(X1263,'TFW Programs'!$A$2:$B$24,2,FALSE),\"\")","v":""},null,null,{"$f":"IF(LEN(A1263)>0,VLOOKUP(A1263,Subcontractors!$A$2:$B$3,2,FALSE),\"\")","v":""},null,{"$f":"IF(LEN(A1263)>0,VLOOKUP(A1263,Subcontractors!$A$2:$B$2,2,FALSE),\"\")","v":""}]
[null,null,null,null,null,null,null,null,null,null,null,null,null,null,null,null,null,null,null,null,null,{"$f":"IF(LEN(X1265)>0,VLOOKUP(X1265,'TFW Programs'!$A$2:$B$24,2,FALSE),\"\")","v":""},null,null,{"$f":"IF(LEN(A1265)>0,VLOOKUP(A1265,Subcontractors!$A$2:$B$3,2,FALSE),\"\")","v":""},null,{"$f":"IF(LEN(A1265)>0,VLOOKUP(A1265,Subcontractors!$A$2:$B$2,2,FALSE),\"\")","v":""}]
[null,null,null,null,null,null,null,null,null,null,null,null,null,null,null,null,null,null,null,null,null,{"$f":"IF(LEN(X1268)>0,VLOOKUP(X1268,'TFW Programs'!$A$2:$B$24,2,FALSE),\"\")","v":""},null,null,{"$f":"IF(LEN(A1268)>0,VLOOKUP(A1268,Subcontractors!$A$2:$B$3,2,FALSE),\"\")","v":""},null,{"$f":"IF(LEN(A1268)>0,VLOOKUP(A1268,Subcontractors!$A$2:$B$2,2,FALSE),\"\")","v":""}]
[null,null,null,null,null,null,null,null,null,null,null,null,null,null,null,null,null,null,null,null,null,{"$f":"IF(LEN(X1273)>0,VLOOKUP(X1273,'TFW Programs'!$A$2:$B$24,2,FALSE),\"\")","v":""},null,null,{"$f":"IF(LEN(A1273)>0,VLOOKUP(A1273,Subcontractors!$A$2:$B$3,2,FALSE),\"\")","v":""},null,{"$f":"IF(LEN(A1273)>0,VLOOKUP(A1273,Subcontractors!$A$2:$B$2,2,FALSE),\"\")","v":""}]
[null,null,null,null,null,null,null,null,null,null,null,null,null,null,null,null,null,null,null,null,null,{"$f":"IF(LEN(X1278)>0,VLOOKUP(X1278,'TFW Programs'!$A$2:$B$24,2,FALSE),\"\")","v":""},null,null,{"$f":"IF(LEN(A1278)>0,VLOOKUP(A1278,Subcontractors!$A$2:$B$3,2,FALSE),\"\")","v":""},null,{"$f":"IF(LEN(A1278)>0,VLOOKUP(A1278,Subcontractors!$A$2:$B$2,2,FALSE),\"\")","v":""}]
[null,null,null,null,null,null,null,null,null,null,null,null,null,null,null,null,null,null,null,null,null,{"$f":"IF(LEN(X1283)>0,VLOOKUP(X1283,'TFW Programs'!$A$2:$B$24,2,FALSE),\"\")","v":""},null,null,{"$f":"IF(LEN(A1283)>0,VLOOKUP(A1283,Subcontractors!$A$2:$B$3,2,FALSE),\"\")","v":""},null,{"$f":"IF(LEN(A1283)>0,VLOOKUP(A1283,Subcontractors!$A$2:$B$2,2,FALSE),\"\")","v":""}]
[null,null,null,null,null,null,null,null,null,null,null,null,null,null,null,null,null,null,null,null,null,{"$f":"IF(LEN(X1286)>0,VLOOKUP(X1286,'TFW Programs'!$A$2:$B$24,2,FALSE),\"\")","v":""},null,null,{"$f":"IF(LEN(A1286)>0,VLOOKUP(A1286,Subcontractors!$A$2:$B$3,2,FALSE),\"\")","v":""},null,{"$f":"IF(LEN(A1286)>0,VLOOKUP(A1286,Subcontractors!$A$2:$B$2,2,FALSE),\"\")","v":""}]
[null,null,null,null,null,null,null,null,null,null,null,null,null,null,null,null,null,null,null,null,null,{"$f":"IF(LEN(X1288)>0,VLOOKUP(X1288,'TFW Programs'!$A$2:$B$24,2,FALSE),\"\")","v":""},null,null,{"$f":"IF(LEN(A1288)>0,VLOOKUP(A1288,Subcontractors!$A$2:$B$3,2,FALSE),\"\")","v":""},null,{"$f":"IF(LEN(A1288)>0,VLOOKUP(A1288,Subcontractors!$A$2:$B$2,2,FALSE),\"\")","v":""}]
[null,null,null,null,null,null,null,null,null,null,null,null,null,null,null,null,null,null,null,null,null,{"$f":"IF(LEN(X1293)>0,VLOOKUP(X1293,'TFW Programs'!$A$2:$B$24,2,FALSE),\"\")","v":""},null,null,{"$f":"IF(LEN(A1293)>0,VLOOKUP(A1293,Subcontractors!$A$2:$B$3,2,FALSE),\"\")","v":""},null,{"$f":"IF(LEN(A1293)>0,VLOOKUP(A1293,Subcontractors!$A$2:$B$2,2,FALSE),\"\")","v":""}]
[null,null,null,null,null,null,null,null,null,null,null,null,null,null,null,null,null,null,null,null,null,{"$f":"IF(LEN(X1298)>0,VLOOKUP(X1298,'TFW Programs'!$A$2:$B$24,2,FALSE),\"\")","v":""},null,null,{"$f":"IF(LEN(A1298)>0,VLOOKUP(A1298,Subcontractors!$A$2:$B$3,2,FALSE),\"\")","v":""},null,{"$f":"IF(LEN(A1298)>0,VLOOKUP(A1298,Subcontractors!$A$2:$B$2,2,FALSE),\"\")","v":""}]
[null,null,null,null,null,null,null,null,null,null,null,null,null,null,null,null,null,null,null,null,null,{"$f":"IF(LEN(X1300)>0,VLOOKUP(X1300,'TFW Programs'!$A$2:$B$24,2,FALSE),\"\")","v":""},null,null,{"$f":"IF(LEN(A1300)>0,VLOOKUP(A1300,Subcontractors!$A$2:$B$3,2,FALSE),\"\")","v":""},null,{"$f":"IF(LEN(A1300)>0,VLOOKUP(A1300,Subcontractors!$A$2:$B$2,2,FALSE),\"\")","v":""}]
[null,null,null,null,null,null,null,null,null,null,null,null,null,null,null,null,null,null,null,null,null,{"$f":"IF(LEN(X1303)>0,VLOOKUP(X1303,'TFW Programs'!$A$2:$B$24,2,FALSE),\"\")","v":""},null,null,{"$f":"IF(LEN(A1303)>0,VLOOKUP(A1303,Subcontractors!$A$2:$B$3,2,FALSE),\"\")","v":""},null,{"$f":"IF(LEN(A1303)>0,VLOOKUP(A1303,Subcontractors!$A$2:$B$2,2,FALSE),\"\")","v":""}]
[null,null,null,null,null,null,null,null,null,null,null,null,null,null,null,null,null,null,null,null,null,{"$f":"IF(LEN(X1308)>0,VLOOKUP(X1308,'TFW Programs'!$A$2:$B$24,2,FALSE),\"\")","v":""},null,null,{"$f":"IF(LEN(A1308)>0,VLOOKUP(A1308,Subcontractors!$A$2:$B$3,2,FALSE),\"\")","v":""},null,{"$f":"IF(LEN(A1308)>0,VLOOKUP(A1308,Subcontractors!$A$2:$B$2,2,FALSE),\"\")","v":""}]
[null,null,null,null,null,null,null,null,null,null,null,null,null,null,null,null,null,null,null,null,null,{"$f":"IF(LEN(X1313)>0,VLOOKUP(X1313,'TFW Programs'!$A$2:$B$24,2,FALSE),\"\")","v":""},null,null,{"$f":"IF(LEN(A1313)>0,VLOOKUP(A1313,Subcontractors!$A$2:$B$3,2,FALSE),\"\")","v":""},null,{"$f":"IF(LEN(A1313)>0,VLOOKUP(A1313,Subcontractors!$A$2:$B$2,2,FALSE),\"\")","v":""}]
[null,null,null,null,null,null,null,null,null,null,null,null,null,null,null,null,null,null,null,null,null,{"$f":"IF(LEN(X1314)>0,VLOOKUP(X1314,'TFW Programs'!$A$2:$B$24,2,FALSE),\"\")","v":""},null,null,{"$f":"IF(LEN(A1314)>0,VLOOKUP(A1314,Subcontractors!$A$2:$B$3,2,FALSE),\"\")","v":""},null,{"$f":"IF(LEN(A1314)>0,VLOOKUP(A1314,Subcontractors!$A$2:$B$2,2,FALSE),\"\")","v":""}]
[null,null,null,null,null,null,null,null,null,null,null,null,null,null,null,null,null,null,null,null,null,{"$f":"IF(LEN(X1318)>0,VLOOKUP(X1318,'TFW Programs'!$A$2:$B$24,2,FALSE),\"\")","v":""},null,null,{"$f":"IF(LEN(A1318)>0,VLOOKUP(A1318,Subcontractors!$A$2:$B$3,2,FALSE),\"\")","v":""},null,{"$f":"IF(LEN(A1318)>0,VLOOKUP(A1318,Subcontractors!$A$2:$B$2,2,FALSE),\"\")","v":""}]
[null,null,null,null,null,null,null,null,null,null,null,null,null,null,null,null,null,null,null,null,null,{"$f":"IF(LEN(X1323)>0,VLOOKUP(X1323,'TFW Programs'!$A$2:$B$24,2,FALSE),\"\")","v":""},null,null,{"$f":"IF(LEN(A1323)>0,VLOOKUP(A1323,Subcontractors!$A$2:$B$3,2,FALSE),\"\")","v":""},null,{"$f":"IF(LEN(A1323)>0,VLOOKUP(A1323,Subcontractors!$A$2:$B$2,2,FALSE),\"\")","v":""}]
[null,null,null,null,null,null,null,null,null,null,null,null,null,null,null,null,null,null,null,null,null,{"$f":"IF(LEN(X1328)>0,VLOOKUP(X1328,'TFW Programs'!$A$2:$B$24,2,FALSE),\"\")","v":""},null,null,{"$f":"IF(LEN(A1328)>0,VLOOKUP(A1328,Subcontractors!$A$2:$B$3,2,FALSE),\"\")","v":""},null,{"$f":"IF(LEN(A1328)>0,VLOOKUP(A1328,Subcontractors!$A$2:$B$2,2,FALSE),\"\")","v":""}]
[null,null,null,null,null,null,null,null,null,null,null,null,null,null,null,null,null,null,null,null,null,{"$f":"IF(LEN(X1329)>0,VLOOKUP(X1329,'TFW Programs'!$A$2:$B$24,2,FALSE),\"\")","v":""},null,null,{"$f":"IF(LEN(A1329)>0,VLOOKUP(A1329,Subcontractors!$A$2:$B$3,2,FALSE),\"\")","v":""},null,{"$f":"IF(LEN(A1329)>0,VLOOKUP(A1329,Subcontractors!$A$2:$B$2,2,FALSE),\"\")","v":""}]
[null,null,null,null,null,null,null,null,null,null,null,null,null,null,null,null,null,null,null,null,null,{"$f":"IF(LEN(X1334)>0,VLOOKUP(X1334,'TFW Programs'!$A$2:$B$24,2,FALSE),\"\")","v":""},null,null,{"$f":"IF(LEN(A1334)>0,VLOOKUP(A1334,Subcontractors!$A$2:$B$3,2,FALSE),\"\")","v":""},null,{"$f":"IF(LEN(A1334)>0,VLOOKUP(A1334,Subcontractors!$A$2:$B$2,2,FALSE),\"\")","v":""}]
[null,null,null,null,null,null,null,null,null,null,null,null,null,null,null,null,null,null,null,null,null,{"$f":"IF(LEN(X1338)>0,VLOOKUP(X1338,'TFW Programs'!$A$2:$B$24,2,FALSE),\"\")","v":""},null,null,{"$f":"IF(LEN(A1338)>0,VLOOKUP(A1338,Subcontractors!$A$2:$B$3,2,FALSE),\"\")","v":""},null,{"$f":"IF(LEN(A1338)>0,VLOOKUP(A1338,Subcontractors!$A$2:$B$2,2,FALSE),\"\")","v":""}]
[null,null,null,null,null,null,null,null,null,null,null,null,null,null,null,null,null,null,null,null,null,{"$f":"IF(LEN(X1343)>0,VLOOKUP(X1343,'TFW Programs'!$A$2:$B$24,2,FALSE),\"\")","v":""},null,null,{"$f":"IF(LEN(A1343)>0,VLOOKUP(A1343,Subcontractors!$A$2:$B$3,2,FALSE),\"\")","v":""},null,{"$f":"IF(LEN(A1343)>0,VLOOKUP(A1343,Subcontractors!$A$2:$B$2,2,FALSE),\"\")","v":""}]
[null,null,null,null,null,null,null,null,null,null,null,null,null,null,null,null,null,null,null,null,null,{"$f":"IF(LEN(X1344)>0,VLOOKUP(X1344,'TFW Programs'!$A$2:$B$24,2,FALSE),\"\")","v":""},null,null,{"$f":"IF(LEN(A1344)>0,VLOOKUP(A1344,Subcontractors!$A$2:$B$3,2,FALSE),\"\")","v":""},null,{"$f":"IF(LEN(A1344)>0,VLOOKUP(A1344,Subcontractors!$A$2:$B$2,2,FALSE),\"\")","v":""}]
[null,null,null,null,null,null,null,null,null,null,null,null,null,null,null,null,null,null,null,null,null,{"$f":"IF(LEN(X1348)>0,VLOOKUP(X1348,'TFW Programs'!$A$2:$B$24,2,FALSE),\"\")","v":""},null,null,{"$f":"IF(LEN(A1348)>0,VLOOKUP(A1348,Subcontractors!$A$2:$B$3,2,FALSE),\"\")","v":""},null,{"$f":"IF(LEN(A1348)>0,VLOOKUP(A1348,Subcontractors!$A$2:$B$2,2,FALSE),\"\")","v":""}]
[null,null,null,null,null,null,null,null,null,null,null,null,null,null,null,null,null,null,null,null,null,{"$f":"IF(LEN(X1353)>0,VLOOKUP(X1353,'TFW Programs'!$A$2:$B$24,2,FALSE),\"\")","v":""},null,null,{"$f":"IF(LEN(A1353)>0,VLOOKUP(A1353,Subcontractors!$A$2:$B$3,2,FALSE),\"\")","v":""},null,{"$f":"IF(LEN(A1353)>0,VLOOKUP(A1353,Subcontractors!$A$2:$B$2,2,FALSE),\"\")","v":""}]
[null,null,null,null,null,null,null,null,null,null,null,null,null,null,null,null,null,null,null,null,null,{"$f":"IF(LEN(X1358)>0,VLOOKUP(X1358,'TFW Programs'!$A$2:$B$24,2,FALSE),\"\")","v":""},null,null,{"$f":"IF(LEN(A1358)>0,VLOOKUP(A1358,Subcontractors!$A$2:$B$3,2,FALSE),\"\")","v":""},null,{"$f":"IF(LEN(A1358)>0,VLOOKUP(A1358,Subcontractors!$A$2:$B$2,2,FALSE),\"\")","v":""}]
[null,null,null,null,null,null,null,null,null,null,null,null,null,null,null,null,null,null,null,null,null,{"$f":"IF(LEN(X1359)>0,VLOOKUP(X1359,'TFW Programs'!$A$2:$B$24,2,FALSE),\"\")","v":""},null,null,{"$f":"IF(LEN(A1359)>0,VLOOKUP(A1359,Subcontractors!$A$2:$B$3,2,FALSE),\"\")","v":""},null,{"$f":"IF(LEN(A1359)>0,VLOOKUP(A1359,Subcontractors!$A$2:$B$2,2,FALSE),\"\")","v":""}]
[null,null,null,null,null,null,null,null,null,null,null,null,null,null,null,null,null,null,null,null,null,{"$f":"IF(LEN(X1364)>0,VLOOKUP(X1364,'TFW Programs'!$A$2:$B$24,2,FALSE),\"\")","v":""},null,null,{"$f":"IF(LEN(A1364)>0,VLOOKUP(A1364,Subcontractors!$A$2:$B$3,2,FALSE),\"\")","v":""},null,{"$f":"IF(LEN(A1364)>0,VLOOKUP(A1364,Subcontractors!$A$2:$B$2,2,FALSE),\"\")","v":""}]
[null,null,null,null,null,null,null,null,null,null,null,null,null,null,null,null,null,null,null,null,null,{"$f":"IF(LEN(X1369)>0,VLOOKUP(X1369,'TFW Programs'!$A$2:$B$24,2,FALSE),\"\")","v":""},null,null,{"$f":"IF(LEN(A1369)>0,VLOOKUP(A1369,Subcontractors!$A$2:$B$3,2,FALSE),\"\")","v":""},null,{"$f":"IF(LEN(A1369)>0,VLOOKUP(A1369,Subcontractors!$A$2:$B$2,2,FALSE),\"\")","v":""}]
[null,null,null,null,null,null,null,null,null,null,null,null,null,null,null,null,null,null,null,null,null,{"$f":"IF(LEN(X1373)>0,VLOOKUP(X1373,'TFW Programs'!$A$2:$B$24,2,FALSE),\"\")","v":""},null,null,{"$f":"IF(LEN(A1373)>0,VLOOKUP(A1373,Subcontractors!$A$2:$B$3,2,FALSE),\"\")","v":""},null,{"$f":"IF(LEN(A1373)>0,VLOOKUP(A1373,Subcontractors!$A$2:$B$2,2,FALSE),\"\")","v":""}]
[null,null,null,null,null,null,null,null,null,null,null,null,null,null,null,null,null,null,null,null,null,{"$f":"IF(LEN(X1374)>0,VLOOKUP(X1374,'TFW Programs'!$A$2:$B$24,2,FALSE),\"\")","v":""},null,null,{"$f":"IF(LEN(A1374)>0,VLOOKUP(A1374,Subcontractors!$A$2:$B$3,2,FALSE),\"\")","v":""},null,{"$f":"IF(LEN(A1374)>0,VLOOKUP(A1374,Subcontractors!$A$2:$B$2,2,FALSE),\"\")","v":""}]
[null,null,null,null,null,null,null,null,null,null,null,null,null,null,null,null,null,null,null,null,null,{"$f":"IF(LEN(X1379)>0,VLOOKUP(X1379,'TFW Programs'!$A$2:$B$24,2,FALSE),\"\")","v":""},null,null,{"$f":"IF(LEN(A1379)>0,VLOOKUP(A1379,Subcontractors!$A$2:$B$3,2,FALSE),\"\")","v":""},null,{"$f":"IF(LEN(A1379)>0,VLOOKUP(A1379,Subcontractors!$A$2:$B$2,2,FALSE),\"\")","v":""}]
[null,null,null,null,null,null,null,null,null,null,null,null,null,null,null,null,null,null,null,null,null,{"$f":"IF(LEN(X1382)>0,VLOOKUP(X1382,'TFW Programs'!$A$2:$B$24,2,FALSE),\"\")","v":""},null,null,{"$f":"IF(LEN(A1382)>0,VLOOKUP(A1382,Subcontractors!$A$2:$B$3,2,FALSE),\"\")","v":""},null,{"$f":"IF(LEN(A1382)>0,VLOOKUP(A1382,Subcontractors!$A$2:$B$2,2,FALSE),\"\")","v":""}]
[null,null,null,null,null,null,null,null,null,null,null,null,null,null,null,null,null,null,null,null,null,{"$f":"IF(LEN(X1388)>0,VLOOKUP(X1388,'TFW Programs'!$A$2:$B$24,2,FALSE),\"\")","v":""},null,null,{"$f":"IF(LEN(A1388)>0,VLOOKUP(A1388,Subcontractors!$A$2:$B$3,2,FALSE),\"\")","v":""},null,{"$f":"IF(LEN(A1388)>0,VLOOKUP(A1388,Subcontractors!$A$2:$B$2,2,FALSE),\"\")","v":""}]
[null,null,null,null,null,null,null,null,null,null,null,null,null,null,null,null,null,null,null,null,null,{"$f":"IF(LEN(X1389)>0,VLOOKUP(X1389,'TFW Programs'!$A$2:$B$24,2,FALSE),\"\")","v":""},null,null,{"$f":"IF(LEN(A1389)>0,VLOOKUP(A1389,Subcontractors!$A$2:$B$3,2,FALSE),\"\")","v":""},null,{"$f":"IF(LEN(A1389)>0,VLOOKUP(A1389,Subcontractors!$A$2:$B$2,2,FALSE),\"\")","v":""}]
[null,null,null,null,null,null,null,null,null,null,null,null,null,null,null,null,null,null,null,null,null,{"$f":"IF(LEN(X1394)>0,VLOOKUP(X1394,'TFW Programs'!$A$2:$B$24,2,FALSE),\"\")","v":""},null,null,{"$f":"IF(LEN(A1394)>0,VLOOKUP(A1394,Subcontractors!$A$2:$B$3,2,FALSE),\"\")","v":""},null,{"$f":"IF(LEN(A1394)>0,VLOOKUP(A1394,Subcontractors!$A$2:$B$2,2,FALSE),\"\")","v":""}]
[null,null,null,null,null,null,null,null,null,null,null,null,null,null,null,null,null,null,null,null,null,{"$f":"IF(LEN(X1399)>0,VLOOKUP(X1399,'TFW Programs'!$A$2:$B$24,2,FALSE),\"\")","v":""},null,null,{"$f":"IF(LEN(A1399)>0,VLOOKUP(A1399,Subcontractors!$A$2:$B$3,2,FALSE),\"\")","v":""},null,{"$f":"IF(LEN(A1399)>0,VLOOKUP(A1399,Subcontractors!$A$2:$B$2,2,FALSE),\"\")","v":""}]
[null,null,null,null,null,null,null,null,null,null,null,null,null,null,null,null,null,null,null,null,null,{"$f":"IF(LEN(X1403)>0,VLOOKUP(X1403,'TFW Programs'!$A$2:$B$24,2,FALSE),\"\")","v":""},null,null,{"$f":"IF(LEN(A1403)>0,VLOOKUP(A1403,Subcontractors!$A$2:$B$3,2,FALSE),\"\")","v":""},null,{"$f":"IF(LEN(A1403)>0,VLOOKUP(A1403,Subcontractors!$A$2:$B$2,2,FALSE),\"\")","v":""}]
[null,null,null,null,null,null,null,null,null,null,null,null,null,null,null,null,null,null,null,null,null,{"$f":"IF(LEN(X1404)>0,VLOOKUP(X1404,'TFW Programs'!$A$2:$B$24,2,FALSE),\"\")","v":""},null,null,{"$f":"IF(LEN(A1404)>0,VLOOKUP(A1404,Subcontractors!$A$2:$B$3,2,FALSE),\"\")","v":""},null,{"$f":"IF(LEN(A1404)>0,VLOOKUP(A1404,Subcontractors!$A$2:$B$2,2,FALSE),\"\")","v":""}]
[null,null,null,null,null,null,null,null,null,null,null,null,null,null,null,null,null,null,null,null,null,{"$f":"IF(LEN(X1409)>0,VLOOKUP(X1409,'TFW Programs'!$A$2:$B$24,2,FALSE),\"\")","v":""},null,null,{"$f":"IF(LEN(A1409)>0,VLOOKUP(A1409,Subcontractors!$A$2:$B$3,2,FALSE),\"\")","v":""},null,{"$f":"IF(LEN(A1409)>0,VLOOKUP(A1409,Subcontractors!$A$2:$B$2,2,FALSE),\"\")","v":""}]
[null,null,null,null,null,null,null,null,null,null,null,null,null,null,null,null,null,null,null,null,null,{"$f":"IF(LEN(X1414)>0,VLOOKUP(X1414,'TFW Programs'!$A$2:$B$24,2,FALSE),\"\")","v":""},null,null,{"$f":"IF(LEN(A1414)>0,VLOOKUP(A1414,Subcontractors!$A$2:$B$3,2,FALSE),\"\")","v":""},null,{"$f":"IF(LEN(A1414)>0,VLOOKUP(A1414,Subcontractors!$A$2:$B$2,2,FALSE),\"\")","v":""}]
[null,null,null,null,null,null,null,null,null,null,null,null,null,null,null,null,null,null,null,null,null,{"$f":"IF(LEN(X1417)>0,VLOOKUP(X1417,'TFW Programs'!$A$2:$B$24,2,FALSE),\"\")","v":""},null,null,{"$f":"IF(LEN(A1417)>0,VLOOKUP(A1417,Subcontractors!$A$2:$B$3,2,FALSE),\"\")","v":""},null,{"$f":"IF(LEN(A1417)>0,VLOOKUP(A1417,Subcontractors!$A$2:$B$2,2,FALSE),\"\")","v":""}]
[null,null,null,null,null,null,null,null,null,null,null,null,null,null,null,null,null,null,null,null,null,{"$f":"IF(LEN(X1419)>0,VLOOKUP(X1419,'TFW Programs'!$A$2:$B$24,2,FALSE),\"\")","v":""},null,null,{"$f":"IF(LEN(A1419)>0,VLOOKUP(A1419,Subcontractors!$A$2:$B$3,2,FALSE),\"\")","v":""},null,{"$f":"IF(LEN(A1419)>0,VLOOKUP(A1419,Subcontractors!$A$2:$B$2,2,FALSE),\"\")","v":""}]
[null,null,null,null,null,null,null,null,null,null,null,null,null,null,null,null,null,null,null,null,null,{"$f":"IF(LEN(X1424)>0,VLOOKUP(X1424,'TFW Programs'!$A$2:$B$24,2,FALSE),\"\")","v":""},null,null,{"$f":"IF(LEN(A1424)>0,VLOOKUP(A1424,Subcontractors!$A$2:$B$3,2,FALSE),\"\")","v":""},null,{"$f":"IF(LEN(A1424)>0,VLOOKUP(A1424,Subcontractors!$A$2:$B$2,2,FALSE),\"\")","v":""}]
[null,null,null,null,null,null,null,null,null,null,null,null,null,null,null,null,null,null,null,null,null,{"$f":"IF(LEN(X1429)>0,VLOOKUP(X1429,'TFW Programs'!$A$2:$B$24,2,FALSE),\"\")","v":""},null,null,{"$f":"IF(LEN(A1429)>0,VLOOKUP(A1429,Subcontractors!$A$2:$B$3,2,FALSE),\"\")","v":""},null,{"$f":"IF(LEN(A1429)>0,VLOOKUP(A1429,Subcontractors!$A$2:$B$2,2,FALSE),\"\")","v":""}]
[null,null,null,null,null,null,null,null,null,null,null,null,null,null,null,null,null,null,null,null,null,{"$f":"IF(LEN(X1434)>0,VLOOKUP(X1434,'TFW Programs'!$A$2:$B$24,2,FALSE),\"\")","v":""},null,null,{"$f":"IF(LEN(A1434)>0,VLOOKUP(A1434,Subcontractors!$A$2:$B$3,2,FALSE),\"\")","v":""},null,{"$f":"IF(LEN(A1434)>0,VLOOKUP(A1434,Subcontractors!$A$2:$B$2,2,FALSE),\"\")","v":""}]
[null,null,null,null,null,null,null,null,null,null,null,null,null,null,null,null,null,null,null,null,null,{"$f":"IF(LEN(X1437)>0,VLOOKUP(X1437,'TFW Programs'!$A$2:$B$24,2,FALSE),\"\")","v":""},null,null,{"$f":"IF(LEN(A1437)>0,VLOOKUP(A1437,Subcontractors!$A$2:$B$3,2,FALSE),\"\")","v":""},null,{"$f":"IF(LEN(A1437)>0,VLOOKUP(A1437,Subcontractors!$A$2:$B$2,2,FALSE),\"\")","v":""}]
[null,null,null,null,null,null,null,null,null,null,null,null,null,null,null,null,null,null,null,null,null,{"$f":"IF(LEN(X1439)>0,VLOOKUP(X1439,'TFW Programs'!$A$2:$B$24,2,FALSE),\"\")","v":""},null,null,{"$f":"IF(LEN(A1439)>0,VLOOKUP(A1439,Subcontractors!$A$2:$B$3,2,FALSE),\"\")","v":""},null,{"$f":"IF(LEN(A1439)>0,VLOOKUP(A1439,Subcontractors!$A$2:$B$2,2,FALSE),\"\")","v":""}]
[null,null,null,null,null,null,null,null,null,null,null,null,null,null,null,null,null,null,null,null,null,{"$f":"IF(LEN(X1444)>0,VLOOKUP(X1444,'TFW Programs'!$A$2:$B$24,2,FALSE),\"\")","v":""},null,null,{"$f":"IF(LEN(A1444)>0,VLOOKUP(A1444,Subcontractors!$A$2:$B$3,2,FALSE),\"\")","v":""},null,{"$f":"IF(LEN(A1444)>0,VLOOKUP(A1444,Subcontractors!$A$2:$B$2,2,FALSE),\"\")","v":""}]
[null,null,null,null,null,null,null,null,null,null,null,null,null,null,null,null,null,null,null,null,null,{"$f":"IF(LEN(X1449)>0,VLOOKUP(X1449,'TFW Programs'!$A$2:$B$24,2,FALSE),\"\")","v":""},null,null,{"$f":"IF(LEN(A1449)>0,VLOOKUP(A1449,Subcontractors!$A$2:$B$3,2,FALSE),\"\")","v":""},null,{"$f":"IF(LEN(A1449)>0,VLOOKUP(A1449,Subcontractors!$A$2:$B$2,2,FALSE),\"\")","v":""}]
[null,null,null,null,null,null,null,null,null,null,null,null,null,null,null,null,null,null,null,null,null,{"$f":"IF(LEN(X1451)>0,VLOOKUP(X1451,'TFW Programs'!$A$2:$B$24,2,FALSE),\"\")","v":""},null,null,{"$f":"IF(LEN(A1451)>0,VLOOKUP(A1451,Subcontractors!$A$2:$B$3,2,FALSE),\"\")","v":""},null,{"$f":"IF(LEN(A1451)>0,VLOOKUP(A1451,Subcontractors!$A$2:$B$2,2,FALSE),\"\")","v":""}]
[null,null,null,null,null,null,null,null,null,null,null,null,null,null,null,null,null,null,null,null,null,{"$f":"IF(LEN(X1454)>0,VLOOKUP(X1454,'TFW Programs'!$A$2:$B$24,2,FALSE),\"\")","v":""},null,null,{"$f":"IF(LEN(A1454)>0,VLOOKUP(A1454,Subcontractors!$A$2:$B$3,2,FALSE),\"\")","v":""},null,{"$f":"IF(LEN(A1454)>0,VLOOKUP(A1454,Subcontractors!$A$2:$B$2,2,FALSE),\"\")","v":""}]
[null,null,null,null,null,null,null,null,null,null,null,null,null,null,null,null,null,null,null,null,null,{"$f":"IF(LEN(X1459)>0,VLOOKUP(X1459,'TFW Programs'!$A$2:$B$24,2,FALSE),\"\")","v":""},null,null,{"$f":"IF(LEN(A1459)>0,VLOOKUP(A1459,Subcontractors!$A$2:$B$3,2,FALSE),\"\")","v":""},null,{"$f":"IF(LEN(A1459)>0,VLOOKUP(A1459,Subcontractors!$A$2:$B$2,2,FALSE),\"\")","v":""}]
[null,null,null,null,null,null,null,null,null,null,null,null,null,null,null,null,null,null,null,null,null,{"$f":"IF(LEN(X1464)>0,VLOOKUP(X1464,'TFW Programs'!$A$2:$B$24,2,FALSE),\"\")","v":""},null,null,{"$f":"IF(LEN(A1464)>0,VLOOKUP(A1464,Subcontractors!$A$2:$B$3,2,FALSE),\"\")","v":""},null,{"$f":"IF(LEN(A1464)>0,VLOOKUP(A1464,Subcontractors!$A$2:$B$2,2,FALSE),\"\")","v":""}]
[null,null,null,null,null,null,null,null,null,null,null,null,null,null,null,null,null,null,null,null,null,{"$f":"IF(LEN(X1467)>0,VLOOKUP(X1467,'TFW Programs'!$A$2:$B$24,2,FALSE),\"\")","v":""},null,null,{"$f":"IF(LEN(A1467)>0,VLOOKUP(A1467,Subcontractors!$A$2:$B$3,2,FALSE),\"\")","v":""},null,{"$f":"IF(LEN(A1467)>0,VLOOKUP(A1467,Subcontractors!$A$2:$B$2,2,FALSE),\"\")","v":""}]
[null,null,null,null,null,null,null,null,null,null,null,null,null,null,null,null,null,null,null,null,null,{"$f":"IF(LEN(X1469)>0,VLOOKUP(X1469,'TFW Programs'!$A$2:$B$24,2,FALSE),\"\")","v":""},null,null,{"$f":"IF(LEN(A1469)>0,VLOOKUP(A1469,Subcontractors!$A$2:$B$3,2,FALSE),\"\")","v":""},null,{"$f":"IF(LEN(A1469)>0,VLOOKUP(A1469,Subcontractors!$A$2:$B$2,2,FALSE),\"\")","v":""}]
[null,null,null,null,null,null,null,null,null,null,null,null,null,null,null,null,null,null,null,null,null,{"$f":"IF(LEN(X1474)>0,VLOOKUP(X1474,'TFW Programs'!$A$2:$B$24,2,FALSE),\"\")","v":""},null,null,{"$f":"IF(LEN(A1474)>0,VLOOKUP(A1474,Subcontractors!$A$2:$B$3,2,FALSE),\"\")","v":""},null,{"$f":"IF(LEN(A1474)>0,VLOOKUP(A1474,Subcontractors!$A$2:$B$2,2,FALSE),\"\")","v":""}]
[null,null,null,null,null,null,null,null,null,null,null,null,null,null,null,null,null,null,null,null,null,{"$f":"IF(LEN(X1479)>0,VLOOKUP(X1479,'TFW Programs'!$A$2:$B$24,2,FALSE),\"\")","v":""},null,null,{"$f":"IF(LEN(A1479)>0,VLOOKUP(A1479,Subcontractors!$A$2:$B$3,2,FALSE),\"\")","v":""},null,{"$f":"IF(LEN(A1479)>0,VLOOKUP(A1479,Subcontractors!$A$2:$B$2,2,FALSE),\"\")","v":""}]
[null,null,null,null,null,null,null,null,null,null,null,null,null,null,null,null,null,null,null,null,null,{"$f":"IF(LEN(X1480)>0,VLOOKUP(X1480,'TFW Programs'!$A$2:$B$24,2,FALSE),\"\")","v":""},null,null,{"$f":"IF(LEN(A1480)>0,VLOOKUP(A1480,Subcontractors!$A$2:$B$3,2,FALSE),\"\")","v":""},null,{"$f":"IF(LEN(A1480)>0,VLOOKUP(A1480,Subcontractors!$A$2:$B$2,2,FALSE),\"\")","v":""}]
[null,null,null,null,null,null,null,null,null,null,null,null,null,null,null,null,null,null,null,null,null,{"$f":"IF(LEN(X1485)>0,VLOOKUP(X1485,'TFW Programs'!$A$2:$B$24,2,FALSE),\"\")","v":""},null,null,{"$f":"IF(LEN(A1485)>0,VLOOKUP(A1485,Subcontractors!$A$2:$B$3,2,FALSE),\"\")","v":""},null,{"$f":"IF(LEN(A1485)>0,VLOOKUP(A1485,Subcontractors!$A$2:$B$2,2,FALSE),\"\")","v":""}]
[null,null,null,null,null,null,null,null,null,null,null,null,null,null,null,null,null,null,null,null,null,{"$f":"IF(LEN(X1489)>0,VLOOKUP(X1489,'TFW Programs'!$A$2:$B$24,2,FALSE),\"\")","v":""},null,null,{"$f":"IF(LEN(A1489)>0,VLOOKUP(A1489,Subcontractors!$A$2:$B$3,2,FALSE),\"\")","v":""},null,{"$f":"IF(LEN(A1489)>0,VLOOKUP(A1489,Subcontractors!$A$2:$B$2,2,FALSE),\"\")","v":""}]
[null,null,null,null,null,null,null,null,null,null,null,null,null,null,null,null,null,null,null,null,null,{"$f":"IF(LEN(X1494)>0,VLOOKUP(X1494,'TFW Programs'!$A$2:$B$24,2,FALSE),\"\")","v":""},null,null,{"$f":"IF(LEN(A1494)>0,VLOOKUP(A1494,Subcontractors!$A$2:$B$3,2,FALSE),\"\")","v":""},null,{"$f":"IF(LEN(A1494)>0,VLOOKUP(A1494,Subcontractors!$A$2:$B$2,2,FALSE),\"\")","v":""}]
[null,null,null,null,null,null,null,null,null,null,null,null,null,null,null,null,null,null,null,null,null,{"$f":"IF(LEN(X1495)>0,VLOOKUP(X1495,'TFW Programs'!$A$2:$B$24,2,FALSE),\"\")","v":""},null,null,{"$f":"IF(LEN(A1495)>0,VLOOKUP(A1495,Subcontractors!$A$2:$B$3,2,FALSE),\"\")","v":""},null,{"$f":"IF(LEN(A1495)>0,VLOOKUP(A1495,Subcontractors!$A$2:$B$2,2,FALSE),\"\")","v":""}]
[null,null,null,null,null,null,null,null,null,null,null,null,null,null,null,null,null,null,null,null,null,{"$f":"IF(LEN(X1499)>0,VLOOKUP(X1499,'TFW Programs'!$A$2:$B$24,2,FALSE),\"\")","v":""},null,null,{"$f":"IF(LEN(A1499)>0,VLOOKUP(A1499,Subcontractors!$A$2:$B$3,2,FALSE),\"\")","v":""},null,{"$f":"IF(LEN(A1499)>0,VLOOKUP(A1499,Subcontractors!$A$2:$B$2,2,FALSE),\"\")","v":""}]
[null,null,null,null,null,null,null,null,null,null,null,null,null,null,null,null,null,null,null,null,null,{"$f":"IF(LEN(X1504)>0,VLOOKUP(X1504,'TFW Programs'!$A$2:$B$24,2,FALSE),\"\")","v":""},null,null,{"$f":"IF(LEN(A1504)>0,VLOOKUP(A1504,Subcontractors!$A$2:$B$3,2,FALSE),\"\")","v":""},null,{"$f":"IF(LEN(A1504)>0,VLOOKUP(A1504,Subcontractors!$A$2:$B$2,2,FALSE),\"\")","v":""}]
[null,null,null,null,null,null,null,null,null,null,null,null,null,null,null,null,null,null,null,null,null,{"$f":"IF(LEN(X1509)>0,VLOOKUP(X1509,'TFW Programs'!$A$2:$B$24,2,FALSE),\"\")","v":""},null,null,{"$f":"IF(LEN(A1509)>0,VLOOKUP(A1509,Subcontractors!$A$2:$B$3,2,FALSE),\"\")","v":""},null,{"$f":"IF(LEN(A1509)>0,VLOOKUP(A1509,Subcontractors!$A$2:$B$2,2,FALSE),\"\")","v":""}]
[null,null,null,null,null,null,null,null,null,null,null,null,null,null,null,null,null,null,null,null,null,{"$f":"IF(LEN(X1510)>0,VLOOKUP(X1510,'TFW Programs'!$A$2:$B$24,2,FALSE),\"\")","v":""},null,null,{"$f":"IF(LEN(A1510)>0,VLOOKUP(A1510,Subcontractors!$A$2:$B$3,2,FALSE),\"\")","v":""},null,{"$f":"IF(LEN(A1510)>0,VLOOKUP(A1510,Subcontractors!$A$2:$B$2,2,FALSE),\"\")","v":""}]
[null,null,null,null,null,null,null,null,null,null,null,null,null,null,null,null,null,null,null,null,null,{"$f":"IF(LEN(X1515)>0,VLOOKUP(X1515,'TFW Programs'!$A$2:$B$24,2,FALSE),\"\")","v":""},null,null,{"$f":"IF(LEN(A1515)>0,VLOOKUP(A1515,Subcontractors!$A$2:$B$3,2,FALSE),\"\")","v":""},null,{"$f":"IF(LEN(A1515)>0,VLOOKUP(A1515,Subcontractors!$A$2:$B$2,2,FALSE),\"\")","v":""}]
[null,null,null,null,null,null,null,null,null,null,null,null,null,null,null,null,null,null,null,null,null,{"$f":"IF(LEN(X1520)>0,VLOOKUP(X1520,'TFW Programs'!$A$2:$B$24,2,FALSE),\"\")","v":""},null,null,{"$f":"IF(LEN(A1520)>0,VLOOKUP(A1520,Subcontractors!$A$2:$B$3,2,FALSE),\"\")","v":""},null,{"$f":"IF(LEN(A1520)>0,VLOOKUP(A1520,Subcontractors!$A$2:$B$2,2,FALSE),\"\")","v":""}]
[null,null,null,null,null,null,null,null,null,null,null,null,null,null,null,null,null,null,null,null,null,{"$f":"IF(LEN(X1524)>0,VLOOKUP(X1524,'TFW Programs'!$A$2:$B$24,2,FALSE),\"\")","v":""},null,null,{"$f":"IF(LEN(A1524)>0,VLOOKUP(A1524,Subcontractors!$A$2:$B$3,2,FALSE),\"\")","v":""},null,{"$f":"IF(LEN(A1524)>0,VLOOKUP(A1524,Subcontractors!$A$2:$B$2,2,FALSE),\"\")","v":""}]
[null,null,null,null,null,null,null,null,null,null,null,null,null,null,null,null,null,null,null,null,null,{"$f":"IF(LEN(X1525)>0,VLOOKUP(X1525,'TFW Programs'!$A$2:$B$24,2,FALSE),\"\")","v":""},null,null,{"$f":"IF(LEN(A1525)>0,VLOOKUP(A1525,Subcontractors!$A$2:$B$3,2,FALSE),\"\")","v":""},null,{"$f":"IF(LEN(A1525)>0,VLOOKUP(A1525,Subcontractors!$A$2:$B$2,2,FALSE),\"\")","v":""}]
[null,null,null,null,null,null,null,null,null,null,null,null,null,null,null,null,null,null,null,null,null,{"$f":"IF(LEN(X1530)>0,VLOOKUP(X1530,'TFW Programs'!$A$2:$B$24,2,FALSE),\"\")","v":""},null,null,{"$f":"IF(LEN(A1530)>0,VLOOKUP(A1530,Subcontractors!$A$2:$B$3,2,FALSE),\"\")","v":""},null,{"$f":"IF(LEN(A1530)>0,VLOOKUP(A1530,Subcontractors!$A$2:$B$2,2,FALSE),\"\")","v":""}]
[null,null,null,null,null,null,null,null,null,null,null,null,null,null,null,null,null,null,null,null,null,{"$f":"IF(LEN(X1533)>0,VLOOKUP(X1533,'TFW Programs'!$A$2:$B$24,2,FALSE),\"\")","v":""},null,null,{"$f":"IF(LEN(A1533)>0,VLOOKUP(A1533,Subcontractors!$A$2:$B$3,2,FALSE),\"\")","v":""},null,{"$f":"IF(LEN(A1533)>0,VLOOKUP(A1533,Subcontractors!$A$2:$B$2,2,FALSE),\"\")","v":""}]
[null,null,null,null,null,null,null,null,null,null,null,null,null,null,null,null,null,null,null,null,null,{"$f":"IF(LEN(X1539)>0,VLOOKUP(X1539,'TFW Programs'!$A$2:$B$24,2,FALSE),\"\")","v":""},null,null,{"$f":"IF(LEN(A1539)>0,VLOOKUP(A1539,Subcontractors!$A$2:$B$3,2,FALSE),\"\")","v":""},null,{"$f":"IF(LEN(A1539)>0,VLOOKUP(A1539,Subcontractors!$A$2:$B$2,2,FALSE),\"\")","v":""}]
[null,null,null,null,null,null,null,null,null,null,null,null,null,null,null,null,null,null,null,null,null,{"$f":"IF(LEN(X1540)>0,VLOOKUP(X1540,'TFW Programs'!$A$2:$B$24,2,FALSE),\"\")","v":""},null,null,{"$f":"IF(LEN(A1540)>0,VLOOKUP(A1540,Subcontractors!$A$2:$B$3,2,FALSE),\"\")","v":""},null,{"$f":"IF(LEN(A1540)>0,VLOOKUP(A1540,Subcontractors!$A$2:$B$2,2,FALSE),\"\")","v":""}]
[null,null,null,null,null,null,null,null,null,null,null,null,null,null,null,null,null,null,null,null,null,{"$f":"IF(LEN(X1545)>0,VLOOKUP(X1545,'TFW Programs'!$A$2:$B$24,2,FALSE),\"\")","v":""},null,null,{"$f":"IF(LEN(A1545)>0,VLOOKUP(A1545,Subcontractors!$A$2:$B$3,2,FALSE),\"\")","v":""},null,{"$f":"IF(LEN(A1545)>0,VLOOKUP(A1545,Subcontractors!$A$2:$B$2,2,FALSE),\"\")","v":""}]
[null,null,null,null,null,null,null,null,null,null,null,null,null,null,null,null,null,null,null,null,null,{"$f":"IF(LEN(X1550)>0,VLOOKUP(X1550,'TFW Programs'!$A$2:$B$24,2,FALSE),\"\")","v":""},null,null,{"$f":"IF(LEN(A1550)>0,VLOOKUP(A1550,Subcontractors!$A$2:$B$3,2,FALSE),\"\")","v":""},null,{"$f":"IF(LEN(A1550)>0,VLOOKUP(A1550,Subcontractors!$A$2:$B$2,2,FALSE),\"\")","v":""}]
[null,null,null,null,null,null,null,null,null,null,null,null,null,null,null,null,null,null,null,null,null,{"$f":"IF(LEN(X1554)>0,VLOOKUP(X1554,'TFW Programs'!$A$2:$B$24,2,FALSE),\"\")","v":""},null,null,{"$f":"IF(LEN(A1554)>0,VLOOKUP(A1554,Subcontractors!$A$2:$B$3,2,FALSE),\"\")","v":""},null,{"$f":"IF(LEN(A1554)>0,VLOOKUP(A1554,Subcontractors!$A$2:$B$2,2,FALSE),\"\")","v":""}]
[null,null,null,null,null,null,null,null,null,null,null,null,null,null,null,null,null,null,null,null,null,{"$f":"IF(LEN(X1555)>0,VLOOKUP(X1555,'TFW Programs'!$A$2:$B$24,2,FALSE),\"\")","v":""},null,null,{"$f":"IF(LEN(A1555)>0,VLOOKUP(A1555,Subcontractors!$A$2:$B$3,2,FALSE),\"\")","v":""},null,{"$f":"IF(LEN(A1555)>0,VLOOKUP(A1555,Subcontractors!$A$2:$B$2,2,FALSE),\"\")","v":""}]
[null,null,null,null,null,null,null,null,null,null,null,null,null,null,null,null,null,null,null,null,null,{"$f":"IF(LEN(X1560)>0,VLOOKUP(X1560,'TFW Programs'!$A$2:$B$24,2,FALSE),\"\")","v":""},null,null,{"$f":"IF(LEN(A1560)>0,VLOOKUP(A1560,Subcontractors!$A$2:$B$3,2,FALSE),\"\")","v":""},null,{"$f":"IF(LEN(A1560)>0,VLOOKUP(A1560,Subcontractors!$A$2:$B$2,2,FALSE),\"\")","v":""}]
[null,null,null,null,null,null,null,null,null,null,null,null,null,null,null,null,null,null,null,null,null,{"$f":"IF(LEN(X1565)>0,VLOOKUP(X1565,'TFW Programs'!$A$2:$B$24,2,FALSE),\"\")","v":""},null,null,{"$f":"IF(LEN(A1565)>0,VLOOKUP(A1565,Subcontractors!$A$2:$B$3,2,FALSE),\"\")","v":""},null,{"$f":"IF(LEN(A1565)>0,VLOOKUP(A1565,Subcontractors!$A$2:$B$2,2,FALSE),\"\")","v":""}]
[null,null,null,null,null,null,null,null,null,null,null,null,null,null,null,null,null,null,null,null,null,{"$f":"IF(LEN(X1568)>0,VLOOKUP(X1568,'TFW Programs'!$A$2:$B$24,2,FALSE),\"\")","v":""},null,null,{"$f":"IF(LEN(A1568)>0,VLOOKUP(A1568,Subcontractors!$A$2:$B$3,2,FALSE),\"\")","v":""},null,{"$f":"IF(LEN(A1568)>0,VLOOKUP(A1568,Subcontractors!$A$2:$B$2,2,FALSE),\"\")","v":""}]
[null,null,null,null,null,null,null,null,null,null,null,null,null,null,null,null,null,null,null,null,null,{"$f":"IF(LEN(X1570)>0,VLOOKUP(X1570,'TFW Programs'!$A$2:$B$24,2,FALSE),\"\")","v":""},null,null,{"$f":"IF(LEN(A1570)>0,VLOOKUP(A1570,Subcontractors!$A$2:$B$3,2,FALSE),\"\")","v":""},null,{"$f":"IF(LEN(A1570)>0,VLOOKUP(A1570,Subcontractors!$A$2:$B$2,2,FALSE),\"\")","v":""}]
[null,null,null,null,null,null,null,null,null,null,null,null,null,null,null,null,null,null,null,null,null,{"$f":"IF(LEN(X1575)>0,VLOOKUP(X1575,'TFW Programs'!$A$2:$B$24,2,FALSE),\"\")","v":""},null,null,{"$f":"IF(LEN(A1575)>0,VLOOKUP(A1575,Subcontractors!$A$2:$B$3,2,FALSE),\"\")","v":""},null,{"$f":"IF(LEN(A1575)>0,VLOOKUP(A1575,Subcontractors!$A$2:$B$2,2,FALSE),\"\")","v":""}]
[null,null,null,null,null,null,null,null,null,null,null,null,null,null,null,null,null,null,null,null,null,{"$f":"IF(LEN(X1580)>0,VLOOKUP(X1580,'TFW Programs'!$A$2:$B$24,2,FALSE),\"\")","v":""},null,null,{"$f":"IF(LEN(A1580)>0,VLOOKUP(A1580,Subcontractors!$A$2:$B$3,2,FALSE),\"\")","v":""},null,{"$f":"IF(LEN(A1580)>0,VLOOKUP(A1580,Subcontractors!$A$2:$B$2,2,FALSE),\"\")","v":""}]
[null,null,null,null,null,null,null,null,null,null,null,null,null,null,null,null,null,null,null,null,null,{"$f":"IF(LEN(X1584)>0,VLOOKUP(X1584,'TFW Programs'!$A$2:$B$24,2,FALSE),\"\")","v":""},null,null,{"$f":"IF(LEN(A1584)>0,VLOOKUP(A1584,Subcontractors!$A$2:$B$3,2,FALSE),\"\")","v":""},null,{"$f":"IF(LEN(A1584)>0,VLOOKUP(A1584,Subcontractors!$A$2:$B$2,2,FALSE),\"\")","v":""}]
[null,null,null,null,null,null,null,null,null,null,null,null,null,null,null,null,null,null,null,null,null,{"$f":"IF(LEN(X1585)>0,VLOOKUP(X1585,'TFW Programs'!$A$2:$B$24,2,FALSE),\"\")","v":""},null,null,{"$f":"IF(LEN(A1585)>0,VLOOKUP(A1585,Subcontractors!$A$2:$B$3,2,FALSE),\"\")","v":""},null,{"$f":"IF(LEN(A1585)>0,VLOOKUP(A1585,Subcontractors!$A$2:$B$2,2,FALSE),\"\")","v":""}]
[null,null,null,null,null,null,null,null,null,null,null,null,null,null,null,null,null,null,null,null,null,{"$f":"IF(LEN(X1590)>0,VLOOKUP(X1590,'TFW Programs'!$A$2:$B$24,2,FALSE),\"\")","v":""},null,null,{"$f":"IF(LEN(A1590)>0,VLOOKUP(A1590,Subcontractors!$A$2:$B$3,2,FALSE),\"\")","v":""},null,{"$f":"IF(LEN(A1590)>0,VLOOKUP(A1590,Subcontractors!$A$2:$B$2,2,FALSE),\"\")","v":""}]
[null,null,null,null,null,null,null,null,null,null,null,null,null,null,null,null,null,null,null,null,null,{"$f":"IF(LEN(X1595)>0,VLOOKUP(X1595,'TFW Programs'!$A$2:$B$24,2,FALSE),\"\")","v":""},null,null,{"$f":"IF(LEN(A1595)>0,VLOOKUP(A1595,Subcontractors!$A$2:$B$3,2,FALSE),\"\")","v":""},null,{"$f":"IF(LEN(A1595)>0,VLOOKUP(A1595,Subcontractors!$A$2:$B$2,2,FALSE),\"\")","v":""}]
[null,null,null,null,null,null,null,null,null,null,null,null,null,null,null,null,null,null,null,null,null,{"$f":"IF(LEN(X1600)>0,VLOOKUP(X1600,'TFW Programs'!$A$2:$B$24,2,FALSE),\"\")","v":""},null,null,{"$f":"IF(LEN(A1600)>0,VLOOKUP(A1600,Subcontractors!$A$2:$B$3,2,FALSE),\"\")","v":""},null,{"$f":"IF(LEN(A1600)>0,VLOOKUP(A1600,Subcontractors!$A$2:$B$2,2,FALSE),\"\")","v":""}]
[null,null,null,null,null,null,null,null,null,null,null,null,null,null,null,null,null,null,null,null,null,{"$f":"IF(LEN(X1602)>0,VLOOKUP(X1602,'TFW Programs'!$A$2:$B$24,2,FALSE),\"\")","v":""},null,null,{"$f":"IF(LEN(A1602)>0,VLOOKUP(A1602,Subcontractors!$A$2:$B$3,2,FALSE),\"\")","v":""},null,{"$f":"IF(LEN(A1602)>0,VLOOKUP(A1602,Subcontractors!$A$2:$B$2,2,FALSE),\"\")","v":""}]
[null,null,null,null,null,null,null,null,null,null,null,null,null,null,null,null,null,null,null,null,null,{"$f":"IF(LEN(X1605)>0,VLOOKUP(X1605,'TFW Programs'!$A$2:$B$24,2,FALSE),\"\")","v":""},null,null,{"$f":"IF(LEN(A1605)>0,VLOOKUP(A1605,Subcontractors!$A$2:$B$3,2,FALSE),\"\")","v":""},null,{"$f":"IF(LEN(A1605)>0,VLOOKUP(A1605,Subcontractors!$A$2:$B$2,2,FALSE),\"\")","v":""}]
[null,null,null,null,null,null,null,null,null,null,null,null,null,null,null,null,null,null,null,null,null,{"$f":"IF(LEN(X1610)>0,VLOOKUP(X1610,'TFW Programs'!$A$2:$B$24,2,FALSE),\"\")","v":""},null,null,{"$f":"IF(LEN(A1610)>0,VLOOKUP(A1610,Subcontractors!$A$2:$B$3,2,FALSE),\"\")","v":""},null,{"$f":"IF(LEN(A1610)>0,VLOOKUP(A1610,Subcontractors!$A$2:$B$2,2,FALSE),\"\")","v":""}]
[null,null,null,null,null,null,null,null,null,null,null,null,null,null,null,null,null,null,null,null,null,{"$f":"IF(LEN(X1615)>0,VLOOKUP(X1615,'TFW Programs'!$A$2:$B$24,2,FALSE),\"\")","v":""},null,null,{"$f":"IF(LEN(A1615)>0,VLOOKUP(A1615,Subcontractors!$A$2:$B$3,2,FALSE),\"\")","v":""},null,{"$f":"IF(LEN(A1615)>0,VLOOKUP(A1615,Subcontractors!$A$2:$B$2,2,FALSE),\"\")","v":""}]
[null,null,null,null,null,null,null,null,null,null,null,null,null,null,null,null,null,null,null,null,null,{"$f":"IF(LEN(X1616)>0,VLOOKUP(X1616,'TFW Programs'!$A$2:$B$24,2,FALSE),\"\")","v":""},null,null,{"$f":"IF(LEN(A1616)>0,VLOOKUP(A1616,Subcontractors!$A$2:$B$3,2,FALSE),\"\")","v":""},null,{"$f":"IF(LEN(A1616)>0,VLOOKUP(A1616,Subcontractors!$A$2:$B$2,2,FALSE),\"\")","v":""}]
[null,null,null,null,null,null,null,null,null,null,null,null,null,null,null,null,null,null,null,null,null,{"$f":"IF(LEN(X1620)>0,VLOOKUP(X1620,'TFW Programs'!$A$2:$B$24,2,FALSE),\"\")","v":""},null,null,{"$f":"IF(LEN(A1620)>0,VLOOKUP(A1620,Subcontractors!$A$2:$B$3,2,FALSE),\"\")","v":""},null,{"$f":"IF(LEN(A1620)>0,VLOOKUP(A1620,Subcontractors!$A$2:$B$2,2,FALSE),\"\")","v":""}]
[null,null,null,null,null,null,null,null,null,null,null,null,null,null,null,null,null,null,null,null,null,{"$f":"IF(LEN(X1625)>0,VLOOKUP(X1625,'TFW Programs'!$A$2:$B$24,2,FALSE),\"\")","v":""},null,null,{"$f":"IF(LEN(A1625)>0,VLOOKUP(A1625,Subcontractors!$A$2:$B$3,2,FALSE),\"\")","v":""},null,{"$f":"IF(LEN(A1625)>0,VLOOKUP(A1625,Subcontractors!$A$2:$B$2,2,FALSE),\"\")","v":""}]
[null,null,null,null,null,null,null,null,null,null,null,null,null,null,null,null,null,null,null,null,null,{"$f":"IF(LEN(X1630)>0,VLOOKUP(X1630,'TFW Programs'!$A$2:$B$24,2,FALSE),\"\")","v":""},null,null,{"$f":"IF(LEN(A1630)>0,VLOOKUP(A1630,Subcontractors!$A$2:$B$3,2,FALSE),\"\")","v":""},null,{"$f":"IF(LEN(A1630)>0,VLOOKUP(A1630,Subcontractors!$A$2:$B$2,2,FALSE),\"\")","v":""}]
[null,null,null,null,null,null,null,null,null,null,null,null,null,null,null,null,null,null,null,null,null,{"$f":"IF(LEN(X1631)>0,VLOOKUP(X1631,'TFW Programs'!$A$2:$B$24,2,FALSE),\"\")","v":""},null,null,{"$f":"IF(LEN(A1631)>0,VLOOKUP(A1631,Subcontractors!$A$2:$B$3,2,FALSE),\"\")","v":""},null,{"$f":"IF(LEN(A1631)>0,VLOOKUP(A1631,Subcontractors!$A$2:$B$2,2,FALSE),\"\")","v":""}]
[null,null,null,null,null,null,null,null,null,null,null,null,null,null,null,null,null,null,null,null,null,{"$f":"IF(LEN(X1637)>0,VLOOKUP(X1637,'TFW Programs'!$A$2:$B$24,2,FALSE),\"\")","v":""},null,null,{"$f":"IF(LEN(A1637)>0,VLOOKUP(A1637,Subcontractors!$A$2:$B$3,2,FALSE),\"\")","v":""},null,{"$f":"IF(LEN(A1637)>0,VLOOKUP(A1637,Subcontractors!$A$2:$B$2,2,FALSE),\"\")","v":""}]
[null,null,null,null,null,null,null,null,null,null,null,null,null,null,null,null,null,null,null,null,null,{"$f":"IF(LEN(X1640)>0,VLOOKUP(X1640,'TFW Programs'!$A$2:$B$24,2,FALSE),\"\")","v":""},null,null,{"$f":"IF(LEN(A1640)>0,VLOOKUP(A1640,Subcontractors!$A$2:$B$3,2,FALSE),\"\")","v":""},null,{"$f":"IF(LEN(A1640)>0,VLOOKUP(A1640,Subcontractors!$A$2:$B$2,2,FALSE),\"\")","v":""}]
[null,null,null,null,null,null,null,null,null,null,null,null,null,null,null,null,null,null,null,null,null,{"$f":"IF(LEN(X1645)>0,VLOOKUP(X1645,'TFW Programs'!$A$2:$B$24,2,FALSE),\"\")","v":""},null,null,{"$f":"IF(LEN(A1645)>0,VLOOKUP(A1645,Subcontractors!$A$2:$B$3,2,FALSE),\"\")","v":""},null,{"$f":"IF(LEN(A1645)>0,VLOOKUP(A1645,Subcontractors!$A$2:$B$2,2,FALSE),\"\")","v":""}]
[null,null,null,null,null,null,null,null,null,null,null,null,null,null,null,null,null,null,null,null,null,{"$f":"IF(LEN(X1646)>0,VLOOKUP(X1646,'TFW Programs'!$A$2:$B$24,2,FALSE),\"\")","v":""},null,null,{"$f":"IF(LEN(A1646)>0,VLOOKUP(A1646,Subcontractors!$A$2:$B$3,2,FALSE),\"\")","v":""},null,{"$f":"IF(LEN(A1646)>0,VLOOKUP(A1646,Subcontractors!$A$2:$B$2,2,FALSE),\"\")","v":""}]
[null,null,null,null,null,null,null,null,null,null,null,null,null,null,null,null,null,null,null,null,null,{"$f":"IF(LEN(X1650)>0,VLOOKUP(X1650,'TFW Programs'!$A$2:$B$24,2,FALSE),\"\")","v":""},null,null,{"$f":"IF(LEN(A1650)>0,VLOOKUP(A1650,Subcontractors!$A$2:$B$3,2,FALSE),\"\")","v":""},null,{"$f":"IF(LEN(A1650)>0,VLOOKUP(A1650,Subcontractors!$A$2:$B$2,2,FALSE),\"\")","v":""}]
[null,null,null,null,null,null,null,null,null,null,null,null,null,null,null,null,null,null,null,null,null,{"$f":"IF(LEN(X1655)>0,VLOOKUP(X1655,'TFW Programs'!$A$2:$B$24,2,FALSE),\"\")","v":""},null,null,{"$f":"IF(LEN(A1655)>0,VLOOKUP(A1655,Subcontractors!$A$2:$B$3,2,FALSE),\"\")","v":""},null,{"$f":"IF(LEN(A1655)>0,VLOOKUP(A1655,Subcontractors!$A$2:$B$2,2,FALSE),\"\")","v":""}]
[null,null,null,null,null,null,null,null,null,null,null,null,null,null,null,null,null,null,null,null,null,{"$f":"IF(LEN(X1660)>0,VLOOKUP(X1660,'TFW Programs'!$A$2:$B$24,2,FALSE),\"\")","v":""},null,null,{"$f":"IF(LEN(A1660)>0,VLOOKUP(A1660,Subcontractors!$A$2:$B$3,2,FALSE),\"\")","v":""},null,{"$f":"IF(LEN(A1660)>0,VLOOKUP(A1660,Subcontractors!$A$2:$B$2,2,FALSE),\"\")","v":""}]
[null,null,null,null,null,null,null,null,null,null,null,null,null,null,null,null,null,null,null,null,null,{"$f":"IF(LEN(X1661)>0,VLOOKUP(X1661,'TFW Programs'!$A$2:$B$24,2,FALSE),\"\")","v":""},null,null,{"$f":"IF(LEN(A1661)>0,VLOOKUP(A1661,Subcontractors!$A$2:$B$3,2,FALSE),\"\")","v":""},null,{"$f":"IF(LEN(A1661)>0,VLOOKUP(A1661,Subcontractors!$A$2:$B$2,2,FALSE),\"\")","v":""}]
[null,null,null,null,null,null,null,null,null,null,null,null,null,null,null,null,null,null,null,null,null,{"$f":"IF(LEN(X1667)>0,VLOOKUP(X1667,'TFW Programs'!$A$2:$B$24,2,FALSE),\"\")","v":""},null,null,{"$f":"IF(LEN(A1667)>0,VLOOKUP(A1667,Subcontractors!$A$2:$B$3,2,FALSE),\"\")","v":""},null,{"$f":"IF(LEN(A1667)>0,VLOOKUP(A1667,Subcontractors!$A$2:$B$2,2,FALSE),\"\")","v":""}]
[null,null,null,null,null,null,null,null,null,null,null,null,null,null,null,null,null,null,null,null,null,{"$f":"IF(LEN(X1670)>0,VLOOKUP(X1670,'TFW Programs'!$A$2:$B$24,2,FALSE),\"\")","v":""},null,null,{"$f":"IF(LEN(A1670)>0,VLOOKUP(A1670,Subcontractors!$A$2:$B$3,2,FALSE),\"\")","v":""},null,{"$f":"IF(LEN(A1670)>0,VLOOKUP(A1670,Subcontractors!$A$2:$B$2,2,FALSE),\"\")","v":""}]
[null,null,null,null,null,null,null,null,null,null,null,null,null,null,null,null,null,null,null,null,null,{"$f":"IF(LEN(X1675)>0,VLOOKUP(X1675,'TFW Programs'!$A$2:$B$24,2,FALSE),\"\")","v":""},null,null,{"$f":"IF(LEN(A1675)>0,VLOOKUP(A1675,Subcontractors!$A$2:$B$3,2,FALSE),\"\")","v":""},null,{"$f":"IF(LEN(A1675)>0,VLOOKUP(A1675,Subcontractors!$A$2:$B$2,2,FALSE),\"\")","v":""}]
[null,null,null,null,null,null,null,null,null,null,null,null,null,null,null,null,null,null,null,null,null,{"$f":"IF(LEN(X1676)>0,VLOOKUP(X1676,'TFW Programs'!$A$2:$B$24,2,FALSE),\"\")","v":""},null,null,{"$f":"IF(LEN(A1676)>0,VLOOKUP(A1676,Subcontractors!$A$2:$B$3,2,FALSE),\"\")","v":""},null,{"$f":"IF(LEN(A1676)>0,VLOOKUP(A1676,Subcontractors!$A$2:$B$2,2,FALSE),\"\")","v":""}]
[null,null,null,null,null,null,null,null,null,null,null,null,null,null,null,null,null,null,null,null,null,{"$f":"IF(LEN(X1681)>0,VLOOKUP(X1681,'TFW Programs'!$A$2:$B$24,2,FALSE),\"\")","v":""},null,null,{"$f":"IF(LEN(A1681)>0,VLOOKUP(A1681,Subcontractors!$A$2:$B$3,2,FALSE),\"\")","v":""},null,{"$f":"IF(LEN(A1681)>0,VLOOKUP(A1681,Subcontractors!$A$2:$B$2,2,FALSE),\"\")","v":""}]
[null,null,null,null,null,null,null,null,null,null,null,null,null,null,null,null,null,null,null,null,null,{"$f":"IF(LEN(X1685)>0,VLOOKUP(X1685,'TFW Programs'!$A$2:$B$24,2,FALSE),\"\")","v":""},null,null,{"$f":"IF(LEN(A1685)>0,VLOOKUP(A1685,Subcontractors!$A$2:$B$3,2,FALSE),\"\")","v":""},null,{"$f":"IF(LEN(A1685)>0,VLOOKUP(A1685,Subcontractors!$A$2:$B$2,2,FALSE),\"\")","v":""}]
[null,null,null,null,null,null,null,null,null,null,null,null,null,null,null,null,null,null,null,null,null,{"$f":"IF(LEN(X1690)>0,VLOOKUP(X1690,'TFW Programs'!$A$2:$B$24,2,FALSE),\"\")","v":""},null,null,{"$f":"IF(LEN(A1690)>0,VLOOKUP(A1690,Subcontractors!$A$2:$B$3,2,FALSE),\"\")","v":""},null,{"$f":"IF(LEN(A1690)>0,VLOOKUP(A1690,Subcontractors!$A$2:$B$2,2,FALSE),\"\")","v":""}]
[null,null,null,null,null,null,null,null,null,null,null,null,null,null,null,null,null,null,null,null,null,{"$f":"IF(LEN(X1691)>0,VLOOKUP(X1691,'TFW Programs'!$A$2:$B$24,2,FALSE),\"\")","v":""},null,null,{"$f":"IF(LEN(A1691)>0,VLOOKUP(A1691,Subcontractors!$A$2:$B$3,2,FALSE),\"\")","v":""},null,{"$f":"IF(LEN(A1691)>0,VLOOKUP(A1691,Subcontractors!$A$2:$B$2,2,FALSE),\"\")","v":""}]
[null,null,null,null,null,null,null,null,null,null,null,null,null,null,null,null,null,null,null,null,null,{"$f":"IF(LEN(X1696)>0,VLOOKUP(X1696,'TFW Programs'!$A$2:$B$24,2,FALSE),\"\")","v":""},null,null,{"$f":"IF(LEN(A1696)>0,VLOOKUP(A1696,Subcontractors!$A$2:$B$3,2,FALSE),\"\")","v":""},null,{"$f":"IF(LEN(A1696)>0,VLOOKUP(A1696,Subcontractors!$A$2:$B$2,2,FALSE),\"\")","v":""}]
[null,null,null,null,null,null,null,null,null,null,null,null,null,null,null,null,null,null,null,null,null,{"$f":"IF(LEN(X1701)>0,VLOOKUP(X1701,'TFW Programs'!$A$2:$B$24,2,FALSE),\"\")","v":""},null,null,{"$f":"IF(LEN(A1701)>0,VLOOKUP(A1701,Subcontractors!$A$2:$B$3,2,FALSE),\"\")","v":""},null,{"$f":"IF(LEN(A1701)>0,VLOOKUP(A1701,Subcontractors!$A$2:$B$2,2,FALSE),\"\")","v":""}]
[null,null,null,null,null,null,null,null,null,null,null,null,null,null,null,null,null,null,null,null,null,{"$f":"IF(LEN(X1705)>0,VLOOKUP(X1705,'TFW Programs'!$A$2:$B$24,2,FALSE),\"\")","v":""},null,null,{"$f":"IF(LEN(A1705)>0,VLOOKUP(A1705,Subcontractors!$A$2:$B$3,2,FALSE),\"\")","v":""},null,{"$f":"IF(LEN(A1705)>0,VLOOKUP(A1705,Subcontractors!$A$2:$B$2,2,FALSE),\"\")","v":""}]
[null,null,null,null,null,null,null,null,null,null,null,null,null,null,null,null,null,null,null,null,null,{"$f":"IF(LEN(X1706)>0,VLOOKUP(X1706,'TFW Programs'!$A$2:$B$24,2,FALSE),\"\")","v":""},null,null,{"$f":"IF(LEN(A1706)>0,VLOOKUP(A1706,Subcontractors!$A$2:$B$3,2,FALSE),\"\")","v":""},null,{"$f":"IF(LEN(A1706)>0,VLOOKUP(A1706,Subcontractors!$A$2:$B$2,2,FALSE),\"\")","v":""}]
[null,null,null,null,null,null,null,null,null,null,null,null,null,null,null,null,null,null,null,null,null,{"$f":"IF(LEN(X1711)>0,VLOOKUP(X1711,'TFW Programs'!$A$2:$B$24,2,FALSE),\"\")","v":""},null,null,{"$f":"IF(LEN(A1711)>0,VLOOKUP(A1711,Subcontractors!$A$2:$B$3,2,FALSE),\"\")","v":""},null,{"$f":"IF(LEN(A1711)>0,VLOOKUP(A1711,Subcontractors!$A$2:$B$2,2,FALSE),\"\")","v":""}]
[null,null,null,null,null,null,null,null,null,null,null,null,null,null,null,null,null,null,null,null,null,{"$f":"IF(LEN(X1716)>0,VLOOKUP(X1716,'TFW Programs'!$A$2:$B$24,2,FALSE),\"\")","v":""},null,null,{"$f":"IF(LEN(A1716)>0,VLOOKUP(A1716,Subcontractors!$A$2:$B$3,2,FALSE),\"\")","v":""},null,{"$f":"IF(LEN(A1716)>0,VLOOKUP(A1716,Subcontractors!$A$2:$B$2,2,FALSE),\"\")","v":""}]
[null,null,null,null,null,null,null,null,null,null,null,null,null,null,null,null,null,null,null,null,null,{"$f":"IF(LEN(X1719)>0,VLOOKUP(X1719,'TFW Programs'!$A$2:$B$24,2,FALSE),\"\")","v":""},null,null,{"$f":"IF(LEN(A1719)>0,VLOOKUP(A1719,Subcontractors!$A$2:$B$3,2,FALSE),\"\")","v":""},null,{"$f":"IF(LEN(A1719)>0,VLOOKUP(A1719,Subcontractors!$A$2:$B$2,2,FALSE),\"\")","v":""}]
[null,null,null,null,null,null,null,null,null,null,null,null,null,null,null,null,null,null,null,null,null,{"$f":"IF(LEN(X1721)>0,VLOOKUP(X1721,'TFW Programs'!$A$2:$B$24,2,FALSE),\"\")","v":""},null,null,{"$f":"IF(LEN(A1721)>0,VLOOKUP(A1721,Subcontractors!$A$2:$B$3,2,FALSE),\"\")","v":""},null,{"$f":"IF(LEN(A1721)>0,VLOOKUP(A1721,Subcontractors!$A$2:$B$2,2,FALSE),\"\")","v":""}]
[null,null,null,null,null,null,null,null,null,null,null,null,null,null,null,null,null,null,null,null,null,{"$f":"IF(LEN(X1726)>0,VLOOKUP(X1726,'TFW Programs'!$A$2:$B$24,2,FALSE),\"\")","v":""},null,null,{"$f":"IF(LEN(A1726)>0,VLOOKUP(A1726,Subcontractors!$A$2:$B$3,2,FALSE),\"\")","v":""},null,{"$f":"IF(LEN(A1726)>0,VLOOKUP(A1726,Subcontractors!$A$2:$B$2,2,FALSE),\"\")","v":""}]
[null,null,null,null,null,null,null,null,null,null,null,null,null,null,null,null,null,null,null,null,null,{"$f":"IF(LEN(X1731)>0,VLOOKUP(X1731,'TFW Programs'!$A$2:$B$24,2,FALSE),\"\")","v":""},null,null,{"$f":"IF(LEN(A1731)>0,VLOOKUP(A1731,Subcontractors!$A$2:$B$3,2,FALSE),\"\")","v":""},null,{"$f":"IF(LEN(A1731)>0,VLOOKUP(A1731,Subcontractors!$A$2:$B$2,2,FALSE),\"\")","v":""}]
[null,null,null,null,null,null,null,null,null,null,null,null,null,null,null,null,null,null,null,null,null,{"$f":"IF(LEN(X1733)>0,VLOOKUP(X1733,'TFW Programs'!$A$2:$B$24,2,FALSE),\"\")","v":""},null,null,{"$f":"IF(LEN(A1733)>0,VLOOKUP(A1733,Subcontractors!$A$2:$B$3,2,FALSE),\"\")","v":""},null,{"$f":"IF(LEN(A1733)>0,VLOOKUP(A1733,Subcontractors!$A$2:$B$2,2,FALSE),\"\")","v":""}]
[null,null,null,null,null,null,null,null,null,null,null,null,null,null,null,null,null,null,null,null,null,{"$f":"IF(LEN(X1736)>0,VLOOKUP(X1736,'TFW Programs'!$A$2:$B$24,2,FALSE),\"\")","v":""},null,null,{"$f":"IF(LEN(A1736)>0,VLOOKUP(A1736,Subcontractors!$A$2:$B$3,2,FALSE),\"\")","v":""},null,{"$f":"IF(LEN(A1736)>0,VLOOKUP(A1736,Subcontractors!$A$2:$B$2,2,FALSE),\"\")","v":""}]
[null,null,null,null,null,null,null,null,null,null,null,null,null,null,null,null,null,null,null,null,null,{"$f":"IF(LEN(X1741)>0,VLOOKUP(X1741,'TFW Programs'!$A$2:$B$24,2,FALSE),\"\")","v":""},null,null,{"$f":"IF(LEN(A1741)>0,VLOOKUP(A1741,Subcontractors!$A$2:$B$3,2,FALSE),\"\")","v":""},null,{"$f":"IF(LEN(A1741)>0,VLOOKUP(A1741,Subcontractors!$A$2:$B$2,2,FALSE),\"\")","v":""}]
[null,null,null,null,null,null,null,null,null,null,null,null,null,null,null,null,null,null,null,null,null,{"$f":"IF(LEN(X1746)>0,VLOOKUP(X1746,'TFW Programs'!$A$2:$B$24,2,FALSE),\"\")","v":""},null,null,{"$f":"IF(LEN(A1746)>0,VLOOKUP(A1746,Subcontractors!$A$2:$B$3,2,FALSE),\"\")","v":""},null,{"$f":"IF(LEN(A1746)>0,VLOOKUP(A1746,Subcontractors!$A$2:$B$2,2,FALSE),\"\")","v":""}]
[null,null,null,null,null,null,null,null,null,null,null,null,null,null,null,null,null,null,null,null,null,{"$f":"IF(LEN(X1751)>0,VLOOKUP(X1751,'TFW Programs'!$A$2:$B$24,2,FALSE),\"\")","v":""},null,null,{"$f":"IF(LEN(A1751)>0,VLOOKUP(A1751,Subcontractors!$A$2:$B$3,2,FALSE),\"\")","v":""},null,{"$f":"IF(LEN(A1751)>0,VLOOKUP(A1751,Subcontractors!$A$2:$B$2,2,FALSE),\"\")","v":""}]
[null,null,null,null,null,null,null,null,null,null,null,null,null,null,null,null,null,null,null,null,null,{"$f":"IF(LEN(X1754)>0,VLOOKUP(X1754,'TFW Programs'!$A$2:$B$24,2,FALSE),\"\")","v":""},null,null,{"$f":"IF(LEN(A1754)>0,VLOOKUP(A1754,Subcontractors!$A$2:$B$3,2,FALSE),\"\")","v":""},null,{"$f":"IF(LEN(A1754)>0,VLOOKUP(A1754,Subcontractors!$A$2:$B$2,2,FALSE),\"\")","v":""}]
[null,null,null,null,null,null,null,null,null,null,null,null,null,null,null,null,null,null,null,null,null,{"$f":"IF(LEN(X1756)>0,VLOOKUP(X1756,'TFW Programs'!$A$2:$B$24,2,FALSE),\"\")","v":""},null,null,{"$f":"IF(LEN(A1756)>0,VLOOKUP(A1756,Subcontractors!$A$2:$B$3,2,FALSE),\"\")","v":""},null,{"$f":"IF(LEN(A1756)>0,VLOOKUP(A1756,Subcontractors!$A$2:$B$2,2,FALSE),\"\")","v":""}]
[null,null,null,null,null,null,null,null,null,null,null,null,null,null,null,null,null,null,null,null,null,{"$f":"IF(LEN(X1761)>0,VLOOKUP(X1761,'TFW Programs'!$A$2:$B$24,2,FALSE),\"\")","v":""},null,null,{"$f":"IF(LEN(A1761)>0,VLOOKUP(A1761,Subcontractors!$A$2:$B$3,2,FALSE),\"\")","v":""},null,{"$f":"IF(LEN(A1761)>0,VLOOKUP(A1761,Subcontractors!$A$2:$B$2,2,FALSE),\"\")","v":""}]
[null,null,null,null,null,null,null,null,null,null,null,null,null,null,null,null,null,null,null,null,null,{"$f":"IF(LEN(X1766)>0,VLOOKUP(X1766,'TFW Programs'!$A$2:$B$24,2,FALSE),\"\")","v":""},null,null,{"$f":"IF(LEN(A1766)>0,VLOOKUP(A1766,Subcontractors!$A$2:$B$3,2,FALSE),\"\")","v":""},null,{"$f":"IF(LEN(A1766)>0,VLOOKUP(A1766,Subcontractors!$A$2:$B$2,2,FALSE),\"\")","v":""}]
[null,null,null,null,null,null,null,null,null,null,null,null,null,null,null,null,null,null,null,null,null,{"$f":"IF(LEN(X1767)>0,VLOOKUP(X1767,'TFW Programs'!$A$2:$B$24,2,FALSE),\"\")","v":""},null,null,{"$f":"IF(LEN(A1767)>0,VLOOKUP(A1767,Subcontractors!$A$2:$B$3,2,FALSE),\"\")","v":""},null,{"$f":"IF(LEN(A1767)>0,VLOOKUP(A1767,Subcontractors!$A$2:$B$2,2,FALSE),\"\")","v":""}]
[null,null,null,null,null,null,null,null,null,null,null,null,null,null,null,null,null,null,null,null,null,{"$f":"IF(LEN(X1771)>0,VLOOKUP(X1771,'TFW Programs'!$A$2:$B$24,2,FALSE),\"\")","v":""},null,null,{"$f":"IF(LEN(A1771)>0,VLOOKUP(A1771,Subcontractors!$A$2:$B$3,2,FALSE),\"\")","v":""},null,{"$f":"IF(LEN(A1771)>0,VLOOKUP(A1771,Subcontractors!$A$2:$B$2,2,FALSE),\"\")","v":""}]
[null,null,null,null,null,null,null,null,null,null,null,null,null,null,null,null,null,null,null,null,null,{"$f":"IF(LEN(X1776)>0,VLOOKUP(X1776,'TFW Programs'!$A$2:$B$24,2,FALSE),\"\")","v":""},null,null,{"$f":"IF(LEN(A1776)>0,VLOOKUP(A1776,Subcontractors!$A$2:$B$3,2,FALSE),\"\")","v":""},null,{"$f":"IF(LEN(A1776)>0,VLOOKUP(A1776,Subcontractors!$A$2:$B$2,2,FALSE),\"\")","v":""}]
[null,null,null,null,null,null,null,null,null,null,null,null,null,null,null,null,null,null,null,null,null,{"$f":"IF(LEN(X1781)>0,VLOOKUP(X1781,'TFW Programs'!$A$2:$B$24,2,FALSE),\"\")","v":""},null,null,{"$f":"IF(LEN(A1781)>0,VLOOKUP(A1781,Subcontractors!$A$2:$B$3,2,FALSE),\"\")","v":""},null,{"$f":"IF(LEN(A1781)>0,VLOOKUP(A1781,Subcontractors!$A$2:$B$2,2,FALSE),\"\")","v":""}]
[null,null,null,null,null,null,null,null,null,null,null,null,null,null,null,null,null,null,null,null,null,{"$f":"IF(LEN(X1784)>0,VLOOKUP(X1784,'TFW Programs'!$A$2:$B$24,2,FALSE),\"\")","v":""},null,null,{"$f":"IF(LEN(A1784)>0,VLOOKUP(A1784,Subcontractors!$A$2:$B$3,2,FALSE),\"\")","v":""},null,{"$f":"IF(LEN(A1784)>0,VLOOKUP(A1784,Subcontractors!$A$2:$B$2,2,FALSE),\"\")","v":""}]
[null,null,null,null,null,null,null,null,null,null,null,null,null,null,null,null,null,null,null,null,null,{"$f":"IF(LEN(X1786)>0,VLOOKUP(X1786,'TFW Programs'!$A$2:$B$24,2,FALSE),\"\")","v":""},null,null,{"$f":"IF(LEN(A1786)>0,VLOOKUP(A1786,Subcontractors!$A$2:$B$3,2,FALSE),\"\")","v":""},null,{"$f":"IF(LEN(A1786)>0,VLOOKUP(A1786,Subcontractors!$A$2:$B$2,2,FALSE),\"\")","v":""}]
[null,null,null,null,null,null,null,null,null,null,null,null,null,null,null,null,null,null,null,null,null,{"$f":"IF(LEN(X1791)>0,VLOOKUP(X1791,'TFW Programs'!$A$2:$B$24,2,FALSE),\"\")","v":""},null,null,{"$f":"IF(LEN(A1791)>0,VLOOKUP(A1791,Subcontractors!$A$2:$B$3,2,FALSE),\"\")","v":""},null,{"$f":"IF(LEN(A1791)>0,VLOOKUP(A1791,Subcontractors!$A$2:$B$2,2,FALSE),\"\")","v":""}]
[null,null,null,null,null,null,null,null,null,null,null,null,null,null,null,null,null,null,null,null,null,{"$f":"IF(LEN(X1796)>0,VLOOKUP(X1796,'TFW Programs'!$A$2:$B$24,2,FALSE),\"\")","v":""},null,null,{"$f":"IF(LEN(A1796)>0,VLOOKUP(A1796,Subcontractors!$A$2:$B$3,2,FALSE),\"\")","v":""},null,{"$f":"IF(LEN(A1796)>0,VLOOKUP(A1796,Subcontractors!$A$2:$B$2,2,FALSE),\"\")","v":""}]
[null,null,null,null,null,null,null,null,null,null,null,null,null,null,null,null,null,null,null,null,null,{"$f":"IF(LEN(X1797)>0,VLOOKUP(X1797,'TFW Programs'!$A$2:$B$24,2,FALSE),\"\")","v":""},null,null,{"$f":"IF(LEN(A1797)>0,VLOOKUP(A1797,Subcontractors!$A$2:$B$3,2,FALSE),\"\")","v":""},null,{"$f":"IF(LEN(A1797)>0,VLOOKUP(A1797,Subcontractors!$A$2:$B$2,2,FALSE),\"\")","v":""}]
[null,null,null,null,null,null,null,null,null,null,null,null,null,null,null,null,null,null,null,null,null,{"$f":"IF(LEN(X1801)>0,VLOOKUP(X1801,'TFW Programs'!$A$2:$B$24,2,FALSE),\"\")","v":""},null,null,{"$f":"IF(LEN(A1801)>0,VLOOKUP(A1801,Subcontractors!$A$2:$B$3,2,FALSE),\"\")","v":""},null,{"$f":"IF(LEN(A1801)>0,VLOOKUP(A1801,Subcontractors!$A$2:$B$2,2,FALSE),\"\")","v":""}]
[null,null,null,null,null,null,null,null,null,null,null,null,null,null,null,null,null,null,null,null,null,{"$f":"IF(LEN(X1806)>0,VLOOKUP(X1806,'TFW Programs'!$A$2:$B$24,2,FALSE),\"\")","v":""},null,null,{"$f":"IF(LEN(A1806)>0,VLOOKUP(A1806,Subcontractors!$A$2:$B$3,2,FALSE),\"\")","v":""},null,{"$f":"IF(LEN(A1806)>0,VLOOKUP(A1806,Subcontractors!$A$2:$B$2,2,FALSE),\"\")","v":""}]
[null,null,null,null,null,null,null,null,null,null,null,null,null,null,null,null,null,null,null,null,null,{"$f":"IF(LEN(X1811)>0,VLOOKUP(X1811,'TFW Programs'!$A$2:$B$24,2,FALSE),\"\")","v":""},null,null,{"$f":"IF(LEN(A1811)>0,VLOOKUP(A1811,Subcontractors!$A$2:$B$3,2,FALSE),\"\")","v":""},null,{"$f":"IF(LEN(A1811)>0,VLOOKUP(A1811,Subcontractors!$A$2:$B$2,2,FALSE),\"\")","v":""}]
[null,null,null,null,null,null,null,null,null,null,null,null,null,null,null,null,null,null,null,null,null,{"$f":"IF(LEN(X1812)>0,VLOOKUP(X1812,'TFW Programs'!$A$2:$B$24,2,FALSE),\"\")","v":""},null,null,{"$f":"IF(LEN(A1812)>0,VLOOKUP(A1812,Subcontractors!$A$2:$B$3,2,FALSE),\"\")","v":""},null,{"$f":"IF(LEN(A1812)>0,VLOOKUP(A1812,Subcontractors!$A$2:$B$2,2,FALSE),\"\")","v":""}]
[null,null,null,null,null,null,null,null,null,null,null,null,null,null,null,null,null,null,null,null,null,{"$f":"IF(LEN(X1818)>0,VLOOKUP(X1818,'TFW Programs'!$A$2:$B$24,2,FALSE),\"\")","v":""},null,null,{"$f":"IF(LEN(A1818)>0,VLOOKUP(A1818,Subcontractors!$A$2:$B$3,2,FALSE),\"\")","v":""},null,{"$f":"IF(LEN(A1818)>0,VLOOKUP(A1818,Subcontractors!$A$2:$B$2,2,FALSE),\"\")","v":""}]
[null,null,null,null,null,null,null,null,null,null,null,null,null,null,null,null,null,null,null,null,null,{"$f":"IF(LEN(X1821)>0,VLOOKUP(X1821,'TFW Programs'!$A$2:$B$24,2,FALSE),\"\")","v":""},null,null,{"$f":"IF(LEN(A1821)>0,VLOOKUP(A1821,Subcontractors!$A$2:$B$3,2,FALSE),\"\")","v":""},null,{"$f":"IF(LEN(A1821)>0,VLOOKUP(A1821,Subcontractors!$A$2:$B$2,2,FALSE),\"\")","v":""}]
[null,null,null,null,null,null,null,null,null,null,null,null,null,null,null,null,null,null,null,null,null,{"$f":"IF(LEN(X1826)>0,VLOOKUP(X1826,'TFW Programs'!$A$2:$B$24,2,FALSE),\"\")","v":""},null,null,{"$f":"IF(LEN(A1826)>0,VLOOKUP(A1826,Subcontractors!$A$2:$B$3,2,FALSE),\"\")","v":""},null,{"$f":"IF(LEN(A1826)>0,VLOOKUP(A1826,Subcontractors!$A$2:$B$2,2,FALSE),\"\")","v":""}]
[null,null,null,null,null,null,null,null,null,null,null,null,null,null,null,null,null,null,null,null,null,{"$f":"IF(LEN(X1827)>0,VLOOKUP(X1827,'TFW Programs'!$A$2:$B$24,2,FALSE),\"\")","v":""},null,null,{"$f":"IF(LEN(A1827)>0,VLOOKUP(A1827,Subcontractors!$A$2:$B$3,2,FALSE),\"\")","v":""},null,{"$f":"IF(LEN(A1827)>0,VLOOKUP(A1827,Subcontractors!$A$2:$B$2,2,FALSE),\"\")","v":""}]
[null,null,null,null,null,null,null,null,null,null,null,null,null,null,null,null,null,null,null,null,null,{"$f":"IF(LEN(X1832)>0,VLOOKUP(X1832,'TFW Programs'!$A$2:$B$24,2,FALSE),\"\")","v":""},null,null,{"$f":"IF(LEN(A1832)>0,VLOOKUP(A1832,Subcontractors!$A$2:$B$3,2,FALSE),\"\")","v":""},null,{"$f":"IF(LEN(A1832)>0,VLOOKUP(A1832,Subcontractors!$A$2:$B$2,2,FALSE),\"\")","v":""}]
[null,null,null,null,null,null,null,null,null,null,null,null,null,null,null,null,null,null,null,null,null,{"$f":"IF(LEN(X1836)>0,VLOOKUP(X1836,'TFW Programs'!$A$2:$B$24,2,FALSE),\"\")","v":""},null,null,{"$f":"IF(LEN(A1836)>0,VLOOKUP(A1836,Subcontractors!$A$2:$B$3,2,FALSE),\"\")","v":""},null,{"$f":"IF(LEN(A1836)>0,VLOOKUP(A1836,Subcontractors!$A$2:$B$2,2,FALSE),\"\")","v":""}]
[null,null,null,null,null,null,null,null,null,null,null,null,null,null,null,null,null,null,null,null,null,{"$f":"IF(LEN(X1841)>0,VLOOKUP(X1841,'TFW Programs'!$A$2:$B$24,2,FALSE),\"\")","v":""},null,null,{"$f":"IF(LEN(A1841)>0,VLOOKUP(A1841,Subcontractors!$A$2:$B$3,2,FALSE),\"\")","v":""},null,{"$f":"IF(LEN(A1841)>0,VLOOKUP(A1841,Subcontractors!$A$2:$B$2,2,FALSE),\"\")","v":""}]
[null,null,null,null,null,null,null,null,null,null,null,null,null,null,null,null,null,null,null,null,null,{"$f":"IF(LEN(X1842)>0,VLOOKUP(X1842,'TFW Programs'!$A$2:$B$24,2,FALSE),\"\")","v":""},null,null,{"$f":"IF(LEN(A1842)>0,VLOOKUP(A1842,Subcontractors!$A$2:$B$3,2,FALSE),\"\")","v":""},null,{"$f":"IF(LEN(A1842)>0,VLOOKUP(A1842,Subcontractors!$A$2:$B$2,2,FALSE),\"\")","v":""}]
[null,null,null,null,null,null,null,null,null,null,null,null,null,null,null,null,null,null,null,null,null,{"$f":"IF(LEN(X1847)>0,VLOOKUP(X1847,'TFW Programs'!$A$2:$B$24,2,FALSE),\"\")","v":""},null,null,{"$f":"IF(LEN(A1847)>0,VLOOKUP(A1847,Subcontractors!$A$2:$B$3,2,FALSE),\"\")","v":""},null,{"$f":"IF(LEN(A1847)>0,VLOOKUP(A1847,Subcontractors!$A$2:$B$2,2,FALSE),\"\")","v":""}]
[null,null,null,null,null,null,null,null,null,null,null,null,null,null,null,null,null,null,null,null,null,{"$f":"IF(LEN(X1852)>0,VLOOKUP(X1852,'TFW Programs'!$A$2:$B$24,2,FALSE),\"\")","v":""},null,null,{"$f":"IF(LEN(A1852)>0,VLOOKUP(A1852,Subcontractors!$A$2:$B$3,2,FALSE),\"\")","v":""},null,{"$f":"IF(LEN(A1852)>0,VLOOKUP(A1852,Subcontractors!$A$2:$B$2,2,FALSE),\"\")","v":""}]
[null,null,null,null,null,null,null,null,null,null,null,null,null,null,null,null,null,null,null,null,null,{"$f":"IF(LEN(X1856)>0,VLOOKUP(X1856,'TFW Programs'!$A$2:$B$24,2,FALSE),\"\")","v":""},null,null,{"$f":"IF(LEN(A1856)>0,VLOOKUP(A1856,Subcontractors!$A$2:$B$3,2,FALSE),\"\")","v":""},null,{"$f":"IF(LEN(A1856)>0,VLOOKUP(A1856,Subcontractors!$A$2:$B$2,2,FALSE),\"\")","v":""}]
[null,null,null,null,null,null,null,null,null,null,null,null,null,null,null,null,null,null,null,null,null,{"$f":"IF(LEN(X1857)>0,VLOOKUP(X1857,'TFW Programs'!$A$2:$B$24,2,FALSE),\"\")","v":""},null,null,{"$f":"IF(LEN(A1857)>0,VLOOKUP(A1857,Subcontractors!$A$2:$B$3,2,FALSE),\"\")","v":""},null,{"$f":"IF(LEN(A1857)>0,VLOOKUP(A1857,Subcontractors!$A$2:$B$2,2,FALSE),\"\")","v":""}]
[null,null,null,null,null,null,null,null,null,null,null,null,null,null,null,null,null,null,null,null,null,{"$f":"IF(LEN(X1862)>0,VLOOKUP(X1862,'TFW Programs'!$A$2:$B$24,2,FALSE),\"\")","v":""},null,null,{"$f":"IF(LEN(A1862)>0,VLOOKUP(A1862,Subcontractors!$A$2:$B$3,2,FALSE),\"\")","v":""},null,{"$f":"IF(LEN(A1862)>0,VLOOKUP(A1862,Subcontractors!$A$2:$B$2,2,FALSE),\"\")","v":""}]
[null,null,null,null,null,null,null,null,null,null,null,null,null,null,null,null,null,null,null,null,null,{"$f":"IF(LEN(X1867)>0,VLOOKUP(X1867,'TFW Programs'!$A$2:$B$24,2,FALSE),\"\")","v":""},null,null,{"$f":"IF(LEN(A1867)>0,VLOOKUP(A1867,Subcontractors!$A$2:$B$3,2,FALSE),\"\")","v":""},null,{"$f":"IF(LEN(A1867)>0,VLOOKUP(A1867,Subcontractors!$A$2:$B$2,2,FALSE),\"\")","v":""}]
[null,null,null,null,null,null,null,null,null,null,null,null,null,null,null,null,null,null,null,null,null,{"$f":"IF(LEN(X1870)>0,VLOOKUP(X1870,'TFW Programs'!$A$2:$B$24,2,FALSE),\"\")","v":""},null,null,{"$f":"IF(LEN(A1870)>0,VLOOKUP(A1870,Subcontractors!$A$2:$B$3,2,FALSE),\"\")","v":""},null,{"$f":"IF(LEN(A1870)>0,VLOOKUP(A1870,Subcontractors!$A$2:$B$2,2,FALSE),\"\")","v":""}]
[null,null,null,null,null,null,null,null,null,null,null,null,null,null,null,null,null,null,null,null,null,{"$f":"IF(LEN(X1872)>0,VLOOKUP(X1872,'TFW Programs'!$A$2:$B$24,2,FALSE),\"\")","v":""},null,null,{"$f":"IF(LEN(A1872)>0,VLOOKUP(A1872,Subcontractors!$A$2:$B$3,2,FALSE),\"\")","v":""},null,{"$f":"IF(LEN(A1872)>0,VLOOKUP(A1872,Subcontractors!$A$2:$B$2,2,FALSE),\"\")","v":""}]
[null,null,null,null,null,null,null,null,null,null,null,null,null,null,null,null,null,null,null,null,null,{"$f":"IF(LEN(X1877)>0,VLOOKUP(X1877,'TFW Programs'!$A$2:$B$24,2,FALSE),\"\")","v":""},null,null,{"$f":"IF(LEN(A1877)>0,VLOOKUP(A1877,Subcontractors!$A$2:$B$3,2,FALSE),\"\")","v":""},null,{"$f":"IF(LEN(A1877)>0,VLOOKUP(A1877,Subcontractors!$A$2:$B$2,2,FALSE),\"\")","v":""}]
[null,null,null,null,null,null,null,null,null,null,null,null,null,null,null,null,null,null,null,null,null,{"$f":"IF(LEN(X1882)>0,VLOOKUP(X1882,'TFW Programs'!$A$2:$B$24,2,FALSE),\"\")","v":""},null,null,{"$f":"IF(LEN(A1882)>0,VLOOKUP(A1882,Subcontractors!$A$2:$B$3,2,FALSE),\"\")","v":""},null,{"$f":"IF(LEN(A1882)>0,VLOOKUP(A1882,Subcontractors!$A$2:$B$2,2,FALSE),\"\")","v":""}]
[null,null,null,null,null,null,null,null,null,null,null,null,null,null,null,null,null,null,null,null,null,{"$f":"IF(LEN(X1884)>0,VLOOKUP(X1884,'TFW Programs'!$A$2:$B$24,2,FALSE),\"\")","v":""},null,null,{"$f":"IF(LEN(A1884)>0,VLOOKUP(A1884,Subcontractors!$A$2:$B$3,2,FALSE),\"\")","v":""},null,{"$f":"IF(LEN(A1884)>0,VLOOKUP(A1884,Subcontractors!$A$2:$B$2,2,FALSE),\"\")","v":""}]
[null,null,null,null,null,null,null,null,null,null,null,null,null,null,null,null,null,null,null,null,null,{"$f":"IF(LEN(X1887)>0,VLOOKUP(X1887,'TFW Programs'!$A$2:$B$24,2,FALSE),\"\")","v":""},null,null,{"$f":"IF(LEN(A1887)>0,VLOOKUP(A1887,Subcontractors!$A$2:$B$3,2,FALSE),\"\")","v":""},null,{"$f":"IF(LEN(A1887)>0,VLOOKUP(A1887,Subcontractors!$A$2:$B$2,2,FALSE),\"\")","v":""}]
[null,null,null,null,null,null,null,null,null,null,null,null,null,null,null,null,null,null,null,null,null,{"$f":"IF(LEN(X1892)>0,VLOOKUP(X1892,'TFW Programs'!$A$2:$B$24,2,FALSE),\"\")","v":""},null,null,{"$f":"IF(LEN(A1892)>0,VLOOKUP(A1892,Subcontractors!$A$2:$B$3,2,FALSE),\"\")","v":""},null,{"$f":"IF(LEN(A1892)>0,VLOOKUP(A1892,Subcontractors!$A$2:$B$2,2,FALSE),\"\")","v":""}]
[null,null,null,null,null,null,null,null,null,null,null,null,null,null,null,null,null,null,null,null,null,{"$f":"IF(LEN(X1897)>0,VLOOKUP(X1897,'TFW Programs'!$A$2:$B$24,2,FALSE),\"\")","v":""},null,null,{"$f":"IF(LEN(A1897)>0,VLOOKUP(A1897,Subcontractors!$A$2:$B$3,2,FALSE),\"\")","v":""},null,{"$f":"IF(LEN(A1897)>0,VLOOKUP(A1897,Subcontractors!$A$2:$B$2,2,FALSE),\"\")","v":""}]
[null,null,null,null,null,null,null,null,null,null,null,null,null,null,null,null,null,null,null,null,null,{"$f":"IF(LEN(X1900)>0,VLOOKUP(X1900,'TFW Programs'!$A$2:$B$24,2,FALSE),\"\")","v":""},null,null,{"$f":"IF(LEN(A1900)>0,VLOOKUP(A1900,Subcontractors!$A$2:$B$3,2,FALSE),\"\")","v":""},null,{"$f":"IF(LEN(A1900)>0,VLOOKUP(A1900,Subcontractors!$A$2:$B$2,2,FALSE),\"\")","v":""}]
[null,null,null,null,null,null,null,null,null,null,null,null,null,null,null,null,null,null,null,null,null,{"$f":"IF(LEN(X1902)>0,VLOOKUP(X1902,'TFW Programs'!$A$2:$B$24,2,FALSE),\"\")","v":""},null,null,{"$f":"IF(LEN(A1902)>0,VLOOKUP(A1902,Subcontractors!$A$2:$B$3,2,FALSE),\"\")","v":""},null,{"$f":"IF(LEN(A1902)>0,VLOOKUP(A1902,Subcontractors!$A$2:$B$2,2,FALSE),\"\")","v":""}]
[null,null,null,null,null,null,null,null,null,null,null,null,null,null,null,null,null,null,null,null,null,{"$f":"IF(LEN(X1907)>0,VLOOKUP(X1907,'TFW Programs'!$A$2:$B$24,2,FALSE),\"\")","v":""},null,null,{"$f":"IF(LEN(A1907)>0,VLOOKUP(A1907,Subcontractors!$A$2:$B$3,2,FALSE),\"\")","v":""},null,{"$f":"IF(LEN(A1907)>0,VLOOKUP(A1907,Subcontractors!$A$2:$B$2,2,FALSE),\"\")","v":""}]
[null,null,null,null,null,null,null,null,null,null,null,null,null,null,null,null,null,null,null,null,null,{"$f":"IF(LEN(X1912)>0,VLOOKUP(X1912,'TFW Programs'!$A$2:$B$24,2,FALSE),\"\")","v":""},null,null,{"$f":"IF(LEN(A1912)>0,VLOOKUP(A1912,Subcontractors!$A$2:$B$3,2,FALSE),\"\")","v":""},null,{"$f":"IF(LEN(A1912)>0,VLOOKUP(A1912,Subcontractors!$A$2:$B$2,2,FALSE),\"\")","v":""}]
[null,null,null,null,null,null,null,null,null,null,null,null,null,null,null,null,null,null,null,null,null,{"$f":"IF(LEN(X1917)>0,VLOOKUP(X1917,'TFW Programs'!$A$2:$B$24,2,FALSE),\"\")","v":""},null,null,{"$f":"IF(LEN(A1917)>0,VLOOKUP(A1917,Subcontractors!$A$2:$B$3,2,FALSE),\"\")","v":""},null,{"$f":"IF(LEN(A1917)>0,VLOOKUP(A1917,Subcontractors!$A$2:$B$2,2,FALSE),\"\")","v":""}]
[null,null,null,null,null,null,null,null,null,null,null,null,null,null,null,null,null,null,null,null,null,{"$f":"IF(LEN(X1918)>0,VLOOKUP(X1918,'TFW Programs'!$A$2:$B$24,2,FALSE),\"\")","v":""},null,null,{"$f":"IF(LEN(A1918)>0,VLOOKUP(A1918,Subcontractors!$A$2:$B$3,2,FALSE),\"\")","v":""},null,{"$f":"IF(LEN(A1918)>0,VLOOKUP(A1918,Subcontractors!$A$2:$B$2,2,FALSE),\"\")","v":""}]
[null,null,null,null,null,null,null,null,null,null,null,null,null,null,null,null,null,null,null,null,null,{"$f":"IF(LEN(X1922)>0,VLOOKUP(X1922,'TFW Programs'!$A$2:$B$24,2,FALSE),\"\")","v":""},null,null,{"$f":"IF(LEN(A1922)>0,VLOOKUP(A1922,Subcontractors!$A$2:$B$3,2,FALSE),\"\")","v":""},null,{"$f":"IF(LEN(A1922)>0,VLOOKUP(A1922,Subcontractors!$A$2:$B$2,2,FALSE),\"\")","v":""}]
[null,null,null,null,null,null,null,null,null,null,null,null,null,null,null,null,null,null,null,null,null,{"$f":"IF(LEN(X1927)>0,VLOOKUP(X1927,'TFW Programs'!$A$2:$B$24,2,FALSE),\"\")","v":""},null,null,{"$f":"IF(LEN(A1927)>0,VLOOKUP(A1927,Subcontractors!$A$2:$B$3,2,FALSE),\"\")","v":""},null,{"$f":"IF(LEN(A1927)>0,VLOOKUP(A1927,Subcontractors!$A$2:$B$2,2,FALSE),\"\")","v":""}]
[null,null,null,null,null,null,null,null,null,null,null,null,null,null,null,null,null,null,null,null,null,{"$f":"IF(LEN(X1932)>0,VLOOKUP(X1932,'TFW Programs'!$A$2:$B$24,2,FALSE),\"\")","v":""},null,null,{"$f":"IF(LEN(A1932)>0,VLOOKUP(A1932,Subcontractors!$A$2:$B$3,2,FALSE),\"\")","v":""},null,{"$f":"IF(LEN(A1932)>0,VLOOKUP(A1932,Subcontractors!$A$2:$B$2,2,FALSE),\"\")","v":""}]
[null,null,null,null,null,null,null,null,null,null,null,null,null,null,null,null,null,null,null,null,null,{"$f":"IF(LEN(X1935)>0,VLOOKUP(X1935,'TFW Programs'!$A$2:$B$24,2,FALSE),\"\")","v":""},null,null,{"$f":"IF(LEN(A1935)>0,VLOOKUP(A1935,Subcontractors!$A$2:$B$3,2,FALSE),\"\")","v":""},null,{"$f":"IF(LEN(A1935)>0,VLOOKUP(A1935,Subcontractors!$A$2:$B$2,2,FALSE),\"\")","v":""}]
[null,null,null,null,null,null,null,null,null,null,null,null,null,null,null,null,null,null,null,null,null,{"$f":"IF(LEN(X1937)>0,VLOOKUP(X1937,'TFW Programs'!$A$2:$B$24,2,FALSE),\"\")","v":""},null,null,{"$f":"IF(LEN(A1937)>0,VLOOKUP(A1937,Subcontractors!$A$2:$B$3,2,FALSE),\"\")","v":""},null,{"$f":"IF(LEN(A1937)>0,VLOOKUP(A1937,Subcontractors!$A$2:$B$2,2,FALSE),\"\")","v":""}]
[null,null,null,null,null,null,null,null,null,null,null,null,null,null,null,null,null,null,null,null,null,{"$f":"IF(LEN(X1942)>0,VLOOKUP(X1942,'TFW Programs'!$A$2:$B$24,2,FALSE),\"\")","v":""},null,null,{"$f":"IF(LEN(A1942)>0,VLOOKUP(A1942,Subcontractors!$A$2:$B$3,2,FALSE),\"\")","v":""},null,{"$f":"IF(LEN(A1942)>0,VLOOKUP(A1942,Subcontractors!$A$2:$B$2,2,FALSE),\"\")","v":""}]
[null,null,null,null,null,null,null,null,null,null,null,null,null,null,null,null,null,null,null,null,null,{"$f":"IF(LEN(X1947)>0,VLOOKUP(X1947,'TFW Programs'!$A$2:$B$24,2,FALSE),\"\")","v":""},null,null,{"$f":"IF(LEN(A1947)>0,VLOOKUP(A1947,Subcontractors!$A$2:$B$3,2,FALSE),\"\")","v":""},null,{"$f":"IF(LEN(A1947)>0,VLOOKUP(A1947,Subcontractors!$A$2:$B$2,2,FALSE),\"\")","v":""}]
[null,null,null,null,null,null,null,null,null,null,null,null,null,null,null,null,null,null,null,null,null,{"$f":"IF(LEN(X1948)>0,VLOOKUP(X1948,'TFW Programs'!$A$2:$B$24,2,FALSE),\"\")","v":""},null,null,{"$f":"IF(LEN(A1948)>0,VLOOKUP(A1948,Subcontractors!$A$2:$B$3,2,FALSE),\"\")","v":""},null,{"$f":"IF(LEN(A1948)>0,VLOOKUP(A1948,Subcontractors!$A$2:$B$2,2,FALSE),\"\")","v":""}]
[null,null,null,null,null,null,null,null,null,null,null,null,null,null,null,null,null,null,null,null,null,{"$f":"IF(LEN(X1953)>0,VLOOKUP(X1953,'TFW Programs'!$A$2:$B$24,2,FALSE),\"\")","v":""},null,null,{"$f":"IF(LEN(A1953)>0,VLOOKUP(A1953,Subcontractors!$A$2:$B$3,2,FALSE),\"\")","v":""},null,{"$f":"IF(LEN(A1953)>0,VLOOKUP(A1953,Subcontractors!$A$2:$B$2,2,FALSE),\"\")","v":""}]
[null,null,null,null,null,null,null,null,null,null,null,null,null,null,null,null,null,null,null,null,null,{"$f":"IF(LEN(X1957)>0,VLOOKUP(X1957,'TFW Programs'!$A$2:$B$24,2,FALSE),\"\")","v":""},null,null,{"$f":"IF(LEN(A1957)>0,VLOOKUP(A1957,Subcontractors!$A$2:$B$3,2,FALSE),\"\")","v":""},null,{"$f":"IF(LEN(A1957)>0,VLOOKUP(A1957,Subcontractors!$A$2:$B$2,2,FALSE),\"\")","v":""}]
[null,null,null,null,null,null,null,null,null,null,null,null,null,null,null,null,null,null,null,null,null,{"$f":"IF(LEN(X1962)>0,VLOOKUP(X1962,'TFW Programs'!$A$2:$B$24,2,FALSE),\"\")","v":""},null,null,{"$f":"IF(LEN(A1962)>0,VLOOKUP(A1962,Subcontractors!$A$2:$B$3,2,FALSE),\"\")","v":""},null,{"$f":"IF(LEN(A1962)>0,VLOOKUP(A1962,Subcontractors!$A$2:$B$2,2,FALSE),\"\")","v":""}]
[null,null,null,null,null,null,null,null,null,null,null,null,null,null,null,null,null,null,null,null,null,{"$f":"IF(LEN(X1963)>0,VLOOKUP(X1963,'TFW Programs'!$A$2:$B$24,2,FALSE),\"\")","v":""},null,null,{"$f":"IF(LEN(A1963)>0,VLOOKUP(A1963,Subcontractors!$A$2:$B$3,2,FALSE),\"\")","v":""},null,{"$f":"IF(LEN(A1963)>0,VLOOKUP(A1963,Subcontractors!$A$2:$B$2,2,FALSE),\"\")","v":""}]
[null,null,null,null,null,null,null,null,null,null,null,null,null,null,null,null,null,null,null,null,null,{"$f":"IF(LEN(X1969)>0,VLOOKUP(X1969,'TFW Programs'!$A$2:$B$24,2,FALSE),\"\")","v":""},null,null,{"$f":"IF(LEN(A1969)>0,VLOOKUP(A1969,Subcontractors!$A$2:$B$3,2,FALSE),\"\")","v":""},null,{"$f":"IF(LEN(A1969)>0,VLOOKUP(A1969,Subcontractors!$A$2:$B$2,2,FALSE),\"\")","v":""}]
[null,null,null,null,null,null,null,null,null,null,null,null,null,null,null,null,null,null,null,null,null,{"$f":"IF(LEN(X1972)>0,VLOOKUP(X1972,'TFW Programs'!$A$2:$B$24,2,FALSE),\"\")","v":""},null,null,{"$f":"IF(LEN(A1972)>0,VLOOKUP(A1972,Subcontractors!$A$2:$B$3,2,FALSE),\"\")","v":""},null,{"$f":"IF(LEN(A1972)>0,VLOOKUP(A1972,Subcontractors!$A$2:$B$2,2,FALSE),\"\")","v":""}]
[null,null,null,null,null,null,null,null,null,null,null,null,null,null,null,null,null,null,null,null,null,{"$f":"IF(LEN(X1977)>0,VLOOKUP(X1977,'TFW Programs'!$A$2:$B$24,2,FALSE),\"\")","v":""},null,null,{"$f":"IF(LEN(A1977)>0,VLOOKUP(A1977,Subcontractors!$A$2:$B$3,2,FALSE),\"\")","v":""},null,{"$f":"IF(LEN(A1977)>0,VLOOKUP(A1977,Subcontractors!$A$2:$B$2,2,FALSE),\"\")","v":""}]
[null,null,null,null,null,null,null,null,null,null,null,null,null,null,null,null,null,null,null,null,null,{"$f":"IF(LEN(X1978)>0,VLOOKUP(X1978,'TFW Programs'!$A$2:$B$24,2,FALSE),\"\")","v":""},null,null,{"$f":"IF(LEN(A1978)>0,VLOOKUP(A1978,Subcontractors!$A$2:$B$3,2,FALSE),\"\")","v":""},null,{"$f":"IF(LEN(A1978)>0,VLOOKUP(A1978,Subcontractors!$A$2:$B$2,2,FALSE),\"\")","v":""}]
[null,null,null,null,null,null,null,null,null,null,null,null,null,null,null,null,null,null,null,null,null,{"$f":"IF(LEN(X1983)>0,VLOOKUP(X1983,'TFW Programs'!$A$2:$B$24,2,FALSE),\"\")","v":""},null,null,{"$f":"IF(LEN(A1983)>0,VLOOKUP(A1983,Subcontractors!$A$2:$B$3,2,FALSE),\"\")","v":""},null,{"$f":"IF(LEN(A1983)>0,VLOOKUP(A1983,Subcontractors!$A$2:$B$2,2,FALSE),\"\")","v":""}]
[null,null,null,null,null,null,null,null,null,null,null,null,null,null,null,null,null,null,null,null,null,{"$f":"IF(LEN(X1987)>0,VLOOKUP(X1987,'TFW Programs'!$A$2:$B$24,2,FALSE),\"\")","v":""},null,null,{"$f":"IF(LEN(A1987)>0,VLOOKUP(A1987,Subcontractors!$A$2:$B$3,2,FALSE),\"\")","v":""},null,{"$f":"IF(LEN(A1987)>0,VLOOKUP(A1987,Subcontractors!$A$2:$B$2,2,FALSE),\"\")","v":""}]
[null,null,null,null,null,null,null,null,null,null,null,null,null,null,null,null,null,null,null,null,null,{"$f":"IF(LEN(X1992)>0,VLOOKUP(X1992,'TFW Programs'!$A$2:$B$24,2,FALSE),\"\")","v":""},null,null,{"$f":"IF(LEN(A1992)>0,VLOOKUP(A1992,Subcontractors!$A$2:$B$3,2,FALSE),\"\")","v":""},null,{"$f":"IF(LEN(A1992)>0,VLOOKUP(A1992,Subcontractors!$A$2:$B$2,2,FALSE),\"\")","v":""}]
[null,null,null,null,null,null,null,null,null,null,null,null,null,null,null,null,null,null,null,null,null,{"$f":"IF(LEN(X1993)>0,VLOOKUP(X1993,'TFW Programs'!$A$2:$B$24,2,FALSE),\"\")","v":""},null,null,{"$f":"IF(LEN(A1993)>0,VLOOKUP(A1993,Subcontractors!$A$2:$B$3,2,FALSE),\"\")","v":""},null,{"$f":"IF(LEN(A1993)>0,VLOOKUP(A1993,Subcontractors!$A$2:$B$2,2,FALSE),\"\")","v":""}]
[null,null,null,null,null,null,null,null,null,null,null,null,null,null,null,null,null,null,null,null,null,{"$f":"IF(LEN(X1998)>0,VLOOKUP(X1998,'TFW Programs'!$A$2:$B$24,2,FALSE),\"\")","v":""},null,null,{"$f":"IF(LEN(A1998)>0,VLOOKUP(A1998,Subcontractors!$A$2:$B$3,2,FALSE),\"\")","v":""},null,{"$f":"IF(LEN(A1998)>0,VLOOKUP(A1998,Subcontractors!$A$2:$B$2,2,FALSE),\"\")","v":""}]
[null,null,null,null,null,null,null,null,null,null,null,null,null,null,null,null,null,null,null,null,null,{"$f":"IF(LEN(X2001)>0,VLOOKUP(X2001,'TFW Programs'!$A$2:$B$24,2,FALSE),\"\")","v":""},null,null,{"$f":"IF(LEN(A2001)>0,VLOOKUP(A2001,Subcontractors!$A$2:$B$3,2,FALSE),\"\")","v":""},null,{"$f":"IF(LEN(A2001)>0,VLOOKUP(A2001,Subcontractors!$A$2:$B$2,2,FALSE),\"\")","v":""}]
[null,null,null,null,null,null,null,null,null,null,null,null,null,null,null,null,null,null,null,null,null,{"$f":"IF(LEN(X2007)>0,VLOOKUP(X2007,'TFW Programs'!$A$2:$B$24,2,FALSE),\"\")","v":""},null,null,{"$f":"IF(LEN(A2007)>0,VLOOKUP(A2007,Subcontractors!$A$2:$B$3,2,FALSE),\"\")","v":""},null,{"$f":"IF(LEN(A2007)>0,VLOOKUP(A2007,Subcontractors!$A$2:$B$2,2,FALSE),\"\")","v":""}]
[null,null,null,null,null,null,null,null,null,null,null,null,null,null,null,null,null,null,null,null,null,{"$f":"IF(LEN(X2008)>0,VLOOKUP(X2008,'TFW Programs'!$A$2:$B$24,2,FALSE),\"\")","v":""},null,null,{"$f":"IF(LEN(A2008)>0,VLOOKUP(A2008,Subcontractors!$A$2:$B$3,2,FALSE),\"\")","v":""},null,{"$f":"IF(LEN(A2008)>0,VLOOKUP(A2008,Subcontractors!$A$2:$B$2,2,FALSE),\"\")","v":""}]
[null,null,null,null,null,null,null,null,null,null,null,null,null,null,null,null,null,null,null,null,null,{"$f":"IF(LEN(X2013)>0,VLOOKUP(X2013,'TFW Programs'!$A$2:$B$24,2,FALSE),\"\")","v":""},null,null,{"$f":"IF(LEN(A2013)>0,VLOOKUP(A2013,Subcontractors!$A$2:$B$3,2,FALSE),\"\")","v":""},null,{"$f":"IF(LEN(A2013)>0,VLOOKUP(A2013,Subcontractors!$A$2:$B$2,2,FALSE),\"\")","v":""}]
[null,null,null,null,null,null,null,null,null,null,null,null,null,null,null,null,null,null,null,null,null,{"$f":"IF(LEN(X2017)>0,VLOOKUP(X2017,'TFW Programs'!$A$2:$B$24,2,FALSE),\"\")","v":""},null,null,{"$f":"IF(LEN(A2017)>0,VLOOKUP(A2017,Subcontractors!$A$2:$B$3,2,FALSE),\"\")","v":""},null,{"$f":"IF(LEN(A2017)>0,VLOOKUP(A2017,Subcontractors!$A$2:$B$2,2,FALSE),\"\")","v":""}]
[null,null,null,null,null,null,null,null,null,null,null,null,null,null,null,null,null,null,null,null,null,{"$f":"IF(LEN(X2022)>0,VLOOKUP(X2022,'TFW Programs'!$A$2:$B$24,2,FALSE),\"\")","v":""},null,null,{"$f":"IF(LEN(A2022)>0,VLOOKUP(A2022,Subcontractors!$A$2:$B$3,2,FALSE),\"\")","v":""},null,{"$f":"IF(LEN(A2022)>0,VLOOKUP(A2022,Subcontractors!$A$2:$B$2,2,FALSE),\"\")","v":""}]
[null,null,null,null,null,null,null,null,null,null,null,null,null,null,null,null,null,null,null,null,null,{"$f":"IF(LEN(X2023)>0,VLOOKUP(X2023,'TFW Programs'!$A$2:$B$24,2,FALSE),\"\")","v":""},null,null,{"$f":"IF(LEN(A2023)>0,VLOOKUP(A2023,Subcontractors!$A$2:$B$3,2,FALSE),\"\")","v":""},null,{"$f":"IF(LEN(A2023)>0,VLOOKUP(A2023,Subcontractors!$A$2:$B$2,2,FALSE),\"\")","v":""}]
[null,null,null,null,null,null,null,null,null,null,null,null,null,null,null,null,null,null,null,null,null,{"$f":"IF(LEN(X2028)>0,VLOOKUP(X2028,'TFW Programs'!$A$2:$B$24,2,FALSE),\"\")","v":""},null,null,{"$f":"IF(LEN(A2028)>0,VLOOKUP(A2028,Subcontractors!$A$2:$B$3,2,FALSE),\"\")","v":""},null,{"$f":"IF(LEN(A2028)>0,VLOOKUP(A2028,Subcontractors!$A$2:$B$2,2,FALSE),\"\")","v":""}]
[null,null,null,null,null,null,null,null,null,null,null,null,null,null,null,null,null,null,null,null,null,{"$f":"IF(LEN(X2033)>0,VLOOKUP(X2033,'TFW Programs'!$A$2:$B$24,2,FALSE),\"\")","v":""},null,null,{"$f":"IF(LEN(A2033)>0,VLOOKUP(A2033,Subcontractors!$A$2:$B$3,2,FALSE),\"\")","v":""},null,{"$f":"IF(LEN(A2033)>0,VLOOKUP(A2033,Subcontractors!$A$2:$B$2,2,FALSE),\"\")","v":""}]
[null,null,null,null,null,null,null,null,null,null,null,null,null,null,null,null,null,null,null,null,null,{"$f":"IF(LEN(X2035)>0,VLOOKUP(X2035,'TFW Programs'!$A$2:$B$24,2,FALSE),\"\")","v":""},null,null,{"$f":"IF(LEN(A2035)>0,VLOOKUP(A2035,Subcontractors!$A$2:$B$3,2,FALSE),\"\")","v":""},null,{"$f":"IF(LEN(A2035)>0,VLOOKUP(A2035,Subcontractors!$A$2:$B$2,2,FALSE),\"\")","v":""}]
[null,null,null,null,null,null,null,null,null,null,null,null,null,null,null,null,null,null,null,null,null,{"$f":"IF(LEN(X2038)>0,VLOOKUP(X2038,'TFW Programs'!$A$2:$B$24,2,FALSE),\"\")","v":""},null,null,{"$f":"IF(LEN(A2038)>0,VLOOKUP(A2038,Subcontractors!$A$2:$B$3,2,FALSE),\"\")","v":""},null,{"$f":"IF(LEN(A2038)>0,VLOOKUP(A2038,Subcontractors!$A$2:$B$2,2,FALSE),\"\")","v":""}]
[null,null,null,null,null,null,null,null,null,null,null,null,null,null,null,null,null,null,null,null,null,{"$f":"IF(LEN(X2043)>0,VLOOKUP(X2043,'TFW Programs'!$A$2:$B$24,2,FALSE),\"\")","v":""},null,null,{"$f":"IF(LEN(A2043)>0,VLOOKUP(A2043,Subcontractors!$A$2:$B$3,2,FALSE),\"\")","v":""},null,{"$f":"IF(LEN(A2043)>0,VLOOKUP(A2043,Subcontractors!$A$2:$B$2,2,FALSE),\"\")","v":""}]
[null,null,null,null,null,null,null,null,null,null,null,null,null,null,null,null,null,null,null,null,null,{"$f":"IF(LEN(X2048)>0,VLOOKUP(X2048,'TFW Programs'!$A$2:$B$24,2,FALSE),\"\")","v":""},null,null,{"$f":"IF(LEN(A2048)>0,VLOOKUP(A2048,Subcontractors!$A$2:$B$3,2,FALSE),\"\")","v":""},null,{"$f":"IF(LEN(A2048)>0,VLOOKUP(A2048,Subcontractors!$A$2:$B$2,2,FALSE),\"\")","v":""}]
[null,null,null,null,null,null,null,null,null,null,null,null,null,null,null,null,null,null,null,null,null,{"$f":"IF(LEN(X2052)>0,VLOOKUP(X2052,'TFW Programs'!$A$2:$B$24,2,FALSE),\"\")","v":""},null,null,{"$f":"IF(LEN(A2052)>0,VLOOKUP(A2052,Subcontractors!$A$2:$B$3,2,FALSE),\"\")","v":""},null,{"$f":"IF(LEN(A2052)>0,VLOOKUP(A2052,Subcontractors!$A$2:$B$2,2,FALSE),\"\")","v":""}]
[null,null,null,null,null,null,null,null,null,null,null,null,null,null,null,null,null,null,null,null,null,{"$f":"IF(LEN(X2053)>0,VLOOKUP(X2053,'TFW Programs'!$A$2:$B$24,2,FALSE),\"\")","v":""},null,null,{"$f":"IF(LEN(A2053)>0,VLOOKUP(A2053,Subcontractors!$A$2:$B$3,2,FALSE),\"\")","v":""},null,{"$f":"IF(LEN(A2053)>0,VLOOKUP(A2053,Subcontractors!$A$2:$B$2,2,FALSE),\"\")","v":""}]
[null,null,null,null,null,null,null,null,null,null,null,null,null,null,null,null,null,null,null,null,null,{"$f":"IF(LEN(X2058)>0,VLOOKUP(X2058,'TFW Programs'!$A$2:$B$24,2,FALSE),\"\")","v":""},null,null,{"$f":"IF(LEN(A2058)>0,VLOOKUP(A2058,Subcontractors!$A$2:$B$3,2,FALSE),\"\")","v":""},null,{"$f":"IF(LEN(A2058)>0,VLOOKUP(A2058,Subcontractors!$A$2:$B$2,2,FALSE),\"\")","v":""}]
[null,null,null,null,null,null,null,null,null,null,null,null,null,null,null,null,null,null,null,null,null,{"$f":"IF(LEN(X2063)>0,VLOOKUP(X2063,'TFW Programs'!$A$2:$B$24,2,FALSE),\"\")","v":""},null,null,{"$f":"IF(LEN(A2063)>0,VLOOKUP(A2063,Subcontractors!$A$2:$B$3,2,FALSE),\"\")","v":""},null,{"$f":"IF(LEN(A2063)>0,VLOOKUP(A2063,Subcontractors!$A$2:$B$2,2,FALSE),\"\")","v":""}]
[null,null,null,null,null,null,null,null,null,null,null,null,null,null,null,null,null,null,null,null,null,{"$f":"IF(LEN(X2068)>0,VLOOKUP(X2068,'TFW Programs'!$A$2:$B$24,2,FALSE),\"\")","v":""},null,null,{"$f":"IF(LEN(A2068)>0,VLOOKUP(A2068,Subcontractors!$A$2:$B$3,2,FALSE),\"\")","v":""},null,{"$f":"IF(LEN(A2068)>0,VLOOKUP(A2068,Subcontractors!$A$2:$B$2,2,FALSE),\"\")","v":""}]
[null,null,null,null,null,null,null,null,null,null,null,null,null,null,null,null,null,null,null,null,null,{"$f":"IF(LEN(X2070)>0,VLOOKUP(X2070,'TFW Programs'!$A$2:$B$24,2,FALSE),\"\")","v":""},null,null,{"$f":"IF(LEN(A2070)>0,VLOOKUP(A2070,Subcontractors!$A$2:$B$3,2,FALSE),\"\")","v":""},null,{"$f":"IF(LEN(A2070)>0,VLOOKUP(A2070,Subcontractors!$A$2:$B$2,2,FALSE),\"\")","v":""}]
[null,null,null,null,null,null,null,null,null,null,null,null,null,null,null,null,null,null,null,null,null,{"$f":"IF(LEN(X2073)>0,VLOOKUP(X2073,'TFW Programs'!$A$2:$B$24,2,FALSE),\"\")","v":""},null,null,{"$f":"IF(LEN(A2073)>0,VLOOKUP(A2073,Subcontractors!$A$2:$B$3,2,FALSE),\"\")","v":""},null,{"$f":"IF(LEN(A2073)>0,VLOOKUP(A2073,Subcontractors!$A$2:$B$2,2,FALSE),\"\")","v":""}]
[null,null,null,null,null,null,null,null,null,null,null,null,null,null,null,null,null,null,null,null,null,{"$f":"IF(LEN(X2078)>0,VLOOKUP(X2078,'TFW Programs'!$A$2:$B$24,2,FALSE),\"\")","v":""},null,null,{"$f":"IF(LEN(A2078)>0,VLOOKUP(A2078,Subcontractors!$A$2:$B$3,2,FALSE),\"\")","v":""},null,{"$f":"IF(LEN(A2078)>0,VLOOKUP(A2078,Subcontractors!$A$2:$B$2,2,FALSE),\"\")","v":""}]
[null,null,null,null,null,null,null,null,null,null,null,null,null,null,null,null,null,null,null,null,null,{"$f":"IF(LEN(X2083)>0,VLOOKUP(X2083,'TFW Programs'!$A$2:$B$24,2,FALSE),\"\")","v":""},null,null,{"$f":"IF(LEN(A2083)>0,VLOOKUP(A2083,Subcontractors!$A$2:$B$3,2,FALSE),\"\")","v":""},null,{"$f":"IF(LEN(A2083)>0,VLOOKUP(A2083,Subcontractors!$A$2:$B$2,2,FALSE),\"\")","v":""}]
[null,null,null,null,null,null,null,null,null,null,null,null,null,null,null,null,null,null,null,null,null,{"$f":"IF(LEN(X2086)>0,VLOOKUP(X2086,'TFW Programs'!$A$2:$B$24,2,FALSE),\"\")","v":""},null,null,{"$f":"IF(LEN(A2086)>0,VLOOKUP(A2086,Subcontractors!$A$2:$B$3,2,FALSE),\"\")","v":""},null,{"$f":"IF(LEN(A2086)>0,VLOOKUP(A2086,Subcontractors!$A$2:$B$2,2,FALSE),\"\")","v":""}]
[null,null,null,null,null,null,null,null,null,null,null,null,null,null,null,null,null,null,null,null,null,{"$f":"IF(LEN(X2088)>0,VLOOKUP(X2088,'TFW Programs'!$A$2:$B$24,2,FALSE),\"\")","v":""},null,null,{"$f":"IF(LEN(A2088)>0,VLOOKUP(A2088,Subcontractors!$A$2:$B$3,2,FALSE),\"\")","v":""},null,{"$f":"IF(LEN(A2088)>0,VLOOKUP(A2088,Subcontractors!$A$2:$B$2,2,FALSE),\"\")","v":""}]
[null,null,null,null,null,null,null,null,null,null,null,null,null,null,null,null,null,null,null,null,null,{"$f":"IF(LEN(X2093)>0,VLOOKUP(X2093,'TFW Programs'!$A$2:$B$24,2,FALSE),\"\")","v":""},null,null,{"$f":"IF(LEN(A2093)>0,VLOOKUP(A2093,Subcontractors!$A$2:$B$3,2,FALSE),\"\")","v":""},null,{"$f":"IF(LEN(A2093)>0,VLOOKUP(A2093,Subcontractors!$A$2:$B$2,2,FALSE),\"\")","v":""}]
[null,null,null,null,null,null,null,null,null,null,null,null,null,null,null,null,null,null,null,null,null,{"$f":"IF(LEN(X2098)>0,VLOOKUP(X2098,'TFW Programs'!$A$2:$B$24,2,FALSE),\"\")","v":""},null,null,{"$f":"IF(LEN(A2098)>0,VLOOKUP(A2098,Subcontractors!$A$2:$B$3,2,FALSE),\"\")","v":""},null,{"$f":"IF(LEN(A2098)>0,VLOOKUP(A2098,Subcontractors!$A$2:$B$2,2,FALSE),\"\")","v":""}]
[null,null,null,null,null,null,null,null,null,null,null,null,null,null,null,null,null,null,null,null,null,{"$f":"IF(LEN(X2099)>0,VLOOKUP(X2099,'TFW Programs'!$A$2:$B$24,2,FALSE),\"\")","v":""},null,null,{"$f":"IF(LEN(A2099)>0,VLOOKUP(A2099,Subcontractors!$A$2:$B$3,2,FALSE),\"\")","v":""},null,{"$f":"IF(LEN(A2099)>0,VLOOKUP(A2099,Subcontractors!$A$2:$B$2,2,FALSE),\"\")","v":""}]
[null,null,null,null,null,null,null,null,null,null,null,null,null,null,null,null,null,null,null,null,null,{"$f":"IF(LEN(X2104)>0,VLOOKUP(X2104,'TFW Programs'!$A$2:$B$24,2,FALSE),\"\")","v":""},null,null,{"$f":"IF(LEN(A2104)>0,VLOOKUP(A2104,Subcontractors!$A$2:$B$3,2,FALSE),\"\")","v":""},null,{"$f":"IF(LEN(A2104)>0,VLOOKUP(A2104,Subcontractors!$A$2:$B$2,2,FALSE),\"\")","v":""}]
[null,null,null,null,null,null,null,null,null,null,null,null,null,null,null,null,null,null,null,null,null,{"$f":"IF(LEN(X2108)>0,VLOOKUP(X2108,'TFW Programs'!$A$2:$B$24,2,FALSE),\"\")","v":""},null,null,{"$f":"IF(LEN(A2108)>0,VLOOKUP(A2108,Subcontractors!$A$2:$B$3,2,FALSE),\"\")","v":""},null,{"$f":"IF(LEN(A2108)>0,VLOOKUP(A2108,Subcontractors!$A$2:$B$2,2,FALSE),\"\")","v":""}]
[null,null,null,null,null,null,null,null,null,null,null,null,null,null,null,null,null,null,null,null,null,{"$f":"IF(LEN(X2113)>0,VLOOKUP(X2113,'TFW Programs'!$A$2:$B$24,2,FALSE),\"\")","v":""},null,null,{"$f":"IF(LEN(A2113)>0,VLOOKUP(A2113,Subcontractors!$A$2:$B$3,2,FALSE),\"\")","v":""},null,{"$f":"IF(LEN(A2113)>0,VLOOKUP(A2113,Subcontractors!$A$2:$B$2,2,FALSE),\"\")","v":""}]
[null,null,null,null,null,null,null,null,null,null,null,null,null,null,null,null,null,null,null,null,null,{"$f":"IF(LEN(X2114)>0,VLOOKUP(X2114,'TFW Programs'!$A$2:$B$24,2,FALSE),\"\")","v":""},null,null,{"$f":"IF(LEN(A2114)>0,VLOOKUP(A2114,Subcontractors!$A$2:$B$3,2,FALSE),\"\")","v":""},null,{"$f":"IF(LEN(A2114)>0,VLOOKUP(A2114,Subcontractors!$A$2:$B$2,2,FALSE),\"\")","v":""}]
[null,null,null,null,null,null,null,null,null,null,null,null,null,null,null,null,null,null,null,null,null,{"$f":"IF(LEN(X2118)>0,VLOOKUP(X2118,'TFW Programs'!$A$2:$B$24,2,FALSE),\"\")","v":""},null,null,{"$f":"IF(LEN(A2118)>0,VLOOKUP(A2118,Subcontractors!$A$2:$B$3,2,FALSE),\"\")","v":""},null,{"$f":"IF(LEN(A2118)>0,VLOOKUP(A2118,Subcontractors!$A$2:$B$2,2,FALSE),\"\")","v":""}]
[null,null,null,null,null,null,null,null,null,null,null,null,null,null,null,null,null,null,null,null,null,{"$f":"IF(LEN(X2123)>0,VLOOKUP(X2123,'TFW Programs'!$A$2:$B$24,2,FALSE),\"\")","v":""},null,null,{"$f":"IF(LEN(A2123)>0,VLOOKUP(A2123,Subcontractors!$A$2:$B$3,2,FALSE),\"\")","v":""},null,{"$f":"IF(LEN(A2123)>0,VLOOKUP(A2123,Subcontractors!$A$2:$B$2,2,FALSE),\"\")","v":""}]
[null,null,null,null,null,null,null,null,null,null,null,null,null,null,null,null,null,null,null,null,null,{"$f":"IF(LEN(X2128)>0,VLOOKUP(X2128,'TFW Programs'!$A$2:$B$24,2,FALSE),\"\")","v":""},null,null,{"$f":"IF(LEN(A2128)>0,VLOOKUP(A2128,Subcontractors!$A$2:$B$3,2,FALSE),\"\")","v":""},null,{"$f":"IF(LEN(A2128)>0,VLOOKUP(A2128,Subcontractors!$A$2:$B$2,2,FALSE),\"\")","v":""}]
[null,null,null,null,null,null,null,null,null,null,null,null,null,null,null,null,null,null,null,null,null,{"$f":"IF(LEN(X2129)>0,VLOOKUP(X2129,'TFW Programs'!$A$2:$B$24,2,FALSE),\"\")","v":""},null,null,{"$f":"IF(LEN(A2129)>0,VLOOKUP(A2129,Subcontractors!$A$2:$B$3,2,FALSE),\"\")","v":""},null,{"$f":"IF(LEN(A2129)>0,VLOOKUP(A2129,Subcontractors!$A$2:$B$2,2,FALSE),\"\")","v":""}]
[null,null,null,null,null,null,null,null,null,null,null,null,null,null,null,null,null,null,null,null,null,{"$f":"IF(LEN(X2134)>0,VLOOKUP(X2134,'TFW Programs'!$A$2:$B$24,2,FALSE),\"\")","v":""},null,null,{"$f":"IF(LEN(A2134)>0,VLOOKUP(A2134,Subcontractors!$A$2:$B$3,2,FALSE),\"\")","v":""},null,{"$f":"IF(LEN(A2134)>0,VLOOKUP(A2134,Subcontractors!$A$2:$B$2,2,FALSE),\"\")","v":""}]
[null,null,null,null,null,null,null,null,null,null,null,null,null,null,null,null,null,null,null,null,null,{"$f":"IF(LEN(X2138)>0,VLOOKUP(X2138,'TFW Programs'!$A$2:$B$24,2,FALSE),\"\")","v":""},null,null,{"$f":"IF(LEN(A2138)>0,VLOOKUP(A2138,Subcontractors!$A$2:$B$3,2,FALSE),\"\")","v":""},null,{"$f":"IF(LEN(A2138)>0,VLOOKUP(A2138,Subcontractors!$A$2:$B$2,2,FALSE),\"\")","v":""}]
[null,null,null,null,null,null,null,null,null,null,null,null,null,null,null,null,null,null,null,null,null,{"$f":"IF(LEN(X2143)>0,VLOOKUP(X2143,'TFW Programs'!$A$2:$B$24,2,FALSE),\"\")","v":""},null,null,{"$f":"IF(LEN(A2143)>0,VLOOKUP(A2143,Subcontractors!$A$2:$B$3,2,FALSE),\"\")","v":""},null,{"$f":"IF(LEN(A2143)>0,VLOOKUP(A2143,Subcontractors!$A$2:$B$2,2,FALSE),\"\")","v":""}]
[null,null,null,null,null,null,null,null,null,null,null,null,null,null,null,null,null,null,null,null,null,{"$f":"IF(LEN(X2144)>0,VLOOKUP(X2144,'TFW Programs'!$A$2:$B$24,2,FALSE),\"\")","v":""},null,null,{"$f":"IF(LEN(A2144)>0,VLOOKUP(A2144,Subcontractors!$A$2:$B$3,2,FALSE),\"\")","v":""},null,{"$f":"IF(LEN(A2144)>0,VLOOKUP(A2144,Subcontractors!$A$2:$B$2,2,FALSE),\"\")","v":""}]
[null,null,null,null,null,null,null,null,null,null,null,null,null,null,null,null,null,null,null,null,null,{"$f":"IF(LEN(X2149)>0,VLOOKUP(X2149,'TFW Programs'!$A$2:$B$24,2,FALSE),\"\")","v":""},null,null,{"$f":"IF(LEN(A2149)>0,VLOOKUP(A2149,Subcontractors!$A$2:$B$3,2,FALSE),\"\")","v":""},null,{"$f":"IF(LEN(A2149)>0,VLOOKUP(A2149,Subcontractors!$A$2:$B$2,2,FALSE),\"\")","v":""}]
[null,null,null,null,null,null,null,null,null,null,null,null,null,null,null,null,null,null,null,null,null,{"$f":"IF(LEN(X2152)>0,VLOOKUP(X2152,'TFW Programs'!$A$2:$B$24,2,FALSE),\"\")","v":""},null,null,{"$f":"IF(LEN(A2152)>0,VLOOKUP(A2152,Subcontractors!$A$2:$B$3,2,FALSE),\"\")","v":""},null,{"$f":"IF(LEN(A2152)>0,VLOOKUP(A2152,Subcontractors!$A$2:$B$2,2,FALSE),\"\")","v":""}]
[null,null,null,null,null,null,null,null,null,null,null,null,null,null,null,null,null,null,null,null,null,{"$f":"IF(LEN(X2158)>0,VLOOKUP(X2158,'TFW Programs'!$A$2:$B$24,2,FALSE),\"\")","v":""},null,null,{"$f":"IF(LEN(A2158)>0,VLOOKUP(A2158,Subcontractors!$A$2:$B$3,2,FALSE),\"\")","v":""},null,{"$f":"IF(LEN(A2158)>0,VLOOKUP(A2158,Subcontractors!$A$2:$B$2,2,FALSE),\"\")","v":""}]
[null,null,null,null,null,null,null,null,null,null,null,null,null,null,null,null,null,null,null,null,null,{"$f":"IF(LEN(X2159)>0,VLOOKUP(X2159,'TFW Programs'!$A$2:$B$24,2,FALSE),\"\")","v":""},null,null,{"$f":"IF(LEN(A2159)>0,VLOOKUP(A2159,Subcontractors!$A$2:$B$3,2,FALSE),\"\")","v":""},null,{"$f":"IF(LEN(A2159)>0,VLOOKUP(A2159,Subcontractors!$A$2:$B$2,2,FALSE),\"\")","v":""}]
[null,null,null,null,null,null,null,null,null,null,null,null,null,null,null,null,null,null,null,null,null,{"$f":"IF(LEN(X2164)>0,VLOOKUP(X2164,'TFW Programs'!$A$2:$B$24,2,FALSE),\"\")","v":""},null,null,{"$f":"IF(LEN(A2164)>0,VLOOKUP(A2164,Subcontractors!$A$2:$B$3,2,FALSE),\"\")","v":""},null,{"$f":"IF(LEN(A2164)>0,VLOOKUP(A2164,Subcontractors!$A$2:$B$2,2,FALSE),\"\")","v":""}]
[null,null,null,null,null,null,null,null,null,null,null,null,null,null,null,null,null,null,null,null,null,{"$f":"IF(LEN(X2169)>0,VLOOKUP(X2169,'TFW Programs'!$A$2:$B$24,2,FALSE),\"\")","v":""},null,null,{"$f":"IF(LEN(A2169)>0,VLOOKUP(A2169,Subcontractors!$A$2:$B$3,2,FALSE),\"\")","v":""},null,{"$f":"IF(LEN(A2169)>0,VLOOKUP(A2169,Subcontractors!$A$2:$B$2,2,FALSE),\"\")","v":""}]
[null,null,null,null,null,null,null,null,null,null,null,null,null,null,null,null,null,null,null,null,null,{"$f":"IF(LEN(X2173)>0,VLOOKUP(X2173,'TFW Programs'!$A$2:$B$24,2,FALSE),\"\")","v":""},null,null,{"$f":"IF(LEN(A2173)>0,VLOOKUP(A2173,Subcontractors!$A$2:$B$3,2,FALSE),\"\")","v":""},null,{"$f":"IF(LEN(A2173)>0,VLOOKUP(A2173,Subcontractors!$A$2:$B$2,2,FALSE),\"\")","v":""}]
[null,null,null,null,null,null,null,null,null,null,null,null,null,null,null,null,null,null,null,null,null,{"$f":"IF(LEN(X2174)>0,VLOOKUP(X2174,'TFW Programs'!$A$2:$B$24,2,FALSE),\"\")","v":""},null,null,{"$f":"IF(LEN(A2174)>0,VLOOKUP(A2174,Subcontractors!$A$2:$B$3,2,FALSE),\"\")","v":""},null,{"$f":"IF(LEN(A2174)>0,VLOOKUP(A2174,Subcontractors!$A$2:$B$2,2,FALSE),\"\")","v":""}]
[null,null,null,null,null,null,null,null,null,null,null,null,null,null,null,null,null,null,null,null,null,{"$f":"IF(LEN(X2179)>0,VLOOKUP(X2179,'TFW Programs'!$A$2:$B$24,2,FALSE),\"\")","v":""},null,null,{"$f":"IF(LEN(A2179)>0,VLOOKUP(A2179,Subcontractors!$A$2:$B$3,2,FALSE),\"\")","v":""},null,{"$f":"IF(LEN(A2179)>0,VLOOKUP(A2179,Subcontractors!$A$2:$B$2,2,FALSE),\"\")","v":""}]
[null,null,null,null,null,null,null,null,null,null,null,null,null,null,null,null,null,null,null,null,null,{"$f":"IF(LEN(X2184)>0,VLOOKUP(X2184,'TFW Programs'!$A$2:$B$24,2,FALSE),\"\")","v":""},null,null,{"$f":"IF(LEN(A2184)>0,VLOOKUP(A2184,Subcontractors!$A$2:$B$3,2,FALSE),\"\")","v":""},null,{"$f":"IF(LEN(A2184)>0,VLOOKUP(A2184,Subcontractors!$A$2:$B$2,2,FALSE),\"\")","v":""}]
[null,null,null,null,null,null,null,null,null,null,null,null,null,null,null,null,null,null,null,null,null,{"$f":"IF(LEN(X2186)>0,VLOOKUP(X2186,'TFW Programs'!$A$2:$B$24,2,FALSE),\"\")","v":""},null,null,{"$f":"IF(LEN(A2186)>0,VLOOKUP(A2186,Subcontractors!$A$2:$B$3,2,FALSE),\"\")","v":""},null,{"$f":"IF(LEN(A2186)>0,VLOOKUP(A2186,Subcontractors!$A$2:$B$2,2,FALSE),\"\")","v":""}]
[null,null,null,null,null,null,null,null,null,null,null,null,null,null,null,null,null,null,null,null,null,{"$f":"IF(LEN(X2189)>0,VLOOKUP(X2189,'TFW Programs'!$A$2:$B$24,2,FALSE),\"\")","v":""},null,null,{"$f":"IF(LEN(A2189)>0,VLOOKUP(A2189,Subcontractors!$A$2:$B$3,2,FALSE),\"\")","v":""},null,{"$f":"IF(LEN(A2189)>0,VLOOKUP(A2189,Subcontractors!$A$2:$B$2,2,FALSE),\"\")","v":""}]
[null,null,null,null,null,null,null,null,null,null,null,null,null,null,null,null,null,null,null,null,null,{"$f":"IF(LEN(X2194)>0,VLOOKUP(X2194,'TFW Programs'!$A$2:$B$24,2,FALSE),\"\")","v":""},null,null,{"$f":"IF(LEN(A2194)>0,VLOOKUP(A2194,Subcontractors!$A$2:$B$3,2,FALSE),\"\")","v":""},null,{"$f":"IF(LEN(A2194)>0,VLOOKUP(A2194,Subcontractors!$A$2:$B$2,2,FALSE),\"\")","v":""}]
[null,null,null,null,null,null,null,null,null,null,null,null,null,null,null,null,null,null,null,null,null,{"$f":"IF(LEN(X2199)>0,VLOOKUP(X2199,'TFW Programs'!$A$2:$B$24,2,FALSE),\"\")","v":""},null,null,{"$f":"IF(LEN(A2199)>0,VLOOKUP(A2199,Subcontractors!$A$2:$B$3,2,FALSE),\"\")","v":""},null,{"$f":"IF(LEN(A2199)>0,VLOOKUP(A2199,Subcontractors!$A$2:$B$2,2,FALSE),\"\")","v":""}]
[null,null,null,null,null,null,null,null,null,null,null,null,null,null,null,null,null,null,null,null,null,{"$f":"IF(LEN(X2203)>0,VLOOKUP(X2203,'TFW Programs'!$A$2:$B$24,2,FALSE),\"\")","v":""},null,null,{"$f":"IF(LEN(A2203)>0,VLOOKUP(A2203,Subcontractors!$A$2:$B$3,2,FALSE),\"\")","v":""},null,{"$f":"IF(LEN(A2203)>0,VLOOKUP(A2203,Subcontractors!$A$2:$B$2,2,FALSE),\"\")","v":""}]
[null,null,null,null,null,null,null,null,null,null,null,null,null,null,null,null,null,null,null,null,null,{"$f":"IF(LEN(X2204)>0,VLOOKUP(X2204,'TFW Programs'!$A$2:$B$24,2,FALSE),\"\")","v":""},null,null,{"$f":"IF(LEN(A2204)>0,VLOOKUP(A2204,Subcontractors!$A$2:$B$3,2,FALSE),\"\")","v":""},null,{"$f":"IF(LEN(A2204)>0,VLOOKUP(A2204,Subcontractors!$A$2:$B$2,2,FALSE),\"\")","v":""}]
[null,null,null,null,null,null,null,null,null,null,null,null,null,null,null,null,null,null,null,null,null,{"$f":"IF(LEN(X2209)>0,VLOOKUP(X2209,'TFW Programs'!$A$2:$B$24,2,FALSE),\"\")","v":""},null,null,{"$f":"IF(LEN(A2209)>0,VLOOKUP(A2209,Subcontractors!$A$2:$B$3,2,FALSE),\"\")","v":""},null,{"$f":"IF(LEN(A2209)>0,VLOOKUP(A2209,Subcontractors!$A$2:$B$2,2,FALSE),\"\")","v":""}]
[null,null,null,null,null,null,null,null,null,null,null,null,null,null,null,null,null,null,null,null,null,{"$f":"IF(LEN(X2214)>0,VLOOKUP(X2214,'TFW Programs'!$A$2:$B$24,2,FALSE),\"\")","v":""},null,null,{"$f":"IF(LEN(A2214)>0,VLOOKUP(A2214,Subcontractors!$A$2:$B$3,2,FALSE),\"\")","v":""},null,{"$f":"IF(LEN(A2214)>0,VLOOKUP(A2214,Subcontractors!$A$2:$B$2,2,FALSE),\"\")","v":""}]
[null,null,null,null,null,null,null,null,null,null,null,null,null,null,null,null,null,null,null,null,null,{"$f":"IF(LEN(X2219)>0,VLOOKUP(X2219,'TFW Programs'!$A$2:$B$24,2,FALSE),\"\")","v":""},null,null,{"$f":"IF(LEN(A2219)>0,VLOOKUP(A2219,Subcontractors!$A$2:$B$3,2,FALSE),\"\")","v":""},null,{"$f":"IF(LEN(A2219)>0,VLOOKUP(A2219,Subcontractors!$A$2:$B$2,2,FALSE),\"\")","v":""}]
[null,null,null,null,null,null,null,null,null,null,null,null,null,null,null,null,null,null,null,null,null,{"$f":"IF(LEN(X2221)>0,VLOOKUP(X2221,'TFW Programs'!$A$2:$B$24,2,FALSE),\"\")","v":""},null,null,{"$f":"IF(LEN(A2221)>0,VLOOKUP(A2221,Subcontractors!$A$2:$B$3,2,FALSE),\"\")","v":""},null,{"$f":"IF(LEN(A2221)>0,VLOOKUP(A2221,Subcontractors!$A$2:$B$2,2,FALSE),\"\")","v":""}]
[null,null,null,null,null,null,null,null,null,null,null,null,null,null,null,null,null,null,null,null,null,{"$f":"IF(LEN(X2224)>0,VLOOKUP(X2224,'TFW Programs'!$A$2:$B$24,2,FALSE),\"\")","v":""},null,null,{"$f":"IF(LEN(A2224)>0,VLOOKUP(A2224,Subcontractors!$A$2:$B$3,2,FALSE),\"\")","v":""},null,{"$f":"IF(LEN(A2224)>0,VLOOKUP(A2224,Subcontractors!$A$2:$B$2,2,FALSE),\"\")","v":""}]
[null,null,null,null,null,null,null,null,null,null,null,null,null,null,null,null,null,null,null,null,null,{"$f":"IF(LEN(X2229)>0,VLOOKUP(X2229,'TFW Programs'!$A$2:$B$24,2,FALSE),\"\")","v":""},null,null,{"$f":"IF(LEN(A2229)>0,VLOOKUP(A2229,Subcontractors!$A$2:$B$3,2,FALSE),\"\")","v":""},null,{"$f":"IF(LEN(A2229)>0,VLOOKUP(A2229,Subcontractors!$A$2:$B$2,2,FALSE),\"\")","v":""}]
[null,null,null,null,null,null,null,null,null,null,null,null,null,null,null,null,null,null,null,null,null,{"$f":"IF(LEN(X2234)>0,VLOOKUP(X2234,'TFW Programs'!$A$2:$B$24,2,FALSE),\"\")","v":""},null,null,{"$f":"IF(LEN(A2234)>0,VLOOKUP(A2234,Subcontractors!$A$2:$B$3,2,FALSE),\"\")","v":""},null,{"$f":"IF(LEN(A2234)>0,VLOOKUP(A2234,Subcontractors!$A$2:$B$2,2,FALSE),\"\")","v":""}]
[null,null,null,null,null,null,null,null,null,null,null,null,null,null,null,null,null,null,null,null,null,{"$f":"IF(LEN(X2237)>0,VLOOKUP(X2237,'TFW Programs'!$A$2:$B$24,2,FALSE),\"\")","v":""},null,null,{"$f":"IF(LEN(A2237)>0,VLOOKUP(A2237,Subcontractors!$A$2:$B$3,2,FALSE),\"\")","v":""},null,{"$f":"IF(LEN(A2237)>0,VLOOKUP(A2237,Subcontractors!$A$2:$B$2,2,FALSE),\"\")","v":""}]
[null,null,null,null,null,null,null,null,null,null,null,null,null,null,null,null,null,null,null,null,null,{"$f":"IF(LEN(X2239)>0,VLOOKUP(X2239,'TFW Programs'!$A$2:$B$24,2,FALSE),\"\")","v":""},null,null,{"$f":"IF(LEN(A2239)>0,VLOOKUP(A2239,Subcontractors!$A$2:$B$3,2,FALSE),\"\")","v":""},null,{"$f":"IF(LEN(A2239)>0,VLOOKUP(A2239,Subcontractors!$A$2:$B$2,2,FALSE),\"\")","v":""}]
[null,null,null,null,null,null,null,null,null,null,null,null,null,null,null,null,null,null,null,null,null,{"$f":"IF(LEN(X2244)>0,VLOOKUP(X2244,'TFW Programs'!$A$2:$B$24,2,FALSE),\"\")","v":""},null,null,{"$f":"IF(LEN(A2244)>0,VLOOKUP(A2244,Subcontractors!$A$2:$B$3,2,FALSE),\"\")","v":""},null,{"$f":"IF(LEN(A2244)>0,VLOOKUP(A2244,Subcontractors!$A$2:$B$2,2,FALSE),\"\")","v":""}]
[null,null,null,null,null,null,null,null,null,null,null,null,null,null,null,null,null,null,null,null,null,{"$f":"IF(LEN(X2249)>0,VLOOKUP(X2249,'TFW Programs'!$A$2:$B$24,2,FALSE),\"\")","v":""},null,null,{"$f":"IF(LEN(A2249)>0,VLOOKUP(A2249,Subcontractors!$A$2:$B$3,2,FALSE),\"\")","v":""},null,{"$f":"IF(LEN(A2249)>0,VLOOKUP(A2249,Subcontractors!$A$2:$B$2,2,FALSE),\"\")","v":""}]
[null,null,null,null,null,null,null,null,null,null,null,null,null,null,null,null,null,null,null,null,null,{"$f":"IF(LEN(X2251)>0,VLOOKUP(X2251,'TFW Programs'!$A$2:$B$24,2,FALSE),\"\")","v":""},null,null,{"$f":"IF(LEN(A2251)>0,VLOOKUP(A2251,Subcontractors!$A$2:$B$3,2,FALSE),\"\")","v":""},null,{"$f":"IF(LEN(A2251)>0,VLOOKUP(A2251,Subcontractors!$A$2:$B$2,2,FALSE),\"\")","v":""}]
[null,null,null,null,null,null,null,null,null,null,null,null,null,null,null,null,null,null,null,null,null,{"$f":"IF(LEN(X2254)>0,VLOOKUP(X2254,'TFW Programs'!$A$2:$B$24,2,FALSE),\"\")","v":""},null,null,{"$f":"IF(LEN(A2254)>0,VLOOKUP(A2254,Subcontractors!$A$2:$B$3,2,FALSE),\"\")","v":""},null,{"$f":"IF(LEN(A2254)>0,VLOOKUP(A2254,Subcontractors!$A$2:$B$2,2,FALSE),\"\")","v":""}]
[null,null,null,null,null,null,null,null,null,null,null,null,null,null,null,null,null,null,null,null,null,{"$f":"IF(LEN(X2259)>0,VLOOKUP(X2259,'TFW Programs'!$A$2:$B$24,2,FALSE),\"\")","v":""},null,null,{"$f":"IF(LEN(A2259)>0,VLOOKUP(A2259,Subcontractors!$A$2:$B$3,2,FALSE),\"\")","v":""},null,{"$f":"IF(LEN(A2259)>0,VLOOKUP(A2259,Subcontractors!$A$2:$B$2,2,FALSE),\"\")","v":""}]
[null,null,null,null,null,null,null,null,null,null,null,null,null,null,null,null,null,null,null,null,null,{"$f":"IF(LEN(X2264)>0,VLOOKUP(X2264,'TFW Programs'!$A$2:$B$24,2,FALSE),\"\")","v":""},null,null,{"$f":"IF(LEN(A2264)>0,VLOOKUP(A2264,Subcontractors!$A$2:$B$3,2,FALSE),\"\")","v":""},null,{"$f":"IF(LEN(A2264)>0,VLOOKUP(A2264,Subcontractors!$A$2:$B$2,2,FALSE),\"\")","v":""}]
[null,null,null,null,null,null,null,null,null,null,null,null,null,null,null,null,null,null,null,null,null,{"$f":"IF(LEN(X2265)>0,VLOOKUP(X2265,'TFW Programs'!$A$2:$B$24,2,FALSE),\"\")","v":""},null,null,{"$f":"IF(LEN(A2265)>0,VLOOKUP(A2265,Subcontractors!$A$2:$B$3,2,FALSE),\"\")","v":""},null,{"$f":"IF(LEN(A2265)>0,VLOOKUP(A2265,Subcontractors!$A$2:$B$2,2,FALSE),\"\")","v":""}]
[null,null,null,null,null,null,null,null,null,null,null,null,null,null,null,null,null,null,null,null,null,{"$f":"IF(LEN(X2269)>0,VLOOKUP(X2269,'TFW Programs'!$A$2:$B$24,2,FALSE),\"\")","v":""},null,null,{"$f":"IF(LEN(A2269)>0,VLOOKUP(A2269,Subcontractors!$A$2:$B$3,2,FALSE),\"\")","v":""},null,{"$f":"IF(LEN(A2269)>0,VLOOKUP(A2269,Subcontractors!$A$2:$B$2,2,FALSE),\"\")","v":""}]
[null,null,null,null,null,null,null,null,null,null,null,null,null,null,null,null,null,null,null,null,null,{"$f":"IF(LEN(X2274)>0,VLOOKUP(X2274,'TFW Programs'!$A$2:$B$24,2,FALSE),\"\")","v":""},null,null,{"$f":"IF(LEN(A2274)>0,VLOOKUP(A2274,Subcontractors!$A$2:$B$3,2,FALSE),\"\")","v":""},null,{"$f":"IF(LEN(A2274)>0,VLOOKUP(A2274,Subcontractors!$A$2:$B$2,2,FALSE),\"\")","v":""}]
[null,null,null,null,null,null,null,null,null,null,null,null,null,null,null,null,null,null,null,null,null,{"$f":"IF(LEN(X2279)>0,VLOOKUP(X2279,'TFW Programs'!$A$2:$B$24,2,FALSE),\"\")","v":""},null,null,{"$f":"IF(LEN(A2279)>0,VLOOKUP(A2279,Subcontractors!$A$2:$B$3,2,FALSE),\"\")","v":""},null,{"$f":"IF(LEN(A2279)>0,VLOOKUP(A2279,Subcontractors!$A$2:$B$2,2,FALSE),\"\")","v":""}]
[null,null,null,null,null,null,null,null,null,null,null,null,null,null,null,null,null,null,null,null,null,{"$f":"IF(LEN(X2280)>0,VLOOKUP(X2280,'TFW Programs'!$A$2:$B$24,2,FALSE),\"\")","v":""},null,null,{"$f":"IF(LEN(A2280)>0,VLOOKUP(A2280,Subcontractors!$A$2:$B$3,2,FALSE),\"\")","v":""},null,{"$f":"IF(LEN(A2280)>0,VLOOKUP(A2280,Subcontractors!$A$2:$B$2,2,FALSE),\"\")","v":""}]
[null,null,null,null,null,null,null,null,null,null,null,null,null,null,null,null,null,null,null,null,null,{"$f":"IF(LEN(X2285)>0,VLOOKUP(X2285,'TFW Programs'!$A$2:$B$24,2,FALSE),\"\")","v":""},null,null,{"$f":"IF(LEN(A2285)>0,VLOOKUP(A2285,Subcontractors!$A$2:$B$3,2,FALSE),\"\")","v":""},null,{"$f":"IF(LEN(A2285)>0,VLOOKUP(A2285,Subcontractors!$A$2:$B$2,2,FALSE),\"\")","v":""}]
[null,null,null,null,null,null,null,null,null,null,null,null,null,null,null,null,null,null,null,null,null,{"$f":"IF(LEN(X2289)>0,VLOOKUP(X2289,'TFW Programs'!$A$2:$B$24,2,FALSE),\"\")","v":""},null,null,{"$f":"IF(LEN(A2289)>0,VLOOKUP(A2289,Subcontractors!$A$2:$B$3,2,FALSE),\"\")","v":""},null,{"$f":"IF(LEN(A2289)>0,VLOOKUP(A2289,Subcontractors!$A$2:$B$2,2,FALSE),\"\")","v":""}]
[null,null,null,null,null,null,null,null,null,null,null,null,null,null,null,null,null,null,null,null,null,{"$f":"IF(LEN(X2294)>0,VLOOKUP(X2294,'TFW Programs'!$A$2:$B$24,2,FALSE),\"\")","v":""},null,null,{"$f":"IF(LEN(A2294)>0,VLOOKUP(A2294,Subcontractors!$A$2:$B$3,2,FALSE),\"\")","v":""},null,{"$f":"IF(LEN(A2294)>0,VLOOKUP(A2294,Subcontractors!$A$2:$B$2,2,FALSE),\"\")","v":""}]
[null,null,null,null,null,null,null,null,null,null,null,null,null,null,null,null,null,null,null,null,null,{"$f":"IF(LEN(X2295)>0,VLOOKUP(X2295,'TFW Programs'!$A$2:$B$24,2,FALSE),\"\")","v":""},null,null,{"$f":"IF(LEN(A2295)>0,VLOOKUP(A2295,Subcontractors!$A$2:$B$3,2,FALSE),\"\")","v":""},null,{"$f":"IF(LEN(A2295)>0,VLOOKUP(A2295,Subcontractors!$A$2:$B$2,2,FALSE),\"\")","v":""}]
[null,null,null,null,null,null,null,null,null,null,null,null,null,null,null,null,null,null,null,null,null,{"$f":"IF(LEN(X2300)>0,VLOOKUP(X2300,'TFW Programs'!$A$2:$B$24,2,FALSE),\"\")","v":""},null,null,{"$f":"IF(LEN(A2300)>0,VLOOKUP(A2300,Subcontractors!$A$2:$B$3,2,FALSE),\"\")","v":""},null,{"$f":"IF(LEN(A2300)>0,VLOOKUP(A2300,Subcontractors!$A$2:$B$2,2,FALSE),\"\")","v":""}]
[null,null,null,null,null,null,null,null,null,null,null,null,null,null,null,null,null,null,null,null,null,{"$f":"IF(LEN(X2303)>0,VLOOKUP(X2303,'TFW Programs'!$A$2:$B$24,2,FALSE),\"\")","v":""},null,null,{"$f":"IF(LEN(A2303)>0,VLOOKUP(A2303,Subcontractors!$A$2:$B$3,2,FALSE),\"\")","v":""},null,{"$f":"IF(LEN(A2303)>0,VLOOKUP(A2303,Subcontractors!$A$2:$B$2,2,FALSE),\"\")","v":""}]
[null,null,null,null,null,null,null,null,null,null,null,null,null,null,null,null,null,null,null,null,null,{"$f":"IF(LEN(X2309)>0,VLOOKUP(X2309,'TFW Programs'!$A$2:$B$24,2,FALSE),\"\")","v":""},null,null,{"$f":"IF(LEN(A2309)>0,VLOOKUP(A2309,Subcontractors!$A$2:$B$3,2,FALSE),\"\")","v":""},null,{"$f":"IF(LEN(A2309)>0,VLOOKUP(A2309,Subcontractors!$A$2:$B$2,2,FALSE),\"\")","v":""}]
[null,null,null,null,null,null,null,null,null,null,null,null,null,null,null,null,null,null,null,null,null,{"$f":"IF(LEN(X2310)>0,VLOOKUP(X2310,'TFW Programs'!$A$2:$B$24,2,FALSE),\"\")","v":""},null,null,{"$f":"IF(LEN(A2310)>0,VLOOKUP(A2310,Subcontractors!$A$2:$B$3,2,FALSE),\"\")","v":""},null,{"$f":"IF(LEN(A2310)>0,VLOOKUP(A2310,Subcontractors!$A$2:$B$2,2,FALSE),\"\")","v":""}]
[null,null,null,null,null,null,null,null,null,null,null,null,null,null,null,null,null,null,null,null,null,{"$f":"IF(LEN(X2315)>0,VLOOKUP(X2315,'TFW Programs'!$A$2:$B$24,2,FALSE),\"\")","v":""},null,null,{"$f":"IF(LEN(A2315)>0,VLOOKUP(A2315,Subcontractors!$A$2:$B$3,2,FALSE),\"\")","v":""},null,{"$f":"IF(LEN(A2315)>0,VLOOKUP(A2315,Subcontractors!$A$2:$B$2,2,FALSE),\"\")","v":""}]
[null,null,null,null,null,null,null,null,null,null,null,null,null,null,null,null,null,null,null,null,null,{"$f":"IF(LEN(X2320)>0,VLOOKUP(X2320,'TFW Programs'!$A$2:$B$24,2,FALSE),\"\")","v":""},null,null,{"$f":"IF(LEN(A2320)>0,VLOOKUP(A2320,Subcontractors!$A$2:$B$3,2,FALSE),\"\")","v":""},null,{"$f":"IF(LEN(A2320)>0,VLOOKUP(A2320,Subcontractors!$A$2:$B$2,2,FALSE),\"\")","v":""}]
[null,null,null,null,null,null,null,null,null,null,null,null,null,null,null,null,null,null,null,null,null,{"$f":"IF(LEN(X2324)>0,VLOOKUP(X2324,'TFW Programs'!$A$2:$B$24,2,FALSE),\"\")","v":""},null,null,{"$f":"IF(LEN(A2324)>0,VLOOKUP(A2324,Subcontractors!$A$2:$B$3,2,FALSE),\"\")","v":""},null,{"$f":"IF(LEN(A2324)>0,VLOOKUP(A2324,Subcontractors!$A$2:$B$2,2,FALSE),\"\")","v":""}]
[null,null,null,null,null,null,null,null,null,null,null,null,null,null,null,null,null,null,null,null,null,{"$f":"IF(LEN(X2325)>0,VLOOKUP(X2325,'TFW Programs'!$A$2:$B$24,2,FALSE),\"\")","v":""},null,null,{"$f":"IF(LEN(A2325)>0,VLOOKUP(A2325,Subcontractors!$A$2:$B$3,2,FALSE),\"\")","v":""},null,{"$f":"IF(LEN(A2325)>0,VLOOKUP(A2325,Subcontractors!$A$2:$B$2,2,FALSE),\"\")","v":""}]
[null,null,null,null,null,null,null,null,null,null,null,null,null,null,null,null,null,null,null,null,null,{"$f":"IF(LEN(X2330)>0,VLOOKUP(X2330,'TFW Programs'!$A$2:$B$24,2,FALSE),\"\")","v":""},null,null,{"$f":"IF(LEN(A2330)>0,VLOOKUP(A2330,Subcontractors!$A$2:$B$3,2,FALSE),\"\")","v":""},null,{"$f":"IF(LEN(A2330)>0,VLOOKUP(A2330,Subcontractors!$A$2:$B$2,2,FALSE),\"\")","v":""}]
[null,null,null,null,null,null,null,null,null,null,null,null,null,null,null,null,null,null,null,null,null,{"$f":"IF(LEN(X2333)>0,VLOOKUP(X2333,'TFW Programs'!$A$2:$B$24,2,FALSE),\"\")","v":""},null,null,{"$f":"IF(LEN(A2333)>0,VLOOKUP(A2333,Subcontractors!$A$2:$B$3,2,FALSE),\"\")","v":""},null,{"$f":"IF(LEN(A2333)>0,VLOOKUP(A2333,Subcontractors!$A$2:$B$2,2,FALSE),\"\")","v":""}]
[null,null,null,null,null,null,null,null,null,null,null,null,null,null,null,null,null,null,null,null,null,{"$f":"IF(LEN(X2339)>0,VLOOKUP(X2339,'TFW Programs'!$A$2:$B$24,2,FALSE),\"\")","v":""},null,null,{"$f":"IF(LEN(A2339)>0,VLOOKUP(A2339,Subcontractors!$A$2:$B$3,2,FALSE),\"\")","v":""},null,{"$f":"IF(LEN(A2339)>0,VLOOKUP(A2339,Subcontractors!$A$2:$B$2,2,FALSE),\"\")","v":""}]
[null,null,null,null,null,null,null,null,null,null,null,null,null,null,null,null,null,null,null,null,null,{"$f":"IF(LEN(X2340)>0,VLOOKUP(X2340,'TFW Programs'!$A$2:$B$24,2,FALSE),\"\")","v":""},null,null,{"$f":"IF(LEN(A2340)>0,VLOOKUP(A2340,Subcontractors!$A$2:$B$3,2,FALSE),\"\")","v":""},null,{"$f":"IF(LEN(A2340)>0,VLOOKUP(A2340,Subcontractors!$A$2:$B$2,2,FALSE),\"\")","v":""}]
[null,null,null,null,null,null,null,null,null,null,null,null,null,null,null,null,null,null,null,null,null,{"$f":"IF(LEN(X2345)>0,VLOOKUP(X2345,'TFW Programs'!$A$2:$B$24,2,FALSE),\"\")","v":""},null,null,{"$f":"IF(LEN(A2345)>0,VLOOKUP(A2345,Subcontractors!$A$2:$B$3,2,FALSE),\"\")","v":""},null,{"$f":"IF(LEN(A2345)>0,VLOOKUP(A2345,Subcontractors!$A$2:$B$2,2,FALSE),\"\")","v":""}]
[null,null,null,null,null,null,null,null,null,null,null,null,null,null,null,null,null,null,null,null,null,{"$f":"IF(LEN(X2350)>0,VLOOKUP(X2350,'TFW Programs'!$A$2:$B$24,2,FALSE),\"\")","v":""},null,null,{"$f":"IF(LEN(A2350)>0,VLOOKUP(A2350,Subcontractors!$A$2:$B$3,2,FALSE),\"\")","v":""},null,{"$f":"IF(LEN(A2350)>0,VLOOKUP(A2350,Subcontractors!$A$2:$B$2,2,FALSE),\"\")","v":""}]
[null,null,null,null,null,null,null,null,null,null,null,null,null,null,null,null,null,null,null,null,null,{"$f":"IF(LEN(X2354)>0,VLOOKUP(X2354,'TFW Programs'!$A$2:$B$24,2,FALSE),\"\")","v":""},null,null,{"$f":"IF(LEN(A2354)>0,VLOOKUP(A2354,Subcontractors!$A$2:$B$3,2,FALSE),\"\")","v":""},null,{"$f":"IF(LEN(A2354)>0,VLOOKUP(A2354,Subcontractors!$A$2:$B$2,2,FALSE),\"\")","v":""}]
[null,null,null,null,null,null,null,null,null,null,null,null,null,null,null,null,null,null,null,null,null,{"$f":"IF(LEN(X2355)>0,VLOOKUP(X2355,'TFW Programs'!$A$2:$B$24,2,FALSE),\"\")","v":""},null,null,{"$f":"IF(LEN(A2355)>0,VLOOKUP(A2355,Subcontractors!$A$2:$B$3,2,FALSE),\"\")","v":""},null,{"$f":"IF(LEN(A2355)>0,VLOOKUP(A2355,Subcontractors!$A$2:$B$2,2,FALSE),\"\")","v":""}]
[null,null,null,null,null,null,null,null,null,null,null,null,null,null,null,null,null,null,null,null,null,{"$f":"IF(LEN(X2360)>0,VLOOKUP(X2360,'TFW Programs'!$A$2:$B$24,2,FALSE),\"\")","v":""},null,null,{"$f":"IF(LEN(A2360)>0,VLOOKUP(A2360,Subcontractors!$A$2:$B$3,2,FALSE),\"\")","v":""},null,{"$f":"IF(LEN(A2360)>0,VLOOKUP(A2360,Subcontractors!$A$2:$B$2,2,FALSE),\"\")","v":""}]
[null,null,null,null,null,null,null,null,null,null,null,null,null,null,null,null,null,null,null,null,null,{"$f":"IF(LEN(X2365)>0,VLOOKUP(X2365,'TFW Programs'!$A$2:$B$24,2,FALSE),\"\")","v":""},null,null,{"$f":"IF(LEN(A2365)>0,VLOOKUP(A2365,Subcontractors!$A$2:$B$3,2,FALSE),\"\")","v":""},null,{"$f":"IF(LEN(A2365)>0,VLOOKUP(A2365,Subcontractors!$A$2:$B$2,2,FALSE),\"\")","v":""}]
[null,null,null,null,null,null,null,null,null,null,null,null,null,null,null,null,null,null,null,null,null,{"$f":"IF(LEN(X2368)>0,VLOOKUP(X2368,'TFW Programs'!$A$2:$B$24,2,FALSE),\"\")","v":""},null,null,{"$f":"IF(LEN(A2368)>0,VLOOKUP(A2368,Subcontractors!$A$2:$B$3,2,FALSE),\"\")","v":""},null,{"$f":"IF(LEN(A2368)>0,VLOOKUP(A2368,Subcontractors!$A$2:$B$2,2,FALSE),\"\")","v":""}]
[null,null,null,null,null,null,null,null,null,null,null,null,null,null,null,null,null,null,null,null,null,{"$f":"IF(LEN(X2370)>0,VLOOKUP(X2370,'TFW Programs'!$A$2:$B$24,2,FALSE),\"\")","v":""},null,null,{"$f":"IF(LEN(A2370)>0,VLOOKUP(A2370,Subcontractors!$A$2:$B$3,2,FALSE),\"\")","v":""},null,{"$f":"IF(LEN(A2370)>0,VLOOKUP(A2370,Subcontractors!$A$2:$B$2,2,FALSE),\"\")","v":""}]
[null,null,null,null,null,null,null,null,null,null,null,null,null,null,null,null,null,null,null,null,null,{"$f":"IF(LEN(X2375)>0,VLOOKUP(X2375,'TFW Programs'!$A$2:$B$24,2,FALSE),\"\")","v":""},null,null,{"$f":"IF(LEN(A2375)>0,VLOOKUP(A2375,Subcontractors!$A$2:$B$3,2,FALSE),\"\")","v":""},null,{"$f":"IF(LEN(A2375)>0,VLOOKUP(A2375,Subcontractors!$A$2:$B$2,2,FALSE),\"\")","v":""}]
[null,null,null,null,null,null,null,null,null,null,null,null,null,null,null,null,null,null,null,null,null,{"$f":"IF(LEN(X2380)>0,VLOOKUP(X2380,'TFW Programs'!$A$2:$B$24,2,FALSE),\"\")","v":""},null,null,{"$f":"IF(LEN(A2380)>0,VLOOKUP(A2380,Subcontractors!$A$2:$B$3,2,FALSE),\"\")","v":""},null,{"$f":"IF(LEN(A2380)>0,VLOOKUP(A2380,Subcontractors!$A$2:$B$2,2,FALSE),\"\")","v":""}]
[null,null,null,null,null,null,null,null,null,null,null,null,null,null,null,null,null,null,null,null,null,{"$f":"IF(LEN(X2385)>0,VLOOKUP(X2385,'TFW Programs'!$A$2:$B$24,2,FALSE),\"\")","v":""},null,null,{"$f":"IF(LEN(A2385)>0,VLOOKUP(A2385,Subcontractors!$A$2:$B$3,2,FALSE),\"\")","v":""},null,{"$f":"IF(LEN(A2385)>0,VLOOKUP(A2385,Subcontractors!$A$2:$B$2,2,FALSE),\"\")","v":""}]
[null,null,null,null,null,null,null,null,null,null,null,null,null,null,null,null,null,null,null,null,null,{"$f":"IF(LEN(X2386)>0,VLOOKUP(X2386,'TFW Programs'!$A$2:$B$24,2,FALSE),\"\")","v":""},null,null,{"$f":"IF(LEN(A2386)>0,VLOOKUP(A2386,Subcontractors!$A$2:$B$3,2,FALSE),\"\")","v":""},null,{"$f":"IF(LEN(A2386)>0,VLOOKUP(A2386,Subcontractors!$A$2:$B$2,2,FALSE),\"\")","v":""}]
[null,null,null,null,null,null,null,null,null,null,null,null,null,null,null,null,null,null,null,null,null,{"$f":"IF(LEN(X2390)>0,VLOOKUP(X2390,'TFW Programs'!$A$2:$B$24,2,FALSE),\"\")","v":""},null,null,{"$f":"IF(LEN(A2390)>0,VLOOKUP(A2390,Subcontractors!$A$2:$B$3,2,FALSE),\"\")","v":""},null,{"$f":"IF(LEN(A2390)>0,VLOOKUP(A2390,Subcontractors!$A$2:$B$2,2,FALSE),\"\")","v":""}]
[null,null,null,null,null,null,null,null,null,null,null,null,null,null,null,null,null,null,null,null,null,{"$f":"IF(LEN(X2395)>0,VLOOKUP(X2395,'TFW Programs'!$A$2:$B$24,2,FALSE),\"\")","v":""},null,null,{"$f":"IF(LEN(A2395)>0,VLOOKUP(A2395,Subcontractors!$A$2:$B$3,2,FALSE),\"\")","v":""},null,{"$f":"IF(LEN(A2395)>0,VLOOKUP(A2395,Subcontractors!$A$2:$B$2,2,FALSE),\"\")","v":""}]
[null,null,null,null,null,null,null,null,null,null,null,null,null,null,null,null,null,null,null,null,null,{"$f":"IF(LEN(X2400)>0,VLOOKUP(X2400,'TFW Programs'!$A$2:$B$24,2,FALSE),\"\")","v":""},null,null,{"$f":"IF(LEN(A2400)>0,VLOOKUP(A2400,Subcontractors!$A$2:$B$3,2,FALSE),\"\")","v":""},null,{"$f":"IF(LEN(A2400)>0,VLOOKUP(A2400,Subcontractors!$A$2:$B$2,2,FALSE),\"\")","v":""}]
[null,null,null,null,null,null,null,null,null,null,null,null,null,null,null,null,null,null,null,null,null,{"$f":"IF(LEN(X2402)>0,VLOOKUP(X2402,'TFW Programs'!$A$2:$B$24,2,FALSE),\"\")","v":""},null,null,{"$f":"IF(LEN(A2402)>0,VLOOKUP(A2402,Subcontractors!$A$2:$B$3,2,FALSE),\"\")","v":""},null,{"$f":"IF(LEN(A2402)>0,VLOOKUP(A2402,Subcontractors!$A$2:$B$2,2,FALSE),\"\")","v":""}]
[null,null,null,null,null,null,null,null,null,null,null,null,null,null,null,null,null,null,null,null,null,{"$f":"IF(LEN(X2405)>0,VLOOKUP(X2405,'TFW Programs'!$A$2:$B$24,2,FALSE),\"\")","v":""},null,null,{"$f":"IF(LEN(A2405)>0,VLOOKUP(A2405,Subcontractors!$A$2:$B$3,2,FALSE),\"\")","v":""},null,{"$f":"IF(LEN(A2405)>0,VLOOKUP(A2405,Subcontractors!$A$2:$B$2,2,FALSE),\"\")","v":""}]
[null,null,null,null,null,null,null,null,null,null,null,null,null,null,null,null,null,null,null,null,null,{"$f":"IF(LEN(X2410)>0,VLOOKUP(X2410,'TFW Programs'!$A$2:$B$24,2,FALSE),\"\")","v":""},null,null,{"$f":"IF(LEN(A2410)>0,VLOOKUP(A2410,Subcontractors!$A$2:$B$3,2,FALSE),\"\")","v":""},null,{"$f":"IF(LEN(A2410)>0,VLOOKUP(A2410,Subcontractors!$A$2:$B$2,2,FALSE),\"\")","v":""}]
[null,null,null,null,null,null,null,null,null,null,null,null,null,null,null,null,null,null,null,null,null,{"$f":"IF(LEN(X2415)>0,VLOOKUP(X2415,'TFW Programs'!$A$2:$B$24,2,FALSE),\"\")","v":""},null,null,{"$f":"IF(LEN(A2415)>0,VLOOKUP(A2415,Subcontractors!$A$2:$B$3,2,FALSE),\"\")","v":""},null,{"$f":"IF(LEN(A2415)>0,VLOOKUP(A2415,Subcontractors!$A$2:$B$2,2,FALSE),\"\")","v":""}]
[null,null,null,null,null,null,null,null,null,null,null,null,null,null,null,null,null,null,null,null,null,{"$f":"IF(LEN(X2416)>0,VLOOKUP(X2416,'TFW Programs'!$A$2:$B$24,2,FALSE),\"\")","v":""},null,null,{"$f":"IF(LEN(A2416)>0,VLOOKUP(A2416,Subcontractors!$A$2:$B$3,2,FALSE),\"\")","v":""},null,{"$f":"IF(LEN(A2416)>0,VLOOKUP(A2416,Subcontractors!$A$2:$B$2,2,FALSE),\"\")","v":""}]
[null,null,null,null,null,null,null,null,null,null,null,null,null,null,null,null,null,null,null,null,null,{"$f":"IF(LEN(X2420)>0,VLOOKUP(X2420,'TFW Programs'!$A$2:$B$24,2,FALSE),\"\")","v":""},null,null,{"$f":"IF(LEN(A2420)>0,VLOOKUP(A2420,Subcontractors!$A$2:$B$3,2,FALSE),\"\")","v":""},null,{"$f":"IF(LEN(A2420)>0,VLOOKUP(A2420,Subcontractors!$A$2:$B$2,2,FALSE),\"\")","v":""}]
[null,null,null,null,null,null,null,null,null,null,null,null,null,null,null,null,null,null,null,null,null,{"$f":"IF(LEN(X2425)>0,VLOOKUP(X2425,'TFW Programs'!$A$2:$B$24,2,FALSE),\"\")","v":""},null,null,{"$f":"IF(LEN(A2425)>0,VLOOKUP(A2425,Subcontractors!$A$2:$B$3,2,FALSE),\"\")","v":""},null,{"$f":"IF(LEN(A2425)>0,VLOOKUP(A2425,Subcontractors!$A$2:$B$2,2,FALSE),\"\")","v":""}]
[null,null,null,null,null,null,null,null,null,null,null,null,null,null,null,null,null,null,null,null,null,{"$f":"IF(LEN(X2430)>0,VLOOKUP(X2430,'TFW Programs'!$A$2:$B$24,2,FALSE),\"\")","v":""},null,null,{"$f":"IF(LEN(A2430)>0,VLOOKUP(A2430,Subcontractors!$A$2:$B$3,2,FALSE),\"\")","v":""},null,{"$f":"IF(LEN(A2430)>0,VLOOKUP(A2430,Subcontractors!$A$2:$B$2,2,FALSE),\"\")","v":""}]
[null,null,null,null,null,null,null,null,null,null,null,null,null,null,null,null,null,null,null,null,null,{"$f":"IF(LEN(X2431)>0,VLOOKUP(X2431,'TFW Programs'!$A$2:$B$24,2,FALSE),\"\")","v":""},null,null,{"$f":"IF(LEN(A2431)>0,VLOOKUP(A2431,Subcontractors!$A$2:$B$3,2,FALSE),\"\")","v":""},null,{"$f":"IF(LEN(A2431)>0,VLOOKUP(A2431,Subcontractors!$A$2:$B$2,2,FALSE),\"\")","v":""}]
[null,null,null,null,null,null,null,null,null,null,null,null,null,null,null,null,null,null,null,null,null,{"$f":"IF(LEN(X2437)>0,VLOOKUP(X2437,'TFW Programs'!$A$2:$B$24,2,FALSE),\"\")","v":""},null,null,{"$f":"IF(LEN(A2437)>0,VLOOKUP(A2437,Subcontractors!$A$2:$B$3,2,FALSE),\"\")","v":""},null,{"$f":"IF(LEN(A2437)>0,VLOOKUP(A2437,Subcontractors!$A$2:$B$2,2,FALSE),\"\")","v":""}]
[null,null,null,null,null,null,null,null,null,null,null,null,null,null,null,null,null,null,null,null,null,{"$f":"IF(LEN(X2440)>0,VLOOKUP(X2440,'TFW Programs'!$A$2:$B$24,2,FALSE),\"\")","v":""},null,null,{"$f":"IF(LEN(A2440)>0,VLOOKUP(A2440,Subcontractors!$A$2:$B$3,2,FALSE),\"\")","v":""},null,{"$f":"IF(LEN(A2440)>0,VLOOKUP(A2440,Subcontractors!$A$2:$B$2,2,FALSE),\"\")","v":""}]
[null,null,null,null,null,null,null,null,null,null,null,null,null,null,null,null,null,null,null,null,null,{"$f":"IF(LEN(X2445)>0,VLOOKUP(X2445,'TFW Programs'!$A$2:$B$24,2,FALSE),\"\")","v":""},null,null,{"$f":"IF(LEN(A2445)>0,VLOOKUP(A2445,Subcontractors!$A$2:$B$3,2,FALSE),\"\")","v":""},null,{"$f":"IF(LEN(A2445)>0,VLOOKUP(A2445,Subcontractors!$A$2:$B$2,2,FALSE),\"\")","v":""}]
[null,null,null,null,null,null,null,null,null,null,null,null,null,null,null,null,null,null,null,null,null,{"$f":"IF(LEN(X2446)>0,VLOOKUP(X2446,'TFW Programs'!$A$2:$B$24,2,FALSE),\"\")","v":""},null,null,{"$f":"IF(LEN(A2446)>0,VLOOKUP(A2446,Subcontractors!$A$2:$B$3,2,FALSE),\"\")","v":""},null,{"$f":"IF(LEN(A2446)>0,VLOOKUP(A2446,Subcontractors!$A$2:$B$2,2,FALSE),\"\")","v":""}]
[null,null,null,null,null,null,null,null,null,null,null,null,null,null,null,null,null,null,null,null,null,{"$f":"IF(LEN(X2450)>0,VLOOKUP(X2450,'TFW Programs'!$A$2:$B$24,2,FALSE),\"\")","v":""},null,null,{"$f":"IF(LEN(A2450)>0,VLOOKUP(A2450,Subcontractors!$A$2:$B$3,2,FALSE),\"\")","v":""},null,{"$f":"IF(LEN(A2450)>0,VLOOKUP(A2450,Subcontractors!$A$2:$B$2,2,FALSE),\"\")","v":""}]
[null,null,null,null,null,null,null,null,null,null,null,null,null,null,null,null,null,null,null,null,null,{"$f":"IF(LEN(X2455)>0,VLOOKUP(X2455,'TFW Programs'!$A$2:$B$24,2,FALSE),\"\")","v":""},null,null,{"$f":"IF(LEN(A2455)>0,VLOOKUP(A2455,Subcontractors!$A$2:$B$3,2,FALSE),\"\")","v":""},null,{"$f":"IF(LEN(A2455)>0,VLOOKUP(A2455,Subcontractors!$A$2:$B$2,2,FALSE),\"\")","v":""}]
[null,null,null,null,null,null,null,null,null,null,null,null,null,null,null,null,null,null,null,null,null,{"$f":"IF(LEN(X2460)>0,VLOOKUP(X2460,'TFW Programs'!$A$2:$B$24,2,FALSE),\"\")","v":""},null,null,{"$f":"IF(LEN(A2460)>0,VLOOKUP(A2460,Subcontractors!$A$2:$B$3,2,FALSE),\"\")","v":""},null,{"$f":"IF(LEN(A2460)>0,VLOOKUP(A2460,Subcontractors!$A$2:$B$2,2,FALSE),\"\")","v":""}]
[null,null,null,null,null,null,null,null,null,null,null,null,null,null,null,null,null,null,null,null,null,{"$f":"IF(LEN(X2461)>0,VLOOKUP(X2461,'TFW Programs'!$A$2:$B$24,2,FALSE),\"\")","v":""},null,null,{"$f":"IF(LEN(A2461)>0,VLOOKUP(A2461,Subcontractors!$A$2:$B$3,2,FALSE),\"\")","v":""},null,{"$f":"IF(LEN(A2461)>0,VLOOKUP(A2461,Subcontractors!$A$2:$B$2,2,FALSE),\"\")","v":""}]
[null,null,null,null,null,null,null,null,null,null,null,null,null,null,null,null,null,null,null,null,null,{"$f":"IF(LEN(X2466)>0,VLOOKUP(X2466,'TFW Programs'!$A$2:$B$24,2,FALSE),\"\")","v":""},null,null,{"$f":"IF(LEN(A2466)>0,VLOOKUP(A2466,Subcontractors!$A$2:$B$3,2,FALSE),\"\")","v":""},null,{"$f":"IF(LEN(A2466)>0,VLOOKUP(A2466,Subcontractors!$A$2:$B$2,2,FALSE),\"\")","v":""}]
[null,null,null,null,null,null,null,null,null,null,null,null,null,null,null,null,null,null,null,null,null,{"$f":"IF(LEN(X2471)>0,VLOOKUP(X2471,'TFW Programs'!$A$2:$B$24,2,FALSE),\"\")","v":""},null,null,{"$f":"IF(LEN(A2471)>0,VLOOKUP(A2471,Subcontractors!$A$2:$B$3,2,FALSE),\"\")","v":""},null,{"$f":"IF(LEN(A2471)>0,VLOOKUP(A2471,Subcontractors!$A$2:$B$2,2,FALSE),\"\")","v":""}]
[null,null,null,null,null,null,null,null,null,null,null,null,null,null,null,null,null,null,null,null,null,{"$f":"IF(LEN(X2475)>0,VLOOKUP(X2475,'TFW Programs'!$A$2:$B$24,2,FALSE),\"\")","v":""},null,null,{"$f":"IF(LEN(A2475)>0,VLOOKUP(A2475,Subcontractors!$A$2:$B$3,2,FALSE),\"\")","v":""},null,{"$f":"IF(LEN(A2475)>0,VLOOKUP(A2475,Subcontractors!$A$2:$B$2,2,FALSE),\"\")","v":""}]
[null,null,null,null,null,null,null,null,null,null,null,null,null,null,null,null,null,null,null,null,null,{"$f":"IF(LEN(X2476)>0,VLOOKUP(X2476,'TFW Programs'!$A$2:$B$24,2,FALSE),\"\")","v":""},null,null,{"$f":"IF(LEN(A2476)>0,VLOOKUP(A2476,Subcontractors!$A$2:$B$3,2,FALSE),\"\")","v":""},null,{"$f":"IF(LEN(A2476)>0,VLOOKUP(A2476,Subcontractors!$A$2:$B$2,2,FALSE),\"\")","v":""}]
[null,null,null,null,null,null,null,null,null,null,null,null,null,null,null,null,null,null,null,null,null,{"$f":"IF(LEN(X2481)>0,VLOOKUP(X2481,'TFW Programs'!$A$2:$B$24,2,FALSE),\"\")","v":""},null,null,{"$f":"IF(LEN(A2481)>0,VLOOKUP(A2481,Subcontractors!$A$2:$B$3,2,FALSE),\"\")","v":""},null,{"$f":"IF(LEN(A2481)>0,VLOOKUP(A2481,Subcontractors!$A$2:$B$2,2,FALSE),\"\")","v":""}]
[null,null,null,null,null,null,null,null,null,null,null,null,null,null,null,null,null,null,null,null,null,{"$f":"IF(LEN(X2485)>0,VLOOKUP(X2485,'TFW Programs'!$A$2:$B$24,2,FALSE),\"\")","v":""},null,null,{"$f":"IF(LEN(A2485)>0,VLOOKUP(A2485,Subcontractors!$A$2:$B$3,2,FALSE),\"\")","v":""},null,{"$f":"IF(LEN(A2485)>0,VLOOKUP(A2485,Subcontractors!$A$2:$B$2,2,FALSE),\"\")","v":""}]
[null,null,null,null,null,null,null,null,null,null,null,null,null,null,null,null,null,null,null,null,null,{"$f":"IF(LEN(X2490)>0,VLOOKUP(X2490,'TFW Programs'!$A$2:$B$24,2,FALSE),\"\")","v":""},null,null,{"$f":"IF(LEN(A2490)>0,VLOOKUP(A2490,Subcontractors!$A$2:$B$3,2,FALSE),\"\")","v":""},null,{"$f":"IF(LEN(A2490)>0,VLOOKUP(A2490,Subcontractors!$A$2:$B$2,2,FALSE),\"\")","v":""}]
[null,null,null,null,null,null,null,null,null,null,null,null,null,null,null,null,null,null,null,null,null,{"$f":"IF(LEN(X2491)>0,VLOOKUP(X2491,'TFW Programs'!$A$2:$B$24,2,FALSE),\"\")","v":""},null,null,{"$f":"IF(LEN(A2491)>0,VLOOKUP(A2491,Subcontractors!$A$2:$B$3,2,FALSE),\"\")","v":""},null,{"$f":"IF(LEN(A2491)>0,VLOOKUP(A2491,Subcontractors!$A$2:$B$2,2,FALSE),\"\")","v":""}]
[null,null,null,null,null,null,null,null,null,null,null,null,null,null,null,null,null,null,null,null,null,{"$f":"IF(LEN(X2496)>0,VLOOKUP(X2496,'TFW Programs'!$A$2:$B$24,2,FALSE),\"\")","v":""},null,null,{"$f":"IF(LEN(A2496)>0,VLOOKUP(A2496,Subcontractors!$A$2:$B$3,2,FALSE),\"\")","v":""},null,{"$f":"IF(LEN(A2496)>0,VLOOKUP(A2496,Subcontractors!$A$2:$B$2,2,FALSE),\"\")","v":""}]
[null,null,null,null,null,null,null,null,null,null,null,null,null,null,null,null,null,null,null,null,null,{"$f":"IF(LEN(X2501)>0,VLOOKUP(X2501,'TFW Programs'!$A$2:$B$24,2,FALSE),\"\")","v":""},null,null,{"$f":"IF(LEN(A2501)>0,VLOOKUP(A2501,Subcontractors!$A$2:$B$3,2,FALSE),\"\")","v":""},null,{"$f":"IF(LEN(A2501)>0,VLOOKUP(A2501,Subcontractors!$A$2:$B$2,2,FALSE),\"\")","v":""}]
[null,null,null,null,null,null,null,null,null,null,null,null,null,null,null,null,null,null,null,null,null,{"$f":"IF(LEN(X2503)>0,VLOOKUP(X2503,'TFW Programs'!$A$2:$B$24,2,FALSE),\"\")","v":""},null,null,{"$f":"IF(LEN(A2503)>0,VLOOKUP(A2503,Subcontractors!$A$2:$B$3,2,FALSE),\"\")","v":""},null,{"$f":"IF(LEN(A2503)>0,VLOOKUP(A2503,Subcontractors!$A$2:$B$2,2,FALSE),\"\")","v":""}]
[null,null,null,null,null,null,null,null,null,null,null,null,null,null,null,null,null,null,null,null,null,{"$f":"IF(LEN(X2506)>0,VLOOKUP(X2506,'TFW Programs'!$A$2:$B$24,2,FALSE),\"\")","v":""},null,null,{"$f":"IF(LEN(A2506)>0,VLOOKUP(A2506,Subcontractors!$A$2:$B$3,2,FALSE),\"\")","v":""},null,{"$f":"IF(LEN(A2506)>0,VLOOKUP(A2506,Subcontractors!$A$2:$B$2,2,FALSE),\"\")","v":""}]
[null,null,null,null,null,null,null,null,null,null,null,null,null,null,null,null,null,null,null,null,null,{"$f":"IF(LEN(X2511)>0,VLOOKUP(X2511,'TFW Programs'!$A$2:$B$24,2,FALSE),\"\")","v":""},null,null,{"$f":"IF(LEN(A2511)>0,VLOOKUP(A2511,Subcontractors!$A$2:$B$3,2,FALSE),\"\")","v":""},null,{"$f":"IF(LEN(A2511)>0,VLOOKUP(A2511,Subcontractors!$A$2:$B$2,2,FALSE),\"\")","v":""}]
[null,null,null,null,null,null,null,null,null,null,null,null,null,null,null,null,null,null,null,null,null,{"$f":"IF(LEN(X2516)>0,VLOOKUP(X2516,'TFW Programs'!$A$2:$B$24,2,FALSE),\"\")","v":""},null,null,{"$f":"IF(LEN(A2516)>0,VLOOKUP(A2516,Subcontractors!$A$2:$B$3,2,FALSE),\"\")","v":""},null,{"$f":"IF(LEN(A2516)>0,VLOOKUP(A2516,Subcontractors!$A$2:$B$2,2,FALSE),\"\")","v":""}]
[null,null,null,null,null,null,null,null,null,null,null,null,null,null,null,null,null,null,null,null,null,{"$f":"IF(LEN(X2519)>0,VLOOKUP(X2519,'TFW Programs'!$A$2:$B$24,2,FALSE),\"\")","v":""},null,null,{"$f":"IF(LEN(A2519)>0,VLOOKUP(A2519,Subcontractors!$A$2:$B$3,2,FALSE),\"\")","v":""},null,{"$f":"IF(LEN(A2519)>0,VLOOKUP(A2519,Subcontractors!$A$2:$B$2,2,FALSE),\"\")","v":""}]
[null,null,null,null,null,null,null,null,null,null,null,null,null,null,null,null,null,null,null,null,null,{"$f":"IF(LEN(X2521)>0,VLOOKUP(X2521,'TFW Programs'!$A$2:$B$24,2,FALSE),\"\")","v":""},null,null,{"$f":"IF(LEN(A2521)>0,VLOOKUP(A2521,Subcontractors!$A$2:$B$3,2,FALSE),\"\")","v":""},null,{"$f":"IF(LEN(A2521)>0,VLOOKUP(A2521,Subcontractors!$A$2:$B$2,2,FALSE),\"\")","v":""}]
[null,null,null,null,null,null,null,null,null,null,null,null,null,null,null,null,null,null,null,null,null,{"$f":"IF(LEN(X2526)>0,VLOOKUP(X2526,'TFW Programs'!$A$2:$B$24,2,FALSE),\"\")","v":""},null,null,{"$f":"IF(LEN(A2526)>0,VLOOKUP(A2526,Subcontractors!$A$2:$B$3,2,FALSE),\"\")","v":""},null,{"$f":"IF(LEN(A2526)>0,VLOOKUP(A2526,Subcontractors!$A$2:$B$2,2,FALSE),\"\")","v":""}]
[null,null,null,null,null,null,null,null,null,null,null,null,null,null,null,null,null,null,null,null,null,{"$f":"IF(LEN(X2531)>0,VLOOKUP(X2531,'TFW Programs'!$A$2:$B$24,2,FALSE),\"\")","v":""},null,null,{"$f":"IF(LEN(A2531)>0,VLOOKUP(A2531,Subcontractors!$A$2:$B$3,2,FALSE),\"\")","v":""},null,{"$f":"IF(LEN(A2531)>0,VLOOKUP(A2531,Subcontractors!$A$2:$B$2,2,FALSE),\"\")","v":""}]
[null,null,null,null,null,null,null,null,null,null,null,null,null,null,null,null,null,null,null,null,null,{"$f":"IF(LEN(X2536)>0,VLOOKUP(X2536,'TFW Programs'!$A$2:$B$24,2,FALSE),\"\")","v":""},null,null,{"$f":"IF(LEN(A2536)>0,VLOOKUP(A2536,Subcontractors!$A$2:$B$3,2,FALSE),\"\")","v":""},null,{"$f":"IF(LEN(A2536)>0,VLOOKUP(A2536,Subcontractors!$A$2:$B$2,2,FALSE),\"\")","v":""}]
[null,null,null,null,null,null,null,null,null,null,null,null,null,null,null,null,null,null,null,null,null,{"$f":"IF(LEN(X2537)>0,VLOOKUP(X2537,'TFW Programs'!$A$2:$B$24,2,FALSE),\"\")","v":""},null,null,{"$f":"IF(LEN(A2537)>0,VLOOKUP(A2537,Subcontractors!$A$2:$B$3,2,FALSE),\"\")","v":""},null,{"$f":"IF(LEN(A2537)>0,VLOOKUP(A2537,Subcontractors!$A$2:$B$2,2,FALSE),\"\")","v":""}]
[null,null,null,null,null,null,null,null,null,null,null,null,null,null,null,null,null,null,null,null,null,{"$f":"IF(LEN(X2541)>0,VLOOKUP(X2541,'TFW Programs'!$A$2:$B$24,2,FALSE),\"\")","v":""},null,null,{"$f":"IF(LEN(A2541)>0,VLOOKUP(A2541,Subcontractors!$A$2:$B$3,2,FALSE),\"\")","v":""},null,{"$f":"IF(LEN(A2541)>0,VLOOKUP(A2541,Subcontractors!$A$2:$B$2,2,FALSE),\"\")","v":""}]
[null,null,null,null,null,null,null,null,null,null,null,null,null,null,null,null,null,null,null,null,null,{"$f":"IF(LEN(X2546)>0,VLOOKUP(X2546,'TFW Programs'!$A$2:$B$24,2,FALSE),\"\")","v":""},null,null,{"$f":"IF(LEN(A2546)>0,VLOOKUP(A2546,Subcontractors!$A$2:$B$3,2,FALSE),\"\")","v":""},null,{"$f":"IF(LEN(A2546)>0,VLOOKUP(A2546,Subcontractors!$A$2:$B$2,2,FALSE),\"\")","v":""}]
[null,null,null,null,null,null,null,null,null,null,null,null,null,null,null,null,null,null,null,null,null,{"$f":"IF(LEN(X2551)>0,VLOOKUP(X2551,'TFW Programs'!$A$2:$B$24,2,FALSE),\"\")","v":""},null,null,{"$f":"IF(LEN(A2551)>0,VLOOKUP(A2551,Subcontractors!$A$2:$B$3,2,FALSE),\"\")","v":""},null,{"$f":"IF(LEN(A2551)>0,VLOOKUP(A2551,Subcontractors!$A$2:$B$2,2,FALSE),\"\")","v":""}]
[null,null,null,null,null,null,null,null,null,null,null,null,null,null,null,null,null,null,null,null,null,{"$f":"IF(LEN(X2553)>0,VLOOKUP(X2553,'TFW Programs'!$A$2:$B$24,2,FALSE),\"\")","v":""},null,null,{"$f":"IF(LEN(A2553)>0,VLOOKUP(A2553,Subcontractors!$A$2:$B$3,2,FALSE),\"\")","v":""},null,{"$f":"IF(LEN(A2553)>0,VLOOKUP(A2553,Subcontractors!$A$2:$B$2,2,FALSE),\"\")","v":""}]
[null,null,null,null,null,null,null,null,null,null,null,null,null,null,null,null,null,null,null,null,null,{"$f":"IF(LEN(X2556)>0,VLOOKUP(X2556,'TFW Programs'!$A$2:$B$24,2,FALSE),\"\")","v":""},null,null,{"$f":"IF(LEN(A2556)>0,VLOOKUP(A2556,Subcontractors!$A$2:$B$3,2,FALSE),\"\")","v":""},null,{"$f":"IF(LEN(A2556)>0,VLOOKUP(A2556,Subcontractors!$A$2:$B$2,2,FALSE),\"\")","v":""}]
[null,null,null,null,null,null,null,null,null,null,null,null,null,null,null,null,null,null,null,null,null,{"$f":"IF(LEN(X2561)>0,VLOOKUP(X2561,'TFW Programs'!$A$2:$B$24,2,FALSE),\"\")","v":""},null,null,{"$f":"IF(LEN(A2561)>0,VLOOKUP(A2561,Subcontractors!$A$2:$B$3,2,FALSE),\"\")","v":""},null,{"$f":"IF(LEN(A2561)>0,VLOOKUP(A2561,Subcontractors!$A$2:$B$2,2,FALSE),\"\")","v":""}]
[null,null,null,null,null,null,null,null,null,null,null,null,null,null,null,null,null,null,null,null,null,{"$f":"IF(LEN(X2566)>0,VLOOKUP(X2566,'TFW Programs'!$A$2:$B$24,2,FALSE),\"\")","v":""},null,null,{"$f":"IF(LEN(A2566)>0,VLOOKUP(A2566,Subcontractors!$A$2:$B$3,2,FALSE),\"\")","v":""},null,{"$f":"IF(LEN(A2566)>0,VLOOKUP(A2566,Subcontractors!$A$2:$B$2,2,FALSE),\"\")","v":""}]
[null,null,null,null,null,null,null,null,null,null,null,null,null,null,null,null,null,null,null,null,null,{"$f":"IF(LEN(X2567)>0,VLOOKUP(X2567,'TFW Programs'!$A$2:$B$24,2,FALSE),\"\")","v":""},null,null,{"$f":"IF(LEN(A2567)>0,VLOOKUP(A2567,Subcontractors!$A$2:$B$3,2,FALSE),\"\")","v":""},null,{"$f":"IF(LEN(A2567)>0,VLOOKUP(A2567,Subcontractors!$A$2:$B$2,2,FALSE),\"\")","v":""}]
[null,null,null,null,null,null,null,null,null,null,null,null,null,null,null,null,null,null,null,null,null,{"$f":"IF(LEN(X2571)>0,VLOOKUP(X2571,'TFW Programs'!$A$2:$B$24,2,FALSE),\"\")","v":""},null,null,{"$f":"IF(LEN(A2571)>0,VLOOKUP(A2571,Subcontractors!$A$2:$B$3,2,FALSE),\"\")","v":""},null,{"$f":"IF(LEN(A2571)>0,VLOOKUP(A2571,Subcontractors!$A$2:$B$2,2,FALSE),\"\")","v":""}]
[null,null,null,null,null,null,null,null,null,null,null,null,null,null,null,null,null,null,null,null,null,{"$f":"IF(LEN(X2576)>0,VLOOKUP(X2576,'TFW Programs'!$A$2:$B$24,2,FALSE),\"\")","v":""},null,null,{"$f":"IF(LEN(A2576)>0,VLOOKUP(A2576,Subcontractors!$A$2:$B$3,2,FALSE),\"\")","v":""},null,{"$f":"IF(LEN(A2576)>0,VLOOKUP(A2576,Subcontractors!$A$2:$B$2,2,FALSE),\"\")","v":""}]
[null,null,null,null,null,null,null,null,null,null,null,null,null,null,null,null,null,null,null,null,null,{"$f":"IF(LEN(X2581)>0,VLOOKUP(X2581,'TFW Programs'!$A$2:$B$24,2,FALSE),\"\")","v":""},null,null,{"$f":"IF(LEN(A2581)>0,VLOOKUP(A2581,Subcontractors!$A$2:$B$3,2,FALSE),\"\")","v":""},null,{"$f":"IF(LEN(A2581)>0,VLOOKUP(A2581,Subcontractors!$A$2:$B$2,2,FALSE),\"\")","v":""}]
[null,null,null,null,null,null,null,null,null,null,null,null,null,null,null,null,null,null,null,null,null,{"$f":"IF(LEN(X2582)>0,VLOOKUP(X2582,'TFW Programs'!$A$2:$B$24,2,FALSE),\"\")","v":""},null,null,{"$f":"IF(LEN(A2582)>0,VLOOKUP(A2582,Subcontractors!$A$2:$B$3,2,FALSE),\"\")","v":""},null,{"$f":"IF(LEN(A2582)>0,VLOOKUP(A2582,Subcontractors!$A$2:$B$2,2,FALSE),\"\")","v":""}]
[null,null,null,null,null,null,null,null,null,null,null,null,null,null,null,null,null,null,null,null,null,{"$f":"IF(LEN(X2588)>0,VLOOKUP(X2588,'TFW Programs'!$A$2:$B$24,2,FALSE),\"\")","v":""},null,null,{"$f":"IF(LEN(A2588)>0,VLOOKUP(A2588,Subcontractors!$A$2:$B$3,2,FALSE),\"\")","v":""},null,{"$f":"IF(LEN(A2588)>0,VLOOKUP(A2588,Subcontractors!$A$2:$B$2,2,FALSE),\"\")","v":""}]
[null,null,null,null,null,null,null,null,null,null,null,null,null,null,null,null,null,null,null,null,null,{"$f":"IF(LEN(X2591)>0,VLOOKUP(X2591,'TFW Programs'!$A$2:$B$24,2,FALSE),\"\")","v":""},null,null,{"$f":"IF(LEN(A2591)>0,VLOOKUP(A2591,Subcontractors!$A$2:$B$3,2,FALSE),\"\")","v":""},null,{"$f":"IF(LEN(A2591)>0,VLOOKUP(A2591,Subcontractors!$A$2:$B$2,2,FALSE),\"\")","v":""}]
[null,null,null,null,null,null,null,null,null,null,null,null,null,null,null,null,null,null,null,null,null,{"$f":"IF(LEN(X2596)>0,VLOOKUP(X2596,'TFW Programs'!$A$2:$B$24,2,FALSE),\"\")","v":""},null,null,{"$f":"IF(LEN(A2596)>0,VLOOKUP(A2596,Subcontractors!$A$2:$B$3,2,FALSE),\"\")","v":""},null,{"$f":"IF(LEN(A2596)>0,VLOOKUP(A2596,Subcontractors!$A$2:$B$2,2,FALSE),\"\")","v":""}]
[null,null,null,null,null,null,null,null,null,null,null,null,null,null,null,null,null,null,null,null,null,{"$f":"IF(LEN(X2597)>0,VLOOKUP(X2597,'TFW Programs'!$A$2:$B$24,2,FALSE),\"\")","v":""},null,null,{"$f":"IF(LEN(A2597)>0,VLOOKUP(A2597,Subcontractors!$A$2:$B$3,2,FALSE),\"\")","v":""},null,{"$f":"IF(LEN(A2597)>0,VLOOKUP(A2597,Subcontractors!$A$2:$B$2,2,FALSE),\"\")","v":""}]
[null,null,null,null,null,null,null,null,null,null,null,null,null,null,null,null,null,null,null,null,null,{"$f":"IF(LEN(X2601)>0,VLOOKUP(X2601,'TFW Programs'!$A$2:$B$24,2,FALSE),\"\")","v":""},null,null,{"$f":"IF(LEN(A2601)>0,VLOOKUP(A2601,Subcontractors!$A$2:$B$3,2,FALSE),\"\")","v":""},null,{"$f":"IF(LEN(A2601)>0,VLOOKUP(A2601,Subcontractors!$A$2:$B$2,2,FALSE),\"\")","v":""}]
[null,null,null,null,null,null,null,null,null,null,null,null,null,null,null,null,null,null,null,null,null,{"$f":"IF(LEN(X2606)>0,VLOOKUP(X2606,'TFW Programs'!$A$2:$B$24,2,FALSE),\"\")","v":""},null,null,{"$f":"IF(LEN(A2606)>0,VLOOKUP(A2606,Subcontractors!$A$2:$B$3,2,FALSE),\"\")","v":""},null,{"$f":"IF(LEN(A2606)>0,VLOOKUP(A2606,Subcontractors!$A$2:$B$2,2,FALSE),\"\")","v":""}]
[null,null,null,null,null,null,null,null,null,null,null,null,null,null,null,null,null,null,null,null,null,{"$f":"IF(LEN(X2611)>0,VLOOKUP(X2611,'TFW Programs'!$A$2:$B$24,2,FALSE),\"\")","v":""},null,null,{"$f":"IF(LEN(A2611)>0,VLOOKUP(A2611,Subcontractors!$A$2:$B$3,2,FALSE),\"\")","v":""},null,{"$f":"IF(LEN(A2611)>0,VLOOKUP(A2611,Subcontractors!$A$2:$B$2,2,FALSE),\"\")","v":""}]
[null,null,null,null,null,null,null,null,null,null,null,null,null,null,null,null,null,null,null,null,null,{"$f":"IF(LEN(X2612)>0,VLOOKUP(X2612,'TFW Programs'!$A$2:$B$24,2,FALSE),\"\")","v":""},null,null,{"$f":"IF(LEN(A2612)>0,VLOOKUP(A2612,Subcontractors!$A$2:$B$3,2,FALSE),\"\")","v":""},null,{"$f":"IF(LEN(A2612)>0,VLOOKUP(A2612,Subcontractors!$A$2:$B$2,2,FALSE),\"\")","v":""}]
[null,null,null,null,null,null,null,null,null,null,null,null,null,null,null,null,null,null,null,null,null,{"$f":"IF(LEN(X2617)>0,VLOOKUP(X2617,'TFW Programs'!$A$2:$B$24,2,FALSE),\"\")","v":""},null,null,{"$f":"IF(LEN(A2617)>0,VLOOKUP(A2617,Subcontractors!$A$2:$B$3,2,FALSE),\"\")","v":""},null,{"$f":"IF(LEN(A2617)>0,VLOOKUP(A2617,Subcontractors!$A$2:$B$2,2,FALSE),\"\")","v":""}]
[null,null,null,null,null,null,null,null,null,null,null,null,null,null,null,null,null,null,null,null,null,{"$f":"IF(LEN(X2622)>0,VLOOKUP(X2622,'TFW Programs'!$A$2:$B$24,2,FALSE),\"\")","v":""},null,null,{"$f":"IF(LEN(A2622)>0,VLOOKUP(A2622,Subcontractors!$A$2:$B$3,2,FALSE),\"\")","v":""},null,{"$f":"IF(LEN(A2622)>0,VLOOKUP(A2622,Subcontractors!$A$2:$B$2,2,FALSE),\"\")","v":""}]
[null,null,null,null,null,null,null,null,null,null,null,null,null,null,null,null,null,null,null,null,null,{"$f":"IF(LEN(X2626)>0,VLOOKUP(X2626,'TFW Programs'!$A$2:$B$24,2,FALSE),\"\")","v":""},null,null,{"$f":"IF(LEN(A2626)>0,VLOOKUP(A2626,Subcontractors!$A$2:$B$3,2,FALSE),\"\")","v":""},null,{"$f":"IF(LEN(A2626)>0,VLOOKUP(A2626,Subcontractors!$A$2:$B$2,2,FALSE),\"\")","v":""}]
[null,null,null,null,null,null,null,null,null,null,null,null,null,null,null,null,null,null,null,null,null,{"$f":"IF(LEN(X2627)>0,VLOOKUP(X2627,'TFW Programs'!$A$2:$B$24,2,FALSE),\"\")","v":""},null,null,{"$f":"IF(LEN(A2627)>0,VLOOKUP(A2627,Subcontractors!$A$2:$B$3,2,FALSE),\"\")","v":""},null,{"$f":"IF(LEN(A2627)>0,VLOOKUP(A2627,Subcontractors!$A$2:$B$2,2,FALSE),\"\")","v":""}]
[null,null,null,null,null,null,null,null,null,null,null,null,null,null,null,null,null,null,null,null,null,{"$f":"IF(LEN(X2632)>0,VLOOKUP(X2632,'TFW Programs'!$A$2:$B$24,2,FALSE),\"\")","v":""},null,null,{"$f":"IF(LEN(A2632)>0,VLOOKUP(A2632,Subcontractors!$A$2:$B$3,2,FALSE),\"\")","v":""},null,{"$f":"IF(LEN(A2632)>0,VLOOKUP(A2632,Subcontractors!$A$2:$B$2,2,FALSE),\"\")","v":""}]
[null,null,null,null,null,null,null,null,null,null,null,null,null,null,null,null,null,null,null,null,null,{"$f":"IF(LEN(X2636)>0,VLOOKUP(X2636,'TFW Programs'!$A$2:$B$24,2,FALSE),\"\")","v":""},null,null,{"$f":"IF(LEN(A2636)>0,VLOOKUP(A2636,Subcontractors!$A$2:$B$3,2,FALSE),\"\")","v":""},null,{"$f":"IF(LEN(A2636)>0,VLOOKUP(A2636,Subcontractors!$A$2:$B$2,2,FALSE),\"\")","v":""}]
[null,null,null,null,null,null,null,null,null,null,null,null,null,null,null,null,null,null,null,null,null,{"$f":"IF(LEN(X2641)>0,VLOOKUP(X2641,'TFW Programs'!$A$2:$B$24,2,FALSE),\"\")","v":""},null,null,{"$f":"IF(LEN(A2641)>0,VLOOKUP(A2641,Subcontractors!$A$2:$B$3,2,FALSE),\"\")","v":""},null,{"$f":"IF(LEN(A2641)>0,VLOOKUP(A2641,Subcontractors!$A$2:$B$2,2,FALSE),\"\")","v":""}]
[null,null,null,null,null,null,null,null,null,null,null,null,null,null,null,null,null,null,null,null,null,{"$f":"IF(LEN(X2642)>0,VLOOKUP(X2642,'TFW Programs'!$A$2:$B$24,2,FALSE),\"\")","v":""},null,null,{"$f":"IF(LEN(A2642)>0,VLOOKUP(A2642,Subcontractors!$A$2:$B$3,2,FALSE),\"\")","v":""},null,{"$f":"IF(LEN(A2642)>0,VLOOKUP(A2642,Subcontractors!$A$2:$B$2,2,FALSE),\"\")","v":""}]
[null,null,null,null,null,null,null,null,null,null,null,null,null,null,null,null,null,null,null,null,null,{"$f":"IF(LEN(X2647)>0,VLOOKUP(X2647,'TFW Programs'!$A$2:$B$24,2,FALSE),\"\")","v":""},null,null,{"$f":"IF(LEN(A2647)>0,VLOOKUP(A2647,Subcontractors!$A$2:$B$3,2,FALSE),\"\")","v":""},null,{"$f":"IF(LEN(A2647)>0,VLOOKUP(A2647,Subcontractors!$A$2:$B$2,2,FALSE),\"\")","v":""}]
[null,null,null,null,null,null,null,null,null,null,null,null,null,null,null,null,null,null,null,null,null,{"$f":"IF(LEN(X2652)>0,VLOOKUP(X2652,'TFW Programs'!$A$2:$B$24,2,FALSE),\"\")","v":""},null,null,{"$f":"IF(LEN(A2652)>0,VLOOKUP(A2652,Subcontractors!$A$2:$B$3,2,FALSE),\"\")","v":""},null,{"$f":"IF(LEN(A2652)>0,VLOOKUP(A2652,Subcontractors!$A$2:$B$2,2,FALSE),\"\")","v":""}]
[null,null,null,null,null,null,null,null,null,null,null,null,null,null,null,null,null,null,null,null,null,{"$f":"IF(LEN(X2654)>0,VLOOKUP(X2654,'TFW Programs'!$A$2:$B$24,2,FALSE),\"\")","v":""},null,null,{"$f":"IF(LEN(A2654)>0,VLOOKUP(A2654,Subcontractors!$A$2:$B$3,2,FALSE),\"\")","v":""},null,{"$f":"IF(LEN(A2654)>0,VLOOKUP(A2654,Subcontractors!$A$2:$B$2,2,FALSE),\"\")","v":""}]
[null,null,null,null,null,null,null,null,null,null,null,null,null,null,null,null,null,null,null,null,null,{"$f":"IF(LEN(X2657)>0,VLOOKUP(X2657,'TFW Programs'!$A$2:$B$24,2,FALSE),\"\")","v":""},null,null,{"$f":"IF(LEN(A2657)>0,VLOOKUP(A2657,Subcontractors!$A$2:$B$3,2,FALSE),\"\")","v":""},null,{"$f":"IF(LEN(A2657)>0,VLOOKUP(A2657,Subcontractors!$A$2:$B$2,2,FALSE),\"\")","v":""}]
[null,null,null,null,null,null,null,null,null,null,null,null,null,null,null,null,null,null,null,null,null,{"$f":"IF(LEN(X2662)>0,VLOOKUP(X2662,'TFW Programs'!$A$2:$B$24,2,FALSE),\"\")","v":""},null,null,{"$f":"IF(LEN(A2662)>0,VLOOKUP(A2662,Subcontractors!$A$2:$B$3,2,FALSE),\"\")","v":""},null,{"$f":"IF(LEN(A2662)>0,VLOOKUP(A2662,Subcontractors!$A$2:$B$2,2,FALSE),\"\")","v":""}]
[null,null,null,null,null,null,null,null,null,null,null,null,null,null,null,null,null,null,null,null,null,{"$f":"IF(LEN(X2667)>0,VLOOKUP(X2667,'TFW Programs'!$A$2:$B$24,2,FALSE),\"\")","v":""},null,null,{"$f":"IF(LEN(A2667)>0,VLOOKUP(A2667,Subcontractors!$A$2:$B$3,2,FALSE),\"\")","v":""},null,{"$f":"IF(LEN(A2667)>0,VLOOKUP(A2667,Subcontractors!$A$2:$B$2,2,FALSE),\"\")","v":""}]
[null,null,null,null,null,null,null,null,null,null,null,null,null,null,null,null,null,null,null,null,null,{"$f":"IF(LEN(X2670)>0,VLOOKUP(X2670,'TFW Programs'!$A$2:$B$24,2,FALSE),\"\")","v":""},null,null,{"$f":"IF(LEN(A2670)>0,VLOOKUP(A2670,Subcontractors!$A$2:$B$3,2,FALSE),\"\")","v":""},null,{"$f":"IF(LEN(A2670)>0,VLOOKUP(A2670,Subcontractors!$A$2:$B$2,2,FALSE),\"\")","v":""}]
[null,null,null,null,null,null,null,null,null,null,null,null,null,null,null,null,null,null,null,null,null,{"$f":"IF(LEN(X2672)>0,VLOOKUP(X2672,'TFW Programs'!$A$2:$B$24,2,FALSE),\"\")","v":""},null,null,{"$f":"IF(LEN(A2672)>0,VLOOKUP(A2672,Subcontractors!$A$2:$B$3,2,FALSE),\"\")","v":""},null,{"$f":"IF(LEN(A2672)>0,VLOOKUP(A2672,Subcontractors!$A$2:$B$2,2,FALSE),\"\")","v":""}]
[null,null,null,null,null,null,null,null,null,null,null,null,null,null,null,null,null,null,null,null,null,{"$f":"IF(LEN(X2677)>0,VLOOKUP(X2677,'TFW Programs'!$A$2:$B$24,2,FALSE),\"\")","v":""},null,null,{"$f":"IF(LEN(A2677)>0,VLOOKUP(A2677,Subcontractors!$A$2:$B$3,2,FALSE),\"\")","v":""},null,{"$f":"IF(LEN(A2677)>0,VLOOKUP(A2677,Subcontractors!$A$2:$B$2,2,FALSE),\"\")","v":""}]
[null,null,null,null,null,null,null,null,null,null,null,null,null,null,null,null,null,null,null,null,null,{"$f":"IF(LEN(X2682)>0,VLOOKUP(X2682,'TFW Programs'!$A$2:$B$24,2,FALSE),\"\")","v":""},null,null,{"$f":"IF(LEN(A2682)>0,VLOOKUP(A2682,Subcontractors!$A$2:$B$3,2,FALSE),\"\")","v":""},null,{"$f":"IF(LEN(A2682)>0,VLOOKUP(A2682,Subcontractors!$A$2:$B$2,2,FALSE),\"\")","v":""}]
[null,null,null,null,null,null,null,null,null,null,null,null,null,null,null,null,null,null,null,null,null,{"$f":"IF(LEN(X2684)>0,VLOOKUP(X2684,'TFW Programs'!$A$2:$B$24,2,FALSE),\"\")","v":""},null,null,{"$f":"IF(LEN(A2684)>0,VLOOKUP(A2684,Subcontractors!$A$2:$B$3,2,FALSE),\"\")","v":""},null,{"$f":"IF(LEN(A2684)>0,VLOOKUP(A2684,Subcontractors!$A$2:$B$2,2,FALSE),\"\")","v":""}]
[null,null,null,null,null,null,null,null,null,null,null,null,null,null,null,null,null,null,null,null,null,{"$f":"IF(LEN(X2687)>0,VLOOKUP(X2687,'TFW Programs'!$A$2:$B$24,2,FALSE),\"\")","v":""},null,null,{"$f":"IF(LEN(A2687)>0,VLOOKUP(A2687,Subcontractors!$A$2:$B$3,2,FALSE),\"\")","v":""},null,{"$f":"IF(LEN(A2687)>0,VLOOKUP(A2687,Subcontractors!$A$2:$B$2,2,FALSE),\"\")","v":""}]
[null,null,null,null,null,null,null,null,null,null,null,null,null,null,null,null,null,null,null,null,null,{"$f":"IF(LEN(X2692)>0,VLOOKUP(X2692,'TFW Programs'!$A$2:$B$24,2,FALSE),\"\")","v":""},null,null,{"$f":"IF(LEN(A2692)>0,VLOOKUP(A2692,Subcontractors!$A$2:$B$3,2,FALSE),\"\")","v":""},null,{"$f":"IF(LEN(A2692)>0,VLOOKUP(A2692,Subcontractors!$A$2:$B$2,2,FALSE),\"\")","v":""}]
[null,null,null,null,null,null,null,null,null,null,null,null,null,null,null,null,null,null,null,null,null,{"$f":"IF(LEN(X2697)>0,VLOOKUP(X2697,'TFW Programs'!$A$2:$B$24,2,FALSE),\"\")","v":""},null,null,{"$f":"IF(LEN(A2697)>0,VLOOKUP(A2697,Subcontractors!$A$2:$B$3,2,FALSE),\"\")","v":""},null,{"$f":"IF(LEN(A2697)>0,VLOOKUP(A2697,Subcontractors!$A$2:$B$2,2,FALSE),\"\")","v":""}]
[null,null,null,null,null,null,null,null,null,null,null,null,null,null,null,null,null,null,null,null,null,{"$f":"IF(LEN(X2702)>0,VLOOKUP(X2702,'TFW Programs'!$A$2:$B$24,2,FALSE),\"\")","v":""},null,null,{"$f":"IF(LEN(A2702)>0,VLOOKUP(A2702,Subcontractors!$A$2:$B$3,2,FALSE),\"\")","v":""},null,{"$f":"IF(LEN(A2702)>0,VLOOKUP(A2702,Subcontractors!$A$2:$B$2,2,FALSE),\"\")","v":""}]
[null,null,null,null,null,null,null,null,null,null,null,null,null,null,null,null,null,null,null,null,null,{"$f":"IF(LEN(X2705)>0,VLOOKUP(X2705,'TFW Programs'!$A$2:$B$24,2,FALSE),\"\")","v":""},null,null,{"$f":"IF(LEN(A2705)>0,VLOOKUP(A2705,Subcontractors!$A$2:$B$3,2,FALSE),\"\")","v":""},null,{"$f":"IF(LEN(A2705)>0,VLOOKUP(A2705,Subcontractors!$A$2:$B$2,2,FALSE),\"\")","v":""}]
[null,null,null,null,null,null,null,null,null,null,null,null,null,null,null,null,null,null,null,null,null,{"$f":"IF(LEN(X2707)>0,VLOOKUP(X2707,'TFW Programs'!$A$2:$B$24,2,FALSE),\"\")","v":""},null,null,{"$f":"IF(LEN(A2707)>0,VLOOKUP(A2707,Subcontractors!$A$2:$B$3,2,FALSE),\"\")","v":""},null,{"$f":"IF(LEN(A2707)>0,VLOOKUP(A2707,Subcontractors!$A$2:$B$2,2,FALSE),\"\")","v":""}]
[null,null,null,null,null,null,null,null,null,null,null,null,null,null,null,null,null,null,null,null,null,{"$f":"IF(LEN(X2712)>0,VLOOKUP(X2712,'TFW Programs'!$A$2:$B$24,2,FALSE),\"\")","v":""},null,null,{"$f":"IF(LEN(A2712)>0,VLOOKUP(A2712,Subcontractors!$A$2:$B$3,2,FALSE),\"\")","v":""},null,{"$f":"IF(LEN(A2712)>0,VLOOKUP(A2712,Subcontractors!$A$2:$B$2,2,FALSE),\"\")","v":""}]
[null,null,null,null,null,null,null,null,null,null,null,null,null,null,null,null,null,null,null,null,null,{"$f":"IF(LEN(X2717)>0,VLOOKUP(X2717,'TFW Programs'!$A$2:$B$24,2,FALSE),\"\")","v":""},null,null,{"$f":"IF(LEN(A2717)>0,VLOOKUP(A2717,Subcontractors!$A$2:$B$3,2,FALSE),\"\")","v":""},null,{"$f":"IF(LEN(A2717)>0,VLOOKUP(A2717,Subcontractors!$A$2:$B$2,2,FALSE),\"\")","v":""}]
[null,null,null,null,null,null,null,null,null,null,null,null,null,null,null,null,null,null,null,null,null,{"$f":"IF(LEN(X2718)>0,VLOOKUP(X2718,'TFW Programs'!$A$2:$B$24,2,FALSE),\"\")","v":""},null,null,{"$f":"IF(LEN(A2718)>0,VLOOKUP(A2718,Subcontractors!$A$2:$B$3,2,FALSE),\"\")","v":""},null,{"$f":"IF(LEN(A2718)>0,VLOOKUP(A2718,Subcontractors!$A$2:$B$2,2,FALSE),\"\")","v":""}]
[null,null,null,null,null,null,null,null,null,null,null,null,null,null,null,null,null,null,null,null,null,{"$f":"IF(LEN(X2722)>0,VLOOKUP(X2722,'TFW Programs'!$A$2:$B$24,2,FALSE),\"\")","v":""},null,null,{"$f":"IF(LEN(A2722)>0,VLOOKUP(A2722,Subcontractors!$A$2:$B$3,2,FALSE),\"\")","v":""},null,{"$f":"IF(LEN(A2722)>0,VLOOKUP(A2722,Subcontractors!$A$2:$B$2,2,FALSE),\"\")","v":""}]
[null,null,null,null,null,null,null,null,null,null,null,null,null,null,null,null,null,null,null,null,null,{"$f":"IF(LEN(X2727)>0,VLOOKUP(X2727,'TFW Programs'!$A$2:$B$24,2,FALSE),\"\")","v":""},null,null,{"$f":"IF(LEN(A2727)>0,VLOOKUP(A2727,Subcontractors!$A$2:$B$3,2,FALSE),\"\")","v":""},null,{"$f":"IF(LEN(A2727)>0,VLOOKUP(A2727,Subcontractors!$A$2:$B$2,2,FALSE),\"\")","v":""}]
[null,null,null,null,null,null,null,null,null,null,null,null,null,null,null,null,null,null,null,null,null,{"$f":"IF(LEN(X2732)>0,VLOOKUP(X2732,'TFW Programs'!$A$2:$B$24,2,FALSE),\"\")","v":""},null,null,{"$f":"IF(LEN(A2732)>0,VLOOKUP(A2732,Subcontractors!$A$2:$B$3,2,FALSE),\"\")","v":""},null,{"$f":"IF(LEN(A2732)>0,VLOOKUP(A2732,Subcontractors!$A$2:$B$2,2,FALSE),\"\")","v":""}]
[null,null,null,null,null,null,null,null,null,null,null,null,null,null,null,null,null,null,null,null,null,{"$f":"IF(LEN(X2733)>0,VLOOKUP(X2733,'TFW Programs'!$A$2:$B$24,2,FALSE),\"\")","v":""},null,null,{"$f":"IF(LEN(A2733)>0,VLOOKUP(A2733,Subcontractors!$A$2:$B$3,2,FALSE),\"\")","v":""},null,{"$f":"IF(LEN(A2733)>0,VLOOKUP(A2733,Subcontractors!$A$2:$B$2,2,FALSE),\"\")","v":""}]
[null,null,null,null,null,null,null,null,null,null,null,null,null,null,null,null,null,null,null,null,null,{"$f":"IF(LEN(X2739)>0,VLOOKUP(X2739,'TFW Programs'!$A$2:$B$24,2,FALSE),\"\")","v":""},null,null,{"$f":"IF(LEN(A2739)>0,VLOOKUP(A2739,Subcontractors!$A$2:$B$3,2,FALSE),\"\")","v":""},null,{"$f":"IF(LEN(A2739)>0,VLOOKUP(A2739,Subcontractors!$A$2:$B$2,2,FALSE),\"\")","v":""}]
[null,null,null,null,null,null,null,null,null,null,null,null,null,null,null,null,null,null,null,null,null,{"$f":"IF(LEN(X2742)>0,VLOOKUP(X2742,'TFW Programs'!$A$2:$B$24,2,FALSE),\"\")","v":""},null,null,{"$f":"IF(LEN(A2742)>0,VLOOKUP(A2742,Subcontractors!$A$2:$B$3,2,FALSE),\"\")","v":""},null,{"$f":"IF(LEN(A2742)>0,VLOOKUP(A2742,Subcontractors!$A$2:$B$2,2,FALSE),\"\")","v":""}]
[null,null,null,null,null,null,null,null,null,null,null,null,null,null,null,null,null,null,null,null,null,{"$f":"IF(LEN(X2747)>0,VLOOKUP(X2747,'TFW Programs'!$A$2:$B$24,2,FALSE),\"\")","v":""},null,null,{"$f":"IF(LEN(A2747)>0,VLOOKUP(A2747,Subcontractors!$A$2:$B$3,2,FALSE),\"\")","v":""},null,{"$f":"IF(LEN(A2747)>0,VLOOKUP(A2747,Subcontractors!$A$2:$B$2,2,FALSE),\"\")","v":""}]
[null,null,null,null,null,null,null,null,null,null,null,null,null,null,null,null,null,null,null,null,null,{"$f":"IF(LEN(X2748)>0,VLOOKUP(X2748,'TFW Programs'!$A$2:$B$24,2,FALSE),\"\")","v":""},null,null,{"$f":"IF(LEN(A2748)>0,VLOOKUP(A2748,Subcontractors!$A$2:$B$3,2,FALSE),\"\")","v":""},null,{"$f":"IF(LEN(A2748)>0,VLOOKUP(A2748,Subcontractors!$A$2:$B$2,2,FALSE),\"\")","v":""}]
[null,null,null,null,null,null,null,null,null,null,null,null,null,null,null,null,null,null,null,null,null,{"$f":"IF(LEN(X2753)>0,VLOOKUP(X2753,'TFW Programs'!$A$2:$B$24,2,FALSE),\"\")","v":""},null,null,{"$f":"IF(LEN(A2753)>0,VLOOKUP(A2753,Subcontractors!$A$2:$B$3,2,FALSE),\"\")","v":""},null,{"$f":"IF(LEN(A2753)>0,VLOOKUP(A2753,Subcontractors!$A$2:$B$2,2,FALSE),\"\")","v":""}]
[null,null,null,null,null,null,null,null,null,null,null,null,null,null,null,null,null,null,null,null,null,{"$f":"IF(LEN(X2757)>0,VLOOKUP(X2757,'TFW Programs'!$A$2:$B$24,2,FALSE),\"\")","v":""},null,null,{"$f":"IF(LEN(A2757)>0,VLOOKUP(A2757,Subcontractors!$A$2:$B$3,2,FALSE),\"\")","v":""},null,{"$f":"IF(LEN(A2757)>0,VLOOKUP(A2757,Subcontractors!$A$2:$B$2,2,FALSE),\"\")","v":""}]
[null,null,null,null,null,null,null,null,null,null,null,null,null,null,null,null,null,null,null,null,null,{"$f":"IF(LEN(X2762)>0,VLOOKUP(X2762,'TFW Programs'!$A$2:$B$24,2,FALSE),\"\")","v":""},null,null,{"$f":"IF(LEN(A2762)>0,VLOOKUP(A2762,Subcontractors!$A$2:$B$3,2,FALSE),\"\")","v":""},null,{"$f":"IF(LEN(A2762)>0,VLOOKUP(A2762,Subcontractors!$A$2:$B$2,2,FALSE),\"\")","v":""}]
[null,null,null,null,null,null,null,null,null,null,null,null,null,null,null,null,null,null,null,null,null,{"$f":"IF(LEN(X2763)>0,VLOOKUP(X2763,'TFW Programs'!$A$2:$B$24,2,FALSE),\"\")","v":""},null,null,{"$f":"IF(LEN(A2763)>0,VLOOKUP(A2763,Subcontractors!$A$2:$B$3,2,FALSE),\"\")","v":""},null,{"$f":"IF(LEN(A2763)>0,VLOOKUP(A2763,Subcontractors!$A$2:$B$2,2,FALSE),\"\")","v":""}]
[null,null,null,null,null,null,null,null,null,null,null,null,null,null,null,null,null,null,null,null,null,{"$f":"IF(LEN(X2768)>0,VLOOKUP(X2768,'TFW Programs'!$A$2:$B$24,2,FALSE),\"\")","v":""},null,null,{"$f":"IF(LEN(A2768)>0,VLOOKUP(A2768,Subcontractors!$A$2:$B$3,2,FALSE),\"\")","v":""},null,{"$f":"IF(LEN(A2768)>0,VLOOKUP(A2768,Subcontractors!$A$2:$B$2,2,FALSE),\"\")","v":""}]
[null,null,null,null,null,null,null,null,null,null,null,null,null,null,null,null,null,null,null,null,null,{"$f":"IF(LEN(X2771)>0,VLOOKUP(X2771,'TFW Programs'!$A$2:$B$24,2,FALSE),\"\")","v":""},null,null,{"$f":"IF(LEN(A2771)>0,VLOOKUP(A2771,Subcontractors!$A$2:$B$3,2,FALSE),\"\")","v":""},null,{"$f":"IF(LEN(A2771)>0,VLOOKUP(A2771,Subcontractors!$A$2:$B$2,2,FALSE),\"\")","v":""}]
[null,null,null,null,null,null,null,null,null,null,null,null,null,null,null,null,null,null,null,null,null,{"$f":"IF(LEN(X2777)>0,VLOOKUP(X2777,'TFW Programs'!$A$2:$B$24,2,FALSE),\"\")","v":""},null,null,{"$f":"IF(LEN(A2777)>0,VLOOKUP(A2777,Subcontractors!$A$2:$B$3,2,FALSE),\"\")","v":""},null,{"$f":"IF(LEN(A2777)>0,VLOOKUP(A2777,Subcontractors!$A$2:$B$2,2,FALSE),\"\")","v":""}]
[null,null,null,null,null,null,null,null,null,null,null,null,null,null,null,null,null,null,null,null,null,{"$f":"IF(LEN(X2778)>0,VLOOKUP(X2778,'TFW Programs'!$A$2:$B$24,2,FALSE),\"\")","v":""},null,null,{"$f":"IF(LEN(A2778)>0,VLOOKUP(A2778,Subcontractors!$A$2:$B$3,2,FALSE),\"\")","v":""},null,{"$f":"IF(LEN(A2778)>0,VLOOKUP(A2778,Subcontractors!$A$2:$B$2,2,FALSE),\"\")","v":""}]
[null,null,null,null,null,null,null,null,null,null,null,null,null,null,null,null,null,null,null,null,null,{"$f":"IF(LEN(X2783)>0,VLOOKUP(X2783,'TFW Programs'!$A$2:$B$24,2,FALSE),\"\")","v":""},null,null,{"$f":"IF(LEN(A2783)>0,VLOOKUP(A2783,Subcontractors!$A$2:$B$3,2,FALSE),\"\")","v":""},null,{"$f":"IF(LEN(A2783)>0,VLOOKUP(A2783,Subcontractors!$A$2:$B$2,2,FALSE),\"\")","v":""}]
[null,null,null,null,null,null,null,null,null,null,null,null,null,null,null,null,null,null,null,null,null,{"$f":"IF(LEN(X2787)>0,VLOOKUP(X2787,'TFW Programs'!$A$2:$B$24,2,FALSE),\"\")","v":""},null,null,{"$f":"IF(LEN(A2787)>0,VLOOKUP(A2787,Subcontractors!$A$2:$B$3,2,FALSE),\"\")","v":""},null,{"$f":"IF(LEN(A2787)>0,VLOOKUP(A2787,Subcontractors!$A$2:$B$2,2,FALSE),\"\")","v":""}]
[null,null,null,null,null,null,null,null,null,null,null,null,null,null,null,null,null,null,null,null,null,{"$f":"IF(LEN(X2792)>0,VLOOKUP(X2792,'TFW Programs'!$A$2:$B$24,2,FALSE),\"\")","v":""},null,null,{"$f":"IF(LEN(A2792)>0,VLOOKUP(A2792,Subcontractors!$A$2:$B$3,2,FALSE),\"\")","v":""},null,{"$f":"IF(LEN(A2792)>0,VLOOKUP(A2792,Subcontractors!$A$2:$B$2,2,FALSE),\"\")","v":""}]
[null,null,null,null,null,null,null,null,null,null,null,null,null,null,null,null,null,null,null,null,null,{"$f":"IF(LEN(X2793)>0,VLOOKUP(X2793,'TFW Programs'!$A$2:$B$24,2,FALSE),\"\")","v":""},null,null,{"$f":"IF(LEN(A2793)>0,VLOOKUP(A2793,Subcontractors!$A$2:$B$3,2,FALSE),\"\")","v":""},null,{"$f":"IF(LEN(A2793)>0,VLOOKUP(A2793,Subcontractors!$A$2:$B$2,2,FALSE),\"\")","v":""}]
[null,null,null,null,null,null,null,null,null,null,null,null,null,null,null,null,null,null,null,null,null,{"$f":"IF(LEN(X2798)>0,VLOOKUP(X2798,'TFW Programs'!$A$2:$B$24,2,FALSE),\"\")","v":""},null,null,{"$f":"IF(LEN(A2798)>0,VLOOKUP(A2798,Subcontractors!$A$2:$B$3,2,FALSE),\"\")","v":""},null,{"$f":"IF(LEN(A2798)>0,VLOOKUP(A2798,Subcontractors!$A$2:$B$2,2,FALSE),\"\")","v":""}]
[null,null,null,null,null,null,null,null,null,null,null,null,null,null,null,null,null,null,null,null,null,{"$f":"IF(LEN(X2801)>0,VLOOKUP(X2801,'TFW Programs'!$A$2:$B$24,2,FALSE),\"\")","v":""},null,null,{"$f":"IF(LEN(A2801)>0,VLOOKUP(A2801,Subcontractors!$A$2:$B$3,2,FALSE),\"\")","v":""},null,{"$f":"IF(LEN(A2801)>0,VLOOKUP(A2801,Subcontractors!$A$2:$B$2,2,FALSE),\"\")","v":""}]
[null,null,null,null,null,null,null,null,null,null,null,null,null,null,null,null,null,null,null,null,null,{"$f":"IF(LEN(X2807)>0,VLOOKUP(X2807,'TFW Programs'!$A$2:$B$24,2,FALSE),\"\")","v":""},null,null,{"$f":"IF(LEN(A2807)>0,VLOOKUP(A2807,Subcontractors!$A$2:$B$3,2,FALSE),\"\")","v":""},null,{"$f":"IF(LEN(A2807)>0,VLOOKUP(A2807,Subcontractors!$A$2:$B$2,2,FALSE),\"\")","v":""}]
[null,null,null,null,null,null,null,null,null,null,null,null,null,null,null,null,null,null,null,null,null,{"$f":"IF(LEN(X2808)>0,VLOOKUP(X2808,'TFW Programs'!$A$2:$B$24,2,FALSE),\"\")","v":""},null,null,{"$f":"IF(LEN(A2808)>0,VLOOKUP(A2808,Subcontractors!$A$2:$B$3,2,FALSE),\"\")","v":""},null,{"$f":"IF(LEN(A2808)>0,VLOOKUP(A2808,Subcontractors!$A$2:$B$2,2,FALSE),\"\")","v":""}]
[null,null,null,null,null,null,null,null,null,null,null,null,null,null,null,null,null,null,null,null,null,{"$f":"IF(LEN(X2813)>0,VLOOKUP(X2813,'TFW Programs'!$A$2:$B$24,2,FALSE),\"\")","v":""},null,null,{"$f":"IF(LEN(A2813)>0,VLOOKUP(A2813,Subcontractors!$A$2:$B$3,2,FALSE),\"\")","v":""},null,{"$f":"IF(LEN(A2813)>0,VLOOKUP(A2813,Subcontractors!$A$2:$B$2,2,FALSE),\"\")","v":""}]
[null,null,null,null,null,null,null,null,null,null,null,null,null,null,null,null,null,null,null,null,null,{"$f":"IF(LEN(X2818)>0,VLOOKUP(X2818,'TFW Programs'!$A$2:$B$24,2,FALSE),\"\")","v":""},null,null,{"$f":"IF(LEN(A2818)>0,VLOOKUP(A2818,Subcontractors!$A$2:$B$3,2,FALSE),\"\")","v":""},null,{"$f":"IF(LEN(A2818)>0,VLOOKUP(A2818,Subcontractors!$A$2:$B$2,2,FALSE),\"\")","v":""}]
[null,null,null,null,null,null,null,null,null,null,null,null,null,null,null,null,null,null,null,null,null,{"$f":"IF(LEN(X2822)>0,VLOOKUP(X2822,'TFW Programs'!$A$2:$B$24,2,FALSE),\"\")","v":""},null,null,{"$f":"IF(LEN(A2822)>0,VLOOKUP(A2822,Subcontractors!$A$2:$B$3,2,FALSE),\"\")","v":""},null,{"$f":"IF(LEN(A2822)>0,VLOOKUP(A2822,Subcontractors!$A$2:$B$2,2,FALSE),\"\")","v":""}]
[null,null,null,null,null,null,null,null,null,null,null,null,null,null,null,null,null,null,null,null,null,{"$f":"IF(LEN(X2823)>0,VLOOKUP(X2823,'TFW Programs'!$A$2:$B$24,2,FALSE),\"\")","v":""},null,null,{"$f":"IF(LEN(A2823)>0,VLOOKUP(A2823,Subcontractors!$A$2:$B$3,2,FALSE),\"\")","v":""},null,{"$f":"IF(LEN(A2823)>0,VLOOKUP(A2823,Subcontractors!$A$2:$B$2,2,FALSE),\"\")","v":""}]
[null,null,null,null,null,null,null,null,null,null,null,null,null,null,null,null,null,null,null,null,null,{"$f":"IF(LEN(X2828)>0,VLOOKUP(X2828,'TFW Programs'!$A$2:$B$24,2,FALSE),\"\")","v":""},null,null,{"$f":"IF(LEN(A2828)>0,VLOOKUP(A2828,Subcontractors!$A$2:$B$3,2,FALSE),\"\")","v":""},null,{"$f":"IF(LEN(A2828)>0,VLOOKUP(A2828,Subcontractors!$A$2:$B$2,2,FALSE),\"\")","v":""}]
[null,null,null,null,null,null,null,null,null,null,null,null,null,null,null,null,null,null,null,null,null,{"$f":"IF(LEN(X2833)>0,VLOOKUP(X2833,'TFW Programs'!$A$2:$B$24,2,FALSE),\"\")","v":""},null,null,{"$f":"IF(LEN(A2833)>0,VLOOKUP(A2833,Subcontractors!$A$2:$B$3,2,FALSE),\"\")","v":""},null,{"$f":"IF(LEN(A2833)>0,VLOOKUP(A2833,Subcontractors!$A$2:$B$2,2,FALSE),\"\")","v":""}]
[null,null,null,null,null,null,null,null,null,null,null,null,null,null,null,null,null,null,null,null,null,{"$f":"IF(LEN(X2835)>0,VLOOKUP(X2835,'TFW Programs'!$A$2:$B$24,2,FALSE),\"\")","v":""},null,null,{"$f":"IF(LEN(A2835)>0,VLOOKUP(A2835,Subcontractors!$A$2:$B$3,2,FALSE),\"\")","v":""},null,{"$f":"IF(LEN(A2835)>0,VLOOKUP(A2835,Subcontractors!$A$2:$B$2,2,FALSE),\"\")","v":""}]
[null,null,null,null,null,null,null,null,null,null,null,null,null,null,null,null,null,null,null,null,null,{"$f":"IF(LEN(X2838)>0,VLOOKUP(X2838,'TFW Programs'!$A$2:$B$24,2,FALSE),\"\")","v":""},null,null,{"$f":"IF(LEN(A2838)>0,VLOOKUP(A2838,Subcontractors!$A$2:$B$3,2,FALSE),\"\")","v":""},null,{"$f":"IF(LEN(A2838)>0,VLOOKUP(A2838,Subcontractors!$A$2:$B$2,2,FALSE),\"\")","v":""}]
[null,null,null,null,null,null,null,null,null,null,null,null,null,null,null,null,null,null,null,null,null,{"$f":"IF(LEN(X2843)>0,VLOOKUP(X2843,'TFW Programs'!$A$2:$B$24,2,FALSE),\"\")","v":""},null,null,{"$f":"IF(LEN(A2843)>0,VLOOKUP(A2843,Subcontractors!$A$2:$B$3,2,FALSE),\"\")","v":""},null,{"$f":"IF(LEN(A2843)>0,VLOOKUP(A2843,Subcontractors!$A$2:$B$2,2,FALSE),\"\")","v":""}]
[null,null,null,null,null,null,null,null,null,null,null,null,null,null,null,null,null,null,null,null,null,{"$f":"IF(LEN(X2848)>0,VLOOKUP(X2848,'TFW Programs'!$A$2:$B$24,2,FALSE),\"\")","v":""},null,null,{"$f":"IF(LEN(A2848)>0,VLOOKUP(A2848,Subcontractors!$A$2:$B$3,2,FALSE),\"\")","v":""},null,{"$f":"IF(LEN(A2848)>0,VLOOKUP(A2848,Subcontractors!$A$2:$B$2,2,FALSE),\"\")","v":""}]
[null,null,null,null,null,null,null,null,null,null,null,null,null,null,null,null,null,null,null,null,null,{"$f":"IF(LEN(X2853)>0,VLOOKUP(X2853,'TFW Programs'!$A$2:$B$24,2,FALSE),\"\")","v":""},null,null,{"$f":"IF(LEN(A2853)>0,VLOOKUP(A2853,Subcontractors!$A$2:$B$3,2,FALSE),\"\")","v":""},null,{"$f":"IF(LEN(A2853)>0,VLOOKUP(A2853,Subcontractors!$A$2:$B$2,2,FALSE),\"\")","v":""}]
[null,null,null,null,null,null,null,null,null,null,null,null,null,null,null,null,null,null,null,null,null,{"$f":"IF(LEN(X2856)>0,VLOOKUP(X2856,'TFW Programs'!$A$2:$B$24,2,FALSE),\"\")","v":""},null,null,{"$f":"IF(LEN(A2856)>0,VLOOKUP(A2856,Subcontractors!$A$2:$B$3,2,FALSE),\"\")","v":""},null,{"$f":"IF(LEN(A2856)>0,VLOOKUP(A2856,Subcontractors!$A$2:$B$2,2,FALSE),\"\")","v":""}]
[null,null,null,null,null,null,null,null,null,null,null,null,null,null,null,null,null,null,null,null,null,{"$f":"IF(LEN(X2858)>0,VLOOKUP(X2858,'TFW Programs'!$A$2:$B$24,2,FALSE),\"\")","v":""},null,null,{"$f":"IF(LEN(A2858)>0,VLOOKUP(A2858,Subcontractors!$A$2:$B$3,2,FALSE),\"\")","v":""},null,{"$f":"IF(LEN(A2858)>0,VLOOKUP(A2858,Subcontractors!$A$2:$B$2,2,FALSE),\"\")","v":""}]
[null,null,null,null,null,null,null,null,null,null,null,null,null,null,null,null,null,null,null,null,null,{"$f":"IF(LEN(X2863)>0,VLOOKUP(X2863,'TFW Programs'!$A$2:$B$24,2,FALSE),\"\")","v":""},null,null,{"$f":"IF(LEN(A2863)>0,VLOOKUP(A2863,Subcontractors!$A$2:$B$3,2,FALSE),\"\")","v":""},null,{"$f":"IF(LEN(A2863)>0,VLOOKUP(A2863,Subcontractors!$A$2:$B$2,2,FALSE),\"\")","v":""}]
[null,null,null,null,null,null,null,null,null,null,null,null,null,null,null,null,null,null,null,null,null,{"$f":"IF(LEN(X2868)>0,VLOOKUP(X2868,'TFW Programs'!$A$2:$B$24,2,FALSE),\"\")","v":""},null,null,{"$f":"IF(LEN(A2868)>0,VLOOKUP(A2868,Subcontractors!$A$2:$B$3,2,FALSE),\"\")","v":""},null,{"$f":"IF(LEN(A2868)>0,VLOOKUP(A2868,Subcontractors!$A$2:$B$2,2,FALSE),\"\")","v":""}]
[null,null,null,null,null,null,null,null,null,null,null,null,null,null,null,null,null,null,null,null,null,{"$f":"IF(LEN(X2870)>0,VLOOKUP(X2870,'TFW Programs'!$A$2:$B$24,2,FALSE),\"\")","v":""},null,null,{"$f":"IF(LEN(A2870)>0,VLOOKUP(A2870,Subcontractors!$A$2:$B$3,2,FALSE),\"\")","v":""},null,{"$f":"IF(LEN(A2870)>0,VLOOKUP(A2870,Subcontractors!$A$2:$B$2,2,FALSE),\"\")","v":""}]
[null,null,null,null,null,null,null,null,null,null,null,null,null,null,null,null,null,null,null,null,null,{"$f":"IF(LEN(X2873)>0,VLOOKUP(X2873,'TFW Programs'!$A$2:$B$24,2,FALSE),\"\")","v":""},null,null,{"$f":"IF(LEN(A2873)>0,VLOOKUP(A2873,Subcontractors!$A$2:$B$3,2,FALSE),\"\")","v":""},null,{"$f":"IF(LEN(A2873)>0,VLOOKUP(A2873,Subcontractors!$A$2:$B$2,2,FALSE),\"\")","v":""}]
[null,null,null,null,null,null,null,null,null,null,null,null,null,null,null,null,null,null,null,null,null,{"$f":"IF(LEN(X2878)>0,VLOOKUP(X2878,'TFW Programs'!$A$2:$B$24,2,FALSE),\"\")","v":""},null,null,{"$f":"IF(LEN(A2878)>0,VLOOKUP(A2878,Subcontractors!$A$2:$B$3,2,FALSE),\"\")","v":""},null,{"$f":"IF(LEN(A2878)>0,VLOOKUP(A2878,Subcontractors!$A$2:$B$2,2,FALSE),\"\")","v":""}]
[null,null,null,null,null,null,null,null,null,null,null,null,null,null,null,null,null,null,null,null,null,{"$f":"IF(LEN(X2883)>0,VLOOKUP(X2883,'TFW Programs'!$A$2:$B$24,2,FALSE),\"\")","v":""},null,null,{"$f":"IF(LEN(A2883)>0,VLOOKUP(A2883,Subcontractors!$A$2:$B$3,2,FALSE),\"\")","v":""},null,{"$f":"IF(LEN(A2883)>0,VLOOKUP(A2883,Subcontractors!$A$2:$B$2,2,FALSE),\"\")","v":""}]
[null,null,null,null,null,null,null,null,null,null,null,null,null,null,null,null,null,null,null,null,null,{"$f":"IF(LEN(X2884)>0,VLOOKUP(X2884,'TFW Programs'!$A$2:$B$24,2,FALSE),\"\")","v":""},null,null,{"$f":"IF(LEN(A2884)>0,VLOOKUP(A2884,Subcontractors!$A$2:$B$3,2,FALSE),\"\")","v":""},null,{"$f":"IF(LEN(A2884)>0,VLOOKUP(A2884,Subcontractors!$A$2:$B$2,2,FALSE),\"\")","v":""}]
[null,null,null,null,null,null,null,null,null,null,null,null,null,null,null,null,null,null,null,null,null,{"$f":"IF(LEN(X2890)>0,VLOOKUP(X2890,'TFW Programs'!$A$2:$B$24,2,FALSE),\"\")","v":""},null,null,{"$f":"IF(LEN(A2890)>0,VLOOKUP(A2890,Subcontractors!$A$2:$B$3,2,FALSE),\"\")","v":""},null,{"$f":"IF(LEN(A2890)>0,VLOOKUP(A2890,Subcontractors!$A$2:$B$2,2,FALSE),\"\")","v":""}]
[null,null,null,null,null,null,null,null,null,null,null,null,null,null,null,null,null,null,null,null,null,{"$f":"IF(LEN(X2893)>0,VLOOKUP(X2893,'TFW Programs'!$A$2:$B$24,2,FALSE),\"\")","v":""},null,null,{"$f":"IF(LEN(A2893)>0,VLOOKUP(A2893,Subcontractors!$A$2:$B$3,2,FALSE),\"\")","v":""},null,{"$f":"IF(LEN(A2893)>0,VLOOKUP(A2893,Subcontractors!$A$2:$B$2,2,FALSE),\"\")","v":""}]
[null,null,null,null,null,null,null,null,null,null,null,null,null,null,null,null,null,null,null,null,null,{"$f":"IF(LEN(X2898)>0,VLOOKUP(X2898,'TFW Programs'!$A$2:$B$24,2,FALSE),\"\")","v":""},null,null,{"$f":"IF(LEN(A2898)>0,VLOOKUP(A2898,Subcontractors!$A$2:$B$3,2,FALSE),\"\")","v":""},null,{"$f":"IF(LEN(A2898)>0,VLOOKUP(A2898,Subcontractors!$A$2:$B$2,2,FALSE),\"\")","v":""}]
[null,null,null,null,null,null,null,null,null,null,null,null,null,null,null,null,null,null,null,null,null,{"$f":"IF(LEN(X2899)>0,VLOOKUP(X2899,'TFW Programs'!$A$2:$B$24,2,FALSE),\"\")","v":""},null,null,{"$f":"IF(LEN(A2899)>0,VLOOKUP(A2899,Subcontractors!$A$2:$B$3,2,FALSE),\"\")","v":""},null,{"$f":"IF(LEN(A2899)>0,VLOOKUP(A2899,Subcontractors!$A$2:$B$2,2,FALSE),\"\")","v":""}]
[null,null,null,null,null,null,null,null,null,null,null,null,null,null,null,null,null,null,null,null,null,{"$f":"IF(LEN(X2904)>0,VLOOKUP(X2904,'TFW Programs'!$A$2:$B$24,2,FALSE),\"\")","v":""},null,null,{"$f":"IF(LEN(A2904)>0,VLOOKUP(A2904,Subcontractors!$A$2:$B$3,2,FALSE),\"\")","v":""},null,{"$f":"IF(LEN(A2904)>0,VLOOKUP(A2904,Subcontractors!$A$2:$B$2,2,FALSE),\"\")","v":""}]
[null,null,null,null,null,null,null,null,null,null,null,null,null,null,null,null,null,null,null,null,null,{"$f":"IF(LEN(X2908)>0,VLOOKUP(X2908,'TFW Programs'!$A$2:$B$24,2,FALSE),\"\")","v":""},null,null,{"$f":"IF(LEN(A2908)>0,VLOOKUP(A2908,Subcontractors!$A$2:$B$3,2,FALSE),\"\")","v":""},null,{"$f":"IF(LEN(A2908)>0,VLOOKUP(A2908,Subcontractors!$A$2:$B$2,2,FALSE),\"\")","v":""}]
[null,null,null,null,null,null,null,null,null,null,null,null,null,null,null,null,null,null,null,null,null,{"$f":"IF(LEN(X2913)>0,VLOOKUP(X2913,'TFW Programs'!$A$2:$B$24,2,FALSE),\"\")","v":""},null,null,{"$f":"IF(LEN(A2913)>0,VLOOKUP(A2913,Subcontractors!$A$2:$B$3,2,FALSE),\"\")","v":""},null,{"$f":"IF(LEN(A2913)>0,VLOOKUP(A2913,Subcontractors!$A$2:$B$2,2,FALSE),\"\")","v":""}]
[null,null,null,null,null,null,null,null,null,null,null,null,null,null,null,null,null,null,null,null,null,{"$f":"IF(LEN(X2914)>0,VLOOKUP(X2914,'TFW Programs'!$A$2:$B$24,2,FALSE),\"\")","v":""},null,null,{"$f":"IF(LEN(A2914)>0,VLOOKUP(A2914,Subcontractors!$A$2:$B$3,2,FALSE),\"\")","v":""},null,{"$f":"IF(LEN(A2914)>0,VLOOKUP(A2914,Subcontractors!$A$2:$B$2,2,FALSE),\"\")","v":""}]
[null,null,null,null,null,null,null,null,null,null,null,null,null,null,null,null,null,null,null,null,null,{"$f":"IF(LEN(X2918)>0,VLOOKUP(X2918,'TFW Programs'!$A$2:$B$24,2,FALSE),\"\")","v":""},null,null,{"$f":"IF(LEN(A2918)>0,VLOOKUP(A2918,Subcontractors!$A$2:$B$3,2,FALSE),\"\")","v":""},null,{"$f":"IF(LEN(A2918)>0,VLOOKUP(A2918,Subcontractors!$A$2:$B$2,2,FALSE),\"\")","v":""}]
[null,null,null,null,null,null,null,null,null,null,null,null,null,null,null,null,null,null,null,null,null,{"$f":"IF(LEN(X2923)>0,VLOOKUP(X2923,'TFW Programs'!$A$2:$B$24,2,FALSE),\"\")","v":""},null,null,{"$f":"IF(LEN(A2923)>0,VLOOKUP(A2923,Subcontractors!$A$2:$B$3,2,FALSE),\"\")","v":""},null,{"$f":"IF(LEN(A2923)>0,VLOOKUP(A2923,Subcontractors!$A$2:$B$2,2,FALSE),\"\")","v":""}]
[null,null,null,null,null,null,null,null,null,null,null,null,null,null,null,null,null,null,null,null,null,{"$f":"IF(LEN(X2928)>0,VLOOKUP(X2928,'TFW Programs'!$A$2:$B$24,2,FALSE),\"\")","v":""},null,null,{"$f":"IF(LEN(A2928)>0,VLOOKUP(A2928,Subcontractors!$A$2:$B$3,2,FALSE),\"\")","v":""},null,{"$f":"IF(LEN(A2928)>0,VLOOKUP(A2928,Subcontractors!$A$2:$B$2,2,FALSE),\"\")","v":""}]
[null,null,null,null,null,null,null,null,null,null,null,null,null,null,null,null,null,null,null,null,null,{"$f":"IF(LEN(X2929)>0,VLOOKUP(X2929,'TFW Programs'!$A$2:$B$24,2,FALSE),\"\")","v":""},null,null,{"$f":"IF(LEN(A2929)>0,VLOOKUP(A2929,Subcontractors!$A$2:$B$3,2,FALSE),\"\")","v":""},null,{"$f":"IF(LEN(A2929)>0,VLOOKUP(A2929,Subcontractors!$A$2:$B$2,2,FALSE),\"\")","v":""}]
[null,null,null,null,null,null,null,null,null,null,null,null,null,null,null,null,null,null,null,null,null,{"$f":"IF(LEN(X2934)>0,VLOOKUP(X2934,'TFW Programs'!$A$2:$B$24,2,FALSE),\"\")","v":""},null,null,{"$f":"IF(LEN(A2934)>0,VLOOKUP(A2934,Subcontractors!$A$2:$B$3,2,FALSE),\"\")","v":""},null,{"$f":"IF(LEN(A2934)>0,VLOOKUP(A2934,Subcontractors!$A$2:$B$2,2,FALSE),\"\")","v":""}]
[null,null,null,null,null,null,null,null,null,null,null,null,null,null,null,null,null,null,null,null,null,{"$f":"IF(LEN(X2938)>0,VLOOKUP(X2938,'TFW Programs'!$A$2:$B$24,2,FALSE),\"\")","v":""},null,null,{"$f":"IF(LEN(A2938)>0,VLOOKUP(A2938,Subcontractors!$A$2:$B$3,2,FALSE),\"\")","v":""},null,{"$f":"IF(LEN(A2938)>0,VLOOKUP(A2938,Subcontractors!$A$2:$B$2,2,FALSE),\"\")","v":""}]
[null,null,null,null,null,null,null,null,null,null,null,null,null,null,null,null,null,null,null,null,null,{"$f":"IF(LEN(X2943)>0,VLOOKUP(X2943,'TFW Programs'!$A$2:$B$24,2,FALSE),\"\")","v":""},null,null,{"$f":"IF(LEN(A2943)>0,VLOOKUP(A2943,Subcontractors!$A$2:$B$3,2,FALSE),\"\")","v":""},null,{"$f":"IF(LEN(A2943)>0,VLOOKUP(A2943,Subcontractors!$A$2:$B$2,2,FALSE),\"\")","v":""}]
[null,null,null,null,null,null,null,null,null,null,null,null,null,null,null,null,null,null,null,null,null,{"$f":"IF(LEN(X2944)>0,VLOOKUP(X2944,'TFW Programs'!$A$2:$B$24,2,FALSE),\"\")","v":""},null,null,{"$f":"IF(LEN(A2944)>0,VLOOKUP(A2944,Subcontractors!$A$2:$B$3,2,FALSE),\"\")","v":""},null,{"$f":"IF(LEN(A2944)>0,VLOOKUP(A2944,Subcontractors!$A$2:$B$2,2,FALSE),\"\")","v":""}]
[null,null,null,null,null,null,null,null,null,null,null,null,null,null,null,null,null,null,null,null,null,{"$f":"IF(LEN(X2949)>0,VLOOKUP(X2949,'TFW Programs'!$A$2:$B$24,2,FALSE),\"\")","v":""},null,null,{"$f":"IF(LEN(A2949)>0,VLOOKUP(A2949,Subcontractors!$A$2:$B$3,2,FALSE),\"\")","v":""},null,{"$f":"IF(LEN(A2949)>0,VLOOKUP(A2949,Subcontractors!$A$2:$B$2,2,FALSE),\"\")","v":""}]
[null,null,null,null,null,null,null,null,null,null,null,null,null,null,null,null,null,null,null,null,null,{"$f":"IF(LEN(X2952)>0,VLOOKUP(X2952,'TFW Programs'!$A$2:$B$24,2,FALSE),\"\")","v":""},null,null,{"$f":"IF(LEN(A2952)>0,VLOOKUP(A2952,Subcontractors!$A$2:$B$3,2,FALSE),\"\")","v":""},null,{"$f":"IF(LEN(A2952)>0,VLOOKUP(A2952,Subcontractors!$A$2:$B$2,2,FALSE),\"\")","v":""}]
[null,null,null,null,null,null,null,null,null,null,null,null,null,null,null,null,null,null,null,null,null,{"$f":"IF(LEN(X2958)>0,VLOOKUP(X2958,'TFW Programs'!$A$2:$B$24,2,FALSE),\"\")","v":""},null,null,{"$f":"IF(LEN(A2958)>0,VLOOKUP(A2958,Subcontractors!$A$2:$B$3,2,FALSE),\"\")","v":""},null,{"$f":"IF(LEN(A2958)>0,VLOOKUP(A2958,Subcontractors!$A$2:$B$2,2,FALSE),\"\")","v":""}]
[null,null,null,null,null,null,null,null,null,null,null,null,null,null,null,null,null,null,null,null,null,{"$f":"IF(LEN(X2959)>0,VLOOKUP(X2959,'TFW Programs'!$A$2:$B$24,2,FALSE),\"\")","v":""},null,null,{"$f":"IF(LEN(A2959)>0,VLOOKUP(A2959,Subcontractors!$A$2:$B$3,2,FALSE),\"\")","v":""},null,{"$f":"IF(LEN(A2959)>0,VLOOKUP(A2959,Subcontractors!$A$2:$B$2,2,FALSE),\"\")","v":""}]
[null,null,null,null,null,null,null,null,null,null,null,null,null,null,null,null,null,null,null,null,null,{"$f":"IF(LEN(X2964)>0,VLOOKUP(X2964,'TFW Programs'!$A$2:$B$24,2,FALSE),\"\")","v":""},null,null,{"$f":"IF(LEN(A2964)>0,VLOOKUP(A2964,Subcontractors!$A$2:$B$3,2,FALSE),\"\")","v":""},null,{"$f":"IF(LEN(A2964)>0,VLOOKUP(A2964,Subcontractors!$A$2:$B$2,2,FALSE),\"\")","v":""}]
[null,null,null,null,null,null,null,null,null,null,null,null,null,null,null,null,null,null,null,null,null,{"$f":"IF(LEN(X2969)>0,VLOOKUP(X2969,'TFW Programs'!$A$2:$B$24,2,FALSE),\"\")","v":""},null,null,{"$f":"IF(LEN(A2969)>0,VLOOKUP(A2969,Subcontractors!$A$2:$B$3,2,FALSE),\"\")","v":""},null,{"$f":"IF(LEN(A2969)>0,VLOOKUP(A2969,Subcontractors!$A$2:$B$2,2,FALSE),\"\")","v":""}]
[null,null,null,null,null,null,null,null,null,null,null,null,null,null,null,null,null,null,null,null,null,{"$f":"IF(LEN(X2973)>0,VLOOKUP(X2973,'TFW Programs'!$A$2:$B$24,2,FALSE),\"\")","v":""},null,null,{"$f":"IF(LEN(A2973)>0,VLOOKUP(A2973,Subcontractors!$A$2:$B$3,2,FALSE),\"\")","v":""},null,{"$f":"IF(LEN(A2973)>0,VLOOKUP(A2973,Subcontractors!$A$2:$B$2,2,FALSE),\"\")","v":""}]
[null,null,null,null,null,null,null,null,null,null,null,null,null,null,null,null,null,null,null,null,null,{"$f":"IF(LEN(X2974)>0,VLOOKUP(X2974,'TFW Programs'!$A$2:$B$24,2,FALSE),\"\")","v":""},null,null,{"$f":"IF(LEN(A2974)>0,VLOOKUP(A2974,Subcontractors!$A$2:$B$3,2,FALSE),\"\")","v":""},null,{"$f":"IF(LEN(A2974)>0,VLOOKUP(A2974,Subcontractors!$A$2:$B$2,2,FALSE),\"\")","v":""}]
[null,null,null,null,null,null,null,null,null,null,null,null,null,null,null,null,null,null,null,null,null,{"$f":"IF(LEN(X2979)>0,VLOOKUP(X2979,'TFW Programs'!$A$2:$B$24,2,FALSE),\"\")","v":""},null,null,{"$f":"IF(LEN(A2979)>0,VLOOKUP(A2979,Subcontractors!$A$2:$B$3,2,FALSE),\"\")","v":""},null,{"$f":"IF(LEN(A2979)>0,VLOOKUP(A2979,Subcontractors!$A$2:$B$2,2,FALSE),\"\")","v":""}]
[null,null,null,null,null,null,null,null,null,null,null,null,null,null,null,null,null,null,null,null,null,{"$f":"IF(LEN(X2984)>0,VLOOKUP(X2984,'TFW Programs'!$A$2:$B$24,2,FALSE),\"\")","v":""},null,null,{"$f":"IF(LEN(A2984)>0,VLOOKUP(A2984,Subcontractors!$A$2:$B$3,2,FALSE),\"\")","v":""},null,{"$f":"IF(LEN(A2984)>0,VLOOKUP(A2984,Subcontractors!$A$2:$B$2,2,FALSE),\"\")","v":""}]
[null,null,null,null,null,null,null,null,null,null,null,null,null,null,null,null,null,null,null,null,null,{"$f":"IF(LEN(X2986)>0,VLOOKUP(X2986,'TFW Programs'!$A$2:$B$24,2,FALSE),\"\")","v":""},null,null,{"$f":"IF(LEN(A2986)>0,VLOOKUP(A2986,Subcontractors!$A$2:$B$3,2,FALSE),\"\")","v":""},null,{"$f":"IF(LEN(A2986)>0,VLOOKUP(A2986,Subcontractors!$A$2:$B$2,2,FALSE),\"\")","v":""}]
[null,null,null,null,null,null,null,null,null,null,null,null,null,null,null,null,null,null,null,null,null,{"$f":"IF(LEN(X2989)>0,VLOOKUP(X2989,'TFW Programs'!$A$2:$B$24,2,FALSE),\"\")","v":""},null,null,{"$f":"IF(LEN(A2989)>0,VLOOKUP(A2989,Subcontractors!$A$2:$B$3,2,FALSE),\"\")","v":""},null,{"$f":"IF(LEN(A2989)>0,VLOOKUP(A2989,Subcontractors!$A$2:$B$2,2,FALSE),\"\")","v":""}]
[null,null,null,null,null,null,null,null,null,null,null,null,null,null,null,null,null,null,null,null,null,{"$f":"IF(LEN(X2994)>0,VLOOKUP(X2994,'TFW Programs'!$A$2:$B$24,2,FALSE),\"\")","v":""},null,null,{"$f":"IF(LEN(A2994)>0,VLOOKUP(A2994,Subcontractors!$A$2:$B$3,2,FALSE),\"\")","v":""},null,{"$f":"IF(LEN(A2994)>0,VLOOKUP(A2994,Subcontractors!$A$2:$B$2,2,FALSE),\"\")","v":""}]
[null,null,null,null,null,null,null,null,null,null,null,null,null,null,null,null,null,null,null,null,null,{"$f":"IF(LEN(X2999)>0,VLOOKUP(X2999,'TFW Programs'!$A$2:$B$24,2,FALSE),\"\")","v":""},null,null,{"$f":"IF(LEN(A2999)>0,VLOOKUP(A2999,Subcontractors!$A$2:$B$3,2,FALSE),\"\")","v":""},null,{"$f":"IF(LEN(A2999)>0,VLOOKUP(A2999,Subcontractors!$A$2:$B$2,2,FALSE),\"\")","v":""}]
[null,null,null,null,null,null,null,null,null,null,null,null,null,null,null,null,null,null,null,null,null,{"$f":"IF(LEN(X3003)>0,VLOOKUP(X3003,'TFW Programs'!$A$2:$B$24,2,FALSE),\"\")","v":""},null,null,{"$f":"IF(LEN(A3003)>0,VLOOKUP(A3003,Subcontractors!$A$2:$B$3,2,FALSE),\"\")","v":""},null,{"$f":"IF(LEN(A3003)>0,VLOOKUP(A3003,Subcontractors!$A$2:$B$2,2,FALSE),\"\")","v":""}]
[null,null,null,null,null,null,null,null,null,null,null,null,null,null,null,null,null,null,null,null,null,{"$f":"IF(LEN(X3004)>0,VLOOKUP(X3004,'TFW Programs'!$A$2:$B$24,2,FALSE),\"\")","v":""},null,null,{"$f":"IF(LEN(A3004)>0,VLOOKUP(A3004,Subcontractors!$A$2:$B$3,2,FALSE),\"\")","v":""},null,{"$f":"IF(LEN(A3004)>0,VLOOKUP(A3004,Subcontractors!$A$2:$B$2,2,FALSE),\"\")","v":""}]
[null,null,null,null,null,null,null,null,null,null,null,null,null,null,null,null,null,null,null,null,null,{"$f":"IF(LEN(X3009)>0,VLOOKUP(X3009,'TFW Programs'!$A$2:$B$24,2,FALSE),\"\")","v":""},null,null,{"$f":"IF(LEN(A3009)>0,VLOOKUP(A3009,Subcontractors!$A$2:$B$3,2,FALSE),\"\")","v":""},null,{"$f":"IF(LEN(A3009)>0,VLOOKUP(A3009,Subcontractors!$A$2:$B$2,2,FALSE),\"\")","v":""}]
[null,null,null,null,null,null,null,null,null,null,null,null,null,null,null,null,null,null,null,null,null,{"$f":"IF(LEN(X3014)>0,VLOOKUP(X3014,'TFW Programs'!$A$2:$B$24,2,FALSE),\"\")","v":""},null,null,{"$f":"IF(LEN(A3014)>0,VLOOKUP(A3014,Subcontractors!$A$2:$B$3,2,FALSE),\"\")","v":""},null,{"$f":"IF(LEN(A3014)>0,VLOOKUP(A3014,Subcontractors!$A$2:$B$2,2,FALSE),\"\")","v":""}]
[null,null,null,null,null,null,null,null,null,null,null,null,null,null,null,null,null,null,null,null,null,{"$f":"IF(LEN(X3019)>0,VLOOKUP(X3019,'TFW Programs'!$A$2:$B$24,2,FALSE),\"\")","v":""},null,null,{"$f":"IF(LEN(A3019)>0,VLOOKUP(A3019,Subcontractors!$A$2:$B$3,2,FALSE),\"\")","v":""},null,{"$f":"IF(LEN(A3019)>0,VLOOKUP(A3019,Subcontractors!$A$2:$B$2,2,FALSE),\"\")","v":""}]
[null,null,null,null,null,null,null,null,null,null,null,null,null,null,null,null,null,null,null,null,null,{"$f":"IF(LEN(X3021)>0,VLOOKUP(X3021,'TFW Programs'!$A$2:$B$24,2,FALSE),\"\")","v":""},null,null,{"$f":"IF(LEN(A3021)>0,VLOOKUP(A3021,Subcontractors!$A$2:$B$3,2,FALSE),\"\")","v":""},null,{"$f":"IF(LEN(A3021)>0,VLOOKUP(A3021,Subcontractors!$A$2:$B$2,2,FALSE),\"\")","v":""}]
[null,null,null,null,null,null,null,null,null,null,null,null,null,null,null,null,null,null,null,null,null,{"$f":"IF(LEN(X3024)>0,VLOOKUP(X3024,'TFW Programs'!$A$2:$B$24,2,FALSE),\"\")","v":""},null,null,{"$f":"IF(LEN(A3024)>0,VLOOKUP(A3024,Subcontractors!$A$2:$B$3,2,FALSE),\"\")","v":""},null,{"$f":"IF(LEN(A3024)>0,VLOOKUP(A3024,Subcontractors!$A$2:$B$2,2,FALSE),\"\")","v":""}]
[null,null,null,null,null,null,null,null,null,null,null,null,null,null,null,null,null,null,null,null,null,{"$f":"IF(LEN(X3029)>0,VLOOKUP(X3029,'TFW Programs'!$A$2:$B$24,2,FALSE),\"\")","v":""},null,null,{"$f":"IF(LEN(A3029)>0,VLOOKUP(A3029,Subcontractors!$A$2:$B$3,2,FALSE),\"\")","v":""},null,{"$f":"IF(LEN(A3029)>0,VLOOKUP(A3029,Subcontractors!$A$2:$B$2,2,FALSE),\"\")","v":""}]
[null,null,null,null,null,null,null,null,null,null,null,null,null,null,null,null,null,null,null,null,null,{"$f":"IF(LEN(X3034)>0,VLOOKUP(X3034,'TFW Programs'!$A$2:$B$24,2,FALSE),\"\")","v":""},null,null,{"$f":"IF(LEN(A3034)>0,VLOOKUP(A3034,Subcontractors!$A$2:$B$3,2,FALSE),\"\")","v":""},null,{"$f":"IF(LEN(A3034)>0,VLOOKUP(A3034,Subcontractors!$A$2:$B$2,2,FALSE),\"\")","v":""}]
[null,null,null,null,null,null,null,null,null,null,null,null,null,null,null,null,null,null,null,null,null,{"$f":"IF(LEN(X3037)>0,VLOOKUP(X3037,'TFW Programs'!$A$2:$B$24,2,FALSE),\"\")","v":""},null,null,{"$f":"IF(LEN(A3037)>0,VLOOKUP(A3037,Subcontractors!$A$2:$B$3,2,FALSE),\"\")","v":""},null,{"$f":"IF(LEN(A3037)>0,VLOOKUP(A3037,Subcontractors!$A$2:$B$2,2,FALSE),\"\")","v":""}]
[null,null,null,null,null,null,null,null,null,null,null,null,null,null,null,null,null,null,null,null,null,{"$f":"IF(LEN(X3039)>0,VLOOKUP(X3039,'TFW Programs'!$A$2:$B$24,2,FALSE),\"\")","v":""},null,null,{"$f":"IF(LEN(A3039)>0,VLOOKUP(A3039,Subcontractors!$A$2:$B$3,2,FALSE),\"\")","v":""},null,{"$f":"IF(LEN(A3039)>0,VLOOKUP(A3039,Subcontractors!$A$2:$B$2,2,FALSE),\"\")","v":""}]
[null,null,null,null,null,null,null,null,null,null,null,null,null,null,null,null,null,null,null,null,null,{"$f":"IF(LEN(X3044)>0,VLOOKUP(X3044,'TFW Programs'!$A$2:$B$24,2,FALSE),\"\")","v":""},null,null,{"$f":"IF(LEN(A3044)>0,VLOOKUP(A3044,Subcontractors!$A$2:$B$3,2,FALSE),\"\")","v":""},null,{"$f":"IF(LEN(A3044)>0,VLOOKUP(A3044,Subcontractors!$A$2:$B$2,2,FALSE),\"\")","v":""}]
[null,null,null,null,null,null,null,null,null,null,null,null,null,null,null,null,null,null,null,null,null,{"$f":"IF(LEN(X3049)>0,VLOOKUP(X3049,'TFW Programs'!$A$2:$B$24,2,FALSE),\"\")","v":""},null,null,{"$f":"IF(LEN(A3049)>0,VLOOKUP(A3049,Subcontractors!$A$2:$B$3,2,FALSE),\"\")","v":""},null,{"$f":"IF(LEN(A3049)>0,VLOOKUP(A3049,Subcontractors!$A$2:$B$2,2,FALSE),\"\")","v":""}]
[null,null,null,null,null,null,null,null,null,null,null,null,null,null,null,null,null,null,null,null,null,{"$f":"IF(LEN(X3050)>0,VLOOKUP(X3050,'TFW Programs'!$A$2:$B$24,2,FALSE),\"\")","v":""},null,null,{"$f":"IF(LEN(A3050)>0,VLOOKUP(A3050,Subcontractors!$A$2:$B$3,2,FALSE),\"\")","v":""},null,{"$f":"IF(LEN(A3050)>0,VLOOKUP(A3050,Subcontractors!$A$2:$B$2,2,FALSE),\"\")","v":""}]
[null,null,null,null,null,null,null,null,null,null,null,null,null,null,null,null,null,null,null,null,null,{"$f":"IF(LEN(X3055)>0,VLOOKUP(X3055,'TFW Programs'!$A$2:$B$24,2,FALSE),\"\")","v":""},null,null,{"$f":"IF(LEN(A3055)>0,VLOOKUP(A3055,Subcontractors!$A$2:$B$3,2,FALSE),\"\")","v":""},null,{"$f":"IF(LEN(A3055)>0,VLOOKUP(A3055,Subcontractors!$A$2:$B$2,2,FALSE),\"\")","v":""}]
[null,null,null,null,null,null,null,null,null,null,null,null,null,null,null,null,null,null,null,null,null,{"$f":"IF(LEN(X3059)>0,VLOOKUP(X3059,'TFW Programs'!$A$2:$B$24,2,FALSE),\"\")","v":""},null,null,{"$f":"IF(LEN(A3059)>0,VLOOKUP(A3059,Subcontractors!$A$2:$B$3,2,FALSE),\"\")","v":""},null,{"$f":"IF(LEN(A3059)>0,VLOOKUP(A3059,Subcontractors!$A$2:$B$2,2,FALSE),\"\")","v":""}]
[null,null,null,null,null,null,null,null,null,null,null,null,null,null,null,null,null,null,null,null,null,{"$f":"IF(LEN(X3064)>0,VLOOKUP(X3064,'TFW Programs'!$A$2:$B$24,2,FALSE),\"\")","v":""},null,null,{"$f":"IF(LEN(A3064)>0,VLOOKUP(A3064,Subcontractors!$A$2:$B$3,2,FALSE),\"\")","v":""},null,{"$f":"IF(LEN(A3064)>0,VLOOKUP(A3064,Subcontractors!$A$2:$B$2,2,FALSE),\"\")","v":""}]
[null,null,null,null,null,null,null,null,null,null,null,null,null,null,null,null,null,null,null,null,null,{"$f":"IF(LEN(X3065)>0,VLOOKUP(X3065,'TFW Programs'!$A$2:$B$24,2,FALSE),\"\")","v":""},null,null,{"$f":"IF(LEN(A3065)>0,VLOOKUP(A3065,Subcontractors!$A$2:$B$3,2,FALSE),\"\")","v":""},null,{"$f":"IF(LEN(A3065)>0,VLOOKUP(A3065,Subcontractors!$A$2:$B$2,2,FALSE),\"\")","v":""}]
[null,null,null,null,null,null,null,null,null,null,null,null,null,null,null,null,null,null,null,null,null,{"$f":"IF(LEN(X3069)>0,VLOOKUP(X3069,'TFW Programs'!$A$2:$B$24,2,FALSE),\"\")","v":""},null,null,{"$f":"IF(LEN(A3069)>0,VLOOKUP(A3069,Subcontractors!$A$2:$B$3,2,FALSE),\"\")","v":""},null,{"$f":"IF(LEN(A3069)>0,VLOOKUP(A3069,Subcontractors!$A$2:$B$2,2,FALSE),\"\")","v":""}]
[null,null,null,null,null,null,null,null,null,null,null,null,null,null,null,null,null,null,null,null,null,{"$f":"IF(LEN(X3074)>0,VLOOKUP(X3074,'TFW Programs'!$A$2:$B$24,2,FALSE),\"\")","v":""},null,null,{"$f":"IF(LEN(A3074)>0,VLOOKUP(A3074,Subcontractors!$A$2:$B$3,2,FALSE),\"\")","v":""},null,{"$f":"IF(LEN(A3074)>0,VLOOKUP(A3074,Subcontractors!$A$2:$B$2,2,FALSE),\"\")","v":""}]
[null,null,null,null,null,null,null,null,null,null,null,null,null,null,null,null,null,null,null,null,null,{"$f":"IF(LEN(X3079)>0,VLOOKUP(X3079,'TFW Programs'!$A$2:$B$24,2,FALSE),\"\")","v":""},null,null,{"$f":"IF(LEN(A3079)>0,VLOOKUP(A3079,Subcontractors!$A$2:$B$3,2,FALSE),\"\")","v":""},null,{"$f":"IF(LEN(A3079)>0,VLOOKUP(A3079,Subcontractors!$A$2:$B$2,2,FALSE),\"\")","v":""}]
[null,null,null,null,null,null,null,null,null,null,null,null,null,null,null,null,null,null,null,null,null,{"$f":"IF(LEN(X3080)>0,VLOOKUP(X3080,'TFW Programs'!$A$2:$B$24,2,FALSE),\"\")","v":""},null,null,{"$f":"IF(LEN(A3080)>0,VLOOKUP(A3080,Subcontractors!$A$2:$B$3,2,FALSE),\"\")","v":""},null,{"$f":"IF(LEN(A3080)>0,VLOOKUP(A3080,Subcontractors!$A$2:$B$2,2,FALSE),\"\")","v":""}]
[null,null,null,null,null,null,null,null,null,null,null,null,null,null,null,null,null,null,null,null,null,{"$f":"IF(LEN(X3085)>0,VLOOKUP(X3085,'TFW Programs'!$A$2:$B$24,2,FALSE),\"\")","v":""},null,null,{"$f":"IF(LEN(A3085)>0,VLOOKUP(A3085,Subcontractors!$A$2:$B$3,2,FALSE),\"\")","v":""},null,{"$f":"IF(LEN(A3085)>0,VLOOKUP(A3085,Subcontractors!$A$2:$B$2,2,FALSE),\"\")","v":""}]
[null,null,null,null,null,null,null,null,null,null,null,null,null,null,null,null,null,null,null,null,null,{"$f":"IF(LEN(X3090)>0,VLOOKUP(X3090,'TFW Programs'!$A$2:$B$24,2,FALSE),\"\")","v":""},null,null,{"$f":"IF(LEN(A3090)>0,VLOOKUP(A3090,Subcontractors!$A$2:$B$3,2,FALSE),\"\")","v":""},null,{"$f":"IF(LEN(A3090)>0,VLOOKUP(A3090,Subcontractors!$A$2:$B$2,2,FALSE),\"\")","v":""}]
[null,null,null,null,null,null,null,null,null,null,null,null,null,null,null,null,null,null,null,null,null,{"$f":"IF(LEN(X3094)>0,VLOOKUP(X3094,'TFW Programs'!$A$2:$B$24,2,FALSE),\"\")","v":""},null,null,{"$f":"IF(LEN(A3094)>0,VLOOKUP(A3094,Subcontractors!$A$2:$B$3,2,FALSE),\"\")","v":""},null,{"$f":"IF(LEN(A3094)>0,VLOOKUP(A3094,Subcontractors!$A$2:$B$2,2,FALSE),\"\")","v":""}]
[null,null,null,null,null,null,null,null,null,null,null,null,null,null,null,null,null,null,null,null,null,{"$f":"IF(LEN(X3095)>0,VLOOKUP(X3095,'TFW Programs'!$A$2:$B$24,2,FALSE),\"\")","v":""},null,null,{"$f":"IF(LEN(A3095)>0,VLOOKUP(A3095,Subcontractors!$A$2:$B$3,2,FALSE),\"\")","v":""},null,{"$f":"IF(LEN(A3095)>0,VLOOKUP(A3095,Subcontractors!$A$2:$B$2,2,FALSE),\"\")","v":""}]
[null,null,null,null,null,null,null,null,null,null,null,null,null,null,null,null,null,null,null,null,null,{"$f":"IF(LEN(X3100)>0,VLOOKUP(X3100,'TFW Programs'!$A$2:$B$24,2,FALSE),\"\")","v":""},null,null,{"$f":"IF(LEN(A3100)>0,VLOOKUP(A3100,Subcontractors!$A$2:$B$3,2,FALSE),\"\")","v":""},null,{"$f":"IF(LEN(A3100)>0,VLOOKUP(A3100,Subcontractors!$A$2:$B$2,2,FALSE),\"\")","v":""}]
[null,null,null,null,null,null,null,null,null,null,null,null,null,null,null,null,null,null,null,null,null,{"$f":"IF(LEN(X3103)>0,VLOOKUP(X3103,'TFW Programs'!$A$2:$B$24,2,FALSE),\"\")","v":""},null,null,{"$f":"IF(LEN(A3103)>0,VLOOKUP(A3103,Subcontractors!$A$2:$B$3,2,FALSE),\"\")","v":""},null,{"$f":"IF(LEN(A3103)>0,VLOOKUP(A3103,Subcontractors!$A$2:$B$2,2,FALSE),\"\")","v":""}]
[null,null,null,null,null,null,null,null,null,null,null,null,null,null,null,null,null,null,null,null,null,{"$f":"IF(LEN(X3109)>0,VLOOKUP(X3109,'TFW Programs'!$A$2:$B$24,2,FALSE),\"\")","v":""},null,null,{"$f":"IF(LEN(A3109)>0,VLOOKUP(A3109,Subcontractors!$A$2:$B$3,2,FALSE),\"\")","v":""},null,{"$f":"IF(LEN(A3109)>0,VLOOKUP(A3109,Subcontractors!$A$2:$B$2,2,FALSE),\"\")","v":""}]
[null,null,null,null,null,null,null,null,null,null,null,null,null,null,null,null,null,null,null,null,null,{"$f":"IF(LEN(X3110)>0,VLOOKUP(X3110,'TFW Programs'!$A$2:$B$24,2,FALSE),\"\")","v":""},null,null,{"$f":"IF(LEN(A3110)>0,VLOOKUP(A3110,Subcontractors!$A$2:$B$3,2,FALSE),\"\")","v":""},null,{"$f":"IF(LEN(A3110)>0,VLOOKUP(A3110,Subcontractors!$A$2:$B$2,2,FALSE),\"\")","v":""}]
[null,null,null,null,null,null,null,null,null,null,null,null,null,null,null,null,null,null,null,null,null,{"$f":"IF(LEN(X3115)>0,VLOOKUP(X3115,'TFW Programs'!$A$2:$B$24,2,FALSE),\"\")","v":""},null,null,{"$f":"IF(LEN(A3115)>0,VLOOKUP(A3115,Subcontractors!$A$2:$B$3,2,FALSE),\"\")","v":""},null,{"$f":"IF(LEN(A3115)>0,VLOOKUP(A3115,Subcontractors!$A$2:$B$2,2,FALSE),\"\")","v":""}]
[null,null,null,null,null,null,null,null,null,null,null,null,null,null,null,null,null,null,null,null,null,{"$f":"IF(LEN(X3120)>0,VLOOKUP(X3120,'TFW Programs'!$A$2:$B$24,2,FALSE),\"\")","v":""},null,null,{"$f":"IF(LEN(A3120)>0,VLOOKUP(A3120,Subcontractors!$A$2:$B$3,2,FALSE),\"\")","v":""},null,{"$f":"IF(LEN(A3120)>0,VLOOKUP(A3120,Subcontractors!$A$2:$B$2,2,FALSE),\"\")","v":""}]
[null,null,null,null,null,null,null,null,null,null,null,null,null,null,null,null,null,null,null,null,null,{"$f":"IF(LEN(X3124)>0,VLOOKUP(X3124,'TFW Programs'!$A$2:$B$24,2,FALSE),\"\")","v":""},null,null,{"$f":"IF(LEN(A3124)>0,VLOOKUP(A3124,Subcontractors!$A$2:$B$3,2,FALSE),\"\")","v":""},null,{"$f":"IF(LEN(A3124)>0,VLOOKUP(A3124,Subcontractors!$A$2:$B$2,2,FALSE),\"\")","v":""}]
[null,null,null,null,null,null,null,null,null,null,null,null,null,null,null,null,null,null,null,null,null,{"$f":"IF(LEN(X3125)>0,VLOOKUP(X3125,'TFW Programs'!$A$2:$B$24,2,FALSE),\"\")","v":""},null,null,{"$f":"IF(LEN(A3125)>0,VLOOKUP(A3125,Subcontractors!$A$2:$B$3,2,FALSE),\"\")","v":""},null,{"$f":"IF(LEN(A3125)>0,VLOOKUP(A3125,Subcontractors!$A$2:$B$2,2,FALSE),\"\")","v":""}]
[null,null,null,null,null,null,null,null,null,null,null,null,null,null,null,null,null,null,null,null,null,{"$f":"IF(LEN(X3130)>0,VLOOKUP(X3130,'TFW Programs'!$A$2:$B$24,2,FALSE),\"\")","v":""},null,null,{"$f":"IF(LEN(A3130)>0,VLOOKUP(A3130,Subcontractors!$A$2:$B$3,2,FALSE),\"\")","v":""},null,{"$f":"IF(LEN(A3130)>0,VLOOKUP(A3130,Subcontractors!$A$2:$B$2,2,FALSE),\"\")","v":""}]
[null,null,null,null,null,null,null,null,null,null,null,null,null,null,null,null,null,null,null,null,null,{"$f":"IF(LEN(X3135)>0,VLOOKUP(X3135,'TFW Programs'!$A$2:$B$24,2,FALSE),\"\")","v":""},null,null,{"$f":"IF(LEN(A3135)>0,VLOOKUP(A3135,Subcontractors!$A$2:$B$3,2,FALSE),\"\")","v":""},null,{"$f":"IF(LEN(A3135)>0,VLOOKUP(A3135,Subcontractors!$A$2:$B$2,2,FALSE),\"\")","v":""}]
[null,null,null,null,null,null,null,null,null,null,null,null,null,null,null,null,null,null,null,null,null,{"$f":"IF(LEN(X3138)>0,VLOOKUP(X3138,'TFW Programs'!$A$2:$B$24,2,FALSE),\"\")","v":""},null,null,{"$f":"IF(LEN(A3138)>0,VLOOKUP(A3138,Subcontractors!$A$2:$B$3,2,FALSE),\"\")","v":""},null,{"$f":"IF(LEN(A3138)>0,VLOOKUP(A3138,Subcontractors!$A$2:$B$2,2,FALSE),\"\")","v":""}]
[null,null,null,null,null,null,null,null,null,null,null,null,null,null,null,null,null,null,null,null,null,{"$f":"IF(LEN(X3140)>0,VLOOKUP(X3140,'TFW Programs'!$A$2:$B$24,2,FALSE),\"\")","v":""},null,null,{"$f":"IF(LEN(A3140)>0,VLOOKUP(A3140,Subcontractors!$A$2:$B$3,2,FALSE),\"\")","v":""},null,{"$f":"IF(LEN(A3140)>0,VLOOKUP(A3140,Subcontractors!$A$2:$B$2,2,FALSE),\"\")","v":""}]
[null,null,null,null,null,null,null,null,null,null,null,null,null,null,null,null,null,null,null,null,null,{"$f":"IF(LEN(X3145)>0,VLOOKUP(X3145,'TFW Programs'!$A$2:$B$24,2,FALSE),\"\")","v":""},null,null,{"$f":"IF(LEN(A3145)>0,VLOOKUP(A3145,Subcontractors!$A$2:$B$3,2,FALSE),\"\")","v":""},null,{"$f":"IF(LEN(A3145)>0,VLOOKUP(A3145,Subcontractors!$A$2:$B$2,2,FALSE),\"\")","v":""}]
[null,null,null,null,null,null,null,null,null,null,null,null,null,null,null,null,null,null,null,null,null,{"$f":"IF(LEN(X3150)>0,VLOOKUP(X3150,'TFW Programs'!$A$2:$B$24,2,FALSE),\"\")","v":""},null,null,{"$f":"IF(LEN(A3150)>0,VLOOKUP(A3150,Subcontractors!$A$2:$B$3,2,FALSE),\"\")","v":""},null,{"$f":"IF(LEN(A3150)>0,VLOOKUP(A3150,Subcontractors!$A$2:$B$2,2,FALSE),\"\")","v":""}]
[null,null,null,null,null,null,null,null,null,null,null,null,null,null,null,null,null,null,null,null,null,{"$f":"IF(LEN(X3154)>0,VLOOKUP(X3154,'TFW Programs'!$A$2:$B$24,2,FALSE),\"\")","v":""},null,null,{"$f":"IF(LEN(A3154)>0,VLOOKUP(A3154,Subcontractors!$A$2:$B$3,2,FALSE),\"\")","v":""},null,{"$f":"IF(LEN(A3154)>0,VLOOKUP(A3154,Subcontractors!$A$2:$B$2,2,FALSE),\"\")","v":""}]
[null,null,null,null,null,null,null,null,null,null,null,null,null,null,null,null,null,null,null,null,null,{"$f":"IF(LEN(X3155)>0,VLOOKUP(X3155,'TFW Programs'!$A$2:$B$24,2,FALSE),\"\")","v":""},null,null,{"$f":"IF(LEN(A3155)>0,VLOOKUP(A3155,Subcontractors!$A$2:$B$3,2,FALSE),\"\")","v":""},null,{"$f":"IF(LEN(A3155)>0,VLOOKUP(A3155,Subcontractors!$A$2:$B$2,2,FALSE),\"\")","v":""}]
[null,null,null,null,null,null,null,null,null,null,null,null,null,null,null,null,null,null,null,null,null,{"$f":"IF(LEN(X3160)>0,VLOOKUP(X3160,'TFW Programs'!$A$2:$B$24,2,FALSE),\"\")","v":""},null,null,{"$f":"IF(LEN(A3160)>0,VLOOKUP(A3160,Subcontractors!$A$2:$B$3,2,FALSE),\"\")","v":""},null,{"$f":"IF(LEN(A3160)>0,VLOOKUP(A3160,Subcontractors!$A$2:$B$2,2,FALSE),\"\")","v":""}]
[null,null,null,null,null,null,null,null,null,null,null,null,null,null,null,null,null,null,null,null,null,{"$f":"IF(LEN(X3165)>0,VLOOKUP(X3165,'TFW Programs'!$A$2:$B$24,2,FALSE),\"\")","v":""},null,null,{"$f":"IF(LEN(A3165)>0,VLOOKUP(A3165,Subcontractors!$A$2:$B$3,2,FALSE),\"\")","v":""},null,{"$f":"IF(LEN(A3165)>0,VLOOKUP(A3165,Subcontractors!$A$2:$B$2,2,FALSE),\"\")","v":""}]
[null,null,null,null,null,null,null,null,null,null,null,null,null,null,null,null,null,null,null,null,null,{"$f":"IF(LEN(X3170)>0,VLOOKUP(X3170,'TFW Programs'!$A$2:$B$24,2,FALSE),\"\")","v":""},null,null,{"$f":"IF(LEN(A3170)>0,VLOOKUP(A3170,Subcontractors!$A$2:$B$3,2,FALSE),\"\")","v":""},null,{"$f":"IF(LEN(A3170)>0,VLOOKUP(A3170,Subcontractors!$A$2:$B$2,2,FALSE),\"\")","v":""}]
[null,null,null,null,null,null,null,null,null,null,null,null,null,null,null,null,null,null,null,null,null,{"$f":"IF(LEN(X3172)>0,VLOOKUP(X3172,'TFW Programs'!$A$2:$B$24,2,FALSE),\"\")","v":""},null,null,{"$f":"IF(LEN(A3172)>0,VLOOKUP(A3172,Subcontractors!$A$2:$B$3,2,FALSE),\"\")","v":""},null,{"$f":"IF(LEN(A3172)>0,VLOOKUP(A3172,Subcontractors!$A$2:$B$2,2,FALSE),\"\")","v":""}]
[null,null,null,null,null,null,null,null,null,null,null,null,null,null,null,null,null,null,null,null,null,{"$f":"IF(LEN(X3175)>0,VLOOKUP(X3175,'TFW Programs'!$A$2:$B$24,2,FALSE),\"\")","v":""},null,null,{"$f":"IF(LEN(A3175)>0,VLOOKUP(A3175,Subcontractors!$A$2:$B$3,2,FALSE),\"\")","v":""},null,{"$f":"IF(LEN(A3175)>0,VLOOKUP(A3175,Subcontractors!$A$2:$B$2,2,FALSE),\"\")","v":""}]
[null,null,null,null,null,null,null,null,null,null,null,null,null,null,null,null,null,null,null,null,null,{"$f":"IF(LEN(X3180)>0,VLOOKUP(X3180,'TFW Programs'!$A$2:$B$24,2,FALSE),\"\")","v":""},null,null,{"$f":"IF(LEN(A3180)>0,VLOOKUP(A3180,Subcontractors!$A$2:$B$3,2,FALSE),\"\")","v":""},null,{"$f":"IF(LEN(A3180)>0,VLOOKUP(A3180,Subcontractors!$A$2:$B$2,2,FALSE),\"\")","v":""}]
[null,null,null,null,null,null,null,null,null,null,null,null,null,null,null,null,null,null,null,null,null,{"$f":"IF(LEN(X3185)>0,VLOOKUP(X3185,'TFW Programs'!$A$2:$B$24,2,FALSE),\"\")","v":""},null,null,{"$f":"IF(LEN(A3185)>0,VLOOKUP(A3185,Subcontractors!$A$2:$B$3,2,FALSE),\"\")","v":""},null,{"$f":"IF(LEN(A3185)>0,VLOOKUP(A3185,Subcontractors!$A$2:$B$2,2,FALSE),\"\")","v":""}]
[null,null,null,null,null,null,null,null,null,null,null,null,null,null,null,null,null,null,null,null,null,{"$f":"IF(LEN(X3186)>0,VLOOKUP(X3186,'TFW Programs'!$A$2:$B$24,2,FALSE),\"\")","v":""},null,null,{"$f":"IF(LEN(A3186)>0,VLOOKUP(A3186,Subcontractors!$A$2:$B$3,2,FALSE),\"\")","v":""},null,{"$f":"IF(LEN(A3186)>0,VLOOKUP(A3186,Subcontractors!$A$2:$B$2,2,FALSE),\"\")","v":""}]
[null,null,null,null,null,null,null,null,null,null,null,null,null,null,null,null,null,null,null,null,null,{"$f":"IF(LEN(X3190)>0,VLOOKUP(X3190,'TFW Programs'!$A$2:$B$24,2,FALSE),\"\")","v":""},null,null,{"$f":"IF(LEN(A3190)>0,VLOOKUP(A3190,Subcontractors!$A$2:$B$3,2,FALSE),\"\")","v":""},null,{"$f":"IF(LEN(A3190)>0,VLOOKUP(A3190,Subcontractors!$A$2:$B$2,2,FALSE),\"\")","v":""}]
[null,null,null,null,null,null,null,null,null,null,null,null,null,null,null,null,null,null,null,null,null,{"$f":"IF(LEN(X3195)>0,VLOOKUP(X3195,'TFW Programs'!$A$2:$B$24,2,FALSE),\"\")","v":""},null,null,{"$f":"IF(LEN(A3195)>0,VLOOKUP(A3195,Subcontractors!$A$2:$B$3,2,FALSE),\"\")","v":""},null,{"$f":"IF(LEN(A3195)>0,VLOOKUP(A3195,Subcontractors!$A$2:$B$2,2,FALSE),\"\")","v":""}]
[null,null,null,null,null,null,null,null,null,null,null,null,null,null,null,null,null,null,null,null,null,{"$f":"IF(LEN(X3200)>0,VLOOKUP(X3200,'TFW Programs'!$A$2:$B$24,2,FALSE),\"\")","v":""},null,null,{"$f":"IF(LEN(A3200)>0,VLOOKUP(A3200,Subcontractors!$A$2:$B$3,2,FALSE),\"\")","v":""},null,{"$f":"IF(LEN(A3200)>0,VLOOKUP(A3200,Subcontractors!$A$2:$B$2,2,FALSE),\"\")","v":""}]
[null,null,null,null,null,null,null,null,null,null,null,null,null,null,null,null,null,null,null,null,null,{"$f":"IF(LEN(X3201)>0,VLOOKUP(X3201,'TFW Programs'!$A$2:$B$24,2,FALSE),\"\")","v":""},null,null,{"$f":"IF(LEN(A3201)>0,VLOOKUP(A3201,Subcontractors!$A$2:$B$3,2,FALSE),\"\")","v":""},null,{"$f":"IF(LEN(A3201)>0,VLOOKUP(A3201,Subcontractors!$A$2:$B$2,2,FALSE),\"\")","v":""}]
[null,null,null,null,null,null,null,null,null,null,null,null,null,null,null,null,null,null,null,null,null,{"$f":"IF(LEN(X3207)>0,VLOOKUP(X3207,'TFW Programs'!$A$2:$B$24,2,FALSE),\"\")","v":""},null,null,{"$f":"IF(LEN(A3207)>0,VLOOKUP(A3207,Subcontractors!$A$2:$B$3,2,FALSE),\"\")","v":""},null,{"$f":"IF(LEN(A3207)>0,VLOOKUP(A3207,Subcontractors!$A$2:$B$2,2,FALSE),\"\")","v":""}]
[null,null,null,null,null,null,null,null,null,null,null,null,null,null,null,null,null,null,null,null,null,{"$f":"IF(LEN(X3210)>0,VLOOKUP(X3210,'TFW Programs'!$A$2:$B$24,2,FALSE),\"\")","v":""},null,null,{"$f":"IF(LEN(A3210)>0,VLOOKUP(A3210,Subcontractors!$A$2:$B$3,2,FALSE),\"\")","v":""},null,{"$f":"IF(LEN(A3210)>0,VLOOKUP(A3210,Subcontractors!$A$2:$B$2,2,FALSE),\"\")","v":""}]
[null,null,null,null,null,null,null,null,null,null,null,null,null,null,null,null,null,null,null,null,null,{"$f":"IF(LEN(X3215)>0,VLOOKUP(X3215,'TFW Programs'!$A$2:$B$24,2,FALSE),\"\")","v":""},null,null,{"$f":"IF(LEN(A3215)>0,VLOOKUP(A3215,Subcontractors!$A$2:$B$3,2,FALSE),\"\")","v":""},null,{"$f":"IF(LEN(A3215)>0,VLOOKUP(A3215,Subcontractors!$A$2:$B$2,2,FALSE),\"\")","v":""}]
[null,null,null,null,null,null,null,null,null,null,null,null,null,null,null,null,null,null,null,null,null,{"$f":"IF(LEN(X3216)>0,VLOOKUP(X3216,'TFW Programs'!$A$2:$B$24,2,FALSE),\"\")","v":""},null,null,{"$f":"IF(LEN(A3216)>0,VLOOKUP(A3216,Subcontractors!$A$2:$B$3,2,FALSE),\"\")","v":""},null,{"$f":"IF(LEN(A3216)>0,VLOOKUP(A3216,Subcontractors!$A$2:$B$2,2,FALSE),\"\")","v":""}]
[null,null,null,null,null,null,null,null,null,null,null,null,null,null,null,null,null,null,null,null,null,{"$f":"IF(LEN(X3220)>0,VLOOKUP(X3220,'TFW Programs'!$A$2:$B$24,2,FALSE),\"\")","v":""},null,null,{"$f":"IF(LEN(A3220)>0,VLOOKUP(A3220,Subcontractors!$A$2:$B$3,2,FALSE),\"\")","v":""},null,{"$f":"IF(LEN(A3220)>0,VLOOKUP(A3220,Subcontractors!$A$2:$B$2,2,FALSE),\"\")","v":""}]
[null,null,null,null,null,null,null,null,null,null,null,null,null,null,null,null,null,null,null,null,null,{"$f":"IF(LEN(X3225)>0,VLOOKUP(X3225,'TFW Programs'!$A$2:$B$24,2,FALSE),\"\")","v":""},null,null,{"$f":"IF(LEN(A3225)>0,VLOOKUP(A3225,Subcontractors!$A$2:$B$3,2,FALSE),\"\")","v":""},null,{"$f":"IF(LEN(A3225)>0,VLOOKUP(A3225,Subcontractors!$A$2:$B$2,2,FALSE),\"\")","v":""}]
[null,null,null,null,null,null,null,null,null,null,null,null,null,null,null,null,null,null,null,null,null,{"$f":"IF(LEN(X3230)>0,VLOOKUP(X3230,'TFW Programs'!$A$2:$B$24,2,FALSE),\"\")","v":""},null,null,{"$f":"IF(LEN(A3230)>0,VLOOKUP(A3230,Subcontractors!$A$2:$B$3,2,FALSE),\"\")","v":""},null,{"$f":"IF(LEN(A3230)>0,VLOOKUP(A3230,Subcontractors!$A$2:$B$2,2,FALSE),\"\")","v":""}]
[null,null,null,null,null,null,null,null,null,null,null,null,null,null,null,null,null,null,null,null,null,{"$f":"IF(LEN(X3231)>0,VLOOKUP(X3231,'TFW Programs'!$A$2:$B$24,2,FALSE),\"\")","v":""},null,null,{"$f":"IF(LEN(A3231)>0,VLOOKUP(A3231,Subcontractors!$A$2:$B$3,2,FALSE),\"\")","v":""},null,{"$f":"IF(LEN(A3231)>0,VLOOKUP(A3231,Subcontractors!$A$2:$B$2,2,FALSE),\"\")","v":""}]
[null,null,null,null,null,null,null,null,null,null,null,null,null,null,null,null,null,null,null,null,null,{"$f":"IF(LEN(X3237)>0,VLOOKUP(X3237,'TFW Programs'!$A$2:$B$24,2,FALSE),\"\")","v":""},null,null,{"$f":"IF(LEN(A3237)>0,VLOOKUP(A3237,Subcontractors!$A$2:$B$3,2,FALSE),\"\")","v":""},null,{"$f":"IF(LEN(A3237)>0,VLOOKUP(A3237,Subcontractors!$A$2:$B$2,2,FALSE),\"\")","v":""}]
[null,null,null,null,null,null,null,null,null,null,null,null,null,null,null,null,null,null,null,null,null,{"$f":"IF(LEN(X3240)>0,VLOOKUP(X3240,'TFW Programs'!$A$2:$B$24,2,FALSE),\"\")","v":""},null,null,{"$f":"IF(LEN(A3240)>0,VLOOKUP(A3240,Subcontractors!$A$2:$B$3,2,FALSE),\"\")","v":""},null,{"$f":"IF(LEN(A3240)>0,VLOOKUP(A3240,Subcontractors!$A$2:$B$2,2,FALSE),\"\")","v":""}]
[null,null,null,null,null,null,null,null,null,null,null,null,null,null,null,null,null,null,null,null,null,{"$f":"IF(LEN(X3245)>0,VLOOKUP(X3245,'TFW Programs'!$A$2:$B$24,2,FALSE),\"\")","v":""},null,null,{"$f":"IF(LEN(A3245)>0,VLOOKUP(A3245,Subcontractors!$A$2:$B$3,2,FALSE),\"\")","v":""},null,{"$f":"IF(LEN(A3245)>0,VLOOKUP(A3245,Subcontractors!$A$2:$B$2,2,FALSE),\"\")","v":""}]
[null,null,null,null,null,null,null,null,null,null,null,null,null,null,null,null,null,null,null,null,null,{"$f":"IF(LEN(X3246)>0,VLOOKUP(X3246,'TFW Programs'!$A$2:$B$24,2,FALSE),\"\")","v":""},null,null,{"$f":"IF(LEN(A3246)>0,VLOOKUP(A3246,Subcontractors!$A$2:$B$3,2,FALSE),\"\")","v":""},null,{"$f":"IF(LEN(A3246)>0,VLOOKUP(A3246,Subcontractors!$A$2:$B$2,2,FALSE),\"\")","v":""}]
[null,null,null,null,null,null,null,null,null,null,null,null,null,null,null,null,null,null,null,null,null,{"$f":"IF(LEN(X3251)>0,VLOOKUP(X3251,'TFW Programs'!$A$2:$B$24,2,FALSE),\"\")","v":""},null,null,{"$f":"IF(LEN(A3251)>0,VLOOKUP(A3251,Subcontractors!$A$2:$B$3,2,FALSE),\"\")","v":""},null,{"$f":"IF(LEN(A3251)>0,VLOOKUP(A3251,Subcontractors!$A$2:$B$2,2,FALSE),\"\")","v":""}]
[null,null,null,null,null,null,null,null,null,null,null,null,null,null,null,null,null,null,null,null,null,{"$f":"IF(LEN(X3255)>0,VLOOKUP(X3255,'TFW Programs'!$A$2:$B$24,2,FALSE),\"\")","v":""},null,null,{"$f":"IF(LEN(A3255)>0,VLOOKUP(A3255,Subcontractors!$A$2:$B$3,2,FALSE),\"\")","v":""},null,{"$f":"IF(LEN(A3255)>0,VLOOKUP(A3255,Subcontractors!$A$2:$B$2,2,FALSE),\"\")","v":""}]
[null,null,null,null,null,null,null,null,null,null,null,null,null,null,null,null,null,null,null,null,null,{"$f":"IF(LEN(X3260)>0,VLOOKUP(X3260,'TFW Programs'!$A$2:$B$24,2,FALSE),\"\")","v":""},null,null,{"$f":"IF(LEN(A3260)>0,VLOOKUP(A3260,Subcontractors!$A$2:$B$3,2,FALSE),\"\")","v":""},null,{"$f":"IF(LEN(A3260)>0,VLOOKUP(A3260,Subcontractors!$A$2:$B$2,2,FALSE),\"\")","v":""}]
[null,null,null,null,null,null,null,null,null,null,null,null,null,null,null,null,null,null,null,null,null,{"$f":"IF(LEN(X3261)>0,VLOOKUP(X3261,'TFW Programs'!$A$2:$B$24,2,FALSE),\"\")","v":""},null,null,{"$f":"IF(LEN(A3261)>0,VLOOKUP(A3261,Subcontractors!$A$2:$B$3,2,FALSE),\"\")","v":""},null,{"$f":"IF(LEN(A3261)>0,VLOOKUP(A3261,Subcontractors!$A$2:$B$2,2,FALSE),\"\")","v":""}]
[null,null,null,null,null,null,null,null,null,null,null,null,null,null,null,null,null,null,null,null,null,{"$f":"IF(LEN(X3266)>0,VLOOKUP(X3266,'TFW Programs'!$A$2:$B$24,2,FALSE),\"\")","v":""},null,null,{"$f":"IF(LEN(A3266)>0,VLOOKUP(A3266,Subcontractors!$A$2:$B$3,2,FALSE),\"\")","v":""},null,{"$f":"IF(LEN(A3266)>0,VLOOKUP(A3266,Subcontractors!$A$2:$B$2,2,FALSE),\"\")","v":""}]
[null,null,null,null,null,null,null,null,null,null,null,null,null,null,null,null,null,null,null,null,null,{"$f":"IF(LEN(X3271)>0,VLOOKUP(X3271,'TFW Programs'!$A$2:$B$24,2,FALSE),\"\")","v":""},null,null,{"$f":"IF(LEN(A3271)>0,VLOOKUP(A3271,Subcontractors!$A$2:$B$3,2,FALSE),\"\")","v":""},null,{"$f":"IF(LEN(A3271)>0,VLOOKUP(A3271,Subcontractors!$A$2:$B$2,2,FALSE),\"\")","v":""}]
[null,null,null,null,null,null,null,null,null,null,null,null,null,null,null,null,null,null,null,null,null,{"$f":"IF(LEN(X3275)>0,VLOOKUP(X3275,'TFW Programs'!$A$2:$B$24,2,FALSE),\"\")","v":""},null,null,{"$f":"IF(LEN(A3275)>0,VLOOKUP(A3275,Subcontractors!$A$2:$B$3,2,FALSE),\"\")","v":""},null,{"$f":"IF(LEN(A3275)>0,VLOOKUP(A3275,Subcontractors!$A$2:$B$2,2,FALSE),\"\")","v":""}]
[null,null,null,null,null,null,null,null,null,null,null,null,null,null,null,null,null,null,null,null,null,{"$f":"IF(LEN(X3276)>0,VLOOKUP(X3276,'TFW Programs'!$A$2:$B$24,2,FALSE),\"\")","v":""},null,null,{"$f":"IF(LEN(A3276)>0,VLOOKUP(A3276,Subcontractors!$A$2:$B$3,2,FALSE),\"\")","v":""},null,{"$f":"IF(LEN(A3276)>0,VLOOKUP(A3276,Subcontractors!$A$2:$B$2,2,FALSE),\"\")","v":""}]
[null,null,null,null,null,null,null,null,null,null,null,null,null,null,null,null,null,null,null,null,null,{"$f":"IF(LEN(X3281)>0,VLOOKUP(X3281,'TFW Programs'!$A$2:$B$24,2,FALSE),\"\")","v":""},null,null,{"$f":"IF(LEN(A3281)>0,VLOOKUP(A3281,Subcontractors!$A$2:$B$3,2,FALSE),\"\")","v":""},null,{"$f":"IF(LEN(A3281)>0,VLOOKUP(A3281,Subcontractors!$A$2:$B$2,2,FALSE),\"\")","v":""}]
[null,null,null,null,null,null,null,null,null,null,null,null,null,null,null,null,null,null,null,null,null,{"$f":"IF(LEN(X3286)>0,VLOOKUP(X3286,'TFW Programs'!$A$2:$B$24,2,FALSE),\"\")","v":""},null,null,{"$f":"IF(LEN(A3286)>0,VLOOKUP(A3286,Subcontractors!$A$2:$B$3,2,FALSE),\"\")","v":""},null,{"$f":"IF(LEN(A3286)>0,VLOOKUP(A3286,Subcontractors!$A$2:$B$2,2,FALSE),\"\")","v":""}]
[null,null,null,null,null,null,null,null,null,null,null,null,null,null,null,null,null,null,null,null,null,{"$f":"IF(LEN(X3289)>0,VLOOKUP(X3289,'TFW Programs'!$A$2:$B$24,2,FALSE),\"\")","v":""},null,null,{"$f":"IF(LEN(A3289)>0,VLOOKUP(A3289,Subcontractors!$A$2:$B$3,2,FALSE),\"\")","v":""},null,{"$f":"IF(LEN(A3289)>0,VLOOKUP(A3289,Subcontractors!$A$2:$B$2,2,FALSE),\"\")","v":""}]
[null,null,null,null,null,null,null,null,null,null,null,null,null,null,null,null,null,null,null,null,null,{"$f":"IF(LEN(X3291)>0,VLOOKUP(X3291,'TFW Programs'!$A$2:$B$24,2,FALSE),\"\")","v":""},null,null,{"$f":"IF(LEN(A3291)>0,VLOOKUP(A3291,Subcontractors!$A$2:$B$3,2,FALSE),\"\")","v":""},null,{"$f":"IF(LEN(A3291)>0,VLOOKUP(A3291,Subcontractors!$A$2:$B$2,2,FALSE),\"\")","v":""}]
[null,null,null,null,null,null,null,null,null,null,null,null,null,null,null,null,null,null,null,null,null,{"$f":"IF(LEN(X3296)>0,VLOOKUP(X3296,'TFW Programs'!$A$2:$B$24,2,FALSE),\"\")","v":""},null,null,{"$f":"IF(LEN(A3296)>0,VLOOKUP(A3296,Subcontractors!$A$2:$B$3,2,FALSE),\"\")","v":""},null,{"$f":"IF(LEN(A3296)>0,VLOOKUP(A3296,Subcontractors!$A$2:$B$2,2,FALSE),\"\")","v":""}]
[null,null,null,null,null,null,null,null,null,null,null,null,null,null,null,null,null,null,null,null,null,{"$f":"IF(LEN(X3301)>0,VLOOKUP(X3301,'TFW Programs'!$A$2:$B$24,2,FALSE),\"\")","v":""},null,null,{"$f":"IF(LEN(A3301)>0,VLOOKUP(A3301,Subcontractors!$A$2:$B$3,2,FALSE),\"\")","v":""},null,{"$f":"IF(LEN(A3301)>0,VLOOKUP(A3301,Subcontractors!$A$2:$B$2,2,FALSE),\"\")","v":""}]
[null,null,null,null,null,null,null,null,null,null,null,null,null,null,null,null,null,null,null,null,null,{"$f":"IF(LEN(X3305)>0,VLOOKUP(X3305,'TFW Programs'!$A$2:$B$24,2,FALSE),\"\")","v":""},null,null,{"$f":"IF(LEN(A3305)>0,VLOOKUP(A3305,Subcontractors!$A$2:$B$3,2,FALSE),\"\")","v":""},null,{"$f":"IF(LEN(A3305)>0,VLOOKUP(A3305,Subcontractors!$A$2:$B$2,2,FALSE),\"\")","v":""}]
[null,null,null,null,null,null,null,null,null,null,null,null,null,null,null,null,null,null,null,null,null,{"$f":"IF(LEN(X3306)>0,VLOOKUP(X3306,'TFW Programs'!$A$2:$B$24,2,FALSE),\"\")","v":""},null,null,{"$f":"IF(LEN(A3306)>0,VLOOKUP(A3306,Subcontractors!$A$2:$B$3,2,FALSE),\"\")","v":""},null,{"$f":"IF(LEN(A3306)>0,VLOOKUP(A3306,Subcontractors!$A$2:$B$2,2,FALSE),\"\")","v":""}]
[null,null,null,null,null,null,null,null,null,null,null,null,null,null,null,null,null,null,null,null,null,{"$f":"IF(LEN(X3311)>0,VLOOKUP(X3311,'TFW Programs'!$A$2:$B$24,2,FALSE),\"\")","v":""},null,null,{"$f":"IF(LEN(A3311)>0,VLOOKUP(A3311,Subcontractors!$A$2:$B$3,2,FALSE),\"\")","v":""},null,{"$f":"IF(LEN(A3311)>0,VLOOKUP(A3311,Subcontractors!$A$2:$B$2,2,FALSE),\"\")","v":""}]
[null,null,null,null,null,null,null,null,null,null,null,null,null,null,null,null,null,null,null,null,null,{"$f":"IF(LEN(X3316)>0,VLOOKUP(X3316,'TFW Programs'!$A$2:$B$24,2,FALSE),\"\")","v":""},null,null,{"$f":"IF(LEN(A3316)>0,VLOOKUP(A3316,Subcontractors!$A$2:$B$3,2,FALSE),\"\")","v":""},null,{"$f":"IF(LEN(A3316)>0,VLOOKUP(A3316,Subcontractors!$A$2:$B$2,2,FALSE),\"\")","v":""}]
[null,null,null,null,null,null,null,null,null,null,null,null,null,null,null,null,null,null,null,null,null,{"$f":"IF(LEN(X3321)>0,VLOOKUP(X3321,'TFW Programs'!$A$2:$B$24,2,FALSE),\"\")","v":""},null,null,{"$f":"IF(LEN(A3321)>0,VLOOKUP(A3321,Subcontractors!$A$2:$B$3,2,FALSE),\"\")","v":""},null,{"$f":"IF(LEN(A3321)>0,VLOOKUP(A3321,Subcontractors!$A$2:$B$2,2,FALSE),\"\")","v":""}]
[null,null,null,null,null,null,null,null,null,null,null,null,null,null,null,null,null,null,null,null,null,{"$f":"IF(LEN(X3323)>0,VLOOKUP(X3323,'TFW Programs'!$A$2:$B$24,2,FALSE),\"\")","v":""},null,null,{"$f":"IF(LEN(A3323)>0,VLOOKUP(A3323,Subcontractors!$A$2:$B$3,2,FALSE),\"\")","v":""},null,{"$f":"IF(LEN(A3323)>0,VLOOKUP(A3323,Subcontractors!$A$2:$B$2,2,FALSE),\"\")","v":""}]
[null,null,null,null,null,null,null,null,null,null,null,null,null,null,null,null,null,null,null,null,null,{"$f":"IF(LEN(X3326)>0,VLOOKUP(X3326,'TFW Programs'!$A$2:$B$24,2,FALSE),\"\")","v":""},null,null,{"$f":"IF(LEN(A3326)>0,VLOOKUP(A3326,Subcontractors!$A$2:$B$3,2,FALSE),\"\")","v":""},null,{"$f":"IF(LEN(A3326)>0,VLOOKUP(A3326,Subcontractors!$A$2:$B$2,2,FALSE),\"\")","v":""}]
[null,null,null,null,null,null,null,null,null,null,null,null,null,null,null,null,null,null,null,null,null,{"$f":"IF(LEN(X3331)>0,VLOOKUP(X3331,'TFW Programs'!$A$2:$B$24,2,FALSE),\"\")","v":""},null,null,{"$f":"IF(LEN(A3331)>0,VLOOKUP(A3331,Subcontractors!$A$2:$B$3,2,FALSE),\"\")","v":""},null,{"$f":"IF(LEN(A3331)>0,VLOOKUP(A3331,Subcontractors!$A$2:$B$2,2,FALSE),\"\")","v":""}]
[null,null,null,null,null,null,null,null,null,null,null,null,null,null,null,null,null,null,null,null,null,{"$f":"IF(LEN(X3336)>0,VLOOKUP(X3336,'TFW Programs'!$A$2:$B$24,2,FALSE),\"\")","v":""},null,null,{"$f":"IF(LEN(A3336)>0,VLOOKUP(A3336,Subcontractors!$A$2:$B$3,2,FALSE),\"\")","v":""},null,{"$f":"IF(LEN(A3336)>0,VLOOKUP(A3336,Subcontractors!$A$2:$B$2,2,FALSE),\"\")","v":""}]
[null,null,null,null,null,null,null,null,null,null,null,null,null,null,null,null,null,null,null,null,null,{"$f":"IF(LEN(X3337)>0,VLOOKUP(X3337,'TFW Programs'!$A$2:$B$24,2,FALSE),\"\")","v":""},null,null,{"$f":"IF(LEN(A3337)>0,VLOOKUP(A3337,Subcontractors!$A$2:$B$3,2,FALSE),\"\")","v":""},null,{"$f":"IF(LEN(A3337)>0,VLOOKUP(A3337,Subcontractors!$A$2:$B$2,2,FALSE),\"\")","v":""}]
[null,null,null,null,null,null,null,null,null,null,null,null,null,null,null,null,null,null,null,null,null,{"$f":"IF(LEN(X3341)>0,VLOOKUP(X3341,'TFW Programs'!$A$2:$B$24,2,FALSE),\"\")","v":""},null,null,{"$f":"IF(LEN(A3341)>0,VLOOKUP(A3341,Subcontractors!$A$2:$B$3,2,FALSE),\"\")","v":""},null,{"$f":"IF(LEN(A3341)>0,VLOOKUP(A3341,Subcontractors!$A$2:$B$2,2,FALSE),\"\")","v":""}]
[null,null,null,null,null,null,null,null,null,null,null,null,null,null,null,null,null,null,null,null,null,{"$f":"IF(LEN(X3346)>0,VLOOKUP(X3346,'TFW Programs'!$A$2:$B$24,2,FALSE),\"\")","v":""},null,null,{"$f":"IF(LEN(A3346)>0,VLOOKUP(A3346,Subcontractors!$A$2:$B$3,2,FALSE),\"\")","v":""},null,{"$f":"IF(LEN(A3346)>0,VLOOKUP(A3346,Subcontractors!$A$2:$B$2,2,FALSE),\"\")","v":""}]
[null,null,null,null,null,null,null,null,null,null,null,null,null,null,null,null,null,null,null,null,null,{"$f":"IF(LEN(X3351)>0,VLOOKUP(X3351,'TFW Programs'!$A$2:$B$24,2,FALSE),\"\")","v":""},null,null,{"$f":"IF(LEN(A3351)>0,VLOOKUP(A3351,Subcontractors!$A$2:$B$3,2,FALSE),\"\")","v":""},null,{"$f":"IF(LEN(A3351)>0,VLOOKUP(A3351,Subcontractors!$A$2:$B$2,2,FALSE),\"\")","v":""}]
[null,null,null,null,null,null,null,null,null,null,null,null,null,null,null,null,null,null,null,null,null,{"$f":"IF(LEN(X3353)>0,VLOOKUP(X3353,'TFW Programs'!$A$2:$B$24,2,FALSE),\"\")","v":""},null,null,{"$f":"IF(LEN(A3353)>0,VLOOKUP(A3353,Subcontractors!$A$2:$B$3,2,FALSE),\"\")","v":""},null,{"$f":"IF(LEN(A3353)>0,VLOOKUP(A3353,Subcontractors!$A$2:$B$2,2,FALSE),\"\")","v":""}]
[null,null,null,null,null,null,null,null,null,null,null,null,null,null,null,null,null,null,null,null,null,{"$f":"IF(LEN(X3356)>0,VLOOKUP(X3356,'TFW Programs'!$A$2:$B$24,2,FALSE),\"\")","v":""},null,null,{"$f":"IF(LEN(A3356)>0,VLOOKUP(A3356,Subcontractors!$A$2:$B$3,2,FALSE),\"\")","v":""},null,{"$f":"IF(LEN(A3356)>0,VLOOKUP(A3356,Subcontractors!$A$2:$B$2,2,FALSE),\"\")","v":""}]
[null,null,null,null,null,null,null,null,null,null,null,null,null,null,null,null,null,null,null,null,null,{"$f":"IF(LEN(X3361)>0,VLOOKUP(X3361,'TFW Programs'!$A$2:$B$24,2,FALSE),\"\")","v":""},null,null,{"$f":"IF(LEN(A3361)>0,VLOOKUP(A3361,Subcontractors!$A$2:$B$3,2,FALSE),\"\")","v":""},null,{"$f":"IF(LEN(A3361)>0,VLOOKUP(A3361,Subcontractors!$A$2:$B$2,2,FALSE),\"\")","v":""}]
[null,null,null,null,null,null,null,null,null,null,null,null,null,null,null,null,null,null,null,null,null,{"$f":"IF(LEN(X3366)>0,VLOOKUP(X3366,'TFW Programs'!$A$2:$B$24,2,FALSE),\"\")","v":""},null,null,{"$f":"IF(LEN(A3366)>0,VLOOKUP(A3366,Subcontractors!$A$2:$B$3,2,FALSE),\"\")","v":""},null,{"$f":"IF(LEN(A3366)>0,VLOOKUP(A3366,Subcontractors!$A$2:$B$2,2,FALSE),\"\")","v":""}]
[null,null,null,null,null,null,null,null,null,null,null,null,null,null,null,null,null,null,null,null,null,{"$f":"IF(LEN(X3367)>0,VLOOKUP(X3367,'TFW Programs'!$A$2:$B$24,2,FALSE),\"\")","v":""},null,null,{"$f":"IF(LEN(A3367)>0,VLOOKUP(A3367,Subcontractors!$A$2:$B$3,2,FALSE),\"\")","v":""},null,{"$f":"IF(LEN(A3367)>0,VLOOKUP(A3367,Subcontractors!$A$2:$B$2,2,FALSE),\"\")","v":""}]
[null,null,null,null,null,null,null,null,null,null,null,null,null,null,null,null,null,null,null,null,null,{"$f":"IF(LEN(X3371)>0,VLOOKUP(X3371,'TFW Programs'!$A$2:$B$24,2,FALSE),\"\")","v":""},null,null,{"$f":"IF(LEN(A3371)>0,VLOOKUP(A3371,Subcontractors!$A$2:$B$3,2,FALSE),\"\")","v":""},null,{"$f":"IF(LEN(A3371)>0,VLOOKUP(A3371,Subcontractors!$A$2:$B$2,2,FALSE),\"\")","v":""}]
[null,null,null,null,null,null,null,null,null,null,null,null,null,null,null,null,null,null,null,null,null,{"$f":"IF(LEN(X3376)>0,VLOOKUP(X3376,'TFW Programs'!$A$2:$B$24,2,FALSE),\"\")","v":""},null,null,{"$f":"IF(LEN(A3376)>0,VLOOKUP(A3376,Subcontractors!$A$2:$B$3,2,FALSE),\"\")","v":""},null,{"$f":"IF(LEN(A3376)>0,VLOOKUP(A3376,Subcontractors!$A$2:$B$2,2,FALSE),\"\")","v":""}]
[null,null,null,null,null,null,null,null,null,null,null,null,null,null,null,null,null,null,null,null,null,{"$f":"IF(LEN(X3381)>0,VLOOKUP(X3381,'TFW Programs'!$A$2:$B$24,2,FALSE),\"\")","v":""},null,null,{"$f":"IF(LEN(A3381)>0,VLOOKUP(A3381,Subcontractors!$A$2:$B$3,2,FALSE),\"\")","v":""},null,{"$f":"IF(LEN(A3381)>0,VLOOKUP(A3381,Subcontractors!$A$2:$B$2,2,FALSE),\"\")","v":""}]
[null,null,null,null,null,null,null,null,null,null,null,null,null,null,null,null,null,null,null,null,null,{"$f":"IF(LEN(X3382)>0,VLOOKUP(X3382,'TFW Programs'!$A$2:$B$24,2,FALSE),\"\")","v":""},null,null,{"$f":"IF(LEN(A3382)>0,VLOOKUP(A3382,Subcontractors!$A$2:$B$3,2,FALSE),\"\")","v":""},null,{"$f":"IF(LEN(A3382)>0,VLOOKUP(A3382,Subcontractors!$A$2:$B$2,2,FALSE),\"\")","v":""}]
[null,null,null,null,null,null,null,null,null,null,null,null,null,null,null,null,null,null,null,null,null,{"$f":"IF(LEN(X3388)>0,VLOOKUP(X3388,'TFW Programs'!$A$2:$B$24,2,FALSE),\"\")","v":""},null,null,{"$f":"IF(LEN(A3388)>0,VLOOKUP(A3388,Subcontractors!$A$2:$B$3,2,FALSE),\"\")","v":""},null,{"$f":"IF(LEN(A3388)>0,VLOOKUP(A3388,Subcontractors!$A$2:$B$2,2,FALSE),\"\")","v":""}]
[null,null,null,null,null,null,null,null,null,null,null,null,null,null,null,null,null,null,null,null,null,{"$f":"IF(LEN(X3391)>0,VLOOKUP(X3391,'TFW Programs'!$A$2:$B$24,2,FALSE),\"\")","v":""},null,null,{"$f":"IF(LEN(A3391)>0,VLOOKUP(A3391,Subcontractors!$A$2:$B$3,2,FALSE),\"\")","v":""},null,{"$f":"IF(LEN(A3391)>0,VLOOKUP(A3391,Subcontractors!$A$2:$B$2,2,FALSE),\"\")","v":""}]
[null,null,null,null,null,null,null,null,null,null,null,null,null,null,null,null,null,null,null,null,null,{"$f":"IF(LEN(X3396)>0,VLOOKUP(X3396,'TFW Programs'!$A$2:$B$24,2,FALSE),\"\")","v":""},null,null,{"$f":"IF(LEN(A3396)>0,VLOOKUP(A3396,Subcontractors!$A$2:$B$3,2,FALSE),\"\")","v":""},null,{"$f":"IF(LEN(A3396)>0,VLOOKUP(A3396,Subcontractors!$A$2:$B$2,2,FALSE),\"\")","v":""}]
[null,null,null,null,null,null,null,null,null,null,null,null,null,null,null,null,null,null,null,null,null,{"$f":"IF(LEN(X3397)>0,VLOOKUP(X3397,'TFW Programs'!$A$2:$B$24,2,FALSE),\"\")","v":""},null,null,{"$f":"IF(LEN(A3397)>0,VLOOKUP(A3397,Subcontractors!$A$2:$B$3,2,FALSE),\"\")","v":""},null,{"$f":"IF(LEN(A3397)>0,VLOOKUP(A3397,Subcontractors!$A$2:$B$2,2,FALSE),\"\")","v":""}]
[null,null,null,null,null,null,null,null,null,null,null,null,null,null,null,null,null,null,null,null,null,{"$f":"IF(LEN(X3402)>0,VLOOKUP(X3402,'TFW Programs'!$A$2:$B$24,2,FALSE),\"\")","v":""},null,null,{"$f":"IF(LEN(A3402)>0,VLOOKUP(A3402,Subcontractors!$A$2:$B$3,2,FALSE),\"\")","v":""},null,{"$f":"IF(LEN(A3402)>0,VLOOKUP(A3402,Subcontractors!$A$2:$B$2,2,FALSE),\"\")","v":""}]
[null,null,null,null,null,null,null,null,null,null,null,null,null,null,null,null,null,null,null,null,null,{"$f":"IF(LEN(X3406)>0,VLOOKUP(X3406,'TFW Programs'!$A$2:$B$24,2,FALSE),\"\")","v":""},null,null,{"$f":"IF(LEN(A3406)>0,VLOOKUP(A3406,Subcontractors!$A$2:$B$3,2,FALSE),\"\")","v":""},null,{"$f":"IF(LEN(A3406)>0,VLOOKUP(A3406,Subcontractors!$A$2:$B$2,2,FALSE),\"\")","v":""}]
[null,null,null,null,null,null,null,null,null,null,null,null,null,null,null,null,null,null,null,null,null,{"$f":"IF(LEN(X3411)>0,VLOOKUP(X3411,'TFW Programs'!$A$2:$B$24,2,FALSE),\"\")","v":""},null,null,{"$f":"IF(LEN(A3411)>0,VLOOKUP(A3411,Subcontractors!$A$2:$B$3,2,FALSE),\"\")","v":""},null,{"$f":"IF(LEN(A3411)>0,VLOOKUP(A3411,Subcontractors!$A$2:$B$2,2,FALSE),\"\")","v":""}]
[null,null,null,null,null,null,null,null,null,null,null,null,null,null,null,null,null,null,null,null,null,{"$f":"IF(LEN(X3412)>0,VLOOKUP(X3412,'TFW Programs'!$A$2:$B$24,2,FALSE),\"\")","v":""},null,null,{"$f":"IF(LEN(A3412)>0,VLOOKUP(A3412,Subcontractors!$A$2:$B$3,2,FALSE),\"\")","v":""},null,{"$f":"IF(LEN(A3412)>0,VLOOKUP(A3412,Subcontractors!$A$2:$B$2,2,FALSE),\"\")","v":""}]
[null,null,null,null,null,null,null,null,null,null,null,null,null,null,null,null,null,null,null,null,null,{"$f":"IF(LEN(X3417)>0,VLOOKUP(X3417,'TFW Programs'!$A$2:$B$24,2,FALSE),\"\")","v":""},null,null,{"$f":"IF(LEN(A3417)>0,VLOOKUP(A3417,Subcontractors!$A$2:$B$3,2,FALSE),\"\")","v":""},null,{"$f":"IF(LEN(A3417)>0,VLOOKUP(A3417,Subcontractors!$A$2:$B$2,2,FALSE),\"\")","v":""}]
[null,null,null,null,null,null,null,null,null,null,null,null,null,null,null,null,null,null,null,null,null,{"$f":"IF(LEN(X3422)>0,VLOOKUP(X3422,'TFW Programs'!$A$2:$B$24,2,FALSE),\"\")","v":""},null,null,{"$f":"IF(LEN(A3422)>0,VLOOKUP(A3422,Subcontractors!$A$2:$B$3,2,FALSE),\"\")","v":""},null,{"$f":"IF(LEN(A3422)>0,VLOOKUP(A3422,Subcontractors!$A$2:$B$2,2,FALSE),\"\")","v":""}]
[null,null,null,null,null,null,null,null,null,null,null,null,null,null,null,null,null,null,null,null,null,{"$f":"IF(LEN(X3426)>0,VLOOKUP(X3426,'TFW Programs'!$A$2:$B$24,2,FALSE),\"\")","v":""},null,null,{"$f":"IF(LEN(A3426)>0,VLOOKUP(A3426,Subcontractors!$A$2:$B$3,2,FALSE),\"\")","v":""},null,{"$f":"IF(LEN(A3426)>0,VLOOKUP(A3426,Subcontractors!$A$2:$B$2,2,FALSE),\"\")","v":""}]
[null,null,null,null,null,null,null,null,null,null,null,null,null,null,null,null,null,null,null,null,null,{"$f":"IF(LEN(X3427)>0,VLOOKUP(X3427,'TFW Programs'!$A$2:$B$24,2,FALSE),\"\")","v":""},null,null,{"$f":"IF(LEN(A3427)>0,VLOOKUP(A3427,Subcontractors!$A$2:$B$3,2,FALSE),\"\")","v":""},null,{"$f":"IF(LEN(A3427)>0,VLOOKUP(A3427,Subcontractors!$A$2:$B$2,2,FALSE),\"\")","v":""}]
[null,null,null,null,null,null,null,null,null,null,null,null,null,null,null,null,null,null,null,null,null,{"$f":"IF(LEN(X3432)>0,VLOOKUP(X3432,'TFW Programs'!$A$2:$B$24,2,FALSE),\"\")","v":""},null,null,{"$f":"IF(LEN(A3432)>0,VLOOKUP(A3432,Subcontractors!$A$2:$B$3,2,FALSE),\"\")","v":""},null,{"$f":"IF(LEN(A3432)>0,VLOOKUP(A3432,Subcontractors!$A$2:$B$2,2,FALSE),\"\")","v":""}]
[null,null,null,null,null,null,null,null,null,null,null,null,null,null,null,null,null,null,null,null,null,{"$f":"IF(LEN(X3437)>0,VLOOKUP(X3437,'TFW Programs'!$A$2:$B$24,2,FALSE),\"\")","v":""},null,null,{"$f":"IF(LEN(A3437)>0,VLOOKUP(A3437,Subcontractors!$A$2:$B$3,2,FALSE),\"\")","v":""},null,{"$f":"IF(LEN(A3437)>0,VLOOKUP(A3437,Subcontractors!$A$2:$B$2,2,FALSE),\"\")","v":""}]
[null,null,null,null,null,null,null,null,null,null,null,null,null,null,null,null,null,null,null,null,null,{"$f":"IF(LEN(X3440)>0,VLOOKUP(X3440,'TFW Programs'!$A$2:$B$24,2,FALSE),\"\")","v":""},null,null,{"$f":"IF(LEN(A3440)>0,VLOOKUP(A3440,Subcontractors!$A$2:$B$3,2,FALSE),\"\")","v":""},null,{"$f":"IF(LEN(A3440)>0,VLOOKUP(A3440,Subcontractors!$A$2:$B$2,2,FALSE),\"\")","v":""}]
[null,null,null,null,null,null,null,null,null,null,null,null,null,null,null,null,null,null,null,null,null,{"$f":"IF(LEN(X3442)>0,VLOOKUP(X3442,'TFW Programs'!$A$2:$B$24,2,FALSE),\"\")","v":""},null,null,{"$f":"IF(LEN(A3442)>0,VLOOKUP(A3442,Subcontractors!$A$2:$B$3,2,FALSE),\"\")","v":""},null,{"$f":"IF(LEN(A3442)>0,VLOOKUP(A3442,Subcontractors!$A$2:$B$2,2,FALSE),\"\")","v":""}]
[null,null,null,null,null,null,null,null,null,null,null,null,null,null,null,null,null,null,null,null,null,{"$f":"IF(LEN(X3447)>0,VLOOKUP(X3447,'TFW Programs'!$A$2:$B$24,2,FALSE),\"\")","v":""},null,null,{"$f":"IF(LEN(A3447)>0,VLOOKUP(A3447,Subcontractors!$A$2:$B$3,2,FALSE),\"\")","v":""},null,{"$f":"IF(LEN(A3447)>0,VLOOKUP(A3447,Subcontractors!$A$2:$B$2,2,FALSE),\"\")","v":""}]
[null,null,null,null,null,null,null,null,null,null,null,null,null,null,null,null,null,null,null,null,null,{"$f":"IF(LEN(X3452)>0,VLOOKUP(X3452,'TFW Programs'!$A$2:$B$24,2,FALSE),\"\")","v":""},null,null,{"$f":"IF(LEN(A3452)>0,VLOOKUP(A3452,Subcontractors!$A$2:$B$3,2,FALSE),\"\")","v":""},null,{"$f":"IF(LEN(A3452)>0,VLOOKUP(A3452,Subcontractors!$A$2:$B$2,2,FALSE),\"\")","v":""}]
[null,null,null,null,null,null,null,null,null,null,null,null,null,null,null,null,null,null,null,null,null,{"$f":"IF(LEN(X3454)>0,VLOOKUP(X3454,'TFW Programs'!$A$2:$B$24,2,FALSE),\"\")","v":""},null,null,{"$f":"IF(LEN(A3454)>0,VLOOKUP(A3454,Subcontractors!$A$2:$B$3,2,FALSE),\"\")","v":""},null,{"$f":"IF(LEN(A3454)>0,VLOOKUP(A3454,Subcontractors!$A$2:$B$2,2,FALSE),\"\")","v":""}]
[null,null,null,null,null,null,null,null,null,null,null,null,null,null,null,null,null,null,null,null,null,{"$f":"IF(LEN(X3457)>0,VLOOKUP(X3457,'TFW Programs'!$A$2:$B$24,2,FALSE),\"\")","v":""},null,null,{"$f":"IF(LEN(A3457)>0,VLOOKUP(A3457,Subcontractors!$A$2:$B$3,2,FALSE),\"\")","v":""},null,{"$f":"IF(LEN(A3457)>0,VLOOKUP(A3457,Subcontractors!$A$2:$B$2,2,FALSE),\"\")","v":""}]
[null,null,null,null,null,null,null,null,null,null,null,null,null,null,null,null,null,null,null,null,null,{"$f":"IF(LEN(X3462)>0,VLOOKUP(X3462,'TFW Programs'!$A$2:$B$24,2,FALSE),\"\")","v":""},null,null,{"$f":"IF(LEN(A3462)>0,VLOOKUP(A3462,Subcontractors!$A$2:$B$3,2,FALSE),\"\")","v":""},null,{"$f":"IF(LEN(A3462)>0,VLOOKUP(A3462,Subcontractors!$A$2:$B$2,2,FALSE),\"\")","v":""}]
[null,null,null,null,null,null,null,null,null,null,null,null,null,null,null,null,null,null,null,null,null,{"$f":"IF(LEN(X3467)>0,VLOOKUP(X3467,'TFW Programs'!$A$2:$B$24,2,FALSE),\"\")","v":""},null,null,{"$f":"IF(LEN(A3467)>0,VLOOKUP(A3467,Subcontractors!$A$2:$B$3,2,FALSE),\"\")","v":""},null,{"$f":"IF(LEN(A3467)>0,VLOOKUP(A3467,Subcontractors!$A$2:$B$2,2,FALSE),\"\")","v":""}]
[null,null,null,null,null,null,null,null,null,null,null,null,null,null,null,null,null,null,null,null,null,{"$f":"IF(LEN(X3470)>0,VLOOKUP(X3470,'TFW Programs'!$A$2:$B$24,2,FALSE),\"\")","v":""},null,null,{"$f":"IF(LEN(A3470)>0,VLOOKUP(A3470,Subcontractors!$A$2:$B$3,2,FALSE),\"\")","v":""},null,{"$f":"IF(LEN(A3470)>0,VLOOKUP(A3470,Subcontractors!$A$2:$B$2,2,FALSE),\"\")","v":""}]
[null,null,null,null,null,null,null,null,null,null,null,null,null,null,null,null,null,null,null,null,null,{"$f":"IF(LEN(X3472)>0,VLOOKUP(X3472,'TFW Programs'!$A$2:$B$24,2,FALSE),\"\")","v":""},null,null,{"$f":"IF(LEN(A3472)>0,VLOOKUP(A3472,Subcontractors!$A$2:$B$3,2,FALSE),\"\")","v":""},null,{"$f":"IF(LEN(A3472)>0,VLOOKUP(A3472,Subcontractors!$A$2:$B$2,2,FALSE),\"\")","v":""}]
[null,null,null,null,null,null,null,null,null,null,null,null,null,null,null,null,null,null,null,null,null,{"$f":"IF(LEN(X3477)>0,VLOOKUP(X3477,'TFW Programs'!$A$2:$B$24,2,FALSE),\"\")","v":""},null,null,{"$f":"IF(LEN(A3477)>0,VLOOKUP(A3477,Subcontractors!$A$2:$B$3,2,FALSE),\"\")","v":""},null,{"$f":"IF(LEN(A3477)>0,VLOOKUP(A3477,Subcontractors!$A$2:$B$2,2,FALSE),\"\")","v":""}]
[null,null,null,null,null,null,null,null,null,null,null,null,null,null,null,null,null,null,null,null,null,{"$f":"IF(LEN(X3482)>0,VLOOKUP(X3482,'TFW Programs'!$A$2:$B$24,2,FALSE),\"\")","v":""},null,null,{"$f":"IF(LEN(A3482)>0,VLOOKUP(A3482,Subcontractors!$A$2:$B$3,2,FALSE),\"\")","v":""},null,{"$f":"IF(LEN(A3482)>0,VLOOKUP(A3482,Subcontractors!$A$2:$B$2,2,FALSE),\"\")","v":""}]
[null,null,null,null,null,null,null,null,null,null,null,null,null,null,null,null,null,null,null,null,null,{"$f":"IF(LEN(X3487)>0,VLOOKUP(X3487,'TFW Programs'!$A$2:$B$24,2,FALSE),\"\")","v":""},null,null,{"$f":"IF(LEN(A3487)>0,VLOOKUP(A3487,Subcontractors!$A$2:$B$3,2,FALSE),\"\")","v":""},null,{"$f":"IF(LEN(A3487)>0,VLOOKUP(A3487,Subcontractors!$A$2:$B$2,2,FALSE),\"\")","v":""}]
[null,null,null,null,null,null,null,null,null,null,null,null,null,null,null,null,null,null,null,null,null,{"$f":"IF(LEN(X3488)>0,VLOOKUP(X3488,'TFW Programs'!$A$2:$B$24,2,FALSE),\"\")","v":""},null,null,{"$f":"IF(LEN(A3488)>0,VLOOKUP(A3488,Subcontractors!$A$2:$B$3,2,FALSE),\"\")","v":""},null,{"$f":"IF(LEN(A3488)>0,VLOOKUP(A3488,Subcontractors!$A$2:$B$2,2,FALSE),\"\")","v":""}]
[null,null,null,null,null,null,null,null,null,null,null,null,null,null,null,null,null,null,null,null,null,{"$f":"IF(LEN(X3492)>0,VLOOKUP(X3492,'TFW Programs'!$A$2:$B$24,2,FALSE),\"\")","v":""},null,null,{"$f":"IF(LEN(A3492)>0,VLOOKUP(A3492,Subcontractors!$A$2:$B$3,2,FALSE),\"\")","v":""},null,{"$f":"IF(LEN(A3492)>0,VLOOKUP(A3492,Subcontractors!$A$2:$B$2,2,FALSE),\"\")","v":""}]
[null,null,null,null,null,null,null,null,null,null,null,null,null,null,null,null,null,null,null,null,null,{"$f":"IF(LEN(X3497)>0,VLOOKUP(X3497,'TFW Programs'!$A$2:$B$24,2,FALSE),\"\")","v":""},null,null,{"$f":"IF(LEN(A3497)>0,VLOOKUP(A3497,Subcontractors!$A$2:$B$3,2,FALSE),\"\")","v":""},null,{"$f":"IF(LEN(A3497)>0,VLOOKUP(A3497,Subcontractors!$A$2:$B$2,2,FALSE),\"\")","v":""}]
[null,null,null,null,null,null,null,null,null,null,null,null,null,null,null,null,null,null,null,null,null,{"$f":"IF(LEN(X3502)>0,VLOOKUP(X3502,'TFW Programs'!$A$2:$B$24,2,FALSE),\"\")","v":""},null,null,{"$f":"IF(LEN(A3502)>0,VLOOKUP(A3502,Subcontractors!$A$2:$B$3,2,FALSE),\"\")","v":""},null,{"$f":"IF(LEN(A3502)>0,VLOOKUP(A3502,Subcontractors!$A$2:$B$2,2,FALSE),\"\")","v":""}]
[null,null,null,null,null,null,null,null,null,null,null,null,null,null,null,null,null,null,null,null,null,{"$f":"IF(LEN(X3505)>0,VLOOKUP(X3505,'TFW Programs'!$A$2:$B$24,2,FALSE),\"\")","v":""},null,null,{"$f":"IF(LEN(A3505)>0,VLOOKUP(A3505,Subcontractors!$A$2:$B$3,2,FALSE),\"\")","v":""},null,{"$f":"IF(LEN(A3505)>0,VLOOKUP(A3505,Subcontractors!$A$2:$B$2,2,FALSE),\"\")","v":""}]
[null,null,null,null,null,null,null,null,null,null,null,null,null,null,null,null,null,null,null,null,null,{"$f":"IF(LEN(X3507)>0,VLOOKUP(X3507,'TFW Programs'!$A$2:$B$24,2,FALSE),\"\")","v":""},null,null,{"$f":"IF(LEN(A3507)>0,VLOOKUP(A3507,Subcontractors!$A$2:$B$3,2,FALSE),\"\")","v":""},null,{"$f":"IF(LEN(A3507)>0,VLOOKUP(A3507,Subcontractors!$A$2:$B$2,2,FALSE),\"\")","v":""}]
[null,null,null,null,null,null,null,null,null,null,null,null,null,null,null,null,null,null,null,null,null,{"$f":"IF(LEN(X3512)>0,VLOOKUP(X3512,'TFW Programs'!$A$2:$B$24,2,FALSE),\"\")","v":""},null,null,{"$f":"IF(LEN(A3512)>0,VLOOKUP(A3512,Subcontractors!$A$2:$B$3,2,FALSE),\"\")","v":""},null,{"$f":"IF(LEN(A3512)>0,VLOOKUP(A3512,Subcontractors!$A$2:$B$2,2,FALSE),\"\")","v":""}]
[null,null,null,null,null,null,null,null,null,null,null,null,null,null,null,null,null,null,null,null,null,{"$f":"IF(LEN(X3517)>0,VLOOKUP(X3517,'TFW Programs'!$A$2:$B$24,2,FALSE),\"\")","v":""},null,null,{"$f":"IF(LEN(A3517)>0,VLOOKUP(A3517,Subcontractors!$A$2:$B$3,2,FALSE),\"\")","v":""},null,{"$f":"IF(LEN(A3517)>0,VLOOKUP(A3517,Subcontractors!$A$2:$B$2,2,FALSE),\"\")","v":""}]
[null,null,null,null,null,null,null,null,null,null,null,null,null,null,null,null,null,null,null,null,null,{"$f":"IF(LEN(X3518)>0,VLOOKUP(X3518,'TFW Programs'!$A$2:$B$24,2,FALSE),\"\")","v":""},null,null,{"$f":"IF(LEN(A3518)>0,VLOOKUP(A3518,Subcontractors!$A$2:$B$3,2,FALSE),\"\")","v":""},null,{"$f":"IF(LEN(A3518)>0,VLOOKUP(A3518,Subcontractors!$A$2:$B$2,2,FALSE),\"\")","v":""}]
[null,null,null,null,null,null,null,null,null,null,null,null,null,null,null,null,null,null,null,null,null,{"$f":"IF(LEN(X3523)>0,VLOOKUP(X3523,'TFW Programs'!$A$2:$B$24,2,FALSE),\"\")","v":""},null,null,{"$f":"IF(LEN(A3523)>0,VLOOKUP(A3523,Subcontractors!$A$2:$B$3,2,FALSE),\"\")","v":""},null,{"$f":"IF(LEN(A3523)>0,VLOOKUP(A3523,Subcontractors!$A$2:$B$2,2,FALSE),\"\")","v":""}]
[null,null,null,null,null,null,null,null,null,null,null,null,null,null,null,null,null,null,null,null,null,{"$f":"IF(LEN(X3527)>0,VLOOKUP(X3527,'TFW Programs'!$A$2:$B$24,2,FALSE),\"\")","v":""},null,null,{"$f":"IF(LEN(A3527)>0,VLOOKUP(A3527,Subcontractors!$A$2:$B$3,2,FALSE),\"\")","v":""},null,{"$f":"IF(LEN(A3527)>0,VLOOKUP(A3527,Subcontractors!$A$2:$B$2,2,FALSE),\"\")","v":""}]
[null,null,null,null,null,null,null,null,null,null,null,null,null,null,null,null,null,null,null,null,null,{"$f":"IF(LEN(X3532)>0,VLOOKUP(X3532,'TFW Programs'!$A$2:$B$24,2,FALSE),\"\")","v":""},null,null,{"$f":"IF(LEN(A3532)>0,VLOOKUP(A3532,Subcontractors!$A$2:$B$3,2,FALSE),\"\")","v":""},null,{"$f":"IF(LEN(A3532)>0,VLOOKUP(A3532,Subcontractors!$A$2:$B$2,2,FALSE),\"\")","v":""}]
[null,null,null,null,null,null,null,null,null,null,null,null,null,null,null,null,null,null,null,null,null,{"$f":"IF(LEN(X3533)>0,VLOOKUP(X3533,'TFW Programs'!$A$2:$B$24,2,FALSE),\"\")","v":""},null,null,{"$f":"IF(LEN(A3533)>0,VLOOKUP(A3533,Subcontractors!$A$2:$B$3,2,FALSE),\"\")","v":""},null,{"$f":"IF(LEN(A3533)>0,VLOOKUP(A3533,Subcontractors!$A$2:$B$2,2,FALSE),\"\")","v":""}]
[null,null,null,null,null,null,null,null,null,null,null,null,null,null,null,null,null,null,null,null,null,{"$f":"IF(LEN(X3539)>0,VLOOKUP(X3539,'TFW Programs'!$A$2:$B$24,2,FALSE),\"\")","v":""},null,null,{"$f":"IF(LEN(A3539)>0,VLOOKUP(A3539,Subcontractors!$A$2:$B$3,2,FALSE),\"\")","v":""},null,{"$f":"IF(LEN(A3539)>0,VLOOKUP(A3539,Subcontractors!$A$2:$B$2,2,FALSE),\"\")","v":""}]
[null,null,null,null,null,null,null,null,null,null,null,null,null,null,null,null,null,null,null,null,null,{"$f":"IF(LEN(X3542)>0,VLOOKUP(X3542,'TFW Programs'!$A$2:$B$24,2,FALSE),\"\")","v":""},null,null,{"$f":"IF(LEN(A3542)>0,VLOOKUP(A3542,Subcontractors!$A$2:$B$3,2,FALSE),\"\")","v":""},null,{"$f":"IF(LEN(A3542)>0,VLOOKUP(A3542,Subcontractors!$A$2:$B$2,2,FALSE),\"\")","v":""}]
[null,null,null,null,null,null,null,null,null,null,null,null,null,null,null,null,null,null,null,null,null,{"$f":"IF(LEN(X3547)>0,VLOOKUP(X3547,'TFW Programs'!$A$2:$B$24,2,FALSE),\"\")","v":""},null,null,{"$f":"IF(LEN(A3547)>0,VLOOKUP(A3547,Subcontractors!$A$2:$B$3,2,FALSE),\"\")","v":""},null,{"$f":"IF(LEN(A3547)>0,VLOOKUP(A3547,Subcontractors!$A$2:$B$2,2,FALSE),\"\")","v":""}]
[null,null,null,null,null,null,null,null,null,null,null,null,null,null,null,null,null,null,null,null,null,{"$f":"IF(LEN(X3548)>0,VLOOKUP(X3548,'TFW Programs'!$A$2:$B$24,2,FALSE),\"\")","v":""},null,null,{"$f":"IF(LEN(A3548)>0,VLOOKUP(A3548,Subcontractors!$A$2:$B$3,2,FALSE),\"\")","v":""},null,{"$f":"IF(LEN(A3548)>0,VLOOKUP(A3548,Subcontractors!$A$2:$B$2,2,FALSE),\"\")","v":""}]
[null,null,null,null,null,null,null,null,null,null,null,null,null,null,null,null,null,null,null,null,null,{"$f":"IF(LEN(X3553)>0,VLOOKUP(X3553,'TFW Programs'!$A$2:$B$24,2,FALSE),\"\")","v":""},null,null,{"$f":"IF(LEN(A3553)>0,VLOOKUP(A3553,Subcontractors!$A$2:$B$3,2,FALSE),\"\")","v":""},null,{"$f":"IF(LEN(A3553)>0,VLOOKUP(A3553,Subcontractors!$A$2:$B$2,2,FALSE),\"\")","v":""}]
[null,null,null,null,null,null,null,null,null,null,null,null,null,null,null,null,null,null,null,null,null,{"$f":"IF(LEN(X3557)>0,VLOOKUP(X3557,'TFW Programs'!$A$2:$B$24,2,FALSE),\"\")","v":""},null,null,{"$f":"IF(LEN(A3557)>0,VLOOKUP(A3557,Subcontractors!$A$2:$B$3,2,FALSE),\"\")","v":""},null,{"$f":"IF(LEN(A3557)>0,VLOOKUP(A3557,Subcontractors!$A$2:$B$2,2,FALSE),\"\")","v":""}]
[null,null,null,null,null,null,null,null,null,null,null,null,null,null,null,null,null,null,null,null,null,{"$f":"IF(LEN(X3562)>0,VLOOKUP(X3562,'TFW Programs'!$A$2:$B$24,2,FALSE),\"\")","v":""},null,null,{"$f":"IF(LEN(A3562)>0,VLOOKUP(A3562,Subcontractors!$A$2:$B$3,2,FALSE),\"\")","v":""},null,{"$f":"IF(LEN(A3562)>0,VLOOKUP(A3562,Subcontractors!$A$2:$B$2,2,FALSE),\"\")","v":""}]
[null,null,null,null,null,null,null,null,null,null,null,null,null,null,null,null,null,null,null,null,null,{"$f":"IF(LEN(X3563)>0,VLOOKUP(X3563,'TFW Programs'!$A$2:$B$24,2,FALSE),\"\")","v":""},null,null,{"$f":"IF(LEN(A3563)>0,VLOOKUP(A3563,Subcontractors!$A$2:$B$3,2,FALSE),\"\")","v":""},null,{"$f":"IF(LEN(A3563)>0,VLOOKUP(A3563,Subcontractors!$A$2:$B$2,2,FALSE),\"\")","v":""}]
[null,null,null,null,null,null,null,null,null,null,null,null,null,null,null,null,null,null,null,null,null,{"$f":"IF(LEN(X3568)>0,VLOOKUP(X3568,'TFW Programs'!$A$2:$B$24,2,FALSE),\"\")","v":""},null,null,{"$f":"IF(LEN(A3568)>0,VLOOKUP(A3568,Subcontractors!$A$2:$B$3,2,FALSE),\"\")","v":""},null,{"$f":"IF(LEN(A3568)>0,VLOOKUP(A3568,Subcontractors!$A$2:$B$2,2,FALSE),\"\")","v":""}]
[null,null,null,null,null,null,null,null,null,null,null,null,null,null,null,null,null,null,null,null,null,{"$f":"IF(LEN(X3571)>0,VLOOKUP(X3571,'TFW Programs'!$A$2:$B$24,2,FALSE),\"\")","v":""},null,null,{"$f":"IF(LEN(A3571)>0,VLOOKUP(A3571,Subcontractors!$A$2:$B$3,2,FALSE),\"\")","v":""},null,{"$f":"IF(LEN(A3571)>0,VLOOKUP(A3571,Subcontractors!$A$2:$B$2,2,FALSE),\"\")","v":""}]
[null,null,null,null,null,null,null,null,null,null,null,null,null,null,null,null,null,null,null,null,null,{"$f":"IF(LEN(X3577)>0,VLOOKUP(X3577,'TFW Programs'!$A$2:$B$24,2,FALSE),\"\")","v":""},null,null,{"$f":"IF(LEN(A3577)>0,VLOOKUP(A3577,Subcontractors!$A$2:$B$3,2,FALSE),\"\")","v":""},null,{"$f":"IF(LEN(A3577)>0,VLOOKUP(A3577,Subcontractors!$A$2:$B$2,2,FALSE),\"\")","v":""}]
[null,null,null,null,null,null,null,null,null,null,null,null,null,null,null,null,null,null,null,null,null,{"$f":"IF(LEN(X3578)>0,VLOOKUP(X3578,'TFW Programs'!$A$2:$B$24,2,FALSE),\"\")","v":""},null,null,{"$f":"IF(LEN(A3578)>0,VLOOKUP(A3578,Subcontractors!$A$2:$B$3,2,FALSE),\"\")","v":""},null,{"$f":"IF(LEN(A3578)>0,VLOOKUP(A3578,Subcontractors!$A$2:$B$2,2,FALSE),\"\")","v":""}]
[null,null,null,null,null,null,null,null,null,null,null,null,null,null,null,null,null,null,null,null,null,{"$f":"IF(LEN(X3583)>0,VLOOKUP(X3583,'TFW Programs'!$A$2:$B$24,2,FALSE),\"\")","v":""},null,null,{"$f":"IF(LEN(A3583)>0,VLOOKUP(A3583,Subcontractors!$A$2:$B$3,2,FALSE),\"\")","v":""},null,{"$f":"IF(LEN(A3583)>0,VLOOKUP(A3583,Subcontractors!$A$2:$B$2,2,FALSE),\"\")","v":""}]
[null,null,null,null,null,null,null,null,null,null,null,null,null,null,null,null,null,null,null,null,null,{"$f":"IF(LEN(X3587)>0,VLOOKUP(X3587,'TFW Programs'!$A$2:$B$24,2,FALSE),\"\")","v":""},null,null,{"$f":"IF(LEN(A3587)>0,VLOOKUP(A3587,Subcontractors!$A$2:$B$3,2,FALSE),\"\")","v":""},null,{"$f":"IF(LEN(A3587)>0,VLOOKUP(A3587,Subcontractors!$A$2:$B$2,2,FALSE),\"\")","v":""}]
[null,null,null,null,null,null,null,null,null,null,null,null,null,null,null,null,null,null,null,null,null,{"$f":"IF(LEN(X3592)>0,VLOOKUP(X3592,'TFW Programs'!$A$2:$B$24,2,FALSE),\"\")","v":""},null,null,{"$f":"IF(LEN(A3592)>0,VLOOKUP(A3592,Subcontractors!$A$2:$B$3,2,FALSE),\"\")","v":""},null,{"$f":"IF(LEN(A3592)>0,VLOOKUP(A3592,Subcontractors!$A$2:$B$2,2,FALSE),\"\")","v":""}]
[null,null,null,null,null,null,null,null,null,null,null,null,null,null,null,null,null,null,null,null,null,{"$f":"IF(LEN(X3593)>0,VLOOKUP(X3593,'TFW Programs'!$A$2:$B$24,2,FALSE),\"\")","v":""},null,null,{"$f":"IF(LEN(A3593)>0,VLOOKUP(A3593,Subcontractors!$A$2:$B$3,2,FALSE),\"\")","v":""},null,{"$f":"IF(LEN(A3593)>0,VLOOKUP(A3593,Subcontractors!$A$2:$B$2,2,FALSE),\"\")","v":""}]
[null,null,null,null,null,null,null,null,null,null,null,null,null,null,null,null,null,null,null,null,null,{"$f":"IF(LEN(X3598)>0,VLOOKUP(X3598,'TFW Programs'!$A$2:$B$24,2,FALSE),\"\")","v":""},null,null,{"$f":"IF(LEN(A3598)>0,VLOOKUP(A3598,Subcontractors!$A$2:$B$3,2,FALSE),\"\")","v":""},null,{"$f":"IF(LEN(A3598)>0,VLOOKUP(A3598,Subcontractors!$A$2:$B$2,2,FALSE),\"\")","v":""}]
[null,null,null,null,null,null,null,null,null,null,null,null,null,null,null,null,null,null,null,null,null,{"$f":"IF(LEN(X3603)>0,VLOOKUP(X3603,'TFW Programs'!$A$2:$B$24,2,FALSE),\"\")","v":""},null,null,{"$f":"IF(LEN(A3603)>0,VLOOKUP(A3603,Subcontractors!$A$2:$B$3,2,FALSE),\"\")","v":""},null,{"$f":"IF(LEN(A3603)>0,VLOOKUP(A3603,Subcontractors!$A$2:$B$2,2,FALSE),\"\")","v":""}]
[null,null,null,null,null,null,null,null,null,null,null,null,null,null,null,null,null,null,null,null,null,{"$f":"IF(LEN(X3605)>0,VLOOKUP(X3605,'TFW Programs'!$A$2:$B$24,2,FALSE),\"\")","v":""},null,null,{"$f":"IF(LEN(A3605)>0,VLOOKUP(A3605,Subcontractors!$A$2:$B$3,2,FALSE),\"\")","v":""},null,{"$f":"IF(LEN(A3605)>0,VLOOKUP(A3605,Subcontractors!$A$2:$B$2,2,FALSE),\"\")","v":""}]
[null,null,null,null,null,null,null,null,null,null,null,null,null,null,null,null,null,null,null,null,null,{"$f":"IF(LEN(X3608)>0,VLOOKUP(X3608,'TFW Programs'!$A$2:$B$24,2,FALSE),\"\")","v":""},null,null,{"$f":"IF(LEN(A3608)>0,VLOOKUP(A3608,Subcontractors!$A$2:$B$3,2,FALSE),\"\")","v":""},null,{"$f":"IF(LEN(A3608)>0,VLOOKUP(A3608,Subcontractors!$A$2:$B$2,2,FALSE),\"\")","v":""}]
[null,null,null,null,null,null,null,null,null,null,null,null,null,null,null,null,null,null,null,null,null,{"$f":"IF(LEN(X3613)>0,VLOOKUP(X3613,'TFW Programs'!$A$2:$B$24,2,FALSE),\"\")","v":""},null,null,{"$f":"IF(LEN(A3613)>0,VLOOKUP(A3613,Subcontractors!$A$2:$B$3,2,FALSE),\"\")","v":""},null,{"$f":"IF(LEN(A3613)>0,VLOOKUP(A3613,Subcontractors!$A$2:$B$2,2,FALSE),\"\")","v":""}]
[null,null,null,null,null,null,null,null,null,null,null,null,null,null,null,null,null,null,null,null,null,{"$f":"IF(LEN(X3618)>0,VLOOKUP(X3618,'TFW Programs'!$A$2:$B$24,2,FALSE),\"\")","v":""},null,null,{"$f":"IF(LEN(A3618)>0,VLOOKUP(A3618,Subcontractors!$A$2:$B$3,2,FALSE),\"\")","v":""},null,{"$f":"IF(LEN(A3618)>0,VLOOKUP(A3618,Subcontractors!$A$2:$B$2,2,FALSE),\"\")","v":""}]
[null,null,null,null,null,null,null,null,null,null,null,null,null,null,null,null,null,null,null,null,null,{"$f":"IF(LEN(X3622)>0,VLOOKUP(X3622,'TFW Programs'!$A$2:$B$24,2,FALSE),\"\")","v":""},null,null,{"$f":"IF(LEN(A3622)>0,VLOOKUP(A3622,Subcontractors!$A$2:$B$3,2,FALSE),\"\")","v":""},null,{"$f":"IF(LEN(A3622)>0,VLOOKUP(A3622,Subcontractors!$A$2:$B$2,2,FALSE),\"\")","v":""}]
[null,null,null,null,null,null,null,null,null,null,null,null,null,null,null,null,null,null,null,null,null,{"$f":"IF(LEN(X3623)>0,VLOOKUP(X3623,'TFW Programs'!$A$2:$B$24,2,FALSE),\"\")","v":""},null,null,{"$f":"IF(LEN(A3623)>0,VLOOKUP(A3623,Subcontractors!$A$2:$B$3,2,FALSE),\"\")","v":""},null,{"$f":"IF(LEN(A3623)>0,VLOOKUP(A3623,Subcontractors!$A$2:$B$2,2,FALSE),\"\")","v":""}]
[null,null,null,null,null,null,null,null,null,null,null,null,null,null,null,null,null,null,null,null,null,{"$f":"IF(LEN(X3628)>0,VLOOKUP(X3628,'TFW Programs'!$A$2:$B$24,2,FALSE),\"\")","v":""},null,null,{"$f":"IF(LEN(A3628)>0,VLOOKUP(A3628,Subcontractors!$A$2:$B$3,2,FALSE),\"\")","v":""},null,{"$f":"IF(LEN(A3628)>0,VLOOKUP(A3628,Subcontractors!$A$2:$B$2,2,FALSE),\"\")","v":""}]
[null,null,null,null,null,null,null,null,null,null,null,null,null,null,null,null,null,null,null,null,null,{"$f":"IF(LEN(X3633)>0,VLOOKUP(X3633,'TFW Programs'!$A$2:$B$24,2,FALSE),\"\")","v":""},null,null,{"$f":"IF(LEN(A3633)>0,VLOOKUP(A3633,Subcontractors!$A$2:$B$3,2,FALSE),\"\")","v":""},null,{"$f":"IF(LEN(A3633)>0,VLOOKUP(A3633,Subcontractors!$A$2:$B$2,2,FALSE),\"\")","v":""}]
[null,null,null,null,null,null,null,null,null,null,null,null,null,null,null,null,null,null,null,null,null,{"$f":"IF(LEN(X3638)>0,VLOOKUP(X3638,'TFW Programs'!$A$2:$B$24,2,FALSE),\"\")","v":""},null,null,{"$f":"IF(LEN(A3638)>0,VLOOKUP(A3638,Subcontractors!$A$2:$B$3,2,FALSE),\"\")","v":""},null,{"$f":"IF(LEN(A3638)>0,VLOOKUP(A3638,Subcontractors!$A$2:$B$2,2,FALSE),\"\")","v":""}]
[null,null,null,null,null,null,null,null,null,null,null,null,null,null,null,null,null,null,null,null,null,{"$f":"IF(LEN(X3639)>0,VLOOKUP(X3639,'TFW Programs'!$A$2:$B$24,2,FALSE),\"\")","v":""},null,null,{"$f":"IF(LEN(A3639)>0,VLOOKUP(A3639,Subcontractors!$A$2:$B$3,2,FALSE),\"\")","v":""},null,{"$f":"IF(LEN(A3639)>0,VLOOKUP(A3639,Subcontractors!$A$2:$B$2,2,FALSE),\"\")","v":""}]
[null,null,null,null,null,null,null,null,null,null,null,null,null,null,null,null,null,null,null,null,null,{"$f":"IF(LEN(X3643)>0,VLOOKUP(X3643,'TFW Programs'!$A$2:$B$24,2,FALSE),\"\")","v":""},null,null,{"$f":"IF(LEN(A3643)>0,VLOOKUP(A3643,Subcontractors!$A$2:$B$3,2,FALSE),\"\")","v":""},null,{"$f":"IF(LEN(A3643)>0,VLOOKUP(A3643,Subcontractors!$A$2:$B$2,2,FALSE),\"\")","v":""}]
[null,null,null,null,null,null,null,null,null,null,null,null,null,null,null,null,null,null,null,null,null,{"$f":"IF(LEN(X3648)>0,VLOOKUP(X3648,'TFW Programs'!$A$2:$B$24,2,FALSE),\"\")","v":""},null,null,{"$f":"IF(LEN(A3648)>0,VLOOKUP(A3648,Subcontractors!$A$2:$B$3,2,FALSE),\"\")","v":""},null,{"$f":"IF(LEN(A3648)>0,VLOOKUP(A3648,Subcontractors!$A$2:$B$2,2,FALSE),\"\")","v":""}]
[null,null,null,null,null,null,null,null,null,null,null,null,null,null,null,null,null,null,null,null,null,{"$f":"IF(LEN(X3653)>0,VLOOKUP(X3653,'TFW Programs'!$A$2:$B$24,2,FALSE),\"\")","v":""},null,null,{"$f":"IF(LEN(A3653)>0,VLOOKUP(A3653,Subcontractors!$A$2:$B$3,2,FALSE),\"\")","v":""},null,{"$f":"IF(LEN(A3653)>0,VLOOKUP(A3653,Subcontractors!$A$2:$B$2,2,FALSE),\"\")","v":""}]
[null,null,null,null,null,null,null,null,null,null,null,null,null,null,null,null,null,null,null,null,null,{"$f":"IF(LEN(X3656)>0,VLOOKUP(X3656,'TFW Programs'!$A$2:$B$24,2,FALSE),\"\")","v":""},null,null,{"$f":"IF(LEN(A3656)>0,VLOOKUP(A3656,Subcontractors!$A$2:$B$3,2,FALSE),\"\")","v":""},null,{"$f":"IF(LEN(A3656)>0,VLOOKUP(A3656,Subcontractors!$A$2:$B$2,2,FALSE),\"\")","v":""}]
[null,null,null,null,null,null,null,null,null,null,null,null,null,null,null,null,null,null,null,null,null,{"$f":"IF(LEN(X3658)>0,VLOOKUP(X3658,'TFW Programs'!$A$2:$B$24,2,FALSE),\"\")","v":""},null,null,{"$f":"IF(LEN(A3658)>0,VLOOKUP(A3658,Subcontractors!$A$2:$B$3,2,FALSE),\"\")","v":""},null,{"$f":"IF(LEN(A3658)>0,VLOOKUP(A3658,Subcontractors!$A$2:$B$2,2,FALSE),\"\")","v":""}]
[null,null,null,null,null,null,null,null,null,null,null,null,null,null,null,null,null,null,null,null,null,{"$f":"IF(LEN(X3663)>0,VLOOKUP(X3663,'TFW Programs'!$A$2:$B$24,2,FALSE),\"\")","v":""},null,null,{"$f":"IF(LEN(A3663)>0,VLOOKUP(A3663,Subcontractors!$A$2:$B$3,2,FALSE),\"\")","v":""},null,{"$f":"IF(LEN(A3663)>0,VLOOKUP(A3663,Subcontractors!$A$2:$B$2,2,FALSE),\"\")","v":""}]
[null,null,null,null,null,null,null,null,null,null,null,null,null,null,null,null,null,null,null,null,null,{"$f":"IF(LEN(X3668)>0,VLOOKUP(X3668,'TFW Programs'!$A$2:$B$24,2,FALSE),\"\")","v":""},null,null,{"$f":"IF(LEN(A3668)>0,VLOOKUP(A3668,Subcontractors!$A$2:$B$3,2,FALSE),\"\")","v":""},null,{"$f":"IF(LEN(A3668)>0,VLOOKUP(A3668,Subcontractors!$A$2:$B$2,2,FALSE),\"\")","v":""}]
[null,null,null,null,null,null,null,null,null,null,null,null,null,null,null,null,null,null,null,null,null,{"$f":"IF(LEN(X3670)>0,VLOOKUP(X3670,'TFW Programs'!$A$2:$B$24,2,FALSE),\"\")","v":""},null,null,{"$f":"IF(LEN(A3670)>0,VLOOKUP(A3670,Subcontractors!$A$2:$B$3,2,FALSE),\"\")","v":""},null,{"$f":"IF(LEN(A3670)>0,VLOOKUP(A3670,Subcontractors!$A$2:$B$2,2,FALSE),\"\")","v":""}]
[null,null,null,null,null,null,null,null,null,null,null,null,null,null,null,null,null,null,null,null,null,{"$f":"IF(LEN(X3673)>0,VLOOKUP(X3673,'TFW Programs'!$A$2:$B$24,2,FALSE),\"\")","v":""},null,null,{"$f":"IF(LEN(A3673)>0,VLOOKUP(A3673,Subcontractors!$A$2:$B$3,2,FALSE),\"\")","v":""},null,{"$f":"IF(LEN(A3673)>0,VLOOKUP(A3673,Subcontractors!$A$2:$B$2,2,FALSE),\"\")","v":""}]
[null,null,null,null,null,null,null,null,null,null,null,null,null,null,null,null,null,null,null,null,null,{"$f":"IF(LEN(X3678)>0,VLOOKUP(X3678,'TFW Programs'!$A$2:$B$24,2,FALSE),\"\")","v":""},null,null,{"$f":"IF(LEN(A3678)>0,VLOOKUP(A3678,Subcontractors!$A$2:$B$3,2,FALSE),\"\")","v":""},null,{"$f":"IF(LEN(A3678)>0,VLOOKUP(A3678,Subcontractors!$A$2:$B$2,2,FALSE),\"\")","v":""}]
[null,null,null,null,null,null,null,null,null,null,null,null,null,null,null,null,null,null,null,null,null,{"$f":"IF(LEN(X3683)>0,VLOOKUP(X3683,'TFW Programs'!$A$2:$B$24,2,FALSE),\"\")","v":""},null,null,{"$f":"IF(LEN(A3683)>0,VLOOKUP(A3683,Subcontractors!$A$2:$B$3,2,FALSE),\"\")","v":""},null,{"$f":"IF(LEN(A3683)>0,VLOOKUP(A3683,Subcontractors!$A$2:$B$2,2,FALSE),\"\")","v":""}]
[null,null,null,null,null,null,null,null,null,null,null,null,null,null,null,null,null,null,null,null,null,{"$f":"IF(LEN(X3684)>0,VLOOKUP(X3684,'TFW Programs'!$A$2:$B$24,2,FALSE),\"\")","v":""},null,null,{"$f":"IF(LEN(A3684)>0,VLOOKUP(A3684,Subcontractors!$A$2:$B$3,2,FALSE),\"\")","v":""},null,{"$f":"IF(LEN(A3684)>0,VLOOKUP(A3684,Subcontractors!$A$2:$B$2,2,FALSE),\"\")","v":""}]
[null,null,null,null,null,null,null,null,null,null,null,null,null,null,null,null,null,null,null,null,null,{"$f":"IF(LEN(X3690)>0,VLOOKUP(X3690,'TFW Programs'!$A$2:$B$24,2,FALSE),\"\")","v":""},null,null,{"$f":"IF(LEN(A3690)>0,VLOOKUP(A3690,Subcontractors!$A$2:$B$3,2,FALSE),\"\")","v":""},null,{"$f":"IF(LEN(A3690)>0,VLOOKUP(A3690,Subcontractors!$A$2:$B$2,2,FALSE),\"\")","v":""}]
[null,null,null,null,null,null,null,null,null,null,null,null,null,null,null,null,null,null,null,null,null,{"$f":"IF(LEN(X3693)>0,VLOOKUP(X3693,'TFW Programs'!$A$2:$B$24,2,FALSE),\"\")","v":""},null,null,{"$f":"IF(LEN(A3693)>0,VLOOKUP(A3693,Subcontractors!$A$2:$B$3,2,FALSE),\"\")","v":""},null,{"$f":"IF(LEN(A3693)>0,VLOOKUP(A3693,Subcontractors!$A$2:$B$2,2,FALSE),\"\")","v":""}]
[null,null,null,null,null,null,null,null,null,null,null,null,null,null,null,null,null,null,null,null,null,{"$f":"IF(LEN(X3698)>0,VLOOKUP(X3698,'TFW Programs'!$A$2:$B$24,2,FALSE),\"\")","v":""},null,null,{"$f":"IF(LEN(A3698)>0,VLOOKUP(A3698,Subcontractors!$A$2:$B$3,2,FALSE),\"\")","v":""},null,{"$f":"IF(LEN(A3698)>0,VLOOKUP(A3698,Subcontractors!$A$2:$B$2,2,FALSE),\"\")","v":""}]
[null,null,null,null,null,null,null,null,null,null,null,null,null,null,null,null,null,null,null,null,null,{"$f":"IF(LEN(X3699)>0,VLOOKUP(X3699,'TFW Programs'!$A$2:$B$24,2,FALSE),\"\")","v":""},null,null,{"$f":"IF(LEN(A3699)>0,VLOOKUP(A3699,Subcontractors!$A$2:$B$3,2,FALSE),\"\")","v":""},null,{"$f":"IF(LEN(A3699)>0,VLOOKUP(A3699,Subcontractors!$A$2:$B$2,2,FALSE),\"\")","v":""}]
[null,null,null,null,null,null,null,null,null,null,null,null,null,null,null,null,null,null,null,null,null,{"$f":"IF(LEN(X3704)>0,VLOOKUP(X3704,'TFW Programs'!$A$2:$B$24,2,FALSE),\"\")","v":""},null,null,{"$f":"IF(LEN(A3704)>0,VLOOKUP(A3704,Subcontractors!$A$2:$B$3,2,FALSE),\"\")","v":""},null,{"$f":"IF(LEN(A3704)>0,VLOOKUP(A3704,Subcontractors!$A$2:$B$2,2,FALSE),\"\")","v":""}]
[null,null,null,null,null,null,null,null,null,null,null,null,null,null,null,null,null,null,null,null,null,{"$f":"IF(LEN(X3708)>0,VLOOKUP(X3708,'TFW Programs'!$A$2:$B$24,2,FALSE),\"\")","v":""},null,null,{"$f":"IF(LEN(A3708)>0,VLOOKUP(A3708,Subcontractors!$A$2:$B$3,2,FALSE),\"\")","v":""},null,{"$f":"IF(LEN(A3708)>0,VLOOKUP(A3708,Subcontractors!$A$2:$B$2,2,FALSE),\"\")","v":""}]
[null,null,null,null,null,null,null,null,null,null,null,null,null,null,null,null,null,null,null,null,null,{"$f":"IF(LEN(X3713)>0,VLOOKUP(X3713,'TFW Programs'!$A$2:$B$24,2,FALSE),\"\")","v":""},null,null,{"$f":"IF(LEN(A3713)>0,VLOOKUP(A3713,Subcontractors!$A$2:$B$3,2,FALSE),\"\")","v":""},null,{"$f":"IF(LEN(A3713)>0,VLOOKUP(A3713,Subcontractors!$A$2:$B$2,2,FALSE),\"\")","v":""}]
[null,null,null,null,null,null,null,null,null,null,null,null,null,null,null,null,null,null,null,null,null,{"$f":"IF(LEN(X3714)>0,VLOOKUP(X3714,'TFW Programs'!$A$2:$B$24,2,FALSE),\"\")","v":""},null,null,{"$f":"IF(LEN(A3714)>0,VLOOKUP(A3714,Subcontractors!$A$2:$B$3,2,FALSE),\"\")","v":""},null,{"$f":"IF(LEN(A3714)>0,VLOOKUP(A3714,Subcontractors!$A$2:$B$2,2,FALSE),\"\")","v":""}]
[null,null,null,null,null,null,null,null,null,null,null,null,null,null,null,null,null,null,null,null,null,{"$f":"IF(LEN(X3719)>0,VLOOKUP(X3719,'TFW Programs'!$A$2:$B$24,2,FALSE),\"\")","v":""},null,null,{"$f":"IF(LEN(A3719)>0,VLOOKUP(A3719,Subcontractors!$A$2:$B$3,2,FALSE),\"\")","v":""},null,{"$f":"IF(LEN(A3719)>0,VLOOKUP(A3719,Subcontractors!$A$2:$B$2,2,FALSE),\"\")","v":""}]
[null,null,null,null,null,null,null,null,null,null,null,null,null,null,null,null,null,null,null,null,null,{"$f":"IF(LEN(X3722)>0,VLOOKUP(X3722,'TFW Programs'!$A$2:$B$24,2,FALSE),\"\")","v":""},null,null,{"$f":"IF(LEN(A3722)>0,VLOOKUP(A3722,Subcontractors!$A$2:$B$3,2,FALSE),\"\")","v":""},null,{"$f":"IF(LEN(A3722)>0,VLOOKUP(A3722,Subcontractors!$A$2:$B$2,2,FALSE),\"\")","v":""}]
[null,null,null,null,null,null,null,null,null,null,null,null,null,null,null,null,null,null,null,null,null,{"$f":"IF(LEN(X3728)>0,VLOOKUP(X3728,'TFW Programs'!$A$2:$B$24,2,FALSE),\"\")","v":""},null,null,{"$f":"IF(LEN(A3728)>0,VLOOKUP(A3728,Subcontractors!$A$2:$B$3,2,FALSE),\"\")","v":""},null,{"$f":"IF(LEN(A3728)>0,VLOOKUP(A3728,Subcontractors!$A$2:$B$2,2,FALSE),\"\")","v":""}]
[null,null,null,null,null,null,null,null,null,null,null,null,null,null,null,null,null,null,null,null,null,{"$f":"IF(LEN(X3729)>0,VLOOKUP(X3729,'TFW Programs'!$A$2:$B$24,2,FALSE),\"\")","v":""},null,null,{"$f":"IF(LEN(A3729)>0,VLOOKUP(A3729,Subcontractors!$A$2:$B$3,2,FALSE),\"\")","v":""},null,{"$f":"IF(LEN(A3729)>0,VLOOKUP(A3729,Subcontractors!$A$2:$B$2,2,FALSE),\"\")","v":""}]
[null,null,null,null,null,null,null,null,null,null,null,null,null,null,null,null,null,null,null,null,null,{"$f":"IF(LEN(X3734)>0,VLOOKUP(X3734,'TFW Programs'!$A$2:$B$24,2,FALSE),\"\")","v":""},null,null,{"$f":"IF(LEN(A3734)>0,VLOOKUP(A3734,Subcontractors!$A$2:$B$3,2,FALSE),\"\")","v":""},null,{"$f":"IF(LEN(A3734)>0,VLOOKUP(A3734,Subcontractors!$A$2:$B$2,2,FALSE),\"\")","v":""}]
[null,null,null,null,null,null,null,null,null,null,null,null,null,null,null,null,null,null,null,null,null,{"$f":"IF(LEN(X3738)>0,VLOOKUP(X3738,'TFW Programs'!$A$2:$B$24,2,FALSE),\"\")","v":""},null,null,{"$f":"IF(LEN(A3738)>0,VLOOKUP(A3738,Subcontractors!$A$2:$B$3,2,FALSE),\"\")","v":""},null,{"$f":"IF(LEN(A3738)>0,VLOOKUP(A3738,Subcontractors!$A$2:$B$2,2,FALSE),\"\")","v":""}]
[null,null,null,null,null,null,null,null,null,null,null,null,null,null,null,null,null,null,null,null,null,{"$f":"IF(LEN(X3743)>0,VLOOKUP(X3743,'TFW Programs'!$A$2:$B$24,2,FALSE),\"\")","v":""},null,null,{"$f":"IF(LEN(A3743)>0,VLOOKUP(A3743,Subcontractors!$A$2:$B$3,2,FALSE),\"\")","v":""},null,{"$f":"IF(LEN(A3743)>0,VLOOKUP(A3743,Subcontractors!$A$2:$B$2,2,FALSE),\"\")","v":""}]
[null,null,null,null,null,null,null,null,null,null,null,null,null,null,null,null,null,null,null,null,null,{"$f":"IF(LEN(X3744)>0,VLOOKUP(X3744,'TFW Programs'!$A$2:$B$24,2,FALSE),\"\")","v":""},null,null,{"$f":"IF(LEN(A3744)>0,VLOOKUP(A3744,Subcontractors!$A$2:$B$3,2,FALSE),\"\")","v":""},null,{"$f":"IF(LEN(A3744)>0,VLOOKUP(A3744,Subcontractors!$A$2:$B$2,2,FALSE),\"\")","v":""}]
[null,null,null,null,null,null,null,null,null,null,null,null,null,null,null,null,null,null,null,null,null,{"$f":"IF(LEN(X3749)>0,VLOOKUP(X3749,'TFW Programs'!$A$2:$B$24,2,FALSE),\"\")","v":""},null,null,{"$f":"IF(LEN(A3749)>0,VLOOKUP(A3749,Subcontractors!$A$2:$B$3,2,FALSE),\"\")","v":""},null,{"$f":"IF(LEN(A3749)>0,VLOOKUP(A3749,Subcontractors!$A$2:$B$2,2,FALSE),\"\")","v":""}]
[null,null,null,null,null,null,null,null,null,null,null,null,null,null,null,null,null,null,null,null,null,{"$f":"IF(LEN(X3754)>0,VLOOKUP(X3754,'TFW Programs'!$A$2:$B$24,2,FALSE),\"\")","v":""},null,null,{"$f":"IF(LEN(A3754)>0,VLOOKUP(A3754,Subcontractors!$A$2:$B$3,2,FALSE),\"\")","v":""},null,{"$f":"IF(LEN(A3754)>0,VLOOKUP(A3754,Subcontractors!$A$2:$B$2,2,FALSE),\"\")","v":""}]
[null,null,null,null,null,null,null,null,null,null,null,null,null,null,null,null,null,null,null,null,null,{"$f":"IF(LEN(X3756)>0,VLOOKUP(X3756,'TFW Programs'!$A$2:$B$24,2,FALSE),\"\")","v":""},null,null,{"$f":"IF(LEN(A3756)>0,VLOOKUP(A3756,Subcontractors!$A$2:$B$3,2,FALSE),\"\")","v":""},null,{"$f":"IF(LEN(A3756)>0,VLOOKUP(A3756,Subcontractors!$A$2:$B$2,2,FALSE),\"\")","v":""}]
[null,null,null,null,null,null,null,null,null,null,null,null,null,null,null,null,null,null,null,null,null,{"$f":"IF(LEN(X3759)>0,VLOOKUP(X3759,'TFW Programs'!$A$2:$B$24,2,FALSE),\"\")","v":""},null,null,{"$f":"IF(LEN(A3759)>0,VLOOKUP(A3759,Subcontractors!$A$2:$B$3,2,FALSE),\"\")","v":""},null,{"$f":"IF(LEN(A3759)>0,VLOOKUP(A3759,Subcontractors!$A$2:$B$2,2,FALSE),\"\")","v":""}]
[null,null,null,null,null,null,null,null,null,null,null,null,null,null,null,null,null,null,null,null,null,{"$f":"IF(LEN(X3764)>0,VLOOKUP(X3764,'TFW Programs'!$A$2:$B$24,2,FALSE),\"\")","v":""},null,null,{"$f":"IF(LEN(A3764)>0,VLOOKUP(A3764,Subcontractors!$A$2:$B$3,2,FALSE),\"\")","v":""},null,{"$f":"IF(LEN(A3764)>0,VLOOKUP(A3764,Subcontractors!$A$2:$B$2,2,FALSE),\"\")","v":""}]
[null,null,null,null,null,null,null,null,null,null,null,null,null,null,null,null,null,null,null,null,null,{"$f":"IF(LEN(X3769)>0,VLOOKUP(X3769,'TFW Programs'!$A$2:$B$24,2,FALSE),\"\")","v":""},null,null,{"$f":"IF(LEN(A3769)>0,VLOOKUP(A3769,Subcontractors!$A$2:$B$3,2,FALSE),\"\")","v":""},null,{"$f":"IF(LEN(A3769)>0,VLOOKUP(A3769,Subcontractors!$A$2:$B$2,2,FALSE),\"\")","v":""}]
[null,null,null,null,null,null,null,null,null,null,null,null,null,null,null,null,null,null,null,null,null,{"$f":"IF(LEN(X3773)>0,VLOOKUP(X3773,'TFW Programs'!$A$2:$B$24,2,FALSE),\"\")","v":""},null,null,{"$f":"IF(LEN(A3773)>0,VLOOKUP(A3773,Subcontractors!$A$2:$B$3,2,FALSE),\"\")","v":""},null,{"$f":"IF(LEN(A3773)>0,VLOOKUP(A3773,Subcontractors!$A$2:$B$2,2,FALSE),\"\")","v":""}]
[null,null,null,null,null,null,null,null,null,null,null,null,null,null,null,null,null,null,null,null,null,{"$f":"IF(LEN(X3774)>0,VLOOKUP(X3774,'TFW Programs'!$A$2:$B$24,2,FALSE),\"\")","v":""},null,null,{"$f":"IF(LEN(A3774)>0,VLOOKUP(A3774,Subcontractors!$A$2:$B$3,2,FALSE),\"\")","v":""},null,{"$f":"IF(LEN(A3774)>0,VLOOKUP(A3774,Subcontractors!$A$2:$B$2,2,FALSE),\"\")","v":""}]
[null,null,null,null,null,null,null,null,null,null,null,null,null,null,null,null,null,null,null,null,null,{"$f":"IF(LEN(X3779)>0,VLOOKUP(X3779,'TFW Programs'!$A$2:$B$24,2,FALSE),\"\")","v":""},null,null,{"$f":"IF(LEN(A3779)>0,VLOOKUP(A3779,Subcontractors!$A$2:$B$3,2,FALSE),\"\")","v":""},null,{"$f":"IF(LEN(A3779)>0,VLOOKUP(A3779,Subcontractors!$A$2:$B$2,2,FALSE),\"\")","v":""}]
[null,null,null,null,null,null,null,null,null,null,null,null,null,null,null,null,null,null,null,null,null,{"$f":"IF(LEN(X3784)>0,VLOOKUP(X3784,'TFW Programs'!$A$2:$B$24,2,FALSE),\"\")","v":""},null,null,{"$f":"IF(LEN(A3784)>0,VLOOKUP(A3784,Subcontractors!$A$2:$B$3,2,FALSE),\"\")","v":""},null,{"$f":"IF(LEN(A3784)>0,VLOOKUP(A3784,Subcontractors!$A$2:$B$2,2,FALSE),\"\")","v":""}]
[null,null,null,null,null,null,null,null,null,null,null,null,null,null,null,null,null,null,null,null,null,{"$f":"IF(LEN(X3786)>0,VLOOKUP(X3786,'TFW Programs'!$A$2:$B$24,2,FALSE),\"\")","v":""},null,null,{"$f":"IF(LEN(A3786)>0,VLOOKUP(A3786,Subcontractors!$A$2:$B$3,2,FALSE),\"\")","v":""},null,{"$f":"IF(LEN(A3786)>0,VLOOKUP(A3786,Subcontractors!$A$2:$B$2,2,FALSE),\"\")","v":""}]
[null,null,null,null,null,null,null,null,null,null,null,null,null,null,null,null,null,null,null,null,null,{"$f":"IF(LEN(X3789)>0,VLOOKUP(X3789,'TFW Programs'!$A$2:$B$24,2,FALSE),\"\")","v":""},null,null,{"$f":"IF(LEN(A3789)>0,VLOOKUP(A3789,Subcontractors!$A$2:$B$3,2,FALSE),\"\")","v":""},null,{"$f":"IF(LEN(A3789)>0,VLOOKUP(A3789,Subcontractors!$A$2:$B$2,2,FALSE),\"\")","v":""}]
[null,null,null,null,null,null,null,null,null,null,null,null,null,null,null,null,null,null,null,null,null,{"$f":"IF(LEN(X3794)>0,VLOOKUP(X3794,'TFW Programs'!$A$2:$B$24,2,FALSE),\"\")","v":""},null,null,{"$f":"IF(LEN(A3794)>0,VLOOKUP(A3794,Subcontractors!$A$2:$B$3,2,FALSE),\"\")","v":""},null,{"$f":"IF(LEN(A3794)>0,VLOOKUP(A3794,Subcontractors!$A$2:$B$2,2,FALSE),\"\")","v":""}]
[null,null,null,null,null,null,null,null,null,null,null,null,null,null,null,null,null,null,null,null,null,{"$f":"IF(LEN(X3799)>0,VLOOKUP(X3799,'TFW Programs'!$A$2:$B$24,2,FALSE),\"\")","v":""},null,null,{"$f":"IF(LEN(A3799)>0,VLOOKUP(A3799,Subcontractors!$A$2:$B$3,2,FALSE),\"\")","v":""},null,{"$f":"IF(LEN(A3799)>0,VLOOKUP(A3799,Subcontractors!$A$2:$B$2,2,FALSE),\"\")","v":""}]
[null,null,null,null,null,null,null,null,null,null,null,null,null,null,null,null,null,null,null,null,null,{"$f":"IF(LEN(X3804)>0,VLOOKUP(X3804,'TFW Programs'!$A$2:$B$24,2,FALSE),\"\")","v":""},null,null,{"$f":"IF(LEN(A3804)>0,VLOOKUP(A3804,Subcontractors!$A$2:$B$3,2,FALSE),\"\")","v":""},null,{"$f":"IF(LEN(A3804)>0,VLOOKUP(A3804,Subcontractors!$A$2:$B$2,2,FALSE),\"\")","v":""}]
[null,null,null,null,null,null,null,null,null,null,null,null,null,null,null,null,null,null,null,null,null,{"$f":"IF(LEN(X3807)>0,VLOOKUP(X3807,'TFW Programs'!$A$2:$B$24,2,FALSE),\"\")","v":""},null,null,{"$f":"IF(LEN(A3807)>0,VLOOKUP(A3807,Subcontractors!$A$2:$B$3,2,FALSE),\"\")","v":""},null,{"$f":"IF(LEN(A3807)>0,VLOOKUP(A3807,Subcontractors!$A$2:$B$2,2,FALSE),\"\")","v":""}]
[null,null,null,null,null,null,null,null,null,null,null,null,null,null,null,null,null,null,null,null,null,{"$f":"IF(LEN(X3809)>0,VLOOKUP(X3809,'TFW Programs'!$A$2:$B$24,2,FALSE),\"\")","v":""},null,null,{"$f":"IF(LEN(A3809)>0,VLOOKUP(A3809,Subcontractors!$A$2:$B$3,2,FALSE),\"\")","v":""},null,{"$f":"IF(LEN(A3809)>0,VLOOKUP(A3809,Subcontractors!$A$2:$B$2,2,FALSE),\"\")","v":""}]
[null,null,null,null,null,null,null,null,null,null,null,null,null,null,null,null,null,null,null,null,null,{"$f":"IF(LEN(X3814)>0,VLOOKUP(X3814,'TFW Programs'!$A$2:$B$24,2,FALSE),\"\")","v":""},null,null,{"$f":"IF(LEN(A3814)>0,VLOOKUP(A3814,Subcontractors!$A$2:$B$3,2,FALSE),\"\")","v":""},null,{"$f":"IF(LEN(A3814)>0,VLOOKUP(A3814,Subcontractors!$A$2:$B$2,2,FALSE),\"\")","v":""}]
[null,null,null,null,null,null,null,null,null,null,null,null,null,null,null,null,null,null,null,null,null,{"$f":"IF(LEN(X3819)>0,VLOOKUP(X3819,'TFW Programs'!$A$2:$B$24,2,FALSE),\"\")","v":""},null,null,{"$f":"IF(LEN(A3819)>0,VLOOKUP(A3819,Subcontractors!$A$2:$B$3,2,FALSE),\"\")","v":""},null,{"$f":"IF(LEN(A3819)>0,VLOOKUP(A3819,Subcontractors!$A$2:$B$2,2,FALSE),\"\")","v":""}]
[null,null,null,null,null,null,null,null,null,null,null,null,null,null,null,null,null,null,null,null,null,{"$f":"IF(LEN(X3821)>0,VLOOKUP(X3821,'TFW Programs'!$A$2:$B$24,2,FALSE),\"\")","v":""},null,null,{"$f":"IF(LEN(A3821)>0,VLOOKUP(A3821,Subcontractors!$A$2:$B$3,2,FALSE),\"\")","v":""},null,{"$f":"IF(LEN(A3821)>0,VLOOKUP(A3821,Subcontractors!$A$2:$B$2,2,FALSE),\"\")","v":""}]
[null,null,null,null,null,null,null,null,null,null,null,null,null,null,null,null,null,null,null,null,null,{"$f":"IF(LEN(X3824)>0,VLOOKUP(X3824,'TFW Programs'!$A$2:$B$24,2,FALSE),\"\")","v":""},null,null,{"$f":"IF(LEN(A3824)>0,VLOOKUP(A3824,Subcontractors!$A$2:$B$3,2,FALSE),\"\")","v":""},null,{"$f":"IF(LEN(A3824)>0,VLOOKUP(A3824,Subcontractors!$A$2:$B$2,2,FALSE),\"\")","v":""}]
[null,null,null,null,null,null,null,null,null,null,null,null,null,null,null,null,null,null,null,null,null,{"$f":"IF(LEN(X3829)>0,VLOOKUP(X3829,'TFW Programs'!$A$2:$B$24,2,FALSE),\"\")","v":""},null,null,{"$f":"IF(LEN(A3829)>0,VLOOKUP(A3829,Subcontractors!$A$2:$B$3,2,FALSE),\"\")","v":""},null,{"$f":"IF(LEN(A3829)>0,VLOOKUP(A3829,Subcontractors!$A$2:$B$2,2,FALSE),\"\")","v":""}]
[null,null,null,null,null,null,null,null,null,null,null,null,null,null,null,null,null,null,null,null,null,{"$f":"IF(LEN(X3834)>0,VLOOKUP(X3834,'TFW Programs'!$A$2:$B$24,2,FALSE),\"\")","v":""},null,null,{"$f":"IF(LEN(A3834)>0,VLOOKUP(A3834,Subcontractors!$A$2:$B$3,2,FALSE),\"\")","v":""},null,{"$f":"IF(LEN(A3834)>0,VLOOKUP(A3834,Subcontractors!$A$2:$B$2,2,FALSE),\"\")","v":""}]
[null,null,null,null,null,null,null,null,null,null,null,null,null,null,null,null,null,null,null,null,null,{"$f":"IF(LEN(X3835)>0,VLOOKUP(X3835,'TFW Programs'!$A$2:$B$24,2,FALSE),\"\")","v":""},null,null,{"$f":"IF(LEN(A3835)>0,VLOOKUP(A3835,Subcontractors!$A$2:$B$3,2,FALSE),\"\")","v":""},null,{"$f":"IF(LEN(A3835)>0,VLOOKUP(A3835,Subcontractors!$A$2:$B$2,2,FALSE),\"\")","v":""}]
[null,null,null,null,null,null,null,null,null,null,null,null,null,null,null,null,null,null,null,null,null,{"$f":"IF(LEN(X3839)>0,VLOOKUP(X3839,'TFW Programs'!$A$2:$B$24,2,FALSE),\"\")","v":""},null,null,{"$f":"IF(LEN(A3839)>0,VLOOKUP(A3839,Subcontractors!$A$2:$B$3,2,FALSE),\"\")","v":""},null,{"$f":"IF(LEN(A3839)>0,VLOOKUP(A3839,Subcontractors!$A$2:$B$2,2,FALSE),\"\")","v":""}]
[null,null,null,null,null,null,null,null,null,null,null,null,null,null,null,null,null,null,null,null,null,{"$f":"IF(LEN(X3844)>0,VLOOKUP(X3844,'TFW Programs'!$A$2:$B$24,2,FALSE),\"\")","v":""},null,null,{"$f":"IF(LEN(A3844)>0,VLOOKUP(A3844,Subcontractors!$A$2:$B$3,2,FALSE),\"\")","v":""},null,{"$f":"IF(LEN(A3844)>0,VLOOKUP(A3844,Subcontractors!$A$2:$B$2,2,FALSE),\"\")","v":""}]
[null,null,null,null,null,null,null,null,null,null,null,null,null,null,null,null,null,null,null,null,null,{"$f":"IF(LEN(X3849)>0,VLOOKUP(X3849,'TFW Programs'!$A$2:$B$24,2,FALSE),\"\")","v":""},null,null,{"$f":"IF(LEN(A3849)>0,VLOOKUP(A3849,Subcontractors!$A$2:$B$3,2,FALSE),\"\")","v":""},null,{"$f":"IF(LEN(A3849)>0,VLOOKUP(A3849,Subcontractors!$A$2:$B$2,2,FALSE),\"\")","v":""}]
[null,null,null,null,null,null,null,null,null,null,null,null,null,null,null,null,null,null,null,null,null,{"$f":"IF(LEN(X3850)>0,VLOOKUP(X3850,'TFW Programs'!$A$2:$B$24,2,FALSE),\"\")","v":""},null,null,{"$f":"IF(LEN(A3850)>0,VLOOKUP(A3850,Subcontractors!$A$2:$B$3,2,FALSE),\"\")","v":""},null,{"$f":"IF(LEN(A3850)>0,VLOOKUP(A3850,Subcontractors!$A$2:$B$2,2,FALSE),\"\")","v":""}]
[null,null,null,null,null,null,null,null,null,null,null,null,null,null,null,null,null,null,null,null,null,{"$f":"IF(LEN(X3855)>0,VLOOKUP(X3855,'TFW Programs'!$A$2:$B$24,2,FALSE),\"\")","v":""},null,null,{"$f":"IF(LEN(A3855)>0,VLOOKUP(A3855,Subcontractors!$A$2:$B$3,2,FALSE),\"\")","v":""},null,{"$f":"IF(LEN(A3855)>0,VLOOKUP(A3855,Subcontractors!$A$2:$B$2,2,FALSE),\"\")","v":""}]
[null,null,null,null,null,null,null,null,null,null,null,null,null,null,null,null,null,null,null,null,null,{"$f":"IF(LEN(X3859)>0,VLOOKUP(X3859,'TFW Programs'!$A$2:$B$24,2,FALSE),\"\")","v":""},null,null,{"$f":"IF(LEN(A3859)>0,VLOOKUP(A3859,Subcontractors!$A$2:$B$3,2,FALSE),\"\")","v":""},null,{"$f":"IF(LEN(A3859)>0,VLOOKUP(A3859,Subcontractors!$A$2:$B$2,2,FALSE),\"\")","v":""}]
[null,null,null,null,null,null,null,null,null,null,null,null,null,null,null,null,null,null,null,null,null,{"$f":"IF(LEN(X3864)>0,VLOOKUP(X3864,'TFW Programs'!$A$2:$B$24,2,FALSE),\"\")","v":""},null,null,{"$f":"IF(LEN(A3864)>0,VLOOKUP(A3864,Subcontractors!$A$2:$B$3,2,FALSE),\"\")","v":""},null,{"$f":"IF(LEN(A3864)>0,VLOOKUP(A3864,Subcontractors!$A$2:$B$2,2,FALSE),\"\")","v":""}]
[null,null,null,null,null,null,null,null,null,null,null,null,null,null,null,null,null,null,null,null,null,{"$f":"IF(LEN(X3865)>0,VLOOKUP(X3865,'TFW Programs'!$A$2:$B$24,2,FALSE),\"\")","v":""},null,null,{"$f":"IF(LEN(A3865)>0,VLOOKUP(A3865,Subcontractors!$A$2:$B$3,2,FALSE),\"\")","v":""},null,{"$f":"IF(LEN(A3865)>0,VLOOKUP(A3865,Subcontractors!$A$2:$B$2,2,FALSE),\"\")","v":""}]
[null,null,null,null,null,null,null,null,null,null,null,null,null,null,null,null,null,null,null,null,null,{"$f":"IF(LEN(X3870)>0,VLOOKUP(X3870,'TFW Programs'!$A$2:$B$24,2,FALSE),\"\")","v":""},null,null,{"$f":"IF(LEN(A3870)>0,VLOOKUP(A3870,Subcontractors!$A$2:$B$3,2,FALSE),\"\")","v":""},null,{"$f":"IF(LEN(A3870)>0,VLOOKUP(A3870,Subcontractors!$A$2:$B$2,2,FALSE),\"\")","v":""}]
[null,null,null,null,null,null,null,null,null,null,null,null,null,null,null,null,null,null,null,null,null,{"$f":"IF(LEN(X3873)>0,VLOOKUP(X3873,'TFW Programs'!$A$2:$B$24,2,FALSE),\"\")","v":""},null,null,{"$f":"IF(LEN(A3873)>0,VLOOKUP(A3873,Subcontractors!$A$2:$B$3,2,FALSE),\"\")","v":""},null,{"$f":"IF(LEN(A3873)>0,VLOOKUP(A3873,Subcontractors!$A$2:$B$2,2,FALSE),\"\")","v":""}]
[null,null,null,null,null,null,null,null,null,null,null,null,null,null,null,null,null,null,null,null,null,{"$f":"IF(LEN(X3879)>0,VLOOKUP(X3879,'TFW Programs'!$A$2:$B$24,2,FALSE),\"\")","v":""},null,null,{"$f":"IF(LEN(A3879)>0,VLOOKUP(A3879,Subcontractors!$A$2:$B$3,2,FALSE),\"\")","v":""},null,{"$f":"IF(LEN(A3879)>0,VLOOKUP(A3879,Subcontractors!$A$2:$B$2,2,FALSE),\"\")","v":""}]
[null,null,null,null,null,null,null,null,null,null,null,null,null,null,null,null,null,null,null,null,null,{"$f":"IF(LEN(X3880)>0,VLOOKUP(X3880,'TFW Programs'!$A$2:$B$24,2,FALSE),\"\")","v":""},null,null,{"$f":"IF(LEN(A3880)>0,VLOOKUP(A3880,Subcontractors!$A$2:$B$3,2,FALSE),\"\")","v":""},null,{"$f":"IF(LEN(A3880)>0,VLOOKUP(A3880,Subcontractors!$A$2:$B$2,2,FALSE),\"\")","v":""}]
[null,null,null,null,null,null,null,null,null,null,null,null,null,null,null,null,null,null,null,null,null,{"$f":"IF(LEN(X3885)>0,VLOOKUP(X3885,'TFW Programs'!$A$2:$B$24,2,FALSE),\"\")","v":""},null,null,{"$f":"IF(LEN(A3885)>0,VLOOKUP(A3885,Subcontractors!$A$2:$B$3,2,FALSE),\"\")","v":""},null,{"$f":"IF(LEN(A3885)>0,VLOOKUP(A3885,Subcontractors!$A$2:$B$2,2,FALSE),\"\")","v":""}]
[null,null,null,null,null,null,null,null,null,null,null,null,null,null,null,null,null,null,null,null,null,{"$f":"IF(LEN(X3890)>0,VLOOKUP(X3890,'TFW Programs'!$A$2:$B$24,2,FALSE),\"\")","v":""},null,null,{"$f":"IF(LEN(A3890)>0,VLOOKUP(A3890,Subcontractors!$A$2:$B$3,2,FALSE),\"\")","v":""},null,{"$f":"IF(LEN(A3890)>0,VLOOKUP(A3890,Subcontractors!$A$2:$B$2,2,FALSE),\"\")","v":""}]
[null,null,null,null,null,null,null,null,null,null,null,null,null,null,null,null,null,null,null,null,null,{"$f":"IF(LEN(X3894)>0,VLOOKUP(X3894,'TFW Programs'!$A$2:$B$24,2,FALSE),\"\")","v":""},null,null,{"$f":"IF(LEN(A3894)>0,VLOOKUP(A3894,Subcontractors!$A$2:$B$3,2,FALSE),\"\")","v":""},null,{"$f":"IF(LEN(A3894)>0,VLOOKUP(A3894,Subcontractors!$A$2:$B$2,2,FALSE),\"\")","v":""}]
[null,null,null,null,null,null,null,null,null,null,null,null,null,null,null,null,null,null,null,null,null,{"$f":"IF(LEN(X3895)>0,VLOOKUP(X3895,'TFW Programs'!$A$2:$B$24,2,FALSE),\"\")","v":""},null,null,{"$f":"IF(LEN(A3895)>0,VLOOKUP(A3895,Subcontractors!$A$2:$B$3,2,FALSE),\"\")","v":""},null,{"$f":"IF(LEN(A3895)>0,VLOOKUP(A3895,Subcontractors!$A$2:$B$2,2,FALSE),\"\")","v":""}]
[null,null,null,null,null,null,null,null,null,null,null,null,null,null,null,null,null,null,null,null,null,{"$f":"IF(LEN(X3900)>0,VLOOKUP(X3900,'TFW Programs'!$A$2:$B$24,2,FALSE),\"\")","v":""},null,null,{"$f":"IF(LEN(A3900)>0,VLOOKUP(A3900,Subcontractors!$A$2:$B$3,2,FALSE),\"\")","v":""},null,{"$f":"IF(LEN(A3900)>0,VLOOKUP(A3900,Subcontractors!$A$2:$B$2,2,FALSE),\"\")","v":""}]
[null,null,null,null,null,null,null,null,null,null,null,null,null,null,null,null,null,null,null,null,null,{"$f":"IF(LEN(X3903)>0,VLOOKUP(X3903,'TFW Programs'!$A$2:$B$24,2,FALSE),\"\")","v":""},null,null,{"$f":"IF(LEN(A3903)>0,VLOOKUP(A3903,Subcontractors!$A$2:$B$3,2,FALSE),\"\")","v":""},null,{"$f":"IF(LEN(A3903)>0,VLOOKUP(A3903,Subcontractors!$A$2:$B$2,2,FALSE),\"\")","v":""}]
[null,null,null,null,null,null,null,null,null,null,null,null,null,null,null,null,null,null,null,null,null,{"$f":"IF(LEN(X3909)>0,VLOOKUP(X3909,'TFW Programs'!$A$2:$B$24,2,FALSE),\"\")","v":""},null,null,{"$f":"IF(LEN(A3909)>0,VLOOKUP(A3909,Subcontractors!$A$2:$B$3,2,FALSE),\"\")","v":""},null,{"$f":"IF(LEN(A3909)>0,VLOOKUP(A3909,Subcontractors!$A$2:$B$2,2,FALSE),\"\")","v":""}]
[null,null,null,null,null,null,null,null,null,null,null,null,null,null,null,null,null,null,null,null,null,{"$f":"IF(LEN(X3910)>0,VLOOKUP(X3910,'TFW Programs'!$A$2:$B$24,2,FALSE),\"\")","v":""},null,null,{"$f":"IF(LEN(A3910)>0,VLOOKUP(A3910,Subcontractors!$A$2:$B$3,2,FALSE),\"\")","v":""},null,{"$f":"IF(LEN(A3910)>0,VLOOKUP(A3910,Subcontractors!$A$2:$B$2,2,FALSE),\"\")","v":""}]
[null,null,null,null,null,null,null,null,null,null,null,null,null,null,null,null,null,null,null,null,null,{"$f":"IF(LEN(X3915)>0,VLOOKUP(X3915,'TFW Programs'!$A$2:$B$24,2,FALSE),\"\")","v":""},null,null,{"$f":"IF(LEN(A3915)>0,VLOOKUP(A3915,Subcontractors!$A$2:$B$3,2,FALSE),\"\")","v":""},null,{"$f":"IF(LEN(A3915)>0,VLOOKUP(A3915,Subcontractors!$A$2:$B$2,2,FALSE),\"\")","v":""}]
[null,null,null,null,null,null,null,null,null,null,null,null,null,null,null,null,null,null,null,null,null,{"$f":"IF(LEN(X3920)>0,VLOOKUP(X3920,'TFW Programs'!$A$2:$B$24,2,FALSE),\"\")","v":""},null,null,{"$f":"IF(LEN(A3920)>0,VLOOKUP(A3920,Subcontractors!$A$2:$B$3,2,FALSE),\"\")","v":""},null,{"$f":"IF(LEN(A3920)>0,VLOOKUP(A3920,Subcontractors!$A$2:$B$2,2,FALSE),\"\")","v":""}]
[null,null,null,null,null,null,null,null,null,null,null,null,null,null,null,null,null,null,null,null,null,{"$f":"IF(LEN(X3924)>0,VLOOKUP(X3924,'TFW Programs'!$A$2:$B$24,2,FALSE),\"\")","v":""},null,null,{"$f":"IF(LEN(A3924)>0,VLOOKUP(A3924,Subcontractors!$A$2:$B$3,2,FALSE),\"\")","v":""},null,{"$f":"IF(LEN(A3924)>0,VLOOKUP(A3924,Subcontractors!$A$2:$B$2,2,FALSE),\"\")","v":""}]
[null,null,null,null,null,null,null,null,null,null,null,null,null,null,null,null,null,null,null,null,null,{"$f":"IF(LEN(X3925)>0,VLOOKUP(X3925,'TFW Programs'!$A$2:$B$24,2,FALSE),\"\")","v":""},null,null,{"$f":"IF(LEN(A3925)>0,VLOOKUP(A3925,Subcontractors!$A$2:$B$3,2,FALSE),\"\")","v":""},null,{"$f":"IF(LEN(A3925)>0,VLOOKUP(A3925,Subcontractors!$A$2:$B$2,2,FALSE),\"\")","v":""}]
[null,null,null,null,null,null,null,null,null,null,null,null,null,null,null,null,null,null,null,null,null,{"$f":"IF(LEN(X3930)>0,VLOOKUP(X3930,'TFW Programs'!$A$2:$B$24,2,FALSE),\"\")","v":""},null,null,{"$f":"IF(LEN(A3930)>0,VLOOKUP(A3930,Subcontractors!$A$2:$B$3,2,FALSE),\"\")","v":""},null,{"$f":"IF(LEN(A3930)>0,VLOOKUP(A3930,Subcontractors!$A$2:$B$2,2,FALSE),\"\")","v":""}]
[null,null,null,null,null,null,null,null,null,null,null,null,null,null,null,null,null,null,null,null,null,{"$f":"IF(LEN(X3935)>0,VLOOKUP(X3935,'TFW Programs'!$A$2:$B$24,2,FALSE),\"\")","v":""},null,null,{"$f":"IF(LEN(A3935)>0,VLOOKUP(A3935,Subcontractors!$A$2:$B$3,2,FALSE),\"\")","v":""},null,{"$f":"IF(LEN(A3935)>0,VLOOKUP(A3935,Subcontractors!$A$2:$B$2,2,FALSE),\"\")","v":""}]
[null,null,null,null,null,null,null,null,null,null,null,null,null,null,null,null,null,null,null,null,null,{"$f":"IF(LEN(X3938)>0,VLOOKUP(X3938,'TFW Programs'!$A$2:$B$24,2,FALSE),\"\")","v":""},null,null,{"$f":"IF(LEN(A3938)>0,VLOOKUP(A3938,Subcontractors!$A$2:$B$3,2,FALSE),\"\")","v":""},null,{"$f":"IF(LEN(A3938)>0,VLOOKUP(A3938,Subcontractors!$A$2:$B$2,2,FALSE),\"\")","v":""}]
[null,null,null,null,null,null,null,null,null,null,null,null,null,null,null,null,null,null,null,null,null,{"$f":"IF(LEN(X3940)>0,VLOOKUP(X3940,'TFW Programs'!$A$2:$B$24,2,FALSE),\"\")","v":""},null,null,{"$f":"IF(LEN(A3940)>0,VLOOKUP(A3940,Subcontractors!$A$2:$B$3,2,FALSE),\"\")","v":""},null,{"$f":"IF(LEN(A3940)>0,VLOOKUP(A3940,Subcontractors!$A$2:$B$2,2,FALSE),\"\")","v":""}]
[null,null,null,null,null,null,null,null,null,null,null,null,null,null,null,null,null,null,null,null,null,{"$f":"IF(LEN(X3945)>0,VLOOKUP(X3945,'TFW Programs'!$A$2:$B$24,2,FALSE),\"\")","v":""},null,null,{"$f":"IF(LEN(A3945)>0,VLOOKUP(A3945,Subcontractors!$A$2:$B$3,2,FALSE),\"\")","v":""},null,{"$f":"IF(LEN(A3945)>0,VLOOKUP(A3945,Subcontractors!$A$2:$B$2,2,FALSE),\"\")","v":""}]
[null,null,null,null,null,null,null,null,null,null,null,null,null,null,null,null,null,null,null,null,null,{"$f":"IF(LEN(X3950)>0,VLOOKUP(X3950,'TFW Programs'!$A$2:$B$24,2,FALSE),\"\")","v":""},null,null,{"$f":"IF(LEN(A3950)>0,VLOOKUP(A3950,Subcontractors!$A$2:$B$3,2,FALSE),\"\")","v":""},null,{"$f":"IF(LEN(A3950)>0,VLOOKUP(A3950,Subcontractors!$A$2:$B$2,2,FALSE),\"\")","v":""}]
[null,null,null,null,null,null,null,null,null,null,null,null,null,null,null,null,null,null,null,null,null,{"$f":"IF(LEN(X3955)>0,VLOOKUP(X3955,'TFW Programs'!$A$2:$B$24,2,FALSE),\"\")","v":""},null,null,{"$f":"IF(LEN(A3955)>0,VLOOKUP(A3955,Subcontractors!$A$2:$B$3,2,FALSE),\"\")","v":""},null,{"$f":"IF(LEN(A3955)>0,VLOOKUP(A3955,Subcontractors!$A$2:$B$2,2,FALSE),\"\")","v":""}]
[null,null,null,null,null,null,null,null,null,null,null,null,null,null,null,null,null,null,null,null,null,{"$f":"IF(LEN(X3956)>0,VLOOKUP(X3956,'TFW Programs'!$A$2:$B$24,2,FALSE),\"\")","v":""},null,null,{"$f":"IF(LEN(A3956)>0,VLOOKUP(A3956,Subcontractors!$A$2:$B$3,2,FALSE),\"\")","v":""},null,{"$f":"IF(LEN(A3956)>0,VLOOKUP(A3956,Subcontractors!$A$2:$B$2,2,FALSE),\"\")","v":""}]
[null,null,null,null,null,null,null,null,null,null,null,null,null,null,null,null,null,null,null,null,null,{"$f":"IF(LEN(X3960)>0,VLOOKUP(X3960,'TFW Programs'!$A$2:$B$24,2,FALSE),\"\")","v":""},null,null,{"$f":"IF(LEN(A3960)>0,VLOOKUP(A3960,Subcontractors!$A$2:$B$3,2,FALSE),\"\")","v":""},null,{"$f":"IF(LEN(A3960)>0,VLOOKUP(A3960,Subcontractors!$A$2:$B$2,2,FALSE),\"\")","v":""}]
[null,null,null,null,null,null,null,null,null,null,null,null,null,null,null,null,null,null,null,null,null,{"$f":"IF(LEN(X3965)>0,VLOOKUP(X3965,'TFW Programs'!$A$2:$B$24,2,FALSE),\"\")","v":""},null,null,{"$f":"IF(LEN(A3965)>0,VLOOKUP(A3965,Subcontractors!$A$2:$B$3,2,FALSE),\"\")","v":""},null,{"$f":"IF(LEN(A3965)>0,VLOOKUP(A3965,Subcontractors!$A$2:$B$2,2,FALSE),\"\")","v":""}]
[null,null,null,null,null,null,null,null,null,null,null,null,null,null,null,null,null,null,null,null,null,{"$f":"IF(LEN(X3970)>0,VLOOKUP(X3970,'TFW Programs'!$A$2:$B$24,2,FALSE),\"\")","v":""},null,null,{"$f":"IF(LEN(A3970)>0,VLOOKUP(A3970,Subcontractors!$A$2:$B$3,2,FALSE),\"\")","v":""},null,{"$f":"IF(LEN(A3970)>0,VLOOKUP(A3970,Subcontractors!$A$2:$B$2,2,FALSE),\"\")","v":""}]
[null,null,null,null,null,null,null,null,null,null,null,null,null,null,null,null,null,null,null,null,null,{"$f":"IF(LEN(X3972)>0,VLOOKUP(X3972,'TFW Programs'!$A$2:$B$24,2,FALSE),\"\")","v":""},null,null,{"$f":"IF(LEN(A3972)>0,VLOOKUP(A3972,Subcontractors!$A$2:$B$3,2,FALSE),\"\")","v":""},null,{"$f":"IF(LEN(A3972)>0,VLOOKUP(A3972,Subcontractors!$A$2:$B$2,2,FALSE),\"\")","v":""}]
[null,null,null,null,null,null,null,null,null,null,null,null,null,null,null,null,null,null,null,null,null,{"$f":"IF(LEN(X3975)>0,VLOOKUP(X3975,'TFW Programs'!$A$2:$B$24,2,FALSE),\"\")","v":""},null,null,{"$f":"IF(LEN(A3975)>0,VLOOKUP(A3975,Subcontractors!$A$2:$B$3,2,FALSE),\"\")","v":""},null,{"$f":"IF(LEN(A3975)>0,VLOOKUP(A3975,Subcontractors!$A$2:$B$2,2,FALSE),\"\")","v":""}]
[null,null,null,null,null,null,null,null,null,null,null,null,null,null,null,null,null,null,null,null,null,{"$f":"IF(LEN(X3980)>0,VLOOKUP(X3980,'TFW Programs'!$A$2:$B$24,2,FALSE),\"\")","v":""},null,null,{"$f":"IF(LEN(A3980)>0,VLOOKUP(A3980,Subcontractors!$A$2:$B$3,2,FALSE),\"\")","v":""},null,{"$f":"IF(LEN(A3980)>0,VLOOKUP(A3980,Subcontractors!$A$2:$B$2,2,FALSE),\"\")","v":""}]
[null,null,null,null,null,null,null,null,null,null,null,null,null,null,null,null,null,null,null,null,null,{"$f":"IF(LEN(X3985)>0,VLOOKUP(X3985,'TFW Programs'!$A$2:$B$24,2,FALSE),\"\")","v":""},null,null,{"$f":"IF(LEN(A3985)>0,VLOOKUP(A3985,Subcontractors!$A$2:$B$3,2,FALSE),\"\")","v":""},null,{"$f":"IF(LEN(A3985)>0,VLOOKUP(A3985,Subcontractors!$A$2:$B$2,2,FALSE),\"\")","v":""}]
[null,null,null,null,null,null,null,null,null,null,null,null,null,null,null,null,null,null,null,null,null,{"$f":"IF(LEN(X3986)>0,VLOOKUP(X3986,'TFW Programs'!$A$2:$B$24,2,FALSE),\"\")","v":""},null,null,{"$f":"IF(LEN(A3986)>0,VLOOKUP(A3986,Subcontractors!$A$2:$B$3,2,FALSE),\"\")","v":""},null,{"$f":"IF(LEN(A3986)>0,VLOOKUP(A3986,Subcontractors!$A$2:$B$2,2,FALSE),\"\")","v":""}]
[null,null,null,null,null,null,null,null,null,null,null,null,null,null,null,null,null,null,null,null,null,{"$f":"IF(LEN(X3990)>0,VLOOKUP(X3990,'TFW Programs'!$A$2:$B$24,2,FALSE),\"\")","v":""},null,null,{"$f":"IF(LEN(A3990)>0,VLOOKUP(A3990,Subcontractors!$A$2:$B$3,2,FALSE),\"\")","v":""},null,{"$f":"IF(LEN(A3990)>0,VLOOKUP(A3990,Subcontractors!$A$2:$B$2,2,FALSE),\"\")","v":""}]
[null,null,null,null,null,null,null,null,null,null,null,null,null,null,null,null,null,null,null,null,null,{"$f":"IF(LEN(X3995)>0,VLOOKUP(X3995,'TFW Programs'!$A$2:$B$24,2,FALSE),\"\")","v":""},null,null,{"$f":"IF(LEN(A3995)>0,VLOOKUP(A3995,Subcontractors!$A$2:$B$3,2,FALSE),\"\")","v":""},null,{"$f":"IF(LEN(A3995)>0,VLOOKUP(A3995,Subcontractors!$A$2:$B$2,2,FALSE),\"\")","v":""}]
[null,null,null,null,null,null,null,null,null,null,null,null,null,null,null,null,null,null,null,null,null,{"$f":"IF(LEN(X4000)>0,VLOOKUP(X4000,'TFW Programs'!$A$2:$B$24,2,FALSE),\"\")","v":""},null,null,{"$f":"IF(LEN(A4000)>0,VLOOKUP(A4000,Subcontractors!$A$2:$B$3,2,FALSE),\"\")","v":""},null,{"$f":"IF(LEN(A4000)>0,VLOOKUP(A4000,Subcontractors!$A$2:$B$2,2,FALSE),\"\")","v":""}]
[null,null,null,null,null,null,null,null,null,null,null,null,null,null,null,null,null,null,null,null,null,{"$f":"IF(LEN(X4001)>0,VLOOKUP(X4001,'TFW Programs'!$A$2:$B$24,2,FALSE),\"\")","v":""},null,null,{"$f":"IF(LEN(A4001)>0,VLOOKUP(A4001,Subcontractors!$A$2:$B$3,2,FALSE),\"\")","v":""},null,{"$f":"IF(LEN(A4001)>0,VLOOKUP(A4001,Subcontractors!$A$2:$B$2,2,FALSE),\"\")","v":""}]
[null,null,null,null,null,null,null,null,null,null,null,null,null,null,null,null,null,null,null,null,null,{"$f":"IF(LEN(X4007)>0,VLOOKUP(X4007,'TFW Programs'!$A$2:$B$24,2,FALSE),\"\")","v":""},null,null,{"$f":"IF(LEN(A4007)>0,VLOOKUP(A4007,Subcontractors!$A$2:$B$3,2,FALSE),\"\")","v":""},null,{"$f":"IF(LEN(A4007)>0,VLOOKUP(A4007,Subcontractors!$A$2:$B$2,2,FALSE),\"\")","v":""}]
[null,null,null,null,null,null,null,null,null,null,null,null,null,null,null,null,null,null,null,null,null,{"$f":"IF(LEN(X4010)>0,VLOOKUP(X4010,'TFW Programs'!$A$2:$B$24,2,FALSE),\"\")","v":""},null,null,{"$f":"IF(LEN(A4010)>0,VLOOKUP(A4010,Subcontractors!$A$2:$B$3,2,FALSE),\"\")","v":""},null,{"$f":"IF(LEN(A4010)>0,VLOOKUP(A4010,Subcontractors!$A$2:$B$2,2,FALSE),\"\")","v":""}]
[null,null,null,null,null,null,null,null,null,null,null,null,null,null,null,null,null,null,null,null,null,{"$f":"IF(LEN(X4015)>0,VLOOKUP(X4015,'TFW Programs'!$A$2:$B$24,2,FALSE),\"\")","v":""},null,null,{"$f":"IF(LEN(A4015)>0,VLOOKUP(A4015,Subcontractors!$A$2:$B$3,2,FALSE),\"\")","v":""},null,{"$f":"IF(LEN(A4015)>0,VLOOKUP(A4015,Subcontractors!$A$2:$B$2,2,FALSE),\"\")","v":""}]
[null,null,null,null,null,null,null,null,null,null,null,null,null,null,null,null,null,null,null,null,null,{"$f":"IF(LEN(X4016)>0,VLOOKUP(X4016,'TFW Programs'!$A$2:$B$24,2,FALSE),\"\")","v":""},null,null,{"$f":"IF(LEN(A4016)>0,VLOOKUP(A4016,Subcontractors!$A$2:$B$3,2,FALSE),\"\")","v":""},null,{"$f":"IF(LEN(A4016)>0,VLOOKUP(A4016,Subcontractors!$A$2:$B$2,2,FALSE),\"\")","v":""}]
[null,null,null,null,null,null,null,null,null,null,null,null,null,null,null,null,null,null,null,null,null,{"$f":"IF(LEN(X4020)>0,VLOOKUP(X4020,'TFW Programs'!$A$2:$B$24,2,FALSE),\"\")","v":""},null,null,{"$f":"IF(LEN(A4020)>0,VLOOKUP(A4020,Subcontractors!$A$2:$B$3,2,FALSE),\"\")","v":""},null,{"$f":"IF(LEN(A4020)>0,VLOOKUP(A4020,Subcontractors!$A$2:$B$2,2,FALSE),\"\")","v":""}]
[null,null,null,null,null,null,null,null,null,null,null,null,null,null,null,null,null,null,null,null,null,{"$f":"IF(LEN(X4025)>0,VLOOKUP(X4025,'TFW Programs'!$A$2:$B$24,2,FALSE),\"\")","v":""},null,null,{"$f":"IF(LEN(A4025)>0,VLOOKUP(A4025,Subcontractors!$A$2:$B$3,2,FALSE),\"\")","v":""},null,{"$f":"IF(LEN(A4025)>0,VLOOKUP(A4025,Subcontractors!$A$2:$B$2,2,FALSE),\"\")","v":""}]
[null,null,null,null,null,null,null,null,null,null,null,null,null,null,null,null,null,null,null,null,null,{"$f":"IF(LEN(X4030)>0,VLOOKUP(X4030,'TFW Programs'!$A$2:$B$24,2,FALSE),\"\")","v":""},null,null,{"$f":"IF(LEN(A4030)>0,VLOOKUP(A4030,Subcontractors!$A$2:$B$3,2,FALSE),\"\")","v":""},null,{"$f":"IF(LEN(A4030)>0,VLOOKUP(A4030,Subcontractors!$A$2:$B$2,2,FALSE),\"\")","v":""}]
[null,null,null,null,null,null,null,null,null,null,null,null,null,null,null,null,null,null,null,null,null,{"$f":"IF(LEN(X4031)>0,VLOOKUP(X4031,'TFW Programs'!$A$2:$B$24,2,FALSE),\"\")","v":""},null,null,{"$f":"IF(LEN(A4031)>0,VLOOKUP(A4031,Subcontractors!$A$2:$B$3,2,FALSE),\"\")","v":""},null,{"$f":"IF(LEN(A4031)>0,VLOOKUP(A4031,Subcontractors!$A$2:$B$2,2,FALSE),\"\")","v":""}]
[null,null,null,null,null,null,null,null,null,null,null,null,null,null,null,null,null,null,null,null,null,{"$f":"IF(LEN(X4036)>0,VLOOKUP(X4036,'TFW Programs'!$A$2:$B$24,2,FALSE),\"\")","v":""},null,null,{"$f":"IF(LEN(A4036)>0,VLOOKUP(A4036,Subcontractors!$A$2:$B$3,2,FALSE),\"\")","v":""},null,{"$f":"IF(LEN(A4036)>0,VLOOKUP(A4036,Subcontractors!$A$2:$B$2,2,FALSE),\"\")","v":""}]
[null,null,null,null,null,null,null,null,null,null,null,null,null,null,null,null,null,null,null,null,null,{"$f":"IF(LEN(X4041)>0,VLOOKUP(X4041,'TFW Programs'!$A$2:$B$24,2,FALSE),\"\")","v":""},null,null,{"$f":"IF(LEN(A4041)>0,VLOOKUP(A4041,Subcontractors!$A$2:$B$3,2,FALSE),\"\")","v":""},null,{"$f":"IF(LEN(A4041)>0,VLOOKUP(A4041,Subcontractors!$A$2:$B$2,2,FALSE),\"\")","v":""}]
[null,null,null,null,null,null,null,null,null,null,null,null,null,null,null,null,null,null,null,null,null,{"$f":"IF(LEN(X4045)>0,VLOOKUP(X4045,'TFW Programs'!$A$2:$B$24,2,FALSE),\"\")","v":""},null,null,{"$f":"IF(LEN(A4045)>0,VLOOKUP(A4045,Subcontractors!$A$2:$B$3,2,FALSE),\"\")","v":""},null,{"$f":"IF(LEN(A4045)>0,VLOOKUP(A4045,Subcontractors!$A$2:$B$2,2,FALSE),\"\")","v":""}]
[null,null,null,null,null,null,null,null,null,null,null,null,null,null,null,null,null,null,null,null,null,{"$f":"IF(LEN(X4046)>0,VLOOKUP(X4046,'TFW Programs'!$A$2:$B$24,2,FALSE),\"\")","v":""},null,null,{"$f":"IF(LEN(A4046)>0,VLOOKUP(A4046,Subcontractors!$A$2:$B$3,2,FALSE),\"\")","v":""},null,{"$f":"IF(LEN(A4046)>0,VLOOKUP(A4046,Subcontractors!$A$2:$B$2,2,FALSE),\"\")","v":""}]
[null,null,null,null,null,null,null,null,null,null,null,null,null,null,null,null,null,null,null,null,null,{"$f":"IF(LEN(X4051)>0,VLOOKUP(X4051,'TFW Programs'!$A$2:$B$24,2,FALSE),\"\")","v":""},null,null,{"$f":"IF(LEN(A4051)>0,VLOOKUP(A4051,Subcontractors!$A$2:$B$3,2,FALSE),\"\")","v":""},null,{"$f":"IF(LEN(A4051)>0,VLOOKUP(A4051,Subcontractors!$A$2:$B$2,2,FALSE),\"\")","v":""}]
[null,null,null,null,null,null,null,null,null,null,null,null,null,null,null,null,null,null,null,null,null,{"$f":"IF(LEN(X4055)>0,VLOOKUP(X4055,'TFW Programs'!$A$2:$B$24,2,FALSE),\"\")","v":""},null,null,{"$f":"IF(LEN(A4055)>0,VLOOKUP(A4055,Subcontractors!$A$2:$B$3,2,FALSE),\"\")","v":""},null,{"$f":"IF(LEN(A4055)>0,VLOOKUP(A4055,Subcontractors!$A$2:$B$2,2,FALSE),\"\")","v":""}]
[null,null,null,null,null,null,null,null,null,null,null,null,null,null,null,null,null,null,null,null,null,{"$f":"IF(LEN(X4060)>0,VLOOKUP(X4060,'TFW Programs'!$A$2:$B$24,2,FALSE),\"\")","v":""},null,null,{"$f":"IF(LEN(A4060)>0,VLOOKUP(A4060,Subcontractors!$A$2:$B$3,2,FALSE),\"\")","v":""},null,{"$f":"IF(LEN(A4060)>0,VLOOKUP(A4060,Subcontractors!$A$2:$B$2,2,FALSE),\"\")","v":""}]
[null,null,null,null,null,null,null,null,null,null,null,null,null,null,null,null,null,null,null,null,null,{"$f":"IF(LEN(X4061)>0,VLOOKUP(X4061,'TFW Programs'!$A$2:$B$24,2,FALSE),\"\")","v":""},null,null,{"$f":"IF(LEN(A4061)>0,VLOOKUP(A4061,Subcontractors!$A$2:$B$3,2,FALSE),\"\")","v":""},null,{"$f":"IF(LEN(A4061)>0,VLOOKUP(A4061,Subcontractors!$A$2:$B$2,2,FALSE),\"\")","v":""}]
[null,null,null,null,null,null,null,null,null,null,null,null,null,null,null,null,null,null,null,null,null,{"$f":"IF(LEN(X4066)>0,VLOOKUP(X4066,'TFW Programs'!$A$2:$B$24,2,FALSE),\"\")","v":""},null,null,{"$f":"IF(LEN(A4066)>0,VLOOKUP(A4066,Subcontractors!$A$2:$B$3,2,FALSE),\"\")","v":""},null,{"$f":"IF(LEN(A4066)>0,VLOOKUP(A4066,Subcontractors!$A$2:$B$2,2,FALSE),\"\")","v":""}]
[null,null,null,null,null,null,null,null,null,null,null,null,null,null,null,null,null,null,null,null,null,{"$f":"IF(LEN(X4071)>0,VLOOKUP(X4071,'TFW Programs'!$A$2:$B$24,2,FALSE),\"\")","v":""},null,null,{"$f":"IF(LEN(A4071)>0,VLOOKUP(A4071,Subcontractors!$A$2:$B$3,2,FALSE),\"\")","v":""},null,{"$f":"IF(LEN(A4071)>0,VLOOKUP(A4071,Subcontractors!$A$2:$B$2,2,FALSE),\"\")","v":""}]
[null,null,null,null,null,null,null,null,null,null,null,null,null,null,null,null,null,null,null,null,null,{"$f":"IF(LEN(X4075)>0,VLOOKUP(X4075,'TFW Programs'!$A$2:$B$24,2,FALSE),\"\")","v":""},null,null,{"$f":"IF(LEN(A4075)>0,VLOOKUP(A4075,Subcontractors!$A$2:$B$3,2,FALSE),\"\")","v":""},null,{"$f":"IF(LEN(A4075)>0,VLOOKUP(A4075,Subcontractors!$A$2:$B$2,2,FALSE),\"\")","v":""}]
[null,null,null,null,null,null,null,null,null,null,null,null,null,null,null,null,null,null,null,null,null,{"$f":"IF(LEN(X4076)>0,VLOOKUP(X4076,'TFW Programs'!$A$2:$B$24,2,FALSE),\"\")","v":""},null,null,{"$f":"IF(LEN(A4076)>0,VLOOKUP(A4076,Subcontractors!$A$2:$B$3,2,FALSE),\"\")","v":""},null,{"$f":"IF(LEN(A4076)>0,VLOOKUP(A4076,Subcontractors!$A$2:$B$2,2,FALSE),\"\")","v":""}]
[null,null,null,null,null,null,null,null,null,null,null,null,null,null,null,null,null,null,null,null,null,{"$f":"IF(LEN(X4081)>0,VLOOKUP(X4081,'TFW Programs'!$A$2:$B$24,2,FALSE),\"\")","v":""},null,null,{"$f":"IF(LEN(A4081)>0,VLOOKUP(A4081,Subcontractors!$A$2:$B$3,2,FALSE),\"\")","v":""},null,{"$f":"IF(LEN(A4081)>0,VLOOKUP(A4081,Subcontractors!$A$2:$B$2,2,FALSE),\"\")","v":""}]
[null,null,null,null,null,null,null,null,null,null,null,null,null,null,null,null,null,null,null,null,null,{"$f":"IF(LEN(X4086)>0,VLOOKUP(X4086,'TFW Programs'!$A$2:$B$24,2,FALSE),\"\")","v":""},null,null,{"$f":"IF(LEN(A4086)>0,VLOOKUP(A4086,Subcontractors!$A$2:$B$3,2,FALSE),\"\")","v":""},null,{"$f":"IF(LEN(A4086)>0,VLOOKUP(A4086,Subcontractors!$A$2:$B$2,2,FALSE),\"\")","v":""}]
[null,null,null,null,null,null,null,null,null,null,null,null,null,null,null,null,null,null,null,null,null,{"$f":"IF(LEN(X4089)>0,VLOOKUP(X4089,'TFW Programs'!$A$2:$B$24,2,FALSE),\"\")","v":""},null,null,{"$f":"IF(LEN(A4089)>0,VLOOKUP(A4089,Subcontractors!$A$2:$B$3,2,FALSE),\"\")","v":""},null,{"$f":"IF(LEN(A4089)>0,VLOOKUP(A4089,Subcontractors!$A$2:$B$2,2,FALSE),\"\")","v":""}]
[null,null,null,null,null,null,null,null,null,null,null,null,null,null,null,null,null,null,null,null,null,{"$f":"IF(LEN(X4091)>0,VLOOKUP(X4091,'TFW Programs'!$A$2:$B$24,2,FALSE),\"\")","v":""},null,null,{"$f":"IF(LEN(A4091)>0,VLOOKUP(A4091,Subcontractors!$A$2:$B$3,2,FALSE),\"\")","v":""},null,{"$f":"IF(LEN(A4091)>0,VLOOKUP(A4091,Subcontractors!$A$2:$B$2,2,FALSE),\"\")","v":""}]
[null,null,null,null,null,null,null,null,null,null,null,null,null,null,null,null,null,null,null,null,null,{"$f":"IF(LEN(X4096)>0,VLOOKUP(X4096,'TFW Programs'!$A$2:$B$24,2,FALSE),\"\")","v":""},null,null,{"$f":"IF(LEN(A4096)>0,VLOOKUP(A4096,Subcontractors!$A$2:$B$3,2,FALSE),\"\")","v":""},null,{"$f":"IF(LEN(A4096)>0,VLOOKUP(A4096,Subcontractors!$A$2:$B$2,2,FALSE),\"\")","v":""}]
[null,null,null,null,null,null,null,null,null,null,null,null,null,null,null,null,null,null,null,null,null,{"$f":"IF(LEN(X4101)>0,VLOOKUP(X4101,'TFW Programs'!$A$2:$B$24,2,FALSE),\"\")","v":""},null,null,{"$f":"IF(LEN(A4101)>0,VLOOKUP(A4101,Subcontractors!$A$2:$B$3,2,FALSE),\"\")","v":""},null,{"$f":"IF(LEN(A4101)>0,VLOOKUP(A4101,Subcontractors!$A$2:$B$2,2,FALSE),\"\")","v":""}]
[null,null,null,null,null,null,null,null,null,null,null,null,null,null,null,null,null,null,null,null,null,{"$f":"IF(LEN(X4106)>0,VLOOKUP(X4106,'TFW Programs'!$A$2:$B$24,2,FALSE),\"\")","v":""},null,null,{"$f":"IF(LEN(A4106)>0,VLOOKUP(A4106,Subcontractors!$A$2:$B$3,2,FALSE),\"\")","v":""},null,{"$f":"IF(LEN(A4106)>0,VLOOKUP(A4106,Subcontractors!$A$2:$B$2,2,FALSE),\"\")","v":""}]
[null,null,null,null,null,null,null,null,null,null,null,null,null,null,null,null,null,null,null,null,null,{"$f":"IF(LEN(X4107)>0,VLOOKUP(X4107,'TFW Programs'!$A$2:$B$24,2,FALSE),\"\")","v":""},null,null,{"$f":"IF(LEN(A4107)>0,VLOOKUP(A4107,Subcontractors!$A$2:$B$3,2,FALSE),\"\")","v":""},null,{"$f":"IF(LEN(A4107)>0,VLOOKUP(A4107,Subcontractors!$A$2:$B$2,2,FALSE),\"\")","v":""}]
[null,null,null,null,null,null,null,null,null,null,null,null,null,null,null,null,null,null,null,null,null,{"$f":"IF(LEN(X4111)>0,VLOOKUP(X4111,'TFW Programs'!$A$2:$B$24,2,FALSE),\"\")","v":""},null,null,{"$f":"IF(LEN(A4111)>0,VLOOKUP(A4111,Subcontractors!$A$2:$B$3,2,FALSE),\"\")","v":""},null,{"$f":"IF(LEN(A4111)>0,VLOOKUP(A4111,Subcontractors!$A$2:$B$2,2,FALSE),\"\")","v":""}]
[null,null,null,null,null,null,null,null,null,null,null,null,null,null,null,null,null,null,null,null,null,{"$f":"IF(LEN(X4116)>0,VLOOKUP(X4116,'TFW Programs'!$A$2:$B$24,2,FALSE),\"\")","v":""},null,null,{"$f":"IF(LEN(A4116)>0,VLOOKUP(A4116,Subcontractors!$A$2:$B$3,2,FALSE),\"\")","v":""},null,{"$f":"IF(LEN(A4116)>0,VLOOKUP(A4116,Subcontractors!$A$2:$B$2,2,FALSE),\"\")","v":""}]
[null,null,null,null,null,null,null,null,null,null,null,null,null,null,null,null,null,null,null,null,null,{"$f":"IF(LEN(X4121)>0,VLOOKUP(X4121,'TFW Programs'!$A$2:$B$24,2,FALSE),\"\")","v":""},null,null,{"$f":"IF(LEN(A4121)>0,VLOOKUP(A4121,Subcontractors!$A$2:$B$3,2,FALSE),\"\")","v":""},null,{"$f":"IF(LEN(A4121)>0,VLOOKUP(A4121,Subcontractors!$A$2:$B$2,2,FALSE),\"\")","v":""}]
[null,null,null,null,null,null,null,null,null,null,null,null,null,null,null,null,null,null,null,null,null,{"$f":"IF(LEN(X4123)>0,VLOOKUP(X4123,'TFW Programs'!$A$2:$B$24,2,FALSE),\"\")","v":""},null,null,{"$f":"IF(LEN(A4123)>0,VLOOKUP(A4123,Subcontractors!$A$2:$B$3,2,FALSE),\"\")","v":""},null,{"$f":"IF(LEN(A4123)>0,VLOOKUP(A4123,Subcontractors!$A$2:$B$2,2,FALSE),\"\")","v":""}]
[null,null,null,null,null,null,null,null,null,null,null,null,null,null,null,null,null,null,null,null,null,{"$f":"IF(LEN(X4126)>0,VLOOKUP(X4126,'TFW Programs'!$A$2:$B$24,2,FALSE),\"\")","v":""},null,null,{"$f":"IF(LEN(A4126)>0,VLOOKUP(A4126,Subcontractors!$A$2:$B$3,2,FALSE),\"\")","v":""},null,{"$f":"IF(LEN(A4126)>0,VLOOKUP(A4126,Subcontractors!$A$2:$B$2,2,FALSE),\"\")","v":""}]
[null,null,null,null,null,null,null,null,null,null,null,null,null,null,null,null,null,null,null,null,null,{"$f":"IF(LEN(X4131)>0,VLOOKUP(X4131,'TFW Programs'!$A$2:$B$24,2,FALSE),\"\")","v":""},null,null,{"$f":"IF(LEN(A4131)>0,VLOOKUP(A4131,Subcontractors!$A$2:$B$3,2,FALSE),\"\")","v":""},null,{"$f":"IF(LEN(A4131)>0,VLOOKUP(A4131,Subcontractors!$A$2:$B$2,2,FALSE),\"\")","v":""}]
[null,null,null,null,null,null,null,null,null,null,null,null,null,null,null,null,null,null,null,null,null,{"$f":"IF(LEN(X4136)>0,VLOOKUP(X4136,'TFW Programs'!$A$2:$B$24,2,FALSE),\"\")","v":""},null,null,{"$f":"IF(LEN(A4136)>0,VLOOKUP(A4136,Subcontractors!$A$2:$B$3,2,FALSE),\"\")","v":""},null,{"$f":"IF(LEN(A4136)>0,VLOOKUP(A4136,Subcontractors!$A$2:$B$2,2,FALSE),\"\")","v":""}]
[null,null,null,null,null,null,null,null,null,null,null,null,null,null,null,null,null,null,null,null,null,{"$f":"IF(LEN(X4137)>0,VLOOKUP(X4137,'TFW Programs'!$A$2:$B$24,2,FALSE),\"\")","v":""},null,null,{"$f":"IF(LEN(A4137)>0,VLOOKUP(A4137,Subcontractors!$A$2:$B$3,2,FALSE),\"\")","v":""},null,{"$f":"IF(LEN(A4137)>0,VLOOKUP(A4137,Subcontractors!$A$2:$B$2,2,FALSE),\"\")","v":""}]
[null,null,null,null,null,null,null,null,null,null,null,null,null,null,null,null,null,null,null,null,null,{"$f":"IF(LEN(X4141)>0,VLOOKUP(X4141,'TFW Programs'!$A$2:$B$24,2,FALSE),\"\")","v":""},null,null,{"$f":"IF(LEN(A4141)>0,VLOOKUP(A4141,Subcontractors!$A$2:$B$3,2,FALSE),\"\")","v":""},null,{"$f":"IF(LEN(A4141)>0,VLOOKUP(A4141,Subcontractors!$A$2:$B$2,2,FALSE),\"\")","v":""}]
[null,null,null,null,null,null,null,null,null,null,null,null,null,null,null,null,null,null,null,null,null,{"$f":"IF(LEN(X4146)>0,VLOOKUP(X4146,'TFW Programs'!$A$2:$B$24,2,FALSE),\"\")","v":""},null,null,{"$f":"IF(LEN(A4146)>0,VLOOKUP(A4146,Subcontractors!$A$2:$B$3,2,FALSE),\"\")","v":""},null,{"$f":"IF(LEN(A4146)>0,VLOOKUP(A4146,Subcontractors!$A$2:$B$2,2,FALSE),\"\")","v":""}]
[null,null,null,null,null,null,null,null,null,null,null,null,null,null,null,null,null,null,null,null,null,{"$f":"IF(LEN(X4151)>0,VLOOKUP(X4151,'TFW Programs'!$A$2:$B$24,2,FALSE),\"\")","v":""},null,null,{"$f":"IF(LEN(A4151)>0,VLOOKUP(A4151,Subcontractors!$A$2:$B$3,2,FALSE),\"\")","v":""},null,{"$f":"IF(LEN(A4151)>0,VLOOKUP(A4151,Subcontractors!$A$2:$B$2,2,FALSE),\"\")","v":""}]
[null,null,null,null,null,null,null,null,null,null,null,null,null,null,null,null,null,null,null,null,null,{"$f":"IF(LEN(X4152)>0,VLOOKUP(X4152,'TFW Programs'!$A$2:$B$24,2,FALSE),\"\")","v":""},null,null,{"$f":"IF(LEN(A4152)>0,VLOOKUP(A4152,Subcontractors!$A$2:$B$3,2,FALSE),\"\")","v":""},null,{"$f":"IF(LEN(A4152)>0,VLOOKUP(A4152,Subcontractors!$A$2:$B$2,2,FALSE),\"\")","v":""}]
[null,null,null,null,null,null,null,null,null,null,null,null,null,null,null,null,null,null,null,null,null,{"$f":"IF(LEN(X4158)>0,VLOOKUP(X4158,'TFW Programs'!$A$2:$B$24,2,FALSE),\"\")","v":""},null,null,{"$f":"IF(LEN(A4158)>0,VLOOKUP(A4158,Subcontractors!$A$2:$B$3,2,FALSE),\"\")","v":""},null,{"$f":"IF(LEN(A4158)>0,VLOOKUP(A4158,Subcontractors!$A$2:$B$2,2,FALSE),\"\")","v":""}]
[null,null,null,null,null,null,null,null,null,null,null,null,null,null,null,null,null,null,null,null,null,{"$f":"IF(LEN(X4161)>0,VLOOKUP(X4161,'TFW Programs'!$A$2:$B$24,2,FALSE),\"\")","v":""},null,null,{"$f":"IF(LEN(A4161)>0,VLOOKUP(A4161,Subcontractors!$A$2:$B$3,2,FALSE),\"\")","v":""},null,{"$f":"IF(LEN(A4161)>0,VLOOKUP(A4161,Subcontractors!$A$2:$B$2,2,FALSE),\"\")","v":""}]
[null,null,null,null,null,null,null,null,null,null,null,null,null,null,null,null,null,null,null,null,null,{"$f":"IF(LEN(X4166)>0,VLOOKUP(X4166,'TFW Programs'!$A$2:$B$24,2,FALSE),\"\")","v":""},null,null,{"$f":"IF(LEN(A4166)>0,VLOOKUP(A4166,Subcontractors!$A$2:$B$3,2,FALSE),\"\")","v":""},null,{"$f":"IF(LEN(A4166)>0,VLOOKUP(A4166,Subcontractors!$A$2:$B$2,2,FALSE),\"\")","v":""}]
[null,null,null,null,null,null,null,null,null,null,null,null,null,null,null,null,null,null,null,null,null,{"$f":"IF(LEN(X4167)>0,VLOOKUP(X4167,'TFW Programs'!$A$2:$B$24,2,FALSE),\"\")","v":""},null,null,{"$f":"IF(LEN(A4167)>0,VLOOKUP(A4167,Subcontractors!$A$2:$B$3,2,FALSE),\"\")","v":""},null,{"$f":"IF(LEN(A4167)>0,VLOOKUP(A4167,Subcontractors!$A$2:$B$2,2,FALSE),\"\")","v":""}]
[null,null,null,null,null,null,null,null,null,null,null,null,null,null,null,null,null,null,null,null,null,{"$f":"IF(LEN(X4171)>0,VLOOKUP(X4171,'TFW Programs'!$A$2:$B$24,2,FALSE),\"\")","v":""},null,null,{"$f":"IF(LEN(A4171)>0,VLOOKUP(A4171,Subcontractors!$A$2:$B$3,2,FALSE),\"\")","v":""},null,{"$f":"IF(LEN(A4171)>0,VLOOKUP(A4171,Subcontractors!$A$2:$B$2,2,FALSE),\"\")","v":""}]
[null,null,null,null,null,null,null,null,null,null,null,null,null,null,null,null,null,null,null,null,null,{"$f":"IF(LEN(X4176)>0,VLOOKUP(X4176,'TFW Programs'!$A$2:$B$24,2,FALSE),\"\")","v":""},null,null,{"$f":"IF(LEN(A4176)>0,VLOOKUP(A4176,Subcontractors!$A$2:$B$3,2,FALSE),\"\")","v":""},null,{"$f":"IF(LEN(A4176)>0,VLOOKUP(A4176,Subcontractors!$A$2:$B$2,2,FALSE),\"\")","v":""}]
[null,null,null,null,null,null,null,null,null,null,null,null,null,null,null,null,null,null,null,null,null,{"$f":"IF(LEN(X4181)>0,VLOOKUP(X4181,'TFW Programs'!$A$2:$B$24,2,FALSE),\"\")","v":""},null,null,{"$f":"IF(LEN(A4181)>0,VLOOKUP(A4181,Subcontractors!$A$2:$B$3,2,FALSE),\"\")","v":""},null,{"$f":"IF(LEN(A4181)>0,VLOOKUP(A4181,Subcontractors!$A$2:$B$2,2,FALSE),\"\")","v":""}]
[null,null,null,null,null,null,null,null,null,null,null,null,null,null,null,null,null,null,null,null,null,{"$f":"IF(LEN(X4182)>0,VLOOKUP(X4182,'TFW Programs'!$A$2:$B$24,2,FALSE),\"\")","v":""},null,null,{"$f":"IF(LEN(A4182)>0,VLOOKUP(A4182,Subcontractors!$A$2:$B$3,2,FALSE),\"\")","v":""},null,{"$f":"IF(LEN(A4182)>0,VLOOKUP(A4182,Subcontractors!$A$2:$B$2,2,FALSE),\"\")","v":""}]
[null,null,null,null,null,null,null,null,null,null,null,null,null,null,null,null,null,null,null,null,null,{"$f":"IF(LEN(X4187)>0,VLOOKUP(X4187,'TFW Programs'!$A$2:$B$24,2,FALSE),\"\")","v":""},null,null,{"$f":"IF(LEN(A4187)>0,VLOOKUP(A4187,Subcontractors!$A$2:$B$3,2,FALSE),\"\")","v":""},null,{"$f":"IF(LEN(A4187)>0,VLOOKUP(A4187,Subcontractors!$A$2:$B$2,2,FALSE),\"\")","v":""}]
[null,null,null,null,null,null,null,null,null,null,null,null,null,null,null,null,null,null,null,null,null,{"$f":"IF(LEN(X4192)>0,VLOOKUP(X4192,'TFW Programs'!$A$2:$B$24,2,FALSE),\"\")","v":""},null,null,{"$f":"IF(LEN(A4192)>0,VLOOKUP(A4192,Subcontractors!$A$2:$B$3,2,FALSE),\"\")","v":""},null,{"$f":"IF(LEN(A4192)>0,VLOOKUP(A4192,Subcontractors!$A$2:$B$2,2,FALSE),\"\")","v":""}]
[null,null,null,null,null,null,null,null,null,null,null,null,null,null,null,null,null,null,null,null,null,{"$f":"IF(LEN(X4196)>0,VLOOKUP(X4196,'TFW Programs'!$A$2:$B$24,2,FALSE),\"\")","v":""},null,null,{"$f":"IF(LEN(A4196)>0,VLOOKUP(A4196,Subcontractors!$A$2:$B$3,2,FALSE),\"\")","v":""},null,{"$f":"IF(LEN(A4196)>0,VLOOKUP(A4196,Subcontractors!$A$2:$B$2,2,FALSE),\"\")","v":""}]
[null,null,null,null,null,null,null,null,null,null,null,null,null,null,null,null,null,null,null,null,null,{"$f":"IF(LEN(X4197)>0,VLOOKUP(X4197,'TFW Programs'!$A$2:$B$24,2,FALSE),\"\")","v":""},null,null,{"$f":"IF(LEN(A4197)>0,VLOOKUP(A4197,Subcontractors!$A$2:$B$3,2,FALSE),\"\")","v":""},null,{"$f":"IF(LEN(A4197)>0,VLOOKUP(A4197,Subcontractors!$A$2:$B$2,2,FALSE),\"\")","v":""}]
[null,null,null,null,null,null,null,null,null,null,null,null,null,null,null,null,null,null,null,null,null,{"$f":"IF(LEN(X4202)>0,VLOOKUP(X4202,'TFW Programs'!$A$2:$B$24,2,FALSE),\"\")","v":""},null,null,{"$f":"IF(LEN(A4202)>0,VLOOKUP(A4202,Subcontractors!$A$2:$B$3,2,FALSE),\"\")","v":""},null,{"$f":"IF(LEN(A4202)>0,VLOOKUP(A4202,Subcontractors!$A$2:$B$2,2,FALSE),\"\")","v":""}]
[null,null,null,null,null,null,null,null,null,null,null,null,null,null,null,null,null,null,null,null,null,{"$f":"IF(LEN(X4206)>0,VLOOKUP(X4206,'TFW Programs'!$A$2:$B$24,2,FALSE),\"\")","v":""},null,null,{"$f":"IF(LEN(A4206)>0,VLOOKUP(A4206,Subcontractors!$A$2:$B$3,2,FALSE),\"\")","v":""},null,{"$f":"IF(LEN(A4206)>0,VLOOKUP(A4206,Subcontractors!$A$2:$B$2,2,FALSE),\"\")","v":""}]
[null,null,null,null,null,null,null,null,null,null,null,null,null,null,null,null,null,null,null,null,null,{"$f":"IF(LEN(X4211)>0,VLOOKUP(X4211,'TFW Programs'!$A$2:$B$24,2,FALSE),\"\")","v":""},null,null,{"$f":"IF(LEN(A4211)>0,VLOOKUP(A4211,Subcontractors!$A$2:$B$3,2,FALSE),\"\")","v":""},null,{"$f":"IF(LEN(A4211)>0,VLOOKUP(A4211,Subcontractors!$A$2:$B$2,2,FALSE),\"\")","v":""}]
[null,null,null,null,null,null,null,null,null,null,null,null,null,null,null,null,null,null,null,null,null,{"$f":"IF(LEN(X4212)>0,VLOOKUP(X4212,'TFW Programs'!$A$2:$B$24,2,FALSE),\"\")","v":""},null,null,{"$f":"IF(LEN(A4212)>0,VLOOKUP(A4212,Subcontractors!$A$2:$B$3,2,FALSE),\"\")","v":""},null,{"$f":"IF(LEN(A4212)>0,VLOOKUP(A4212,Subcontractors!$A$2:$B$2,2,FALSE),\"\")","v":""}]
[null,null,null,null,null,null,null,null,null,null,null,null,null,null,null,null,null,null,null,null,null,{"$f":"IF(LEN(X4217)>0,VLOOKUP(X4217,'TFW Programs'!$A$2:$B$24,2,FALSE),\"\")","v":""},null,null,{"$f":"IF(LEN(A4217)>0,VLOOKUP(A4217,Subcontractors!$A$2:$B$3,2,FALSE),\"\")","v":""},null,{"$f":"IF(LEN(A4217)>0,VLOOKUP(A4217,Subcontractors!$A$2:$B$2,2,FALSE),\"\")","v":""}]
[null,null,null,null,null,null,null,null,null,null,null,null,null,null,null,null,null,null,null,null,null,{"$f":"IF(LEN(X4222)>0,VLOOKUP(X4222,'TFW Programs'!$A$2:$B$24,2,FALSE),\"\")","v":""},null,null,{"$f":"IF(LEN(A4222)>0,VLOOKUP(A4222,Subcontractors!$A$2:$B$3,2,FALSE),\"\")","v":""},null,{"$f":"IF(LEN(A4222)>0,VLOOKUP(A4222,Subcontractors!$A$2:$B$2,2,FALSE),\"\")","v":""}]
[null,null,null,null,null,null,null,null,null,null,null,null,null,null,null,null,null,null,null,null,null,{"$f":"IF(LEN(X4226)>0,VLOOKUP(X4226,'TFW Programs'!$A$2:$B$24,2,FALSE),\"\")","v":""},null,null,{"$f":"IF(LEN(A4226)>0,VLOOKUP(A4226,Subcontractors!$A$2:$B$3,2,FALSE),\"\")","v":""},null,{"$f":"IF(LEN(A4226)>0,VLOOKUP(A4226,Subcontractors!$A$2:$B$2,2,FALSE),\"\")","v":""}]
[null,null,null,null,null,null,null,null,null,null,null,null,null,null,null,null,null,null,null,null,null,{"$f":"IF(LEN(X4227)>0,VLOOKUP(X4227,'TFW Programs'!$A$2:$B$24,2,FALSE),\"\")","v":""},null,null,{"$f":"IF(LEN(A4227)>0,VLOOKUP(A4227,Subcontractors!$A$2:$B$3,2,FALSE),\"\")","v":""},null,{"$f":"IF(LEN(A4227)>0,VLOOKUP(A4227,Subcontractors!$A$2:$B$2,2,FALSE),\"\")","v":""}]
[null,null,null,null,null,null,null,null,null,null,null,null,null,null,null,null,null,null,null,null,null,{"$f":"IF(LEN(X4232)>0,VLOOKUP(X4232,'TFW Programs'!$A$2:$B$24,2,FALSE),\"\")","v":""},null,null,{"$f":"IF(LEN(A4232)>0,VLOOKUP(A4232,Subcontractors!$A$2:$B$3,2,FALSE),\"\")","v":""},null,{"$f":"IF(LEN(A4232)>0,VLOOKUP(A4232,Subcontractors!$A$2:$B$2,2,FALSE),\"\")","v":""}]
[null,null,null,null,null,null,null,null,null,null,null,null,null,null,null,null,null,null,null,null,null,{"$f":"IF(LEN(X4237)>0,VLOOKUP(X4237,'TFW Programs'!$A$2:$B$24,2,FALSE),\"\")","v":""},null,null,{"$f":"IF(LEN(A4237)>0,VLOOKUP(A4237,Subcontractors!$A$2:$B$3,2,FALSE),\"\")","v":""},null,{"$f":"IF(LEN(A4237)>0,VLOOKUP(A4237,Subcontractors!$A$2:$B$2,2,FALSE),\"\")","v":""}]
[null,null,null,null,null,null,null,null,null,null,null,null,null,null,null,null,null,null,null,null,null,{"$f":"IF(LEN(X4240)>0,VLOOKUP(X4240,'TFW Programs'!$A$2:$B$24,2,FALSE),\"\")","v":""},null,null,{"$f":"IF(LEN(A4240)>0,VLOOKUP(A4240,Subcontractors!$A$2:$B$3,2,FALSE),\"\")","v":""},null,{"$f":"IF(LEN(A4240)>0,VLOOKUP(A4240,Subcontractors!$A$2:$B$2,2,FALSE),\"\")","v":""}]
[null,null,null,null,null,null,null,null,null,null,null,null,null,null,null,null,null,null,null,null,null,{"$f":"IF(LEN(X4242)>0,VLOOKUP(X4242,'TFW Programs'!$A$2:$B$24,2,FALSE),\"\")","v":""},null,null,{"$f":"IF(LEN(A4242)>0,VLOOKUP(A4242,Subcontractors!$A$2:$B$3,2,FALSE),\"\")","v":""},null,{"$f":"IF(LEN(A4242)>0,VLOOKUP(A4242,Subcontractors!$A$2:$B$2,2,FALSE),\"\")","v":""}]
[null,null,null,null,null,null,null,null,null,null,null,null,null,null,null,null,null,null,null,null,null,{"$f":"IF(LEN(X4247)>0,VLOOKUP(X4247,'TFW Programs'!$A$2:$B$24,2,FALSE),\"\")","v":""},null,null,{"$f":"IF(LEN(A4247)>0,VLOOKUP(A4247,Subcontractors!$A$2:$B$3,2,FALSE),\"\")","v":""},null,{"$f":"IF(LEN(A4247)>0,VLOOKUP(A4247,Subcontractors!$A$2:$B$2,2,FALSE),\"\")","v":""}]
[null,null,null,null,null,null,null,null,null,null,null,null,null,null,null,null,null,null,null,null,null,{"$f":"IF(LEN(X4252)>0,VLOOKUP(X4252,'TFW Programs'!$A$2:$B$24,2,FALSE),\"\")","v":""},null,null,{"$f":"IF(LEN(A4252)>0,VLOOKUP(A4252,Subcontractors!$A$2:$B$3,2,FALSE),\"\")","v":""},null,{"$f":"IF(LEN(A4252)>0,VLOOKUP(A4252,Subcontractors!$A$2:$B$2,2,FALSE),\"\")","v":""}]
[null,null,null,null,null,null,null,null,null,null,null,null,null,null,null,null,null,null,null,null,null,{"$f":"IF(LEN(X4254)>0,VLOOKUP(X4254,'TFW Programs'!$A$2:$B$24,2,FALSE),\"\")","v":""},null,null,{"$f":"IF(LEN(A4254)>0,VLOOKUP(A4254,Subcontractors!$A$2:$B$3,2,FALSE),\"\")","v":""},null,{"$f":"IF(LEN(A4254)>0,VLOOKUP(A4254,Subcontractors!$A$2:$B$2,2,FALSE),\"\")","v":""}]
[null,null,null,null,null,null,null,null,null,null,null,null,null,null,null,null,null,null,null,null,null,{"$f":"IF(LEN(X4257)>0,VLOOKUP(X4257,'TFW Programs'!$A$2:$B$24,2,FALSE),\"\")","v":""},null,null,{"$f":"IF(LEN(A4257)>0,VLOOKUP(A4257,Subcontractors!$A$2:$B$3,2,FALSE),\"\")","v":""},null,{"$f":"IF(LEN(A4257)>0,VLOOKUP(A4257,Subcontractors!$A$2:$B$2,2,FALSE),\"\")","v":""}]
[null,null,null,null,null,null,null,null,null,null,null,null,null,null,null,null,null,null,null,null,null,{"$f":"IF(LEN(X4262)>0,VLOOKUP(X4262,'TFW Programs'!$A$2:$B$24,2,FALSE),\"\")","v":""},null,null,{"$f":"IF(LEN(A4262)>0,VLOOKUP(A4262,Subcontractors!$A$2:$B$3,2,FALSE),\"\")","v":""},null,{"$f":"IF(LEN(A4262)>0,VLOOKUP(A4262,Subcontractors!$A$2:$B$2,2,FALSE),\"\")","v":""}]
[null,null,null,null,null,null,null,null,null,null,null,null,null,null,null,null,null,null,null,null,null,{"$f":"IF(LEN(X4267)>0,VLOOKUP(X4267,'TFW Programs'!$A$2:$B$24,2,FALSE),\"\")","v":""},null,null,{"$f":"IF(LEN(A4267)>0,VLOOKUP(A4267,Subcontractors!$A$2:$B$3,2,FALSE),\"\")","v":""},null,{"$f":"IF(LEN(A4267)>0,VLOOKUP(A4267,Subcontractors!$A$2:$B$2,2,FALSE),\"\")","v":""}]
[null,null,null,null,null,null,null,null,null,null,null,null,null,null,null,null,null,null,null,null,null,{"$f":"IF(LEN(X4272)>0,VLOOKUP(X4272,'TFW Programs'!$A$2:$B$24,2,FALSE),\"\")","v":""},null,null,{"$f":"IF(LEN(A4272)>0,VLOOKUP(A4272,Subcontractors!$A$2:$B$3,2,FALSE),\"\")","v":""},null,{"$f":"IF(LEN(A4272)>0,VLOOKUP(A4272,Subcontractors!$A$2:$B$2,2,FALSE),\"\")","v":""}]
[null,null,null,null,null,null,null,null,null,null,null,null,null,null,null,null,null,null,null,null,null,{"$f":"IF(LEN(X4275)>0,VLOOKUP(X4275,'TFW Programs'!$A$2:$B$24,2,FALSE),\"\")","v":""},null,null,{"$f":"IF(LEN(A4275)>0,VLOOKUP(A4275,Subcontractors!$A$2:$B$3,2,FALSE),\"\")","v":""},null,{"$f":"IF(LEN(A4275)>0,VLOOKUP(A4275,Subcontractors!$A$2:$B$2,2,FALSE),\"\")","v":""}]
[null,null,null,null,null,null,null,null,null,null,null,null,null,null,null,null,null,null,null,null,null,{"$f":"IF(LEN(X4277)>0,VLOOKUP(X4277,'TFW Programs'!$A$2:$B$24,2,FALSE),\"\")","v":""},null,null,{"$f":"IF(LEN(A4277)>0,VLOOKUP(A4277,Subcontractors!$A$2:$B$3,2,FALSE),\"\")","v":""},null,{"$f":"IF(LEN(A4277)>0,VLOOKUP(A4277,Subcontractors!$A$2:$B$2,2,FALSE),\"\")","v":""}]
[null,null,null,null,null,null,null,null,null,null,null,null,null,null,null,null,null,null,null,null,null,{"$f":"IF(LEN(X4282)>0,VLOOKUP(X4282,'TFW Programs'!$A$2:$B$24,2,FALSE),\"\")","v":""},null,null,{"$f":"IF(LEN(A4282)>0,VLOOKUP(A4282,Subcontractors!$A$2:$B$3,2,FALSE),\"\")","v":""},null,{"$f":"IF(LEN(A4282)>0,VLOOKUP(A4282,Subcontractors!$A$2:$B$2,2,FALSE),\"\")","v":""}]
[null,null,null,null,null,null,null,null,null,null,null,null,null,null,null,null,null,null,null,null,null,{"$f":"IF(LEN(X4287)>0,VLOOKUP(X4287,'TFW Programs'!$A$2:$B$24,2,FALSE),\"\")","v":""},null,null,{"$f":"IF(LEN(A4287)>0,VLOOKUP(A4287,Subcontractors!$A$2:$B$3,2,FALSE),\"\")","v":""},null,{"$f":"IF(LEN(A4287)>0,VLOOKUP(A4287,Subcontractors!$A$2:$B$2,2,FALSE),\"\")","v":""}]
[null,null,null,null,null,null,null,null,null,null,null,null,null,null,null,null,null,null,null,null,null,{"$f":"IF(LEN(X4288)>0,VLOOKUP(X4288,'TFW Programs'!$A$2:$B$24,2,FALSE),\"\")","v":""},null,null,{"$f":"IF(LEN(A4288)>0,VLOOKUP(A4288,Subcontractors!$A$2:$B$3,2,FALSE),\"\")","v":""},null,{"$f":"IF(LEN(A4288)>0,VLOOKUP(A4288,Subcontractors!$A$2:$B$2,2,FALSE),\"\")","v":""}]
[null,null,null,null,null,null,null,null,null,null,null,null,null,null,null,null,null,null,null,null,null,{"$f":"IF(LEN(X4292)>0,VLOOKUP(X4292,'TFW Programs'!$A$2:$B$24,2,FALSE),\"\")","v":""},null,null,{"$f":"IF(LEN(A4292)>0,VLOOKUP(A4292,Subcontractors!$A$2:$B$3,2,FALSE),\"\")","v":""},null,{"$f":"IF(LEN(A4292)>0,VLOOKUP(A4292,Subcontractors!$A$2:$B$2,2,FALSE),\"\")","v":""}]
[null,null,null,null,null,null,null,null,null,null,null,null,null,null,null,null,null,null,null,null,null,{"$f":"IF(LEN(X4297)>0,VLOOKUP(X4297,'TFW Programs'!$A$2:$B$24,2,FALSE),\"\")","v":""},null,null,{"$f":"IF(LEN(A4297)>0,VLOOKUP(A4297,Subcontractors!$A$2:$B$3,2,FALSE),\"\")","v":""},null,{"$f":"IF(LEN(A4297)>0,VLOOKUP(A4297,Subcontractors!$A$2:$B$2,2,FALSE),\"\")","v":""}]
[null,null,null,null,null,null,null,null,null,null,null,null,null,null,null,null,null,null,null,null,null,{"$f":"IF(LEN(X4302)>0,VLOOKUP(X4302,'TFW Programs'!$A$2:$B$24,2,FALSE),\"\")","v":""},null,null,{"$f":"IF(LEN(A4302)>0,VLOOKUP(A4302,Subcontractors!$A$2:$B$3,2,FALSE),\"\")","v":""},null,{"$f":"IF(LEN(A4302)>0,VLOOKUP(A4302,Subcontractors!$A$2:$B$2,2,FALSE),\"\")","v":""}]
[null,null,null,null,null,null,null,null,null,null,null,null,null,null,null,null,null,null,null,null,null,{"$f":"IF(LEN(X4303)>0,VLOOKUP(X4303,'TFW Programs'!$A$2:$B$24,2,FALSE),\"\")","v":""},null,null,{"$f":"IF(LEN(A4303)>0,VLOOKUP(A4303,Subcontractors!$A$2:$B$3,2,FALSE),\"\")","v":""},null,{"$f":"IF(LEN(A4303)>0,VLOOKUP(A4303,Subcontractors!$A$2:$B$2,2,FALSE),\"\")","v":""}]
[null,null,null,null,null,null,null,null,null,null,null,null,null,null,null,null,null,null,null,null,null,{"$f":"IF(LEN(X4309)>0,VLOOKUP(X4309,'TFW Programs'!$A$2:$B$24,2,FALSE),\"\")","v":""},null,null,{"$f":"IF(LEN(A4309)>0,VLOOKUP(A4309,Subcontractors!$A$2:$B$3,2,FALSE),\"\")","v":""},null,{"$f":"IF(LEN(A4309)>0,VLOOKUP(A4309,Subcontractors!$A$2:$B$2,2,FALSE),\"\")","v":""}]
[null,null,null,null,null,null,null,null,null,null,null,null,null,null,null,null,null,null,null,null,null,{"$f":"IF(LEN(X4312)>0,VLOOKUP(X4312,'TFW Programs'!$A$2:$B$24,2,FALSE),\"\")","v":""},null,null,{"$f":"IF(LEN(A4312)>0,VLOOKUP(A4312,Subcontractors!$A$2:$B$3,2,FALSE),\"\")","v":""},null,{"$f":"IF(LEN(A4312)>0,VLOOKUP(A4312,Subcontractors!$A$2:$B$2,2,FALSE),\"\")","v":""}]
[null,null,null,null,null,null,null,null,null,null,null,null,null,null,null,null,null,null,null,null,null,{"$f":"IF(LEN(X4317)>0,VLOOKUP(X4317,'TFW Programs'!$A$2:$B$24,2,FALSE),\"\")","v":""},null,null,{"$f":"IF(LEN(A4317)>0,VLOOKUP(A4317,Subcontractors!$A$2:$B$3,2,FALSE),\"\")","v":""},null,{"$f":"IF(LEN(A4317)>0,VLOOKUP(A4317,Subcontractors!$A$2:$B$2,2,FALSE),\"\")","v":""}]
[null,null,null,null,null,null,null,null,null,null,null,null,null,null,null,null,null,null,null,null,null,{"$f":"IF(LEN(X4318)>0,VLOOKUP(X4318,'TFW Programs'!$A$2:$B$24,2,FALSE),\"\")","v":""},null,null,{"$f":"IF(LEN(A4318)>0,VLOOKUP(A4318,Subcontractors!$A$2:$B$3,2,FALSE),\"\")","v":""},null,{"$f":"IF(LEN(A4318)>0,VLOOKUP(A4318,Subcontractors!$A$2:$B$2,2,FALSE),\"\")","v":""}]
[null,null,null,null,null,null,null,null,null,null,null,null,null,null,null,null,null,null,null,null,null,{"$f":"IF(LEN(X4323)>0,VLOOKUP(X4323,'TFW Programs'!$A$2:$B$24,2,FALSE),\"\")","v":""},null,null,{"$f":"IF(LEN(A4323)>0,VLOOKUP(A4323,Subcontractors!$A$2:$B$3,2,FALSE),\"\")","v":""},null,{"$f":"IF(LEN(A4323)>0,VLOOKUP(A4323,Subcontractors!$A$2:$B$2,2,FALSE),\"\")","v":""}]
[null,null,null,null,null,null,null,null,null,null,null,null,null,null,null,null,null,null,null,null,null,{"$f":"IF(LEN(X4327)>0,VLOOKUP(X4327,'TFW Programs'!$A$2:$B$24,2,FALSE),\"\")","v":""},null,null,{"$f":"IF(LEN(A4327)>0,VLOOKUP(A4327,Subcontractors!$A$2:$B$3,2,FALSE),\"\")","v":""},null,{"$f":"IF(LEN(A4327)>0,VLOOKUP(A4327,Subcontractors!$A$2:$B$2,2,FALSE),\"\")","v":""}]
[null,null,null,null,null,null,null,null,null,null,null,null,null,null,null,null,null,null,null,null,null,{"$f":"IF(LEN(X4332)>0,VLOOKUP(X4332,'TFW Programs'!$A$2:$B$24,2,FALSE),\"\")","v":""},null,null,{"$f":"IF(LEN(A4332)>0,VLOOKUP(A4332,Subcontractors!$A$2:$B$3,2,FALSE),\"\")","v":""},null,{"$f":"IF(LEN(A4332)>0,VLOOKUP(A4332,Subcontractors!$A$2:$B$2,2,FALSE),\"\")","v":""}]
[null,null,null,null,null,null,null,null,null,null,null,null,null,null,null,null,null,null,null,null,null,{"$f":"IF(LEN(X4333)>0,VLOOKUP(X4333,'TFW Programs'!$A$2:$B$24,2,FALSE),\"\")","v":""},null,null,{"$f":"IF(LEN(A4333)>0,VLOOKUP(A4333,Subcontractors!$A$2:$B$3,2,FALSE),\"\")","v":""},null,{"$f":"IF(LEN(A4333)>0,VLOOKUP(A4333,Subcontractors!$A$2:$B$2,2,FALSE),\"\")","v":""}]
[null,null,null,null,null,null,null,null,null,null,null,null,null,null,null,null,null,null,null,null,null,{"$f":"IF(LEN(X4339)>0,VLOOKUP(X4339,'TFW Programs'!$A$2:$B$24,2,FALSE),\"\")","v":""},null,null,{"$f":"IF(LEN(A4339)>0,VLOOKUP(A4339,Subcontractors!$A$2:$B$3,2,FALSE),\"\")","v":""},null,{"$f":"IF(LEN(A4339)>0,VLOOKUP(A4339,Subcontractors!$A$2:$B$2,2,FALSE),\"\")","v":""}]
[null,null,null,null,null,null,null,null,null,null,null,null,null,null,null,null,null,null,null,null,null,{"$f":"IF(LEN(X4342)>0,VLOOKUP(X4342,'TFW Programs'!$A$2:$B$24,2,FALSE),\"\")","v":""},null,null,{"$f":"IF(LEN(A4342)>0,VLOOKUP(A4342,Subcontractors!$A$2:$B$3,2,FALSE),\"\")","v":""},null,{"$f":"IF(LEN(A4342)>0,VLOOKUP(A4342,Subcontractors!$A$2:$B$2,2,FALSE),\"\")","v":""}]
[null,null,null,null,null,null,null,null,null,null,null,null,null,null,null,null,null,null,null,null,null,{"$f":"IF(LEN(X4347)>0,VLOOKUP(X4347,'TFW Programs'!$A$2:$B$24,2,FALSE),\"\")","v":""},null,null,{"$f":"IF(LEN(A4347)>0,VLOOKUP(A4347,Subcontractors!$A$2:$B$3,2,FALSE),\"\")","v":""},null,{"$f":"IF(LEN(A4347)>0,VLOOKUP(A4347,Subcontractors!$A$2:$B$2,2,FALSE),\"\")","v":""}]
[null,null,null,null,null,null,null,null,null,null,null,null,null,null,null,null,null,null,null,null,null,{"$f":"IF(LEN(X4348)>0,VLOOKUP(X4348,'TFW Programs'!$A$2:$B$24,2,FALSE),\"\")","v":""},null,null,{"$f":"IF(LEN(A4348)>0,VLOOKUP(A4348,Subcontractors!$A$2:$B$3,2,FALSE),\"\")","v":""},null,{"$f":"IF(LEN(A4348)>0,VLOOKUP(A4348,Subcontractors!$A$2:$B$2,2,FALSE),\"\")","v":""}]
[null,null,null,null,null,null,null,null,null,null,null,null,null,null,null,null,null,null,null,null,null,{"$f":"IF(LEN(X4353)>0,VLOOKUP(X4353,'TFW Programs'!$A$2:$B$24,2,FALSE),\"\")","v":""},null,null,{"$f":"IF(LEN(A4353)>0,VLOOKUP(A4353,Subcontractors!$A$2:$B$3,2,FALSE),\"\")","v":""},null,{"$f":"IF(LEN(A4353)>0,VLOOKUP(A4353,Subcontractors!$A$2:$B$2,2,FALSE),\"\")","v":""}]
[null,null,null,null,null,null,null,null,null,null,null,null,null,null,null,null,null,null,null,null,null,{"$f":"IF(LEN(X4357)>0,VLOOKUP(X4357,'TFW Programs'!$A$2:$B$24,2,FALSE),\"\")","v":""},null,null,{"$f":"IF(LEN(A4357)>0,VLOOKUP(A4357,Subcontractors!$A$2:$B$3,2,FALSE),\"\")","v":""},null,{"$f":"IF(LEN(A4357)>0,VLOOKUP(A4357,Subcontractors!$A$2:$B$2,2,FALSE),\"\")","v":""}]
[null,null,null,null,null,null,null,null,null,null,null,null,null,null,null,null,null,null,null,null,null,{"$f":"IF(LEN(X4362)>0,VLOOKUP(X4362,'TFW Programs'!$A$2:$B$24,2,FALSE),\"\")","v":""},null,null,{"$f":"IF(LEN(A4362)>0,VLOOKUP(A4362,Subcontractors!$A$2:$B$3,2,FALSE),\"\")","v":""},null,{"$f":"IF(LEN(A4362)>0,VLOOKUP(A4362,Subcontractors!$A$2:$B$2,2,FALSE),\"\")","v":""}]
[null,null,null,null,null,null,null,null,null,null,null,null,null,null,null,null,null,null,null,null,null,{"$f":"IF(LEN(X4363)>0,VLOOKUP(X4363,'TFW Programs'!$A$2:$B$24,2,FALSE),\"\")","v":""},null,null,{"$f":"IF(LEN(A4363)>0,VLOOKUP(A4363,Subcontractors!$A$2:$B$3,2,FALSE),\"\")","v":""},null,{"$f":"IF(LEN(A4363)>0,VLOOKUP(A4363,Subcontractors!$A$2:$B$2,2,FALSE),\"\")","v":""}]
[null,null,null,null,null,null,null,null,null,null,null,null,null,null,null,null,null,null,null,null,null,{"$f":"IF(LEN(X4368)>0,VLOOKUP(X4368,'TFW Programs'!$A$2:$B$24,2,FALSE),\"\")","v":""},null,null,{"$f":"IF(LEN(A4368)>0,VLOOKUP(A4368,Subcontractors!$A$2:$B$3,2,FALSE),\"\")","v":""},null,{"$f":"IF(LEN(A4368)>0,VLOOKUP(A4368,Subcontractors!$A$2:$B$2,2,FALSE),\"\")","v":""}]
[null,null,null,null,null,null,null,null,null,null,null,null,null,null,null,null,null,null,null,null,null,{"$f":"IF(LEN(X4371)>0,VLOOKUP(X4371,'TFW Programs'!$A$2:$B$24,2,FALSE),\"\")","v":""},null,null,{"$f":"IF(LEN(A4371)>0,VLOOKUP(A4371,Subcontractors!$A$2:$B$3,2,FALSE),\"\")","v":""},null,{"$f":"IF(LEN(A4371)>0,VLOOKUP(A4371,Subcontractors!$A$2:$B$2,2,FALSE),\"\")","v":""}]
[null,null,null,null,null,null,null,null,null,null,null,null,null,null,null,null,null,null,null,null,null,{"$f":"IF(LEN(X4377)>0,VLOOKUP(X4377,'TFW Programs'!$A$2:$B$24,2,FALSE),\"\")","v":""},null,null,{"$f":"IF(LEN(A4377)>0,VLOOKUP(A4377,Subcontractors!$A$2:$B$3,2,FALSE),\"\")","v":""},null,{"$f":"IF(LEN(A4377)>0,VLOOKUP(A4377,Subcontractors!$A$2:$B$2,2,FALSE),\"\")","v":""}]
[null,null,null,null,null,null,null,null,null,null,null,null,null,null,null,null,null,null,null,null,null,{"$f":"IF(LEN(X4378)>0,VLOOKUP(X4378,'TFW Programs'!$A$2:$B$24,2,FALSE),\"\")","v":""},null,null,{"$f":"IF(LEN(A4378)>0,VLOOKUP(A4378,Subcontractors!$A$2:$B$3,2,FALSE),\"\")","v":""},null,{"$f":"IF(LEN(A4378)>0,VLOOKUP(A4378,Subcontractors!$A$2:$B$2,2,FALSE),\"\")","v":""}]
[null,null,null,null,null,null,null,null,null,null,null,null,null,null,null,null,null,null,null,null,null,{"$f":"IF(LEN(X4383)>0,VLOOKUP(X4383,'TFW Programs'!$A$2:$B$24,2,FALSE),\"\")","v":""},null,null,{"$f":"IF(LEN(A4383)>0,VLOOKUP(A4383,Subcontractors!$A$2:$B$3,2,FALSE),\"\")","v":""},null,{"$f":"IF(LEN(A4383)>0,VLOOKUP(A4383,Subcontractors!$A$2:$B$2,2,FALSE),\"\")","v":""}]
[null,null,null,null,null,null,null,null,null,null,null,null,null,null,null,null,null,null,null,null,null,{"$f":"IF(LEN(X4388)>0,VLOOKUP(X4388,'TFW Programs'!$A$2:$B$24,2,FALSE),\"\")","v":""},null,null,{"$f":"IF(LEN(A4388)>0,VLOOKUP(A4388,Subcontractors!$A$2:$B$3,2,FALSE),\"\")","v":""},null,{"$f":"IF(LEN(A4388)>0,VLOOKUP(A4388,Subcontractors!$A$2:$B$2,2,FALSE),\"\")","v":""}]
[null,null,null,null,null,null,null,null,null,null,null,null,null,null,null,null,null,null,null,null,null,{"$f":"IF(LEN(X4392)>0,VLOOKUP(X4392,'TFW Programs'!$A$2:$B$24,2,FALSE),\"\")","v":""},null,null,{"$f":"IF(LEN(A4392)>0,VLOOKUP(A4392,Subcontractors!$A$2:$B$3,2,FALSE),\"\")","v":""},null,{"$f":"IF(LEN(A4392)>0,VLOOKUP(A4392,Subcontractors!$A$2:$B$2,2,FALSE),\"\")","v":""}]
[null,null,null,null,null,null,null,null,null,null,null,null,null,null,null,null,null,null,null,null,null,{"$f":"IF(LEN(X4393)>0,VLOOKUP(X4393,'TFW Programs'!$A$2:$B$24,2,FALSE),\"\")","v":""},null,null,{"$f":"IF(LEN(A4393)>0,VLOOKUP(A4393,Subcontractors!$A$2:$B$3,2,FALSE),\"\")","v":""},null,{"$f":"IF(LEN(A4393)>0,VLOOKUP(A4393,Subcontractors!$A$2:$B$2,2,FALSE),\"\")","v":""}]
[null,null,null,null,null,null,null,null,null,null,null,null,null,null,null,null,null,null,null,null,null,{"$f":"IF(LEN(X4398)>0,VLOOKUP(X4398,'TFW Programs'!$A$2:$B$24,2,FALSE),\"\")","v":""},null,null,{"$f":"IF(LEN(A4398)>0,VLOOKUP(A4398,Subcontractors!$A$2:$B$3,2,FALSE),\"\")","v":""},null,{"$f":"IF(LEN(A4398)>0,VLOOKUP(A4398,Subcontractors!$A$2:$B$2,2,FALSE),\"\")","v":""}]
[null,null,null,null,null,null,null,null,null,null,null,null,null,null,null,null,null,null,null,null,null,{"$f":"IF(LEN(X4403)>0,VLOOKUP(X4403,'TFW Programs'!$A$2:$B$24,2,FALSE),\"\")","v":""},null,null,{"$f":"IF(LEN(A4403)>0,VLOOKUP(A4403,Subcontractors!$A$2:$B$3,2,FALSE),\"\")","v":""},null,{"$f":"IF(LEN(A4403)>0,VLOOKUP(A4403,Subcontractors!$A$2:$B$2,2,FALSE),\"\")","v":""}]
[null,null,null,null,null,null,null,null,null,null,null,null,null,null,null,null,null,null,null,null,null,{"$f":"IF(LEN(X4405)>0,VLOOKUP(X4405,'TFW Programs'!$A$2:$B$24,2,FALSE),\"\")","v":""},null,null,{"$f":"IF(LEN(A4405)>0,VLOOKUP(A4405,Subcontractors!$A$2:$B$3,2,FALSE),\"\")","v":""},null,{"$f":"IF(LEN(A4405)>0,VLOOKUP(A4405,Subcontractors!$A$2:$B$2,2,FALSE),\"\")","v":""}]
[null,null,null,null,null,null,null,null,null,null,null,null,null,null,null,null,null,null,null,null,null,{"$f":"IF(LEN(X4408)>0,VLOOKUP(X4408,'TFW Programs'!$A$2:$B$24,2,FALSE),\"\")","v":""},null,null,{"$f":"IF(LEN(A4408)>0,VLOOKUP(A4408,Subcontractors!$A$2:$B$3,2,FALSE),\"\")","v":""},null,{"$f":"IF(LEN(A4408)>0,VLOOKUP(A4408,Subcontractors!$A$2:$B$2,2,FALSE),\"\")","v":""}]
[null,null,null,null,null,null,null,null,null,null,null,null,null,null,null,null,null,null,null,null,null,{"$f":"IF(LEN(X4413)>0,VLOOKUP(X4413,'TFW Programs'!$A$2:$B$24,2,FALSE),\"\")","v":""},null,null,{"$f":"IF(LEN(A4413)>0,VLOOKUP(A4413,Subcontractors!$A$2:$B$3,2,FALSE),\"\")","v":""},null,{"$f":"IF(LEN(A4413)>0,VLOOKUP(A4413,Subcontractors!$A$2:$B$2,2,FALSE),\"\")","v":""}]
[null,null,null,null,null,null,null,null,null,null,null,null,null,null,null,null,null,null,null,null,null,{"$f":"IF(LEN(X4418)>0,VLOOKUP(X4418,'TFW Programs'!$A$2:$B$24,2,FALSE),\"\")","v":""},null,null,{"$f":"IF(LEN(A4418)>0,VLOOKUP(A4418,Subcontractors!$A$2:$B$3,2,FALSE),\"\")","v":""},null,{"$f":"IF(LEN(A4418)>0,VLOOKUP(A4418,Subcontractors!$A$2:$B$2,2,FALSE),\"\")","v":""}]
[null,null,null,null,null,null,null,null,null,null,null,null,null,null,null,null,null,null,null,null,null,{"$f":"IF(LEN(X4423)>0,VLOOKUP(X4423,'TFW Programs'!$A$2:$B$24,2,FALSE),\"\")","v":""},null,null,{"$f":"IF(LEN(A4423)>0,VLOOKUP(A4423,Subcontractors!$A$2:$B$3,2,FALSE),\"\")","v":""},null,{"$f":"IF(LEN(A4423)>0,VLOOKUP(A4423,Subcontractors!$A$2:$B$2,2,FALSE),\"\")","v":""}]
[null,null,null,null,null,null,null,null,null,null,null,null,null,null,null,null,null,null,null,null,null,{"$f":"IF(LEN(X4426)>0,VLOOKUP(X4426,'TFW Programs'!$A$2:$B$24,2,FALSE),\"\")","v":""},null,null,{"$f":"IF(LEN(A4426)>0,VLOOKUP(A4426,Subcontractors!$A$2:$B$3,2,FALSE),\"\")","v":""},null,{"$f":"IF(LEN(A4426)>0,VLOOKUP(A4426,Subcontractors!$A$2:$B$2,2,FALSE),\"\")","v":""}]
[null,null,null,null,null,null,null,null,null,null,null,null,null,null,null,null,null,null,null,null,null,{"$f":"IF(LEN(X4428)>0,VLOOKUP(X4428,'TFW Programs'!$A$2:$B$24,2,FALSE),\"\")","v":""},null,null,{"$f":"IF(LEN(A4428)>0,VLOOKUP(A4428,Subcontractors!$A$2:$B$3,2,FALSE),\"\")","v":""},null,{"$f":"IF(LEN(A4428)>0,VLOOKUP(A4428,Subcontractors!$A$2:$B$2,2,FALSE),\"\")","v":""}]
[null,null,null,null,null,null,null,null,null,null,null,null,null,null,null,null,null,null,null,null,null,{"$f":"IF(LEN(X4433)>0,VLOOKUP(X4433,'TFW Programs'!$A$2:$B$24,2,FALSE),\"\")","v":""},null,null,{"$f":"IF(LEN(A4433)>0,VLOOKUP(A4433,Subcontractors!$A$2:$B$3,2,FALSE),\"\")","v":""},null,{"$f":"IF(LEN(A4433)>0,VLOOKUP(A4433,Subcontractors!$A$2:$B$2,2,FALSE),\"\")","v":""}]
[null,null,null,null,null,null,null,null,null,null,null,null,null,null,null,null,null,null,null,null,null,{"$f":"IF(LEN(X4438)>0,VLOOKUP(X4438,'TFW Programs'!$A$2:$B$24,2,FALSE),\"\")","v":""},null,null,{"$f":"IF(LEN(A4438)>0,VLOOKUP(A4438,Subcontractors!$A$2:$B$3,2,FALSE),\"\")","v":""},null,{"$f":"IF(LEN(A4438)>0,VLOOKUP(A4438,Subcontractors!$A$2:$B$2,2,FALSE),\"\")","v":""}]
[null,null,null,null,null,null,null,null,null,null,null,null,null,null,null,null,null,null,null,null,null,{"$f":"IF(LEN(X4439)>0,VLOOKUP(X4439,'TFW Programs'!$A$2:$B$24,2,FALSE),\"\")","v":""},null,null,{"$f":"IF(LEN(A4439)>0,VLOOKUP(A4439,Subcontractors!$A$2:$B$3,2,FALSE),\"\")","v":""},null,{"$f":"IF(LEN(A4439)>0,VLOOKUP(A4439,Subcontractors!$A$2:$B$2,2,FALSE),\"\")","v":""}]
[null,null,null,null,null,null,null,null,null,null,null,null,null,null,null,null,null,null,null,null,null,{"$f":"IF(LEN(X4443)>0,VLOOKUP(X4443,'TFW Programs'!$A$2:$B$24,2,FALSE),\"\")","v":""},null,null,{"$f":"IF(LEN(A4443)>0,VLOOKUP(A4443,Subcontractors!$A$2:$B$3,2,FALSE),\"\")","v":""},null,{"$f":"IF(LEN(A4443)>0,VLOOKUP(A4443,Subcontractors!$A$2:$B$2,2,FALSE),\"\")","v":""}]
[null,null,null,null,null,null,null,null,null,null,null,null,null,null,null,null,null,null,null,null,null,{"$f":"IF(LEN(X4448)>0,VLOOKUP(X4448,'TFW Programs'!$A$2:$B$24,2,FALSE),\"\")","v":""},null,null,{"$f":"IF(LEN(A4448)>0,VLOOKUP(A4448,Subcontractors!$A$2:$B$3,2,FALSE),\"\")","v":""},null,{"$f":"IF(LEN(A4448)>0,VLOOKUP(A4448,Subcontractors!$A$2:$B$2,2,FALSE),\"\")","v":""}]
[null,null,null,null,null,null,null,null,null,null,null,null,null,null,null,null,null,null,null,null,null,{"$f":"IF(LEN(X4453)>0,VLOOKUP(X4453,'TFW Programs'!$A$2:$B$24,2,FALSE),\"\")","v":""},null,null,{"$f":"IF(LEN(A4453)>0,VLOOKUP(A4453,Subcontractors!$A$2:$B$3,2,FALSE),\"\")","v":""},null,{"$f":"IF(LEN(A4453)>0,VLOOKUP(A4453,Subcontractors!$A$2:$B$2,2,FALSE),\"\")","v":""}]
[null,null,null,null,null,null,null,null,null,null,null,null,null,null,null,null,null,null,null,null,null,{"$f":"IF(LEN(X4456)>0,VLOOKUP(X4456,'TFW Programs'!$A$2:$B$24,2,FALSE),\"\")","v":""},null,null,{"$f":"IF(LEN(A4456)>0,VLOOKUP(A4456,Subcontractors!$A$2:$B$3,2,FALSE),\"\")","v":""},null,{"$f":"IF(LEN(A4456)>0,VLOOKUP(A4456,Subcontractors!$A$2:$B$2,2,FALSE),\"\")","v":""}]
[null,null,null,null,null,null,null,null,null,null,null,null,null,null,null,null,null,null,null,null,null,{"$f":"IF(LEN(X4458)>0,VLOOKUP(X4458,'TFW Programs'!$A$2:$B$24,2,FALSE),\"\")","v":""},null,null,{"$f":"IF(LEN(A4458)>0,VLOOKUP(A4458,Subcontractors!$A$2:$B$3,2,FALSE),\"\")","v":""},null,{"$f":"IF(LEN(A4458)>0,VLOOKUP(A4458,Subcontractors!$A$2:$B$2,2,FALSE),\"\")","v":""}]
[null,null,null,null,null,null,null,null,null,null,null,null,null,null,null,null,null,null,null,null,null,{"$f":"IF(LEN(X4463)>0,VLOOKUP(X4463,'TFW Programs'!$A$2:$B$24,2,FALSE),\"\")","v":""},null,null,{"$f":"IF(LEN(A4463)>0,VLOOKUP(A4463,Subcontractors!$A$2:$B$3,2,FALSE),\"\")","v":""},null,{"$f":"IF(LEN(A4463)>0,VLOOKUP(A4463,Subcontractors!$A$2:$B$2,2,FALSE),\"\")","v":""}]
[null,null,null,null,null,null,null,null,null,null,null,null,null,null,null,null,null,null,null,null,null,{"$f":"IF(LEN(X4468)>0,VLOOKUP(X4468,'TFW Programs'!$A$2:$B$24,2,FALSE),\"\")","v":""},null,null,{"$f":"IF(LEN(A4468)>0,VLOOKUP(A4468,Subcontractors!$A$2:$B$3,2,FALSE),\"\")","v":""},null,{"$f":"IF(LEN(A4468)>0,VLOOKUP(A4468,Subcontractors!$A$2:$B$2,2,FALSE),\"\")","v":""}]
[null,null,null,null,null,null,null,null,null,null,null,null,null,null,null,null,null,null,null,null,null,{"$f":"IF(LEN(X4469)>0,VLOOKUP(X4469,'TFW Programs'!$A$2:$B$24,2,FALSE),\"\")","v":""},null,null,{"$f":"IF(LEN(A4469)>0,VLOOKUP(A4469,Subcontractors!$A$2:$B$3,2,FALSE),\"\")","v":""},null,{"$f":"IF(LEN(A4469)>0,VLOOKUP(A4469,Subcontractors!$A$2:$B$2,2,FALSE),\"\")","v":""}]
[null,null,null,null,null,null,null,null,null,null,null,null,null,null,null,null,null,null,null,null,null,{"$f":"IF(LEN(X4474)>0,VLOOKUP(X4474,'TFW Programs'!$A$2:$B$24,2,FALSE),\"\")","v":""},null,null,{"$f":"IF(LEN(A4474)>0,VLOOKUP(A4474,Subcontractors!$A$2:$B$3,2,FALSE),\"\")","v":""},null,{"$f":"IF(LEN(A4474)>0,VLOOKUP(A4474,Subcontractors!$A$2:$B$2,2,FALSE),\"\")","v":""}]
[null,null,null,null,null,null,null,null,null,null,null,null,null,null,null,null,null,null,null,null,null,{"$f":"IF(LEN(X4478)>0,VLOOKUP(X4478,'TFW Programs'!$A$2:$B$24,2,FALSE),\"\")","v":""},null,null,{"$f":"IF(LEN(A4478)>0,VLOOKUP(A4478,Subcontractors!$A$2:$B$3,2,FALSE),\"\")","v":""},null,{"$f":"IF(LEN(A4478)>0,VLOOKUP(A4478,Subcontractors!$A$2:$B$2,2,FALSE),\"\")","v":""}]
[null,null,null,null,null,null,null,null,null,null,null,null,null,null,null,null,null,null,null,null,null,{"$f":"IF(LEN(X4483)>0,VLOOKUP(X4483,'TFW Programs'!$A$2:$B$24,2,FALSE),\"\")","v":""},null,null,{"$f":"IF(LEN(A4483)>0,VLOOKUP(A4483,Subcontractors!$A$2:$B$3,2,FALSE),\"\")","v":""},null,{"$f":"IF(LEN(A4483)>0,VLOOKUP(A4483,Subcontractors!$A$2:$B$2,2,FALSE),\"\")","v":""}]
[null,null,null,null,null,null,null,null,null,null,null,null,null,null,null,null,null,null,null,null,null,{"$f":"IF(LEN(X4484)>0,VLOOKUP(X4484,'TFW Programs'!$A$2:$B$24,2,FALSE),\"\")","v":""},null,null,{"$f":"IF(LEN(A4484)>0,VLOOKUP(A4484,Subcontractors!$A$2:$B$3,2,FALSE),\"\")","v":""},null,{"$f":"IF(LEN(A4484)>0,VLOOKUP(A4484,Subcontractors!$A$2:$B$2,2,FALSE),\"\")","v":""}]
[null,null,null,null,null,null,null,null,null,null,null,null,null,null,null,null,null,null,null,null,null,{"$f":"IF(LEN(X4490)>0,VLOOKUP(X4490,'TFW Programs'!$A$2:$B$24,2,FALSE),\"\")","v":""},null,null,{"$f":"IF(LEN(A4490)>0,VLOOKUP(A4490,Subcontractors!$A$2:$B$3,2,FALSE),\"\")","v":""},null,{"$f":"IF(LEN(A4490)>0,VLOOKUP(A4490,Subcontractors!$A$2:$B$2,2,FALSE),\"\")","v":""}]
[null,null,null,null,null,null,null,null,null,null,null,null,null,null,null,null,null,null,null,null,null,{"$f":"IF(LEN(X4493)>0,VLOOKUP(X4493,'TFW Programs'!$A$2:$B$24,2,FALSE),\"\")","v":""},null,null,{"$f":"IF(LEN(A4493)>0,VLOOKUP(A4493,Subcontractors!$A$2:$B$3,2,FALSE),\"\")","v":""},null,{"$f":"IF(LEN(A4493)>0,VLOOKUP(A4493,Subcontractors!$A$2:$B$2,2,FALSE),\"\")","v":""}]
[null,null,null,null,null,null,null,null,null,null,null,null,null,null,null,null,null,null,null,null,null,{"$f":"IF(LEN(X4498)>0,VLOOKUP(X4498,'TFW Programs'!$A$2:$B$24,2,FALSE),\"\")","v":""},null,null,{"$f":"IF(LEN(A4498)>0,VLOOKUP(A4498,Subcontractors!$A$2:$B$3,2,FALSE),\"\")","v":""},null,{"$f":"IF(LEN(A4498)>0,VLOOKUP(A4498,Subcontractors!$A$2:$B$2,2,FALSE),\"\")","v":""}]
[null,null,null,null,null,null,null,null,null,null,null,null,null,null,null,null,null,null,null,null,null,{"$f":"IF(LEN(X4499)>0,VLOOKUP(X4499,'TFW Programs'!$A$2:$B$24,2,FALSE),\"\")","v":""},null,null,{"$f":"IF(LEN(A4499)>0,VLOOKUP(A4499,Subcontractors!$A$2:$B$3,2,FALSE),\"\")","v":""},null,{"$f":"IF(LEN(A4499)>0,VLOOKUP(A4499,Subcontractors!$A$2:$B$2,2,FALSE),\"\")","v":""}]
[null,null,null,null,null,null,null,null,null,null,null,null,null,null,null,null,null,null,null,null,null,{"$f":"IF(LEN(X4504)>0,VLOOKUP(X4504,'TFW Programs'!$A$2:$B$24,2,FALSE),\"\")","v":""},null,null,{"$f":"IF(LEN(A4504)>0,VLOOKUP(A4504,Subcontractors!$A$2:$B$3,2,FALSE),\"\")","v":""},null,{"$f":"IF(LEN(A4504)>0,VLOOKUP(A4504,Subcontractors!$A$2:$B$2,2,FALSE),\"\")","v":""}]
[null,null,null,null,null,null,null,null,null,null,null,null,null,null,null,null,null,null,null,null,null,{"$f":"IF(LEN(X4508)>0,VLOOKUP(X4508,'TFW Programs'!$A$2:$B$24,2,FALSE),\"\")","v":""},null,null,{"$f":"IF(LEN(A4508)>0,VLOOKUP(A4508,Subcontractors!$A$2:$B$3,2,FALSE),\"\")","v":""},null,{"$f":"IF(LEN(A4508)>0,VLOOKUP(A4508,Subcontractors!$A$2:$B$2,2,FALSE),\"\")","v":""}]
[null,null,null,null,null,null,null,null,null,null,null,null,null,null,null,null,null,null,null,null,null,{"$f":"IF(LEN(X4513)>0,VLOOKUP(X4513,'TFW Programs'!$A$2:$B$24,2,FALSE),\"\")","v":""},null,null,{"$f":"IF(LEN(A4513)>0,VLOOKUP(A4513,Subcontractors!$A$2:$B$3,2,FALSE),\"\")","v":""},null,{"$f":"IF(LEN(A4513)>0,VLOOKUP(A4513,Subcontractors!$A$2:$B$2,2,FALSE),\"\")","v":""}]
[null,null,null,null,null,null,null,null,null,null,null,null,null,null,null,null,null,null,null,null,null,{"$f":"IF(LEN(X4514)>0,VLOOKUP(X4514,'TFW Programs'!$A$2:$B$24,2,FALSE),\"\")","v":""},null,null,{"$f":"IF(LEN(A4514)>0,VLOOKUP(A4514,Subcontractors!$A$2:$B$3,2,FALSE),\"\")","v":""},null,{"$f":"IF(LEN(A4514)>0,VLOOKUP(A4514,Subcontractors!$A$2:$B$2,2,FALSE),\"\")","v":""}]
[null,null,null,null,null,null,null,null,null,null,null,null,null,null,null,null,null,null,null,null,null,{"$f":"IF(LEN(X4519)>0,VLOOKUP(X4519,'TFW Programs'!$A$2:$B$24,2,FALSE),\"\")","v":""},null,null,{"$f":"IF(LEN(A4519)>0,VLOOKUP(A4519,Subcontractors!$A$2:$B$3,2,FALSE),\"\")","v":""},null,{"$f":"IF(LEN(A4519)>0,VLOOKUP(A4519,Subcontractors!$A$2:$B$2,2,FALSE),\"\")","v":""}]
[null,null,null,null,null,null,null,null,null,null,null,null,null,null,null,null,null,null,null,null,null,{"$f":"IF(LEN(X4522)>0,VLOOKUP(X4522,'TFW Programs'!$A$2:$B$24,2,FALSE),\"\")","v":""},null,null,{"$f":"IF(LEN(A4522)>0,VLOOKUP(A4522,Subcontractors!$A$2:$B$3,2,FALSE),\"\")","v":""},null,{"$f":"IF(LEN(A4522)>0,VLOOKUP(A4522,Subcontractors!$A$2:$B$2,2,FALSE),\"\")","v":""}]
[null,null,null,null,null,null,null,null,null,null,null,null,null,null,null,null,null,null,null,null,null,{"$f":"IF(LEN(X4528)>0,VLOOKUP(X4528,'TFW Programs'!$A$2:$B$24,2,FALSE),\"\")","v":""},null,null,{"$f":"IF(LEN(A4528)>0,VLOOKUP(A4528,Subcontractors!$A$2:$B$3,2,FALSE),\"\")","v":""},null,{"$f":"IF(LEN(A4528)>0,VLOOKUP(A4528,Subcontractors!$A$2:$B$2,2,FALSE),\"\")","v":""}]
[null,null,null,null,null,null,null,null,null,null,null,null,null,null,null,null,null,null,null,null,null,{"$f":"IF(LEN(X4529)>0,VLOOKUP(X4529,'TFW Programs'!$A$2:$B$24,2,FALSE),\"\")","v":""},null,null,{"$f":"IF(LEN(A4529)>0,VLOOKUP(A4529,Subcontractors!$A$2:$B$3,2,FALSE),\"\")","v":""},null,{"$f":"IF(LEN(A4529)>0,VLOOKUP(A4529,Subcontractors!$A$2:$B$2,2,FALSE),\"\")","v":""}]
[null,null,null,null,null,null,null,null,null,null,null,null,null,null,null,null,null,null,null,null,null,{"$f":"IF(LEN(X4534)>0,VLOOKUP(X4534,'TFW Programs'!$A$2:$B$24,2,FALSE),\"\")","v":""},null,null,{"$f":"IF(LEN(A4534)>0,VLOOKUP(A4534,Subcontractors!$A$2:$B$3,2,FALSE),\"\")","v":""},null,{"$f":"IF(LEN(A4534)>0,VLOOKUP(A4534,Subcontractors!$A$2:$B$2,2,FALSE),\"\")","v":""}]
[null,null,null,null,null,null,null,null,null,null,null,null,null,null,null,null,null,null,null,null,null,{"$f":"IF(LEN(X4539)>0,VLOOKUP(X4539,'TFW Programs'!$A$2:$B$24,2,FALSE),\"\")","v":""},null,null,{"$f":"IF(LEN(A4539)>0,VLOOKUP(A4539,Subcontractors!$A$2:$B$3,2,FALSE),\"\")","v":""},null,{"$f":"IF(LEN(A4539)>0,VLOOKUP(A4539,Subcontractors!$A$2:$B$2,2,FALSE),\"\")","v":""}]
[null,null,null,null,null,null,null,null,null,null,null,null,null,null,null,null,null,null,null,null,null,{"$f":"IF(LEN(X4543)>0,VLOOKUP(X4543,'TFW Programs'!$A$2:$B$24,2,FALSE),\"\")","v":""},null,null,{"$f":"IF(LEN(A4543)>0,VLOOKUP(A4543,Subcontractors!$A$2:$B$3,2,FALSE),\"\")","v":""},null,{"$f":"IF(LEN(A4543)>0,VLOOKUP(A4543,Subcontractors!$A$2:$B$2,2,FALSE),\"\")","v":""}]
[null,null,null,null,null,null,null,null,null,null,null,null,null,null,null,null,null,null,null,null,null,{"$f":"IF(LEN(X4544)>0,VLOOKUP(X4544,'TFW Programs'!$A$2:$B$24,2,FALSE),\"\")","v":""},null,null,{"$f":"IF(LEN(A4544)>0,VLOOKUP(A4544,Subcontractors!$A$2:$B$3,2,FALSE),\"\")","v":""},null,{"$f":"IF(LEN(A4544)>0,VLOOKUP(A4544,Subcontractors!$A$2:$B$2,2,FALSE),\"\")","v":""}]
[null,null,null,null,null,null,null,null,null,null,null,null,null,null,null,null,null,null,null,null,null,{"$f":"IF(LEN(X4549)>0,VLOOKUP(X4549,'TFW Programs'!$A$2:$B$24,2,FALSE),\"\")","v":""},null,null,{"$f":"IF(LEN(A4549)>0,VLOOKUP(A4549,Subcontractors!$A$2:$B$3,2,FALSE),\"\")","v":""},null,{"$f":"IF(LEN(A4549)>0,VLOOKUP(A4549,Subcontractors!$A$2:$B$2,2,FALSE),\"\")","v":""}]
[null,null,null,null,null,null,null,null,null,null,null,null,null,null,null,null,null,null,null,null,null,{"$f":"IF(LEN(X4554)>0,VLOOKUP(X4554,'TFW Programs'!$A$2:$B$24,2,FALSE),\"\")","v":""},null,null,{"$f":"IF(LEN(A4554)>0,VLOOKUP(A4554,Subcontractors!$A$2:$B$3,2,FALSE),\"\")","v":""},null,{"$f":"IF(LEN(A4554)>0,VLOOKUP(A4554,Subcontractors!$A$2:$B$2,2,FALSE),\"\")","v":""}]
[null,null,null,null,null,null,null,null,null,null,null,null,null,null,null,null,null,null,null,null,null,{"$f":"IF(LEN(X4556)>0,VLOOKUP(X4556,'TFW Programs'!$A$2:$B$24,2,FALSE),\"\")","v":""},null,null,{"$f":"IF(LEN(A4556)>0,VLOOKUP(A4556,Subcontractors!$A$2:$B$3,2,FALSE),\"\")","v":""},null,{"$f":"IF(LEN(A4556)>0,VLOOKUP(A4556,Subcontractors!$A$2:$B$2,2,FALSE),\"\")","v":""}]
[null,null,null,null,null,null,null,null,null,null,null,null,null,null,null,null,null,null,null,null,null,{"$f":"IF(LEN(X4559)>0,VLOOKUP(X4559,'TFW Programs'!$A$2:$B$24,2,FALSE),\"\")","v":""},null,null,{"$f":"IF(LEN(A4559)>0,VLOOKUP(A4559,Subcontractors!$A$2:$B$3,2,FALSE),\"\")","v":""},null,{"$f":"IF(LEN(A4559)>0,VLOOKUP(A4559,Subcontractors!$A$2:$B$2,2,FALSE),\"\")","v":""}]
[null,null,null,null,null,null,null,null,null,null,null,null,null,null,null,null,null,null,null,null,null,{"$f":"IF(LEN(X4564)>0,VLOOKUP(X4564,'TFW Programs'!$A$2:$B$24,2,FALSE),\"\")","v":""},null,null,{"$f":"IF(LEN(A4564)>0,VLOOKUP(A4564,Subcontractors!$A$2:$B$3,2,FALSE),\"\")","v":""},null,{"$f":"IF(LEN(A4564)>0,VLOOKUP(A4564,Subcontractors!$A$2:$B$2,2,FALSE),\"\")","v":""}]
[null,null,null,null,null,null,null,null,null,null,null,null,null,null,null,null,null,null,null,null,null,{"$f":"IF(LEN(X4569)>0,VLOOKUP(X4569,'TFW Programs'!$A$2:$B$24,2,FALSE),\"\")","v":""},null,null,{"$f":"IF(LEN(A4569)>0,VLOOKUP(A4569,Subcontractors!$A$2:$B$3,2,FALSE),\"\")","v":""},null,{"$f":"IF(LEN(A4569)>0,VLOOKUP(A4569,Subcontractors!$A$2:$B$2,2,FALSE),\"\")","v":""}]
[null,null,null,null,null,null,null,null,null,null,null,null,null,null,null,null,null,null,null,null,null,{"$f":"IF(LEN(X4573)>0,VLOOKUP(X4573,'TFW Programs'!$A$2:$B$24,2,FALSE),\"\")","v":""},null,null,{"$f":"IF(LEN(A4573)>0,VLOOKUP(A4573,Subcontractors!$A$2:$B$3,2,FALSE),\"\")","v":""},null,{"$f":"IF(LEN(A4573)>0,VLOOKUP(A4573,Subcontractors!$A$2:$B$2,2,FALSE),\"\")","v":""}]
[null,null,null,null,null,null,null,null,null,null,null,null,null,null,null,null,null,null,null,null,null,{"$f":"IF(LEN(X4574)>0,VLOOKUP(X4574,'TFW Programs'!$A$2:$B$24,2,FALSE),\"\")","v":""},null,null,{"$f":"IF(LEN(A4574)>0,VLOOKUP(A4574,Subcontractors!$A$2:$B$3,2,FALSE),\"\")","v":""},null,{"$f":"IF(LEN(A4574)>0,VLOOKUP(A4574,Subcontractors!$A$2:$B$2,2,FALSE),\"\")","v":""}]
[null,null,null,null,null,null,null,null,null,null,null,null,null,null,null,null,null,null,null,null,null,{"$f":"IF(LEN(X4579)>0,VLOOKUP(X4579,'TFW Programs'!$A$2:$B$24,2,FALSE),\"\")","v":""},null,null,{"$f":"IF(LEN(A4579)>0,VLOOKUP(A4579,Subcontractors!$A$2:$B$3,2,FALSE),\"\")","v":""},null,{"$f":"IF(LEN(A4579)>0,VLOOKUP(A4579,Subcontractors!$A$2:$B$2,2,FALSE),\"\")","v":""}]
[null,null,null,null,null,null,null,null,null,null,null,null,null,null,null,null,null,null,null,null,null,{"$f":"IF(LEN(X4584)>0,VLOOKUP(X4584,'TFW Programs'!$A$2:$B$24,2,FALSE),\"\")","v":""},null,null,{"$f":"IF(LEN(A4584)>0,VLOOKUP(A4584,Subcontractors!$A$2:$B$3,2,FALSE),\"\")","v":""},null,{"$f":"IF(LEN(A4584)>0,VLOOKUP(A4584,Subcontractors!$A$2:$B$2,2,FALSE),\"\")","v":""}]
[null,null,null,null,null,null,null,null,null,null,null,null,null,null,null,null,null,null,null,null,null,{"$f":"IF(LEN(X4589)>0,VLOOKUP(X4589,'TFW Programs'!$A$2:$B$24,2,FALSE),\"\")","v":""},null,null,{"$f":"IF(LEN(A4589)>0,VLOOKUP(A4589,Subcontractors!$A$2:$B$3,2,FALSE),\"\")","v":""},null,{"$f":"IF(LEN(A4589)>0,VLOOKUP(A4589,Subcontractors!$A$2:$B$2,2,FALSE),\"\")","v":""}]
[null,null,null,null,null,null,null,null,null,null,null,null,null,null,null,null,null,null,null,null,null,{"$f":"IF(LEN(X4591)>0,VLOOKUP(X4591,'TFW Programs'!$A$2:$B$24,2,FALSE),\"\")","v":""},null,null,{"$f":"IF(LEN(A4591)>0,VLOOKUP(A4591,Subcontractors!$A$2:$B$3,2,FALSE),\"\")","v":""},null,{"$f":"IF(LEN(A4591)>0,VLOOKUP(A4591,Subcontractors!$A$2:$B$2,2,FALSE),\"\")","v":""}]
[null,null,null,null,null,null,null,null,null,null,null,null,null,null,null,null,null,null,null,null,null,{"$f":"IF(LEN(X4594)>0,VLOOKUP(X4594,'TFW Programs'!$A$2:$B$24,2,FALSE),\"\")","v":""},null,null,{"$f":"IF(LEN(A4594)>0,VLOOKUP(A4594,Subcontractors!$A$2:$B$3,2,FALSE),\"\")","v":""},null,{"$f":"IF(LEN(A4594)>0,VLOOKUP(A4594,Subcontractors!$A$2:$B$2,2,FALSE),\"\")","v":""}]
[null,null,null,null,null,null,null,null,null,null,null,null,null,null,null,null,null,null,null,null,null,{"$f":"IF(LEN(X4599)>0,VLOOKUP(X4599,'TFW Programs'!$A$2:$B$24,2,FALSE),\"\")","v":""},null,null,{"$f":"IF(LEN(A4599)>0,VLOOKUP(A4599,Subcontractors!$A$2:$B$3,2,FALSE),\"\")","v":""},null,{"$f":"IF(LEN(A4599)>0,VLOOKUP(A4599,Subcontractors!$A$2:$B$2,2,FALSE),\"\")","v":""}]
[null,null,null,null,null,null,null,null,null,null,null,null,null,null,null,null,null,null,null,null,null,{"$f":"IF(LEN(X4604)>0,VLOOKUP(X4604,'TFW Programs'!$A$2:$B$24,2,FALSE),\"\")","v":""},null,null,{"$f":"IF(LEN(A4604)>0,VLOOKUP(A4604,Subcontractors!$A$2:$B$3,2,FALSE),\"\")","v":""},null,{"$f":"IF(LEN(A4604)>0,VLOOKUP(A4604,Subcontractors!$A$2:$B$2,2,FALSE),\"\")","v":""}]
[null,null,null,null,null,null,null,null,null,null,null,null,null,null,null,null,null,null,null,null,null,{"$f":"IF(LEN(X4607)>0,VLOOKUP(X4607,'TFW Programs'!$A$2:$B$24,2,FALSE),\"\")","v":""},null,null,{"$f":"IF(LEN(A4607)>0,VLOOKUP(A4607,Subcontractors!$A$2:$B$3,2,FALSE),\"\")","v":""},null,{"$f":"IF(LEN(A4607)>0,VLOOKUP(A4607,Subcontractors!$A$2:$B$2,2,FALSE),\"\")","v":""}]
[null,null,null,null,null,null,null,null,null,null,null,null,null,null,null,null,null,null,null,null,null,{"$f":"IF(LEN(X4609)>0,VLOOKUP(X4609,'TFW Programs'!$A$2:$B$24,2,FALSE),\"\")","v":""},null,null,{"$f":"IF(LEN(A4609)>0,VLOOKUP(A4609,Subcontractors!$A$2:$B$3,2,FALSE),\"\")","v":""},null,{"$f":"IF(LEN(A4609)>0,VLOOKUP(A4609,Subcontractors!$A$2:$B$2,2,FALSE),\"\")","v":""}]
[null,null,null,null,null,null,null,null,null,null,null,null,null,null,null,null,null,null,null,null,null,{"$f":"IF(LEN(X4614)>0,VLOOKUP(X4614,'TFW Programs'!$A$2:$B$24,2,FALSE),\"\")","v":""},null,null,{"$f":"IF(LEN(A4614)>0,VLOOKUP(A4614,Subcontractors!$A$2:$B$3,2,FALSE),\"\")","v":""},null,{"$f":"IF(LEN(A4614)>0,VLOOKUP(A4614,Subcontractors!$A$2:$B$2,2,FALSE),\"\")","v":""}]
[null,null,null,null,null,null,null,null,null,null,null,null,null,null,null,null,null,null,null,null,null,{"$f":"IF(LEN(X4619)>0,VLOOKUP(X4619,'TFW Programs'!$A$2:$B$24,2,FALSE),\"\")","v":""},null,null,{"$f":"IF(LEN(A4619)>0,VLOOKUP(A4619,Subcontractors!$A$2:$B$3,2,FALSE),\"\")","v":""},null,{"$f":"IF(LEN(A4619)>0,VLOOKUP(A4619,Subcontractors!$A$2:$B$2,2,FALSE),\"\")","v":""}]
[null,null,null,null,null,null,null,null,null,null,null,null,null,null,null,null,null,null,null,null,null,{"$f":"IF(LEN(X4620)>0,VLOOKUP(X4620,'TFW Programs'!$A$2:$B$24,2,FALSE),\"\")","v":""},null,null,{"$f":"IF(LEN(A4620)>0,VLOOKUP(A4620,Subcontractors!$A$2:$B$3,2,FALSE),\"\")","v":""},null,{"$f":"IF(LEN(A4620)>0,VLOOKUP(A4620,Subcontractors!$A$2:$B$2,2,FALSE),\"\")","v":""}]
[null,null,null,null,null,null,null,null,null,null,null,null,null,null,null,null,null,null,null,null,null,{"$f":"IF(LEN(X4625)>0,VLOOKUP(X4625,'TFW Programs'!$A$2:$B$24,2,FALSE),\"\")","v":""},null,null,{"$f":"IF(LEN(A4625)>0,VLOOKUP(A4625,Subcontractors!$A$2:$B$3,2,FALSE),\"\")","v":""},null,{"$f":"IF(LEN(A4625)>0,VLOOKUP(A4625,Subcontractors!$A$2:$B$2,2,FALSE),\"\")","v":""}]
[null,null,null,null,null,null,null,null,null,null,null,null,null,null,null,null,null,null,null,null,null,{"$f":"IF(LEN(X4629)>0,VLOOKUP(X4629,'TFW Programs'!$A$2:$B$24,2,FALSE),\"\")","v":""},null,null,{"$f":"IF(LEN(A4629)>0,VLOOKUP(A4629,Subcontractors!$A$2:$B$3,2,FALSE),\"\")","v":""},null,{"$f":"IF(LEN(A4629)>0,VLOOKUP(A4629,Subcontractors!$A$2:$B$2,2,FALSE),\"\")","v":""}]
[null,null,null,null,null,null,null,null,null,null,null,null,null,null,null,null,null,null,null,null,null,{"$f":"IF(LEN(X4634)>0,VLOOKUP(X4634,'TFW Programs'!$A$2:$B$24,2,FALSE),\"\")","v":""},null,null,{"$f":"IF(LEN(A4634)>0,VLOOKUP(A4634,Subcontractors!$A$2:$B$3,2,FALSE),\"\")","v":""},null,{"$f":"IF(LEN(A4634)>0,VLOOKUP(A4634,Subcontractors!$A$2:$B$2,2,FALSE),\"\")","v":""}]
[null,null,null,null,null,null,null,null,null,null,null,null,null,null,null,null,null,null,null,null,null,{"$f":"IF(LEN(X4635)>0,VLOOKUP(X4635,'TFW Programs'!$A$2:$B$24,2,FALSE),\"\")","v":""},null,null,{"$f":"IF(LEN(A4635)>0,VLOOKUP(A4635,Subcontractors!$A$2:$B$3,2,FALSE),\"\")","v":""},null,{"$f":"IF(LEN(A4635)>0,VLOOKUP(A4635,Subcontractors!$A$2:$B$2,2,FALSE),\"\")","v":""}]
[null,null,null,null,null,null,null,null,null,null,null,null,null,null,null,null,null,null,null,null,null,{"$f":"IF(LEN(X4639)>0,VLOOKUP(X4639,'TFW Programs'!$A$2:$B$24,2,FALSE),\"\")","v":""},null,null,{"$f":"IF(LEN(A4639)>0,VLOOKUP(A4639,Subcontractors!$A$2:$B$3,2,FALSE),\"\")","v":""},null,{"$f":"IF(LEN(A4639)>0,VLOOKUP(A4639,Subcontractors!$A$2:$B$2,2,FALSE),\"\")","v":""}]
[null,null,null,null,null,null,null,null,null,null,null,null,null,null,null,null,null,null,null,null,null,{"$f":"IF(LEN(X4644)>0,VLOOKUP(X4644,'TFW Programs'!$A$2:$B$24,2,FALSE),\"\")","v":""},null,null,{"$f":"IF(LEN(A4644)>0,VLOOKUP(A4644,Subcontractors!$A$2:$B$3,2,FALSE),\"\")","v":""},null,{"$f":"IF(LEN(A4644)>0,VLOOKUP(A4644,Subcontractors!$A$2:$B$2,2,FALSE),\"\")","v":""}]
[null,null,null,null,null,null,null,null,null,null,null,null,null,null,null,null,null,null,null,null,null,{"$f":"IF(LEN(X4649)>0,VLOOKUP(X4649,'TFW Programs'!$A$2:$B$24,2,FALSE),\"\")","v":""},null,null,{"$f":"IF(LEN(A4649)>0,VLOOKUP(A4649,Subcontractors!$A$2:$B$3,2,FALSE),\"\")","v":""},null,{"$f":"IF(LEN(A4649)>0,VLOOKUP(A4649,Subcontractors!$A$2:$B$2,2,FALSE),\"\")","v":""}]
[null,null,null,null,null,null,null,null,null,null,null,null,null,null,null,null,null,null,null,null,null,{"$f":"IF(LEN(X4650)>0,VLOOKUP(X4650,'TFW Programs'!$A$2:$B$24,2,FALSE),\"\")","v":""},null,null,{"$f":"IF(LEN(A4650)>0,VLOOKUP(A4650,Subcontractors!$A$2:$B$3,2,FALSE),\"\")","v":""},null,{"$f":"IF(LEN(A4650)>0,VLOOKUP(A4650,Subcontractors!$A$2:$B$2,2,FALSE),\"\")","v":""}]
[null,null,null,null,null,null,null,null,null,null,null,null,null,null,null,null,null,null,null,null,null,{"$f":"IF(LEN(X4655)>0,VLOOKUP(X4655,'TFW Programs'!$A$2:$B$24,2,FALSE),\"\")","v":""},null,null,{"$f":"IF(LEN(A4655)>0,VLOOKUP(A4655,Subcontractors!$A$2:$B$3,2,FALSE),\"\")","v":""},null,{"$f":"IF(LEN(A4655)>0,VLOOKUP(A4655,Subcontractors!$A$2:$B$2,2,FALSE),\"\")","v":""}]
[null,null,null,null,null,null,null,null,null,null,null,null,null,null,null,null,null,null,null,null,null,{"$f":"IF(LEN(X4660)>0,VLOOKUP(X4660,'TFW Programs'!$A$2:$B$24,2,FALSE),\"\")","v":""},null,null,{"$f":"IF(LEN(A4660)>0,VLOOKUP(A4660,Subcontractors!$A$2:$B$3,2,FALSE),\"\")","v":""},null,{"$f":"IF(LEN(A4660)>0,VLOOKUP(A4660,Subcontractors!$A$2:$B$2,2,FALSE),\"\")","v":""}]
[null,null,null,null,null,null,null,null,null,null,null,null,null,null,null,null,null,null,null,null,null,{"$f":"IF(LEN(X4664)>0,VLOOKUP(X4664,'TFW Programs'!$A$2:$B$24,2,FALSE),\"\")","v":""},null,null,{"$f":"IF(LEN(A4664)>0,VLOOKUP(A4664,Subcontractors!$A$2:$B$3,2,FALSE),\"\")","v":""},null,{"$f":"IF(LEN(A4664)>0,VLOOKUP(A4664,Subcontractors!$A$2:$B$2,2,FALSE),\"\")","v":""}]
[null,null,null,null,null,null,null,null,null,null,null,null,null,null,null,null,null,null,null,null,null,{"$f":"IF(LEN(X4665)>0,VLOOKUP(X4665,'TFW Programs'!$A$2:$B$24,2,FALSE),\"\")","v":""},null,null,{"$f":"IF(LEN(A4665)>0,VLOOKUP(A4665,Subcontractors!$A$2:$B$3,2,FALSE),\"\")","v":""},null,{"$f":"IF(LEN(A4665)>0,VLOOKUP(A4665,Subcontractors!$A$2:$B$2,2,FALSE),\"\")","v":""}]
[null,null,null,null,null,null,null,null,null,null,null,null,null,null,null,null,null,null,null,null,null,{"$f":"IF(LEN(X4670)>0,VLOOKUP(X4670,'TFW Programs'!$A$2:$B$24,2,FALSE),\"\")","v":""},null,null,{"$f":"IF(LEN(A4670)>0,VLOOKUP(A4670,Subcontractors!$A$2:$B$3,2,FALSE),\"\")","v":""},null,{"$f":"IF(LEN(A4670)>0,VLOOKUP(A4670,Subcontractors!$A$2:$B$2,2,FALSE),\"\")","v":""}]
[null,null,null,null,null,null,null,null,null,null,null,null,null,null,null,null,null,null,null,null,null,{"$f":"IF(LEN(X4673)>0,VLOOKUP(X4673,'TFW Programs'!$A$2:$B$24,2,FALSE),\"\")","v":""},null,null,{"$f":"IF(LEN(A4673)>0,VLOOKUP(A4673,Subcontractors!$A$2:$B$3,2,FALSE),\"\")","v":""},null,{"$f":"IF(LEN(A4673)>0,VLOOKUP(A4673,Subcontractors!$A$2:$B$2,2,FALSE),\"\")","v":""}]
[null,null,null,null,null,null,null,null,null,null,null,null,null,null,null,null,null,null,null,null,null,{"$f":"IF(LEN(X4679)>0,VLOOKUP(X4679,'TFW Programs'!$A$2:$B$24,2,FALSE),\"\")","v":""},null,null,{"$f":"IF(LEN(A4679)>0,VLOOKUP(A4679,Subcontractors!$A$2:$B$3,2,FALSE),\"\")","v":""},null,{"$f":"IF(LEN(A4679)>0,VLOOKUP(A4679,Subcontractors!$A$2:$B$2,2,FALSE),\"\")","v":""}]
[null,null,null,null,null,null,null,null,null,null,null,null,null,null,null,null,null,null,null,null,null,{"$f":"IF(LEN(X4680)>0,VLOOKUP(X4680,'TFW Programs'!$A$2:$B$24,2,FALSE),\"\")","v":""},null,null,{"$f":"IF(LEN(A4680)>0,VLOOKUP(A4680,Subcontractors!$A$2:$B$3,2,FALSE),\"\")","v":""},null,{"$f":"IF(LEN(A4680)>0,VLOOKUP(A4680,Subcontractors!$A$2:$B$2,2,FALSE),\"\")","v":""}]
[null,null,null,null,null,null,null,null,null,null,null,null,null,null,null,null,null,null,null,null,null,{"$f":"IF(LEN(X4685)>0,VLOOKUP(X4685,'TFW Programs'!$A$2:$B$24,2,FALSE),\"\")","v":""},null,null,{"$f":"IF(LEN(A4685)>0,VLOOKUP(A4685,Subcontractors!$A$2:$B$3,2,FALSE),\"\")","v":""},null,{"$f":"IF(LEN(A4685)>0,VLOOKUP(A4685,Subcontractors!$A$2:$B$2,2,FALSE),\"\")","v":""}]
[null,null,null,null,null,null,null,null,null,null,null,null,null,null,null,null,null,null,null,null,null,{"$f":"IF(LEN(X4690)>0,VLOOKUP(X4690,'TFW Programs'!$A$2:$B$24,2,FALSE),\"\")","v":""},null,null,{"$f":"IF(LEN(A4690)>0,VLOOKUP(A4690,Subcontractors!$A$2:$B$3,2,FALSE),\"\")","v":""},null,{"$f":"IF(LEN(A4690)>0,VLOOKUP(A4690,Subcontractors!$A$2:$B$2,2,FALSE),\"\")","v":""}]
[null,null,null,null,null,null,null,null,null,null,null,null,null,null,null,null,null,null,null,null,null,{"$f":"IF(LEN(X4694)>0,VLOOKUP(X4694,'TFW Programs'!$A$2:$B$24,2,FALSE),\"\")","v":""},null,null,{"$f":"IF(LEN(A4694)>0,VLOOKUP(A4694,Subcontractors!$A$2:$B$3,2,FALSE),\"\")","v":""},null,{"$f":"IF(LEN(A4694)>0,VLOOKUP(A4694,Subcontractors!$A$2:$B$2,2,FALSE),\"\")","v":""}]
[null,null,null,null,null,null,null,null,null,null,null,null,null,null,null,null,null,null,null,null,null,{"$f":"IF(LEN(X4695)>0,VLOOKUP(X4695,'TFW Programs'!$A$2:$B$24,2,FALSE),\"\")","v":""},null,null,{"$f":"IF(LEN(A4695)>0,VLOOKUP(A4695,Subcontractors!$A$2:$B$3,2,FALSE),\"\")","v":""},null,{"$f":"IF(LEN(A4695)>0,VLOOKUP(A4695,Subcontractors!$A$2:$B$2,2,FALSE),\"\")","v":""}]
[null,null,null,null,null,null,null,null,null,null,null,null,null,null,null,null,null,null,null,null,null,{"$f":"IF(LEN(X4700)>0,VLOOKUP(X4700,'TFW Programs'!$A$2:$B$24,2,FALSE),\"\")","v":""},null,null,{"$f":"IF(LEN(A4700)>0,VLOOKUP(A4700,Subcontractors!$A$2:$B$3,2,FALSE),\"\")","v":""},null,{"$f":"IF(LEN(A4700)>0,VLOOKUP(A4700,Subcontractors!$A$2:$B$2,2,FALSE),\"\")","v":""}]
[null,null,null,null,null,null,null,null,null,null,null,null,null,null,null,null,null,null,null,null,null,{"$f":"IF(LEN(X4705)>0,VLOOKUP(X4705,'TFW Programs'!$A$2:$B$24,2,FALSE),\"\")","v":""},null,null,{"$f":"IF(LEN(A4705)>0,VLOOKUP(A4705,Subcontractors!$A$2:$B$3,2,FALSE),\"\")","v":""},null,{"$f":"IF(LEN(A4705)>0,VLOOKUP(A4705,Subcontractors!$A$2:$B$2,2,FALSE),\"\")","v":""}]
[null,null,null,null,null,null,null,null,null,null,null,null,null,null,null,null,null,null,null,null,null,{"$f":"IF(LEN(X4708)>0,VLOOKUP(X4708,'TFW Programs'!$A$2:$B$24,2,FALSE),\"\")","v":""},null,null,{"$f":"IF(LEN(A4708)>0,VLOOKUP(A4708,Subcontractors!$A$2:$B$3,2,FALSE),\"\")","v":""},null,{"$f":"IF(LEN(A4708)>0,VLOOKUP(A4708,Subcontractors!$A$2:$B$2,2,FALSE),\"\")","v":""}]
[null,null,null,null,null,null,null,null,null,null,null,null,null,null,null,null,null,null,null,null,null,{"$f":"IF(LEN(X4710)>0,VLOOKUP(X4710,'TFW Programs'!$A$2:$B$24,2,FALSE),\"\")","v":""},null,null,{"$f":"IF(LEN(A4710)>0,VLOOKUP(A4710,Subcontractors!$A$2:$B$3,2,FALSE),\"\")","v":""},null,{"$f":"IF(LEN(A4710)>0,VLOOKUP(A4710,Subcontractors!$A$2:$B$2,2,FALSE),\"\")","v":""}]
[null,null,null,null,null,null,null,null,null,null,null,null,null,null,null,null,null,null,null,null,null,{"$f":"IF(LEN(X4715)>0,VLOOKUP(X4715,'TFW Programs'!$A$2:$B$24,2,FALSE),\"\")","v":""},null,null,{"$f":"IF(LEN(A4715)>0,VLOOKUP(A4715,Subcontractors!$A$2:$B$3,2,FALSE),\"\")","v":""},null,{"$f":"IF(LEN(A4715)>0,VLOOKUP(A4715,Subcontractors!$A$2:$B$2,2,FALSE),\"\")","v":""}]
[null,null,null,null,null,null,null,null,null,null,null,null,null,null,null,null,null,null,null,null,null,{"$f":"IF(LEN(X4720)>0,VLOOKUP(X4720,'TFW Programs'!$A$2:$B$24,2,FALSE),\"\")","v":""},null,null,{"$f":"IF(LEN(A4720)>0,VLOOKUP(A4720,Subcontractors!$A$2:$B$3,2,FALSE),\"\")","v":""},null,{"$f":"IF(LEN(A4720)>0,VLOOKUP(A4720,Subcontractors!$A$2:$B$2,2,FALSE),\"\")","v":""}]
[null,null,null,null,null,null,null,null,null,null,null,null,null,null,null,null,null,null,null,null,null,{"$f":"IF(LEN(X4724)>0,VLOOKUP(X4724,'TFW Programs'!$A$2:$B$24,2,FALSE),\"\")","v":""},null,null,{"$f":"IF(LEN(A4724)>0,VLOOKUP(A4724,Subcontractors!$A$2:$B$3,2,FALSE),\"\")","v":""},null,{"$f":"IF(LEN(A4724)>0,VLOOKUP(A4724,Subcontractors!$A$2:$B$2,2,FALSE),\"\")","v":""}]
[null,null,null,null,null,null,null,null,null,null,null,null,null,null,null,null,null,null,null,null,null,{"$f":"IF(LEN(X4725)>0,VLOOKUP(X4725,'TFW Programs'!$A$2:$B$24,2,FALSE),\"\")","v":""},null,null,{"$f":"IF(LEN(A4725)>0,VLOOKUP(A4725,Subcontractors!$A$2:$B$3,2,FALSE),\"\")","v":""},null,{"$f":"IF(LEN(A4725)>0,VLOOKUP(A4725,Subcontractors!$A$2:$B$2,2,FALSE),\"\")","v":""}]
[null,null,null,null,null,null,null,null,null,null,null,null,null,null,null,null,null,null,null,null,null,{"$f":"IF(LEN(X4730)>0,VLOOKUP(X4730,'TFW Programs'!$A$2:$B$24,2,FALSE),\"\")","v":""},null,null,{"$f":"IF(LEN(A4730)>0,VLOOKUP(A4730,Subcontractors!$A$2:$B$3,2,FALSE),\"\")","v":""},null,{"$f":"IF(LEN(A4730)>0,VLOOKUP(A4730,Subcontractors!$A$2:$B$2,2,FALSE),\"\")","v":""}]
[null,null,null,null,null,null,null,null,null,null,null,null,null,null,null,null,null,null,null,null,null,{"$f":"IF(LEN(X4735)>0,VLOOKUP(X4735,'TFW Programs'!$A$2:$B$24,2,FALSE),\"\")","v":""},null,null,{"$f":"IF(LEN(A4735)>0,VLOOKUP(A4735,Subcontractors!$A$2:$B$3,2,FALSE),\"\")","v":""},null,{"$f":"IF(LEN(A4735)>0,VLOOKUP(A4735,Subcontractors!$A$2:$B$2,2,FALSE),\"\")","v":""}]
[null,null,null,null,null,null,null,null,null,null,null,null,null,null,null,null,null,null,null,null,null,{"$f":"IF(LEN(X4740)>0,VLOOKUP(X4740,'TFW Programs'!$A$2:$B$24,2,FALSE),\"\")","v":""},null,null,{"$f":"IF(LEN(A4740)>0,VLOOKUP(A4740,Subcontractors!$A$2:$B$3,2,FALSE),\"\")","v":""},null,{"$f":"IF(LEN(A4740)>0,VLOOKUP(A4740,Subcontractors!$A$2:$B$2,2,FALSE),\"\")","v":""}]
[null,null,null,null,null,null,null,null,null,null,null,null,null,null,null,null,null,null,null,null,null,{"$f":"IF(LEN(X4742)>0,VLOOKUP(X4742,'TFW Programs'!$A$2:$B$24,2,FALSE),\"\")","v":""},null,null,{"$f":"IF(LEN(A4742)>0,VLOOKUP(A4742,Subcontractors!$A$2:$B$3,2,FALSE),\"\")","v":""},null,{"$f":"IF(LEN(A4742)>0,VLOOKUP(A4742,Subcontractors!$A$2:$B$2,2,FALSE),\"\")","v":""}]
[null,null,null,null,null,null,null,null,null,null,null,null,null,null,null,null,null,null,null,null,null,{"$f":"IF(LEN(X4745)>0,VLOOKUP(X4745,'TFW Programs'!$A$2:$B$24,2,FALSE),\"\")","v":""},null,null,{"$f":"IF(LEN(A4745)>0,VLOOKUP(A4745,Subcontractors!$A$2:$B$3,2,FALSE),\"\")","v":""},null,{"$f":"IF(LEN(A4745)>0,VLOOKUP(A4745,Subcontractors!$A$2:$B$2,2,FALSE),\"\")","v":""}]
[null,null,null,null,null,null,null,null,null,null,null,null,null,null,null,null,null,null,null,null,null,{"$f":"IF(LEN(X4750)>0,VLOOKUP(X4750,'TFW Programs'!$A$2:$B$24,2,FALSE),\"\")","v":""},null,null,{"$f":"IF(LEN(A4750)>0,VLOOKUP(A4750,Subcontractors!$A$2:$B$3,2,FALSE),\"\")","v":""},null,{"$f":"IF(LEN(A4750)>0,VLOOKUP(A4750,Subcontractors!$A$2:$B$2,2,FALSE),\"\")","v":""}]
[null,null,null,null,null,null,null,null,null,null,null,null,null,null,null,null,null,null,null,null,null,{"$f":"IF(LEN(X4755)>0,VLOOKUP(X4755,'TFW Programs'!$A$2:$B$24,2,FALSE),\"\")","v":""},null,null,{"$f":"IF(LEN(A4755)>0,VLOOKUP(A4755,Subcontractors!$A$2:$B$3,2,FALSE),\"\")","v":""},null,{"$f":"IF(LEN(A4755)>0,VLOOKUP(A4755,Subcontractors!$A$2:$B$2,2,FALSE),\"\")","v":""}]
[null,null,null,null,null,null,null,null,null,null,null,null,null,null,null,null,null,null,null,null,null,{"$f":"IF(LEN(X4756)>0,VLOOKUP(X4756,'TFW Programs'!$A$2:$B$24,2,FALSE),\"\")","v":""},null,null,{"$f":"IF(LEN(A4756)>0,VLOOKUP(A4756,Subcontractors!$A$2:$B$3,2,FALSE),\"\")","v":""},null,{"$f":"IF(LEN(A4756)>0,VLOOKUP(A4756,Subcontractors!$A$2:$B$2,2,FALSE),\"\")","v":""}]
[null,null,null,null,null,null,null,null,null,null,null,null,null,null,null,null,null,null,null,null,null,{"$f":"IF(LEN(X4760)>0,VLOOKUP(X4760,'TFW Programs'!$A$2:$B$24,2,FALSE),\"\")","v":""},null,null,{"$f":"IF(LEN(A4760)>0,VLOOKUP(A4760,Subcontractors!$A$2:$B$3,2,FALSE),\"\")","v":""},null,{"$f":"IF(LEN(A4760)>0,VLOOKUP(A4760,Subcontractors!$A$2:$B$2,2,FALSE),\"\")","v":""}]
[null,null,null,null,null,null,null,null,null,null,null,null,null,null,null,null,null,null,null,null,null,{"$f":"IF(LEN(X4765)>0,VLOOKUP(X4765,'TFW Programs'!$A$2:$B$24,2,FALSE),\"\")","v":""},null,null,{"$f":"IF(LEN(A4765)>0,VLOOKUP(A4765,Subcontractors!$A$2:$B$3,2,FALSE),\"\")","v":""},null,{"$f":"IF(LEN(A4765)>0,VLOOKUP(A4765,Subcontractors!$A$2:$B$2,2,FALSE),\"\")","v":""}]
[null,null,null,null,null,null,null,null,null,null,null,null,null,null,null,null,null,null,null,null,null,{"$f":"IF(LEN(X4770)>0,VLOOKUP(X4770,'TFW Programs'!$A$2:$B$24,2,FALSE),\"\")","v":""},null,null,{"$f":"IF(LEN(A4770)>0,VLOOKUP(A4770,Subcontractors!$A$2:$B$3,2,FALSE),\"\")","v":""},null,{"$f":"IF(LEN(A4770)>0,VLOOKUP(A4770,Subcontractors!$A$2:$B$2,2,FALSE),\"\")","v":""}]
[null,null,null,null,null,null,null,null,null,null,null,null,null,null,null,null,null,null,null,null,null,{"$f":"IF(LEN(X4771)>0,VLOOKUP(X4771,'TFW Programs'!$A$2:$B$24,2,FALSE),\"\")","v":""},null,null,{"$f":"IF(LEN(A4771)>0,VLOOKUP(A4771,Subcontractors!$A$2:$B$3,2,FALSE),\"\")","v":""},null,{"$f":"IF(LEN(A4771)>0,VLOOKUP(A4771,Subcontractors!$A$2:$B$2,2,FALSE),\"\")","v":""}]
[null,null,null,null,null,null,null,null,null,null,null,null,null,null,null,null,null,null,null,null,null,{"$f":"IF(LEN(X4775)>0,VLOOKUP(X4775,'TFW Programs'!$A$2:$B$24,2,FALSE),\"\")","v":""},null,null,{"$f":"IF(LEN(A4775)>0,VLOOKUP(A4775,Subcontractors!$A$2:$B$3,2,FALSE),\"\")","v":""},null,{"$f":"IF(LEN(A4775)>0,VLOOKUP(A4775,Subcontractors!$A$2:$B$2,2,FALSE),\"\")","v":""}]
[null,null,null,null,null,null,null,null,null,null,null,null,null,null,null,null,null,null,null,null,null,{"$f":"IF(LEN(X4776)>0,VLOOKUP(X4776,'TFW Programs'!$A$2:$B$24,2,FALSE),\"\")","v":""},null,null,{"$f":"IF(LEN(A4776)>0,VLOOKUP(A4776,Subcontractors!$A$2:$B$3,2,FALSE),\"\")","v":""},null,{"$f":"IF(LEN(A4776)>0,VLOOKUP(A4776,Subcontractors!$A$2:$B$2,2,FALSE),\"\")","v":""}]
[null,null,null,null,null,null,null,null,null,null,null,null,null,null,null,null,null,null,null,null,null,{"$f":"IF(LEN(X4777)>0,VLOOKUP(X4777,'TFW Programs'!$A$2:$B$24,2,FALSE),\"\")","v":""},null,null,{"$f":"IF(LEN(A4777)>0,VLOOKUP(A4777,Subcontractors!$A$2:$B$3,2,FALSE),\"\")","v":""},null,{"$f":"IF(LEN(A4777)>0,VLOOKUP(A4777,Subcontractors!$A$2:$B$2,2,FALSE),\"\")","v":""}]
[null,null,null,null,null,null,null,null,null,null,null,null,null,null,null,null,null,null,null,null,null,{"$f":"IF(LEN(X4778)>0,VLOOKUP(X4778,'TFW Programs'!$A$2:$B$24,2,FALSE),\"\")","v":""},null,null,{"$f":"IF(LEN(A4778)>0,VLOOKUP(A4778,Subcontractors!$A$2:$B$3,2,FALSE),\"\")","v":""},null,{"$f":"IF(LEN(A4778)>0,VLOOKUP(A4778,Subcontractors!$A$2:$B$2,2,FALSE),\"\")","v":""}]
[null,null,null,null,null,null,null,null,null,null,null,null,null,null,null,null,null,null,null,null,null,{"$f":"IF(LEN(X4779)>0,VLOOKUP(X4779,'TFW Programs'!$A$2:$B$24,2,FALSE),\"\")","v":""},null,null,{"$f":"IF(LEN(A4779)>0,VLOOKUP(A4779,Subcontractors!$A$2:$B$3,2,FALSE),\"\")","v":""},null,{"$f":"IF(LEN(A4779)>0,VLOOKUP(A4779,Subcontractors!$A$2:$B$2,2,FALSE),\"\")","v":""}]
[null,null,null,null,null,null,null,null,null,null,null,null,null,null,null,null,null,null,null,null,null,{"$f":"IF(LEN(X4780)>0,VLOOKUP(X4780,'TFW Programs'!$A$2:$B$24,2,FALSE),\"\")","v":""},null,null,{"$f":"IF(LEN(A4780)>0,VLOOKUP(A4780,Subcontractors!$A$2:$B$3,2,FALSE),\"\")","v":""},null,{"$f":"IF(LEN(A4780)>0,VLOOKUP(A4780,Subcontractors!$A$2:$B$2,2,FALSE),\"\")","v":""}]
[null,null,null,null,null,null,null,null,null,null,null,null,null,null,null,null,null,null,null,null,null,{"$f":"IF(LEN(X4781)>0,VLOOKUP(X4781,'TFW Programs'!$A$2:$B$24,2,FALSE),\"\")","v":""},null,null,{"$f":"IF(LEN(A4781)>0,VLOOKUP(A4781,Subcontractors!$A$2:$B$3,2,FALSE),\"\")","v":""},null,{"$f":"IF(LEN(A4781)>0,VLOOKUP(A4781,Subcontractors!$A$2:$B$2,2,FALSE),\"\")","v":""}]
[null,null,null,null,null,null,null,null,null,null,null,null,null,null,null,null,null,null,null,null,null,{"$f":"IF(LEN(X4782)>0,VLOOKUP(X4782,'TFW Programs'!$A$2:$B$24,2,FALSE),\"\")","v":""},null,null,{"$f":"IF(LEN(A4782)>0,VLOOKUP(A4782,Subcontractors!$A$2:$B$3,2,FALSE),\"\")","v":""},null,{"$f":"IF(LEN(A4782)>0,VLOOKUP(A4782,Subcontractors!$A$2:$B$2,2,FALSE),\"\")","v":""}]
[null,null,null,null,null,null,null,null,null,null,null,null,null,null,null,null,null,null,null,null,null,{"$f":"IF(LEN(X4783)>0,VLOOKUP(X4783,'TFW Programs'!$A$2:$B$24,2,FALSE),\"\")","v":""},null,null,{"$f":"IF(LEN(A4783)>0,VLOOKUP(A4783,Subcontractors!$A$2:$B$3,2,FALSE),\"\")","v":""},null,{"$f":"IF(LEN(A4783)>0,VLOOKUP(A4783,Subcontractors!$A$2:$B$2,2,FALSE),\"\")","v":""}]
[null,null,null,null,null,null,null,null,null,null,null,null,null,null,null,null,null,null,null,null,null,{"$f":"IF(LEN(X4784)>0,VLOOKUP(X4784,'TFW Programs'!$A$2:$B$24,2,FALSE),\"\")","v":""},null,null,{"$f":"IF(LEN(A4784)>0,VLOOKUP(A4784,Subcontractors!$A$2:$B$3,2,FALSE),\"\")","v":""},null,{"$f":"IF(LEN(A4784)>0,VLOOKUP(A4784,Subcontractors!$A$2:$B$2,2,FALSE),\"\")","v":""}]
[null,null,null,null,null,null,null,null,null,null,null,null,null,null,null,null,null,null,null,null,null,{"$f":"IF(LEN(X4785)>0,VLOOKUP(X4785,'TFW Programs'!$A$2:$B$24,2,FALSE),\"\")","v":""},null,null,{"$f":"IF(LEN(A4785)>0,VLOOKUP(A4785,Subcontractors!$A$2:$B$3,2,FALSE),\"\")","v":""},null,{"$f":"IF(LEN(A4785)>0,VLOOKUP(A4785,Subcontractors!$A$2:$B$2,2,FALSE),\"\")","v":""}]
[null,null,null,null,null,null,null,null,null,null,null,null,null,null,null,null,null,null,null,null,null,{"$f":"IF(LEN(X4786)>0,VLOOKUP(X4786,'TFW Programs'!$A$2:$B$24,2,FALSE),\"\")","v":""},null,null,{"$f":"IF(LEN(A4786)>0,VLOOKUP(A4786,Subcontractors!$A$2:$B$3,2,FALSE),\"\")","v":""},null,{"$f":"IF(LEN(A4786)>0,VLOOKUP(A4786,Subcontractors!$A$2:$B$2,2,FALSE),\"\")","v":""}]
[null,null,null,null,null,null,null,null,null,null,null,null,null,null,null,null,null,null,null,null,null,{"$f":"IF(LEN(X4787)>0,VLOOKUP(X4787,'TFW Programs'!$A$2:$B$24,2,FALSE),\"\")","v":""},null,null,{"$f":"IF(LEN(A4787)>0,VLOOKUP(A4787,Subcontractors!$A$2:$B$3,2,FALSE),\"\")","v":""},null,{"$f":"IF(LEN(A4787)>0,VLOOKUP(A4787,Subcontractors!$A$2:$B$2,2,FALSE),\"\")","v":""}]
[null,null,null,null,null,null,null,null,null,null,null,null,null,null,null,null,null,null,null,null,null,{"$f":"IF(LEN(X4788)>0,VLOOKUP(X4788,'TFW Programs'!$A$2:$B$24,2,FALSE),\"\")","v":""},null,null,{"$f":"IF(LEN(A4788)>0,VLOOKUP(A4788,Subcontractors!$A$2:$B$3,2,FALSE),\"\")","v":""},null,{"$f":"IF(LEN(A4788)>0,VLOOKUP(A4788,Subcontractors!$A$2:$B$2,2,FALSE),\"\")","v":""}]
[null,null,null,null,null,null,null,null,null,null,null,null,null,null,null,null,null,null,null,null,null,{"$f":"IF(LEN(X4789)>0,VLOOKUP(X4789,'TFW Programs'!$A$2:$B$24,2,FALSE),\"\")","v":""},null,null,{"$f":"IF(LEN(A4789)>0,VLOOKUP(A4789,Subcontractors!$A$2:$B$3,2,FALSE),\"\")","v":""},null,{"$f":"IF(LEN(A4789)>0,VLOOKUP(A4789,Subcontractors!$A$2:$B$2,2,FALSE),\"\")","v":""}]
[null,null,null,null,null,null,null,null,null,null,null,null,null,null,null,null,null,null,null,null,null,{"$f":"IF(LEN(X4790)>0,VLOOKUP(X4790,'TFW Programs'!$A$2:$B$24,2,FALSE),\"\")","v":""},null,null,{"$f":"IF(LEN(A4790)>0,VLOOKUP(A4790,Subcontractors!$A$2:$B$3,2,FALSE),\"\")","v":""},null,{"$f":"IF(LEN(A4790)>0,VLOOKUP(A4790,Subcontractors!$A$2:$B$2,2,FALSE),\"\")","v":""}]
[null,null,null,null,null,null,null,null,null,null,null,null,null,null,null,null,null,null,null,null,null,{"$f":"IF(LEN(X4791)>0,VLOOKUP(X4791,'TFW Programs'!$A$2:$B$24,2,FALSE),\"\")","v":""},null,null,{"$f":"IF(LEN(A4791)>0,VLOOKUP(A4791,Subcontractors!$A$2:$B$3,2,FALSE),\"\")","v":""},null,{"$f":"IF(LEN(A4791)>0,VLOOKUP(A4791,Subcontractors!$A$2:$B$2,2,FALSE),\"\")","v":""}]
[null,null,null,null,null,null,null,null,null,null,null,null,null,null,null,null,null,null,null,null,null,{"$f":"IF(LEN(X4792)>0,VLOOKUP(X4792,'TFW Programs'!$A$2:$B$24,2,FALSE),\"\")","v":""},null,null,{"$f":"IF(LEN(A4792)>0,VLOOKUP(A4792,Subcontractors!$A$2:$B$3,2,FALSE),\"\")","v":""},null,{"$f":"IF(LEN(A4792)>0,VLOOKUP(A4792,Subcontractors!$A$2:$B$2,2,FALSE),\"\")","v":""}]
[null,null,null,null,null,null,null,null,null,null,null,null,null,null,null,null,null,null,null,null,null,{"$f":"IF(LEN(X4793)>0,VLOOKUP(X4793,'TFW Programs'!$A$2:$B$24,2,FALSE),\"\")","v":""},null,null,{"$f":"IF(LEN(A4793)>0,VLOOKUP(A4793,Subcontractors!$A$2:$B$3,2,FALSE),\"\")","v":""},null,{"$f":"IF(LEN(A4793)>0,VLOOKUP(A4793,Subcontractors!$A$2:$B$2,2,FALSE),\"\")","v":""}]
[null,null,null,null,null,null,null,null,null,null,null,null,null,null,null,null,null,null,null,null,null,{"$f":"IF(LEN(X4794)>0,VLOOKUP(X4794,'TFW Programs'!$A$2:$B$24,2,FALSE),\"\")","v":""},null,null,{"$f":"IF(LEN(A4794)>0,VLOOKUP(A4794,Subcontractors!$A$2:$B$3,2,FALSE),\"\")","v":""},null,{"$f":"IF(LEN(A4794)>0,VLOOKUP(A4794,Subcontractors!$A$2:$B$2,2,FALSE),\"\")","v":""}]
[null,null,null,null,null,null,null,null,null,null,null,null,null,null,null,null,null,null,null,null,null,{"$f":"IF(LEN(X4795)>0,VLOOKUP(X4795,'TFW Programs'!$A$2:$B$24,2,FALSE),\"\")","v":""},null,null,{"$f":"IF(LEN(A4795)>0,VLOOKUP(A4795,Subcontractors!$A$2:$B$3,2,FALSE),\"\")","v":""},null,{"$f":"IF(LEN(A4795)>0,VLOOKUP(A4795,Subcontractors!$A$2:$B$2,2,FALSE),\"\")","v":""}]
[null,null,null,null,null,null,null,null,null,null,null,null,null,null,null,null,null,null,null,null,null,{"$f":"IF(LEN(X4796)>0,VLOOKUP(X4796,'TFW Programs'!$A$2:$B$24,2,FALSE),\"\")","v":""},null,null,{"$f":"IF(LEN(A4796)>0,VLOOKUP(A4796,Subcontractors!$A$2:$B$3,2,FALSE),\"\")","v":""},null,{"$f":"IF(LEN(A4796)>0,VLOOKUP(A4796,Subcontractors!$A$2:$B$2,2,FALSE),\"\")","v":""}]
[null,null,null,null,null,null,null,null,null,null,null,null,null,null,null,null,null,null,null,null,null,{"$f":"IF(LEN(X4797)>0,VLOOKUP(X4797,'TFW Programs'!$A$2:$B$24,2,FALSE),\"\")","v":""},null,null,{"$f":"IF(LEN(A4797)>0,VLOOKUP(A4797,Subcontractors!$A$2:$B$3,2,FALSE),\"\")","v":""},null,{"$f":"IF(LEN(A4797)>0,VLOOKUP(A4797,Subcontractors!$A$2:$B$2,2,FALSE),\"\")","v":""}]
[null,null,null,null,null,null,null,null,null,null,null,null,null,null,null,null,null,null,null,null,null,{"$f":"IF(LEN(X4798)>0,VLOOKUP(X4798,'TFW Programs'!$A$2:$B$24,2,FALSE),\"\")","v":""},null,null,{"$f":"IF(LEN(A4798)>0,VLOOKUP(A4798,Subcontractors!$A$2:$B$3,2,FALSE),\"\")","v":""},null,{"$f":"IF(LEN(A4798)>0,VLOOKUP(A4798,Subcontractors!$A$2:$B$2,2,FALSE),\"\")","v":""}]
[null,null,null,null,null,null,null,null,null,null,null,null,null,null,null,null,null,null,null,null,null,{"$f":"IF(LEN(X4799)>0,VLOOKUP(X4799,'TFW Programs'!$A$2:$B$24,2,FALSE),\"\")","v":""},null,null,{"$f":"IF(LEN(A4799)>0,VLOOKUP(A4799,Subcontractors!$A$2:$B$3,2,FALSE),\"\")","v":""},null,{"$f":"IF(LEN(A4799)>0,VLOOKUP(A4799,Subcontractors!$A$2:$B$2,2,FALSE),\"\")","v":""}]
[null,null,null,null,null,null,null,null,null,null,null,null,null,null,null,null,null,null,null,null,null,{"$f":"IF(LEN(X4800)>0,VLOOKUP(X4800,'TFW Programs'!$A$2:$B$24,2,FALSE),\"\")","v":""},null,null,{"$f":"IF(LEN(A4800)>0,VLOOKUP(A4800,Subcontractors!$A$2:$B$3,2,FALSE),\"\")","v":""},null,{"$f":"IF(LEN(A4800)>0,VLOOKUP(A4800,Subcontractors!$A$2:$B$2,2,FALSE),\"\")","v":""}]
[null,null,null,null,null,null,null,null,null,null,null,null,null,null,null,null,null,null,null,null,null,{"$f":"IF(LEN(X4801)>0,VLOOKUP(X4801,'TFW Programs'!$A$2:$B$24,2,FALSE),\"\")","v":""},null,null,{"$f":"IF(LEN(A4801)>0,VLOOKUP(A4801,Subcontractors!$A$2:$B$3,2,FALSE),\"\")","v":""},null,{"$f":"IF(LEN(A4801)>0,VLOOKUP(A4801,Subcontractors!$A$2:$B$2,2,FALSE),\"\")","v":""}]
[null,null,null,null,null,null,null,null,null,null,null,null,null,null,null,null,null,null,null,null,null,{"$f":"IF(LEN(X4802)>0,VLOOKUP(X4802,'TFW Programs'!$A$2:$B$24,2,FALSE),\"\")","v":""},null,null,{"$f":"IF(LEN(A4802)>0,VLOOKUP(A4802,Subcontractors!$A$2:$B$3,2,FALSE),\"\")","v":""},null,{"$f":"IF(LEN(A4802)>0,VLOOKUP(A4802,Subcontractors!$A$2:$B$2,2,FALSE),\"\")","v":""}]
[null,null,null,null,null,null,null,null,null,null,null,null,null,null,null,null,null,null,null,null,null,{"$f":"IF(LEN(X4803)>0,VLOOKUP(X4803,'TFW Programs'!$A$2:$B$24,2,FALSE),\"\")","v":""},null,null,{"$f":"IF(LEN(A4803)>0,VLOOKUP(A4803,Subcontractors!$A$2:$B$3,2,FALSE),\"\")","v":""},null,{"$f":"IF(LEN(A4803)>0,VLOOKUP(A4803,Subcontractors!$A$2:$B$2,2,FALSE),\"\")","v":""}]
[null,null,null,null,null,null,null,null,null,null,null,null,null,null,null,null,null,null,null,null,null,{"$f":"IF(LEN(X4804)>0,VLOOKUP(X4804,'TFW Programs'!$A$2:$B$24,2,FALSE),\"\")","v":""},null,null,{"$f":"IF(LEN(A4804)>0,VLOOKUP(A4804,Subcontractors!$A$2:$B$3,2,FALSE),\"\")","v":""},null,{"$f":"IF(LEN(A4804)>0,VLOOKUP(A4804,Subcontractors!$A$2:$B$2,2,FALSE),\"\")","v":""}]
[null,null,null,null,null,null,null,null,null,null,null,null,null,null,null,null,null,null,null,null,null,{"$f":"IF(LEN(X4805)>0,VLOOKUP(X4805,'TFW Programs'!$A$2:$B$24,2,FALSE),\"\")","v":""},null,null,{"$f":"IF(LEN(A4805)>0,VLOOKUP(A4805,Subcontractors!$A$2:$B$3,2,FALSE),\"\")","v":""},null,{"$f":"IF(LEN(A4805)>0,VLOOKUP(A4805,Subcontractors!$A$2:$B$2,2,FALSE),\"\")","v":""}]
[null,null,null,null,null,null,null,null,null,null,null,null,null,null,null,null,null,null,null,null,null,{"$f":"IF(LEN(X4806)>0,VLOOKUP(X4806,'TFW Programs'!$A$2:$B$24,2,FALSE),\"\")","v":""},null,null,{"$f":"IF(LEN(A4806)>0,VLOOKUP(A4806,Subcontractors!$A$2:$B$3,2,FALSE),\"\")","v":""},null,{"$f":"IF(LEN(A4806)>0,VLOOKUP(A4806,Subcontractors!$A$2:$B$2,2,FALSE),\"\")","v":""}]
[null,null,null,null,null,null,null,null,null,null,null,null,null,null,null,null,null,null,null,null,null,{"$f":"IF(LEN(X4807)>0,VLOOKUP(X4807,'TFW Programs'!$A$2:$B$24,2,FALSE),\"\")","v":""},null,null,{"$f":"IF(LEN(A4807)>0,VLOOKUP(A4807,Subcontractors!$A$2:$B$3,2,FALSE),\"\")","v":""},null,{"$f":"IF(LEN(A4807)>0,VLOOKUP(A4807,Subcontractors!$A$2:$B$2,2,FALSE),\"\")","v":""}]
[null,null,null,null,null,null,null,null,null,null,null,null,null,null,null,null,null,null,null,null,null,{"$f":"IF(LEN(X4808)>0,VLOOKUP(X4808,'TFW Programs'!$A$2:$B$24,2,FALSE),\"\")","v":""},null,null,{"$f":"IF(LEN(A4808)>0,VLOOKUP(A4808,Subcontractors!$A$2:$B$3,2,FALSE),\"\")","v":""},null,{"$f":"IF(LEN(A4808)>0,VLOOKUP(A4808,Subcontractors!$A$2:$B$2,2,FALSE),\"\")","v":""}]
[null,null,null,null,null,null,null,null,null,null,null,null,null,null,null,null,null,null,null,null,null,{"$f":"IF(LEN(X4809)>0,VLOOKUP(X4809,'TFW Programs'!$A$2:$B$24,2,FALSE),\"\")","v":""},null,null,{"$f":"IF(LEN(A4809)>0,VLOOKUP(A4809,Subcontractors!$A$2:$B$3,2,FALSE),\"\")","v":""},null,{"$f":"IF(LEN(A4809)>0,VLOOKUP(A4809,Subcontractors!$A$2:$B$2,2,FALSE),\"\")","v":""}]
[null,null,null,null,null,null,null,null,null,null,null,null,null,null,null,null,null,null,null,null,null,{"$f":"IF(LEN(X4810)>0,VLOOKUP(X4810,'TFW Programs'!$A$2:$B$24,2,FALSE),\"\")","v":""},null,null,{"$f":"IF(LEN(A4810)>0,VLOOKUP(A4810,Subcontractors!$A$2:$B$3,2,FALSE),\"\")","v":""},null,{"$f":"IF(LEN(A4810)>0,VLOOKUP(A4810,Subcontractors!$A$2:$B$2,2,FALSE),\"\")","v":""}]
[null,null,null,null,null,null,null,null,null,null,null,null,null,null,null,null,null,null,null,null,null,{"$f":"IF(LEN(X4811)>0,VLOOKUP(X4811,'TFW Programs'!$A$2:$B$24,2,FALSE),\"\")","v":""},null,null,{"$f":"IF(LEN(A4811)>0,VLOOKUP(A4811,Subcontractors!$A$2:$B$3,2,FALSE),\"\")","v":""},null,{"$f":"IF(LEN(A4811)>0,VLOOKUP(A4811,Subcontractors!$A$2:$B$2,2,FALSE),\"\")","v":""}]
[null,null,null,null,null,null,null,null,null,null,null,null,null,null,null,null,null,null,null,null,null,{"$f":"IF(LEN(X4812)>0,VLOOKUP(X4812,'TFW Programs'!$A$2:$B$24,2,FALSE),\"\")","v":""},null,null,{"$f":"IF(LEN(A4812)>0,VLOOKUP(A4812,Subcontractors!$A$2:$B$3,2,FALSE),\"\")","v":""},null,{"$f":"IF(LEN(A4812)>0,VLOOKUP(A4812,Subcontractors!$A$2:$B$2,2,FALSE),\"\")","v":""}]
[null,null,null,null,null,null,null,null,null,null,null,null,null,null,null,null,null,null,null,null,null,{"$f":"IF(LEN(X4813)>0,VLOOKUP(X4813,'TFW Programs'!$A$2:$B$24,2,FALSE),\"\")","v":""},null,null,{"$f":"IF(LEN(A4813)>0,VLOOKUP(A4813,Subcontractors!$A$2:$B$3,2,FALSE),\"\")","v":""},null,{"$f":"IF(LEN(A4813)>0,VLOOKUP(A4813,Subcontractors!$A$2:$B$2,2,FALSE),\"\")","v":""}]
[null,null,null,null,null,null,null,null,null,null,null,null,null,null,null,null,null,null,null,null,null,{"$f":"IF(LEN(X4814)>0,VLOOKUP(X4814,'TFW Programs'!$A$2:$B$24,2,FALSE),\"\")","v":""},null,null,{"$f":"IF(LEN(A4814)>0,VLOOKUP(A4814,Subcontractors!$A$2:$B$3,2,FALSE),\"\")","v":""},null,{"$f":"IF(LEN(A4814)>0,VLOOKUP(A4814,Subcontractors!$A$2:$B$2,2,FALSE),\"\")","v":""}]
[null,null,null,null,null,null,null,null,null,null,null,null,null,null,null,null,null,null,null,null,null,{"$f":"IF(LEN(X4815)>0,VLOOKUP(X4815,'TFW Programs'!$A$2:$B$24,2,FALSE),\"\")","v":""},null,null,{"$f":"IF(LEN(A4815)>0,VLOOKUP(A4815,Subcontractors!$A$2:$B$3,2,FALSE),\"\")","v":""},null,{"$f":"IF(LEN(A4815)>0,VLOOKUP(A4815,Subcontractors!$A$2:$B$2,2,FALSE),\"\")","v":""}]
[null,null,null,null,null,null,null,null,null,null,null,null,null,null,null,null,null,null,null,null,null,{"$f":"IF(LEN(X4816)>0,VLOOKUP(X4816,'TFW Programs'!$A$2:$B$24,2,FALSE),\"\")","v":""},null,null,{"$f":"IF(LEN(A4816)>0,VLOOKUP(A4816,Subcontractors!$A$2:$B$3,2,FALSE),\"\")","v":""},null,{"$f":"IF(LEN(A4816)>0,VLOOKUP(A4816,Subcontractors!$A$2:$B$2,2,FALSE),\"\")","v":""}]
[null,null,null,null,null,null,null,null,null,null,null,null,null,null,null,null,null,null,null,null,null,{"$f":"IF(LEN(X4817)>0,VLOOKUP(X4817,'TFW Programs'!$A$2:$B$24,2,FALSE),\"\")","v":""},null,null,{"$f":"IF(LEN(A4817)>0,VLOOKUP(A4817,Subcontractors!$A$2:$B$3,2,FALSE),\"\")","v":""},null,{"$f":"IF(LEN(A4817)>0,VLOOKUP(A4817,Subcontractors!$A$2:$B$2,2,FALSE),\"\")","v":""}]
[null,null,null,null,null,null,null,null,null,null,null,null,null,null,null,null,null,null,null,null,null,{"$f":"IF(LEN(X4818)>0,VLOOKUP(X4818,'TFW Programs'!$A$2:$B$24,2,FALSE),\"\")","v":""},null,null,{"$f":"IF(LEN(A4818)>0,VLOOKUP(A4818,Subcontractors!$A$2:$B$3,2,FALSE),\"\")","v":""},null,{"$f":"IF(LEN(A4818)>0,VLOOKUP(A4818,Subcontractors!$A$2:$B$2,2,FALSE),\"\")","v":""}]
[null,null,null,null,null,null,null,null,null,null,null,null,null,null,null,null,null,null,null,null,null,{"$f":"IF(LEN(X4819)>0,VLOOKUP(X4819,'TFW Programs'!$A$2:$B$24,2,FALSE),\"\")","v":""},null,null,{"$f":"IF(LEN(A4819)>0,VLOOKUP(A4819,Subcontractors!$A$2:$B$3,2,FALSE),\"\")","v":""},null,{"$f":"IF(LEN(A4819)>0,VLOOKUP(A4819,Subcontractors!$A$2:$B$2,2,FALSE),\"\")","v":""}]
[null,null,null,null,null,null,null,null,null,null,null,null,null,null,null,null,null,null,null,null,null,{"$f":"IF(LEN(X4820)>0,VLOOKUP(X4820,'TFW Programs'!$A$2:$B$24,2,FALSE),\"\")","v":""},null,null,{"$f":"IF(LEN(A4820)>0,VLOOKUP(A4820,Subcontractors!$A$2:$B$3,2,FALSE),\"\")","v":""},null,{"$f":"IF(LEN(A4820)>0,VLOOKUP(A4820,Subcontractors!$A$2:$B$2,2,FALSE),\"\")","v":""}]
[null,null,null,null,null,null,null,null,null,null,null,null,null,null,null,null,null,null,null,null,null,{"$f":"IF(LEN(X4821)>0,VLOOKUP(X4821,'TFW Programs'!$A$2:$B$24,2,FALSE),\"\")","v":""},null,null,{"$f":"IF(LEN(A4821)>0,VLOOKUP(A4821,Subcontractors!$A$2:$B$3,2,FALSE),\"\")","v":""},null,{"$f":"IF(LEN(A4821)>0,VLOOKUP(A4821,Subcontractors!$A$2:$B$2,2,FALSE),\"\")","v":""}]
[null,null,null,null,null,null,null,null,null,null,null,null,null,null,null,null,null,null,null,null,null,{"$f":"IF(LEN(X4822)>0,VLOOKUP(X4822,'TFW Programs'!$A$2:$B$24,2,FALSE),\"\")","v":""},null,null,{"$f":"IF(LEN(A4822)>0,VLOOKUP(A4822,Subcontractors!$A$2:$B$3,2,FALSE),\"\")","v":""},null,{"$f":"IF(LEN(A4822)>0,VLOOKUP(A4822,Subcontractors!$A$2:$B$2,2,FALSE),\"\")","v":""}]
[null,null,null,null,null,null,null,null,null,null,null,null,null,null,null,null,null,null,null,null,null,{"$f":"IF(LEN(X4823)>0,VLOOKUP(X4823,'TFW Programs'!$A$2:$B$24,2,FALSE),\"\")","v":""},null,null,{"$f":"IF(LEN(A4823)>0,VLOOKUP(A4823,Subcontractors!$A$2:$B$3,2,FALSE),\"\")","v":""},null,{"$f":"IF(LEN(A4823)>0,VLOOKUP(A4823,Subcontractors!$A$2:$B$2,2,FALSE),\"\")","v":""}]
[null,null,null,null,null,null,null,null,null,null,null,null,null,null,null,null,null,null,null,null,null,{"$f":"IF(LEN(X4824)>0,VLOOKUP(X4824,'TFW Programs'!$A$2:$B$24,2,FALSE),\"\")","v":""},null,null,{"$f":"IF(LEN(A4824)>0,VLOOKUP(A4824,Subcontractors!$A$2:$B$3,2,FALSE),\"\")","v":""},null,{"$f":"IF(LEN(A4824)>0,VLOOKUP(A4824,Subcontractors!$A$2:$B$2,2,FALSE),\"\")","v":""}]
[null,null,null,null,null,null,null,null,null,null,null,null,null,null,null,null,null,null,null,null,null,{"$f":"IF(LEN(X4825)>0,VLOOKUP(X4825,'TFW Programs'!$A$2:$B$24,2,FALSE),\"\")","v":""},null,null,{"$f":"IF(LEN(A4825)>0,VLOOKUP(A4825,Subcontractors!$A$2:$B$3,2,FALSE),\"\")","v":""},null,{"$f":"IF(LEN(A4825)>0,VLOOKUP(A4825,Subcontractors!$A$2:$B$2,2,FALSE),\"\")","v":""}]
[null,null,null,null,null,null,null,null,null,null,null,null,null,null,null,null,null,null,null,null,null,{"$f":"IF(LEN(X4826)>0,VLOOKUP(X4826,'TFW Programs'!$A$2:$B$24,2,FALSE),\"\")","v":""},null,null,{"$f":"IF(LEN(A4826)>0,VLOOKUP(A4826,Subcontractors!$A$2:$B$3,2,FALSE),\"\")","v":""},null,{"$f":"IF(LEN(A4826)>0,VLOOKUP(A4826,Subcontractors!$A$2:$B$2,2,FALSE),\"\")","v":""}]
[null,null,null,null,null,null,null,null,null,null,null,null,null,null,null,null,null,null,null,null,null,{"$f":"IF(LEN(X4827)>0,VLOOKUP(X4827,'TFW Programs'!$A$2:$B$24,2,FALSE),\"\")","v":""},null,null,{"$f":"IF(LEN(A4827)>0,VLOOKUP(A4827,Subcontractors!$A$2:$B$3,2,FALSE),\"\")","v":""},null,{"$f":"IF(LEN(A4827)>0,VLOOKUP(A4827,Subcontractors!$A$2:$B$2,2,FALSE),\"\")","v":""}]
[null,null,null,null,null,null,null,null,null,null,null,null,null,null,null,null,null,null,null,null,null,{"$f":"IF(LEN(X4828)>0,VLOOKUP(X4828,'TFW Programs'!$A$2:$B$24,2,FALSE),\"\")","v":""},null,null,{"$f":"IF(LEN(A4828)>0,VLOOKUP(A4828,Subcontractors!$A$2:$B$3,2,FALSE),\"\")","v":""},null,{"$f":"IF(LEN(A4828)>0,VLOOKUP(A4828,Subcontractors!$A$2:$B$2,2,FALSE),\"\")","v":""}]
[null,null,null,null,null,null,null,null,null,null,null,null,null,null,null,null,null,null,null,null,null,{"$f":"IF(LEN(X4829)>0,VLOOKUP(X4829,'TFW Programs'!$A$2:$B$24,2,FALSE),\"\")","v":""},null,null,{"$f":"IF(LEN(A4829)>0,VLOOKUP(A4829,Subcontractors!$A$2:$B$3,2,FALSE),\"\")","v":""},null,{"$f":"IF(LEN(A4829)>0,VLOOKUP(A4829,Subcontractors!$A$2:$B$2,2,FALSE),\"\")","v":""}]
[null,null,null,null,null,null,null,null,null,null,null,null,null,null,null,null,null,null,null,null,null,{"$f":"IF(LEN(X4830)>0,VLOOKUP(X4830,'TFW Programs'!$A$2:$B$24,2,FALSE),\"\")","v":""},null,null,{"$f":"IF(LEN(A4830)>0,VLOOKUP(A4830,Subcontractors!$A$2:$B$3,2,FALSE),\"\")","v":""},null,{"$f":"IF(LEN(A4830)>0,VLOOKUP(A4830,Subcontractors!$A$2:$B$2,2,FALSE),\"\")","v":""}]
[null,null,null,null,null,null,null,null,null,null,null,null,null,null,null,null,null,null,null,null,null,{"$f":"IF(LEN(X4831)>0,VLOOKUP(X4831,'TFW Programs'!$A$2:$B$24,2,FALSE),\"\")","v":""},null,null,{"$f":"IF(LEN(A4831)>0,VLOOKUP(A4831,Subcontractors!$A$2:$B$3,2,FALSE),\"\")","v":""},null,{"$f":"IF(LEN(A4831)>0,VLOOKUP(A4831,Subcontractors!$A$2:$B$2,2,FALSE),\"\")","v":""}]
[null,null,null,null,null,null,null,null,null,null,null,null,null,null,null,null,null,null,null,null,null,{"$f":"IF(LEN(X4832)>0,VLOOKUP(X4832,'TFW Programs'!$A$2:$B$24,2,FALSE),\"\")","v":""},null,null,{"$f":"IF(LEN(A4832)>0,VLOOKUP(A4832,Subcontractors!$A$2:$B$3,2,FALSE),\"\")","v":""},null,{"$f":"IF(LEN(A4832)>0,VLOOKUP(A4832,Subcontractors!$A$2:$B$2,2,FALSE),\"\")","v":""}]
[null,null,null,null,null,null,null,null,null,null,null,null,null,null,null,null,null,null,null,null,null,{"$f":"IF(LEN(X4833)>0,VLOOKUP(X4833,'TFW Programs'!$A$2:$B$24,2,FALSE),\"\")","v":""},null,null,{"$f":"IF(LEN(A4833)>0,VLOOKUP(A4833,Subcontractors!$A$2:$B$3,2,FALSE),\"\")","v":""},null,{"$f":"IF(LEN(A4833)>0,VLOOKUP(A4833,Subcontractors!$A$2:$B$2,2,FALSE),\"\")","v":""}]
[null,null,null,null,null,null,null,null,null,null,null,null,null,null,null,null,null,null,null,null,null,{"$f":"IF(LEN(X4834)>0,VLOOKUP(X4834,'TFW Programs'!$A$2:$B$24,2,FALSE),\"\")","v":""},null,null,{"$f":"IF(LEN(A4834)>0,VLOOKUP(A4834,Subcontractors!$A$2:$B$3,2,FALSE),\"\")","v":""},null,{"$f":"IF(LEN(A4834)>0,VLOOKUP(A4834,Subcontractors!$A$2:$B$2,2,FALSE),\"\")","v":""}]
[null,null,null,null,null,null,null,null,null,null,null,null,null,null,null,null,null,null,null,null,null,{"$f":"IF(LEN(X4835)>0,VLOOKUP(X4835,'TFW Programs'!$A$2:$B$24,2,FALSE),\"\")","v":""},null,null,{"$f":"IF(LEN(A4835)>0,VLOOKUP(A4835,Subcontractors!$A$2:$B$3,2,FALSE),\"\")","v":""},null,{"$f":"IF(LEN(A4835)>0,VLOOKUP(A4835,Subcontractors!$A$2:$B$2,2,FALSE),\"\")","v":""}]
[null,null,null,null,null,null,null,null,null,null,null,null,null,null,null,null,null,null,null,null,null,{"$f":"IF(LEN(X4836)>0,VLOOKUP(X4836,'TFW Programs'!$A$2:$B$24,2,FALSE),\"\")","v":""},null,null,{"$f":"IF(LEN(A4836)>0,VLOOKUP(A4836,Subcontractors!$A$2:$B$3,2,FALSE),\"\")","v":""},null,{"$f":"IF(LEN(A4836)>0,VLOOKUP(A4836,Subcontractors!$A$2:$B$2,2,FALSE),\"\")","v":""}]
[null,null,null,null,null,null,null,null,null,null,null,null,null,null,null,null,null,null,null,null,null,{"$f":"IF(LEN(X4837)>0,VLOOKUP(X4837,'TFW Programs'!$A$2:$B$24,2,FALSE),\"\")","v":""},null,null,{"$f":"IF(LEN(A4837)>0,VLOOKUP(A4837,Subcontractors!$A$2:$B$3,2,FALSE),\"\")","v":""},null,{"$f":"IF(LEN(A4837)>0,VLOOKUP(A4837,Subcontractors!$A$2:$B$2,2,FALSE),\"\")","v":""}]
[null,null,null,null,null,null,null,null,null,null,null,null,null,null,null,null,null,null,null,null,null,{"$f":"IF(LEN(X4838)>0,VLOOKUP(X4838,'TFW Programs'!$A$2:$B$24,2,FALSE),\"\")","v":""},null,null,{"$f":"IF(LEN(A4838)>0,VLOOKUP(A4838,Subcontractors!$A$2:$B$3,2,FALSE),\"\")","v":""},null,{"$f":"IF(LEN(A4838)>0,VLOOKUP(A4838,Subcontractors!$A$2:$B$2,2,FALSE),\"\")","v":""}]
[null,null,null,null,null,null,null,null,null,null,null,null,null,null,null,null,null,null,null,null,null,{"$f":"IF(LEN(X4839)>0,VLOOKUP(X4839,'TFW Programs'!$A$2:$B$24,2,FALSE),\"\")","v":""},null,null,{"$f":"IF(LEN(A4839)>0,VLOOKUP(A4839,Subcontractors!$A$2:$B$3,2,FALSE),\"\")","v":""},null,{"$f":"IF(LEN(A4839)>0,VLOOKUP(A4839,Subcontractors!$A$2:$B$2,2,FALSE),\"\")","v":""}]
[null,null,null,null,null,null,null,null,null,null,null,null,null,null,null,null,null,null,null,null,null,{"$f":"IF(LEN(X4840)>0,VLOOKUP(X4840,'TFW Programs'!$A$2:$B$24,2,FALSE),\"\")","v":""},null,null,{"$f":"IF(LEN(A4840)>0,VLOOKUP(A4840,Subcontractors!$A$2:$B$3,2,FALSE),\"\")","v":""},null,{"$f":"IF(LEN(A4840)>0,VLOOKUP(A4840,Subcontractors!$A$2:$B$2,2,FALSE),\"\")","v":""}]
[null,null,null,null,null,null,null,null,null,null,null,null,null,null,null,null,null,null,null,null,null,{"$f":"IF(LEN(X4841)>0,VLOOKUP(X4841,'TFW Programs'!$A$2:$B$24,2,FALSE),\"\")","v":""},null,null,{"$f":"IF(LEN(A4841)>0,VLOOKUP(A4841,Subcontractors!$A$2:$B$3,2,FALSE),\"\")","v":""},null,{"$f":"IF(LEN(A4841)>0,VLOOKUP(A4841,Subcontractors!$A$2:$B$2,2,FALSE),\"\")","v":""}]
[null,null,null,null,null,null,null,null,null,null,null,null,null,null,null,null,null,null,null,null,null,{"$f":"IF(LEN(X4842)>0,VLOOKUP(X4842,'TFW Programs'!$A$2:$B$24,2,FALSE),\"\")","v":""},null,null,{"$f":"IF(LEN(A4842)>0,VLOOKUP(A4842,Subcontractors!$A$2:$B$3,2,FALSE),\"\")","v":""},null,{"$f":"IF(LEN(A4842)>0,VLOOKUP(A4842,Subcontractors!$A$2:$B$2,2,FALSE),\"\")","v":""}]
[null,null,null,null,null,null,null,null,null,null,null,null,null,null,null,null,null,null,null,null,null,{"$f":"IF(LEN(X4843)>0,VLOOKUP(X4843,'TFW Programs'!$A$2:$B$24,2,FALSE),\"\")","v":""},null,null,{"$f":"IF(LEN(A4843)>0,VLOOKUP(A4843,Subcontractors!$A$2:$B$3,2,FALSE),\"\")","v":""},null,{"$f":"IF(LEN(A4843)>0,VLOOKUP(A4843,Subcontractors!$A$2:$B$2,2,FALSE),\"\")","v":""}]
[null,null,null,null,null,null,null,null,null,null,null,null,null,null,null,null,null,null,null,null,null,{"$f":"IF(LEN(X4844)>0,VLOOKUP(X4844,'TFW Programs'!$A$2:$B$24,2,FALSE),\"\")","v":""},null,null,{"$f":"IF(LEN(A4844)>0,VLOOKUP(A4844,Subcontractors!$A$2:$B$3,2,FALSE),\"\")","v":""},null,{"$f":"IF(LEN(A4844)>0,VLOOKUP(A4844,Subcontractors!$A$2:$B$2,2,FALSE),\"\")","v":""}]
[null,null,null,null,null,null,null,null,null,null,null,null,null,null,null,null,null,null,null,null,null,{"$f":"IF(LEN(X4845)>0,VLOOKUP(X4845,'TFW Programs'!$A$2:$B$24,2,FALSE),\"\")","v":""},null,null,{"$f":"IF(LEN(A4845)>0,VLOOKUP(A4845,Subcontractors!$A$2:$B$3,2,FALSE),\"\")","v":""},null,{"$f":"IF(LEN(A4845)>0,VLOOKUP(A4845,Subcontractors!$A$2:$B$2,2,FALSE),\"\")","v":""}]
[null,null,null,null,null,null,null,null,null,null,null,null,null,null,null,null,null,null,null,null,null,{"$f":"IF(LEN(X4846)>0,VLOOKUP(X4846,'TFW Programs'!$A$2:$B$24,2,FALSE),\"\")","v":""},null,null,{"$f":"IF(LEN(A4846)>0,VLOOKUP(A4846,Subcontractors!$A$2:$B$3,2,FALSE),\"\")","v":""},null,{"$f":"IF(LEN(A4846)>0,VLOOKUP(A4846,Subcontractors!$A$2:$B$2,2,FALSE),\"\")","v":""}]
[null,null,null,null,null,null,null,null,null,null,null,null,null,null,null,null,null,null,null,null,null,{"$f":"IF(LEN(X4847)>0,VLOOKUP(X4847,'TFW Programs'!$A$2:$B$24,2,FALSE),\"\")","v":""},null,null,{"$f":"IF(LEN(A4847)>0,VLOOKUP(A4847,Subcontractors!$A$2:$B$3,2,FALSE),\"\")","v":""},null,{"$f":"IF(LEN(A4847)>0,VLOOKUP(A4847,Subcontractors!$A$2:$B$2,2,FALSE),\"\")","v":""}]
[null,null,null,null,null,null,null,null,null,null,null,null,null,null,null,null,null,null,null,null,null,{"$f":"IF(LEN(X4848)>0,VLOOKUP(X4848,'TFW Programs'!$A$2:$B$24,2,FALSE),\"\")","v":""},null,null,{"$f":"IF(LEN(A4848)>0,VLOOKUP(A4848,Subcontractors!$A$2:$B$3,2,FALSE),\"\")","v":""},null,{"$f":"IF(LEN(A4848)>0,VLOOKUP(A4848,Subcontractors!$A$2:$B$2,2,FALSE),\"\")","v":""}]
[null,null,null,null,null,null,null,null,null,null,null,null,null,null,null,null,null,null,null,null,null,{"$f":"IF(LEN(X4849)>0,VLOOKUP(X4849,'TFW Programs'!$A$2:$B$24,2,FALSE),\"\")","v":""},null,null,{"$f":"IF(LEN(A4849)>0,VLOOKUP(A4849,Subcontractors!$A$2:$B$3,2,FALSE),\"\")","v":""},null,{"$f":"IF(LEN(A4849)>0,VLOOKUP(A4849,Subcontractors!$A$2:$B$2,2,FALSE),\"\")","v":""}]
[null,null,null,null,null,null,null,null,null,null,null,null,null,null,null,null,null,null,null,null,null,{"$f":"IF(LEN(X4850)>0,VLOOKUP(X4850,'TFW Programs'!$A$2:$B$24,2,FALSE),\"\")","v":""},null,null,{"$f":"IF(LEN(A4850)>0,VLOOKUP(A4850,Subcontractors!$A$2:$B$3,2,FALSE),\"\")","v":""},null,{"$f":"IF(LEN(A4850)>0,VLOOKUP(A4850,Subcontractors!$A$2:$B$2,2,FALSE),\"\")","v":""}]
[null,null,null,null,null,null,null,null,null,null,null,null,null,null,null,null,null,null,null,null,null,{"$f":"IF(LEN(X4851)>0,VLOOKUP(X4851,'TFW Programs'!$A$2:$B$24,2,FALSE),\"\")","v":""},null,null,{"$f":"IF(LEN(A4851)>0,VLOOKUP(A4851,Subcontractors!$A$2:$B$3,2,FALSE),\"\")","v":""},null,{"$f":"IF(LEN(A4851)>0,VLOOKUP(A4851,Subcontractors!$A$2:$B$2,2,FALSE),\"\")","v":""}]
[null,null,null,null,null,null,null,null,null,null,null,null,null,null,null,null,null,null,null,null,null,{"$f":"IF(LEN(X4852)>0,VLOOKUP(X4852,'TFW Programs'!$A$2:$B$24,2,FALSE),\"\")","v":""},null,null,{"$f":"IF(LEN(A4852)>0,VLOOKUP(A4852,Subcontractors!$A$2:$B$3,2,FALSE),\"\")","v":""},null,{"$f":"IF(LEN(A4852)>0,VLOOKUP(A4852,Subcontractors!$A$2:$B$2,2,FALSE),\"\")","v":""}]
[null,null,null,null,null,null,null,null,null,null,null,null,null,null,null,null,null,null,null,null,null,{"$f":"IF(LEN(X4853)>0,VLOOKUP(X4853,'TFW Programs'!$A$2:$B$24,2,FALSE),\"\")","v":""},null,null,{"$f":"IF(LEN(A4853)>0,VLOOKUP(A4853,Subcontractors!$A$2:$B$3,2,FALSE),\"\")","v":""},null,{"$f":"IF(LEN(A4853)>0,VLOOKUP(A4853,Subcontractors!$A$2:$B$2,2,FALSE),\"\")","v":""}]
[null,null,null,null,null,null,null,null,null,null,null,null,null,null,null,null,null,null,null,null,null,{"$f":"IF(LEN(X4854)>0,VLOOKUP(X4854,'TFW Programs'!$A$2:$B$24,2,FALSE),\"\")","v":""},null,null,{"$f":"IF(LEN(A4854)>0,VLOOKUP(A4854,Subcontractors!$A$2:$B$3,2,FALSE),\"\")","v":""},null,{"$f":"IF(LEN(A4854)>0,VLOOKUP(A4854,Subcontractors!$A$2:$B$2,2,FALSE),\"\")","v":""}]
[null,null,null,null,null,null,null,null,null,null,null,null,null,null,null,null,null,null,null,null,null,{"$f":"IF(LEN(X4855)>0,VLOOKUP(X4855,'TFW Programs'!$A$2:$B$24,2,FALSE),\"\")","v":""},null,null,{"$f":"IF(LEN(A4855)>0,VLOOKUP(A4855,Subcontractors!$A$2:$B$3,2,FALSE),\"\")","v":""},null,{"$f":"IF(LEN(A4855)>0,VLOOKUP(A4855,Subcontractors!$A$2:$B$2,2,FALSE),\"\")","v":""}]
[null,null,null,null,null,null,null,null,null,null,null,null,null,null,null,null,null,null,null,null,null,{"$f":"IF(LEN(X4856)>0,VLOOKUP(X4856,'TFW Programs'!$A$2:$B$24,2,FALSE),\"\")","v":""},null,null,{"$f":"IF(LEN(A4856)>0,VLOOKUP(A4856,Subcontractors!$A$2:$B$3,2,FALSE),\"\")","v":""},null,{"$f":"IF(LEN(A4856)>0,VLOOKUP(A4856,Subcontractors!$A$2:$B$2,2,FALSE),\"\")","v":""}]
[null,null,null,null,null,null,null,null,null,null,null,null,null,null,null,null,null,null,null,null,null,{"$f":"IF(LEN(X4857)>0,VLOOKUP(X4857,'TFW Programs'!$A$2:$B$24,2,FALSE),\"\")","v":""},null,null,{"$f":"IF(LEN(A4857)>0,VLOOKUP(A4857,Subcontractors!$A$2:$B$3,2,FALSE),\"\")","v":""},null,{"$f":"IF(LEN(A4857)>0,VLOOKUP(A4857,Subcontractors!$A$2:$B$2,2,FALSE),\"\")","v":""}]
[null,null,null,null,null,null,null,null,null,null,null,null,null,null,null,null,null,null,null,null,null,{"$f":"IF(LEN(X4858)>0,VLOOKUP(X4858,'TFW Programs'!$A$2:$B$24,2,FALSE),\"\")","v":""},null,null,{"$f":"IF(LEN(A4858)>0,VLOOKUP(A4858,Subcontractors!$A$2:$B$3,2,FALSE),\"\")","v":""},null,{"$f":"IF(LEN(A4858)>0,VLOOKUP(A4858,Subcontractors!$A$2:$B$2,2,FALSE),\"\")","v":""}]
[null,null,null,null,null,null,null,null,null,null,null,null,null,null,null,null,null,null,null,null,null,{"$f":"IF(LEN(X4859)>0,VLOOKUP(X4859,'TFW Programs'!$A$2:$B$24,2,FALSE),\"\")","v":""},null,null,{"$f":"IF(LEN(A4859)>0,VLOOKUP(A4859,Subcontractors!$A$2:$B$3,2,FALSE),\"\")","v":""},null,{"$f":"IF(LEN(A4859)>0,VLOOKUP(A4859,Subcontractors!$A$2:$B$2,2,FALSE),\"\")","v":""}]
[null,null,null,null,null,null,null,null,null,null,null,null,null,null,null,null,null,null,null,null,null,{"$f":"IF(LEN(X4860)>0,VLOOKUP(X4860,'TFW Programs'!$A$2:$B$24,2,FALSE),\"\")","v":""},null,null,{"$f":"IF(LEN(A4860)>0,VLOOKUP(A4860,Subcontractors!$A$2:$B$3,2,FALSE),\"\")","v":""},null,{"$f":"IF(LEN(A4860)>0,VLOOKUP(A4860,Subcontractors!$A$2:$B$2,2,FALSE),\"\")","v":""}]
[null,null,null,null,null,null,null,null,null,null,null,null,null,null,null,null,null,null,null,null,null,{"$f":"IF(LEN(X4861)>0,VLOOKUP(X4861,'TFW Programs'!$A$2:$B$24,2,FALSE),\"\")","v":""},null,null,{"$f":"IF(LEN(A4861)>0,VLOOKUP(A4861,Subcontractors!$A$2:$B$3,2,FALSE),\"\")","v":""},null,{"$f":"IF(LEN(A4861)>0,VLOOKUP(A4861,Subcontractors!$A$2:$B$2,2,FALSE),\"\")","v":""}]
[null,null,null,null,null,null,null,null,null,null,null,null,null,null,null,null,null,null,null,null,null,{"$f":"IF(LEN(X4862)>0,VLOOKUP(X4862,'TFW Programs'!$A$2:$B$24,2,FALSE),\"\")","v":""},null,null,{"$f":"IF(LEN(A4862)>0,VLOOKUP(A4862,Subcontractors!$A$2:$B$3,2,FALSE),\"\")","v":""},null,{"$f":"IF(LEN(A4862)>0,VLOOKUP(A4862,Subcontractors!$A$2:$B$2,2,FALSE),\"\")","v":""}]
[null,null,null,null,null,null,null,null,null,null,null,null,null,null,null,null,null,null,null,null,null,{"$f":"IF(LEN(X4863)>0,VLOOKUP(X4863,'TFW Programs'!$A$2:$B$24,2,FALSE),\"\")","v":""},null,null,{"$f":"IF(LEN(A4863)>0,VLOOKUP(A4863,Subcontractors!$A$2:$B$3,2,FALSE),\"\")","v":""},null,{"$f":"IF(LEN(A4863)>0,VLOOKUP(A4863,Subcontractors!$A$2:$B$2,2,FALSE),\"\")","v":""}]
[null,null,null,null,null,null,null,null,null,null,null,null,null,null,null,null,null,null,null,null,null,{"$f":"IF(LEN(X4864)>0,VLOOKUP(X4864,'TFW Programs'!$A$2:$B$24,2,FALSE),\"\")","v":""},null,null,{"$f":"IF(LEN(A4864)>0,VLOOKUP(A4864,Subcontractors!$A$2:$B$3,2,FALSE),\"\")","v":""},null,{"$f":"IF(LEN(A4864)>0,VLOOKUP(A4864,Subcontractors!$A$2:$B$2,2,FALSE),\"\")","v":""}]
[null,null,null,null,null,null,null,null,null,null,null,null,null,null,null,null,null,null,null,null,null,{"$f":"IF(LEN(X4865)>0,VLOOKUP(X4865,'TFW Programs'!$A$2:$B$24,2,FALSE),\"\")","v":""},null,null,{"$f":"IF(LEN(A4865)>0,VLOOKUP(A4865,Subcontractors!$A$2:$B$3,2,FALSE),\"\")","v":""},null,{"$f":"IF(LEN(A4865)>0,VLOOKUP(A4865,Subcontractors!$A$2:$B$2,2,FALSE),\"\")","v":""}]
[null,null,null,null,null,null,null,null,null,null,null,null,null,null,null,null,null,null,null,null,null,{"$f":"IF(LEN(X4866)>0,VLOOKUP(X4866,'TFW Programs'!$A$2:$B$24,2,FALSE),\"\")","v":""},null,null,{"$f":"IF(LEN(A4866)>0,VLOOKUP(A4866,Subcontractors!$A$2:$B$3,2,FALSE),\"\")","v":""},null,{"$f":"IF(LEN(A4866)>0,VLOOKUP(A4866,Subcontractors!$A$2:$B$2,2,FALSE),\"\")","v":""}]
[null,null,null,null,null,null,null,null,null,null,null,null,null,null,null,null,null,null,null,null,null,{"$f":"IF(LEN(X4867)>0,VLOOKUP(X4867,'TFW Programs'!$A$2:$B$24,2,FALSE),\"\")","v":""},null,null,{"$f":"IF(LEN(A4867)>0,VLOOKUP(A4867,Subcontractors!$A$2:$B$3,2,FALSE),\"\")","v":""},null,{"$f":"IF(LEN(A4867)>0,VLOOKUP(A4867,Subcontractors!$A$2:$B$2,2,FALSE),\"\")","v":""}]
[null,null,null,null,null,null,null,null,null,null,null,null,null,null,null,null,null,null,null,null,null,{"$f":"IF(LEN(X4868)>0,VLOOKUP(X4868,'TFW Programs'!$A$2:$B$24,2,FALSE),\"\")","v":""},null,null,{"$f":"IF(LEN(A4868)>0,VLOOKUP(A4868,Subcontractors!$A$2:$B$3,2,FALSE),\"\")","v":""},null,{"$f":"IF(LEN(A4868)>0,VLOOKUP(A4868,Subcontractors!$A$2:$B$2,2,FALSE),\"\")","v":""}]
[null,null,null,null,null,null,null,null,null,null,null,null,null,null,null,null,null,null,null,null,null,{"$f":"IF(LEN(X4869)>0,VLOOKUP(X4869,'TFW Programs'!$A$2:$B$24,2,FALSE),\"\")","v":""},null,null,{"$f":"IF(LEN(A4869)>0,VLOOKUP(A4869,Subcontractors!$A$2:$B$3,2,FALSE),\"\")","v":""},null,{"$f":"IF(LEN(A4869)>0,VLOOKUP(A4869,Subcontractors!$A$2:$B$2,2,FALSE),\"\")","v":""}]
[null,null,null,null,null,null,null,null,null,null,null,null,null,null,null,null,null,null,null,null,null,{"$f":"IF(LEN(X4870)>0,VLOOKUP(X4870,'TFW Programs'!$A$2:$B$24,2,FALSE),\"\")","v":""},null,null,{"$f":"IF(LEN(A4870)>0,VLOOKUP(A4870,Subcontractors!$A$2:$B$3,2,FALSE),\"\")","v":""},null,{"$f":"IF(LEN(A4870)>0,VLOOKUP(A4870,Subcontractors!$A$2:$B$2,2,FALSE),\"\")","v":""}]
[null,null,null,null,null,null,null,null,null,null,null,null,null,null,null,null,null,null,null,null,null,{"$f":"IF(LEN(X4871)>0,VLOOKUP(X4871,'TFW Programs'!$A$2:$B$24,2,FALSE),\"\")","v":""},null,null,{"$f":"IF(LEN(A4871)>0,VLOOKUP(A4871,Subcontractors!$A$2:$B$3,2,FALSE),\"\")","v":""},null,{"$f":"IF(LEN(A4871)>0,VLOOKUP(A4871,Subcontractors!$A$2:$B$2,2,FALSE),\"\")","v":""}]
[null,null,null,null,null,null,null,null,null,null,null,null,null,null,null,null,null,null,null,null,null,{"$f":"IF(LEN(X4872)>0,VLOOKUP(X4872,'TFW Programs'!$A$2:$B$24,2,FALSE),\"\")","v":""},null,null,{"$f":"IF(LEN(A4872)>0,VLOOKUP(A4872,Subcontractors!$A$2:$B$3,2,FALSE),\"\")","v":""},null,{"$f":"IF(LEN(A4872)>0,VLOOKUP(A4872,Subcontractors!$A$2:$B$2,2,FALSE),\"\")","v":""}]
[null,null,null,null,null,null,null,null,null,null,null,null,null,null,null,null,null,null,null,null,null,{"$f":"IF(LEN(X4873)>0,VLOOKUP(X4873,'TFW Programs'!$A$2:$B$24,2,FALSE),\"\")","v":""},null,null,{"$f":"IF(LEN(A4873)>0,VLOOKUP(A4873,Subcontractors!$A$2:$B$3,2,FALSE),\"\")","v":""},null,{"$f":"IF(LEN(A4873)>0,VLOOKUP(A4873,Subcontractors!$A$2:$B$2,2,FALSE),\"\")","v":""}]
[null,null,null,null,null,null,null,null,null,null,null,null,null,null,null,null,null,null,null,null,null,{"$f":"IF(LEN(X4874)>0,VLOOKUP(X4874,'TFW Programs'!$A$2:$B$24,2,FALSE),\"\")","v":""},null,null,{"$f":"IF(LEN(A4874)>0,VLOOKUP(A4874,Subcontractors!$A$2:$B$3,2,FALSE),\"\")","v":""},null,{"$f":"IF(LEN(A4874)>0,VLOOKUP(A4874,Subcontractors!$A$2:$B$2,2,FALSE),\"\")","v":""}]
[null,null,null,null,null,null,null,null,null,null,null,null,null,null,null,null,null,null,null,null,null,{"$f":"IF(LEN(X4875)>0,VLOOKUP(X4875,'TFW Programs'!$A$2:$B$24,2,FALSE),\"\")","v":""},null,null,{"$f":"IF(LEN(A4875)>0,VLOOKUP(A4875,Subcontractors!$A$2:$B$3,2,FALSE),\"\")","v":""},null,{"$f":"IF(LEN(A4875)>0,VLOOKUP(A4875,Subcontractors!$A$2:$B$2,2,FALSE),\"\")","v":""}]
[null,null,null,null,null,null,null,null,null,null,null,null,null,null,null,null,null,null,null,null,null,{"$f":"IF(LEN(X4876)>0,VLOOKUP(X4876,'TFW Programs'!$A$2:$B$24,2,FALSE),\"\")","v":""},null,null,{"$f":"IF(LEN(A4876)>0,VLOOKUP(A4876,Subcontractors!$A$2:$B$3,2,FALSE),\"\")","v":""},null,{"$f":"IF(LEN(A4876)>0,VLOOKUP(A4876,Subcontractors!$A$2:$B$2,2,FALSE),\"\")","v":""}]
[null,null,null,null,null,null,null,null,null,null,null,null,null,null,null,null,null,null,null,null,null,{"$f":"IF(LEN(X4877)>0,VLOOKUP(X4877,'TFW Programs'!$A$2:$B$24,2,FALSE),\"\")","v":""},null,null,{"$f":"IF(LEN(A4877)>0,VLOOKUP(A4877,Subcontractors!$A$2:$B$3,2,FALSE),\"\")","v":""},null,{"$f":"IF(LEN(A4877)>0,VLOOKUP(A4877,Subcontractors!$A$2:$B$2,2,FALSE),\"\")","v":""}]
[null,null,null,null,null,null,null,null,null,null,null,null,null,null,null,null,null,null,null,null,null,{"$f":"IF(LEN(X4878)>0,VLOOKUP(X4878,'TFW Programs'!$A$2:$B$24,2,FALSE),\"\")","v":""},null,null,{"$f":"IF(LEN(A4878)>0,VLOOKUP(A4878,Subcontractors!$A$2:$B$3,2,FALSE),\"\")","v":""},null,{"$f":"IF(LEN(A4878)>0,VLOOKUP(A4878,Subcontractors!$A$2:$B$2,2,FALSE),\"\")","v":""}]
[null,null,null,null,null,null,null,null,null,null,null,null,null,null,null,null,null,null,null,null,null,{"$f":"IF(LEN(X4879)>0,VLOOKUP(X4879,'TFW Programs'!$A$2:$B$24,2,FALSE),\"\")","v":""},null,null,{"$f":"IF(LEN(A4879)>0,VLOOKUP(A4879,Subcontractors!$A$2:$B$3,2,FALSE),\"\")","v":""},null,{"$f":"IF(LEN(A4879)>0,VLOOKUP(A4879,Subcontractors!$A$2:$B$2,2,FALSE),\"\")","v":""}]
[null,null,null,null,null,null,null,null,null,null,null,null,null,null,null,null,null,null,null,null,null,{"$f":"IF(LEN(X4880)>0,VLOOKUP(X4880,'TFW Programs'!$A$2:$B$24,2,FALSE),\"\")","v":""},null,null,{"$f":"IF(LEN(A4880)>0,VLOOKUP(A4880,Subcontractors!$A$2:$B$3,2,FALSE),\"\")","v":""},null,{"$f":"IF(LEN(A4880)>0,VLOOKUP(A4880,Subcontractors!$A$2:$B$2,2,FALSE),\"\")","v":""}]
[null,null,null,null,null,null,null,null,null,null,null,null,null,null,null,null,null,null,null,null,null,{"$f":"IF(LEN(X4881)>0,VLOOKUP(X4881,'TFW Programs'!$A$2:$B$24,2,FALSE),\"\")","v":""},null,null,{"$f":"IF(LEN(A4881)>0,VLOOKUP(A4881,Subcontractors!$A$2:$B$3,2,FALSE),\"\")","v":""},null,{"$f":"IF(LEN(A4881)>0,VLOOKUP(A4881,Subcontractors!$A$2:$B$2,2,FALSE),\"\")","v":""}]
[null,null,null,null,null,null,null,null,null,null,null,null,null,null,null,null,null,null,null,null,null,{"$f":"IF(LEN(X4882)>0,VLOOKUP(X4882,'TFW Programs'!$A$2:$B$24,2,FALSE),\"\")","v":""},null,null,{"$f":"IF(LEN(A4882)>0,VLOOKUP(A4882,Subcontractors!$A$2:$B$3,2,FALSE),\"\")","v":""},null,{"$f":"IF(LEN(A4882)>0,VLOOKUP(A4882,Subcontractors!$A$2:$B$2,2,FALSE),\"\")","v":""}]
[null,null,null,null,null,null,null,null,null,null,null,null,null,null,null,null,null,null,null,null,null,{"$f":"IF(LEN(X4883)>0,VLOOKUP(X4883,'TFW Programs'!$A$2:$B$24,2,FALSE),\"\")","v":""},null,null,{"$f":"IF(LEN(A4883)>0,VLOOKUP(A4883,Subcontractors!$A$2:$B$3,2,FALSE),\"\")","v":""},null,{"$f":"IF(LEN(A4883)>0,VLOOKUP(A4883,Subcontractors!$A$2:$B$2,2,FALSE),\"\")","v":""}]
[null,null,null,null,null,null,null,null,null,null,null,null,null,null,null,null,null,null,null,null,null,{"$f":"IF(LEN(X4884)>0,VLOOKUP(X4884,'TFW Programs'!$A$2:$B$24,2,FALSE),\"\")","v":""},null,null,{"$f":"IF(LEN(A4884)>0,VLOOKUP(A4884,Subcontractors!$A$2:$B$3,2,FALSE),\"\")","v":""},null,{"$f":"IF(LEN(A4884)>0,VLOOKUP(A4884,Subcontractors!$A$2:$B$2,2,FALSE),\"\")","v":""}]
[null,null,null,null,null,null,null,null,null,null,null,null,null,null,null,null,null,null,null,null,null,{"$f":"IF(LEN(X4885)>0,VLOOKUP(X4885,'TFW Programs'!$A$2:$B$24,2,FALSE),\"\")","v":""},null,null,{"$f":"IF(LEN(A4885)>0,VLOOKUP(A4885,Subcontractors!$A$2:$B$3,2,FALSE),\"\")","v":""},null,{"$f":"IF(LEN(A4885)>0,VLOOKUP(A4885,Subcontractors!$A$2:$B$2,2,FALSE),\"\")","v":""}]
[null,null,null,null,null,null,null,null,null,null,null,null,null,null,null,null,null,null,null,null,null,{"$f":"IF(LEN(X4886)>0,VLOOKUP(X4886,'TFW Programs'!$A$2:$B$24,2,FALSE),\"\")","v":""},null,null,{"$f":"IF(LEN(A4886)>0,VLOOKUP(A4886,Subcontractors!$A$2:$B$3,2,FALSE),\"\")","v":""},null,{"$f":"IF(LEN(A4886)>0,VLOOKUP(A4886,Subcontractors!$A$2:$B$2,2,FALSE),\"\")","v":""}]
[null,null,null,null,null,null,null,null,null,null,null,null,null,null,null,null,null,null,null,null,null,{"$f":"IF(LEN(X4887)>0,VLOOKUP(X4887,'TFW Programs'!$A$2:$B$24,2,FALSE),\"\")","v":""},null,null,{"$f":"IF(LEN(A4887)>0,VLOOKUP(A4887,Subcontractors!$A$2:$B$3,2,FALSE),\"\")","v":""},null,{"$f":"IF(LEN(A4887)>0,VLOOKUP(A4887,Subcontractors!$A$2:$B$2,2,FALSE),\"\")","v":""}]
[null,null,null,null,null,null,null,null,null,null,null,null,null,null,null,null,null,null,null,null,null,{"$f":"IF(LEN(X4888)>0,VLOOKUP(X4888,'TFW Programs'!$A$2:$B$24,2,FALSE),\"\")","v":""},null,null,{"$f":"IF(LEN(A4888)>0,VLOOKUP(A4888,Subcontractors!$A$2:$B$3,2,FALSE),\"\")","v":""},null,{"$f":"IF(LEN(A4888)>0,VLOOKUP(A4888,Subcontractors!$A$2:$B$2,2,FALSE),\"\")","v":""}]
[null,null,null,null,null,null,null,null,null,null,null,null,null,null,null,null,null,null,null,null,null,{"$f":"IF(LEN(X4889)>0,VLOOKUP(X4889,'TFW Programs'!$A$2:$B$24,2,FALSE),\"\")","v":""},null,null,{"$f":"IF(LEN(A4889)>0,VLOOKUP(A4889,Subcontractors!$A$2:$B$3,2,FALSE),\"\")","v":""},null,{"$f":"IF(LEN(A4889)>0,VLOOKUP(A4889,Subcontractors!$A$2:$B$2,2,FALSE),\"\")","v":""}]
[null,null,null,null,null,null,null,null,null,null,null,null,null,null,null,null,null,null,null,null,null,{"$f":"IF(LEN(X4890)>0,VLOOKUP(X4890,'TFW Programs'!$A$2:$B$24,2,FALSE),\"\")","v":""},null,null,{"$f":"IF(LEN(A4890)>0,VLOOKUP(A4890,Subcontractors!$A$2:$B$3,2,FALSE),\"\")","v":""},null,{"$f":"IF(LEN(A4890)>0,VLOOKUP(A4890,Subcontractors!$A$2:$B$2,2,FALSE),\"\")","v":""}]
[null,null,null,null,null,null,null,null,null,null,null,null,null,null,null,null,null,null,null,null,null,{"$f":"IF(LEN(X4891)>0,VLOOKUP(X4891,'TFW Programs'!$A$2:$B$24,2,FALSE),\"\")","v":""},null,null,{"$f":"IF(LEN(A4891)>0,VLOOKUP(A4891,Subcontractors!$A$2:$B$3,2,FALSE),\"\")","v":""},null,{"$f":"IF(LEN(A4891)>0,VLOOKUP(A4891,Subcontractors!$A$2:$B$2,2,FALSE),\"\")","v":""}]
[null,null,null,null,null,null,null,null,null,null,null,null,null,null,null,null,null,null,null,null,null,{"$f":"IF(LEN(X4892)>0,VLOOKUP(X4892,'TFW Programs'!$A$2:$B$24,2,FALSE),\"\")","v":""},null,null,{"$f":"IF(LEN(A4892)>0,VLOOKUP(A4892,Subcontractors!$A$2:$B$3,2,FALSE),\"\")","v":""},null,{"$f":"IF(LEN(A4892)>0,VLOOKUP(A4892,Subcontractors!$A$2:$B$2,2,FALSE),\"\")","v":""}]
[null,null,null,null,null,null,null,null,null,null,null,null,null,null,null,null,null,null,null,null,null,{"$f":"IF(LEN(X4893)>0,VLOOKUP(X4893,'TFW Programs'!$A$2:$B$24,2,FALSE),\"\")","v":""},null,null,{"$f":"IF(LEN(A4893)>0,VLOOKUP(A4893,Subcontractors!$A$2:$B$3,2,FALSE),\"\")","v":""},null,{"$f":"IF(LEN(A4893)>0,VLOOKUP(A4893,Subcontractors!$A$2:$B$2,2,FALSE),\"\")","v":""}]
[null,null,null,null,null,null,null,null,null,null,null,null,null,null,null,null,null,null,null,null,null,{"$f":"IF(LEN(X4894)>0,VLOOKUP(X4894,'TFW Programs'!$A$2:$B$24,2,FALSE),\"\")","v":""},null,null,{"$f":"IF(LEN(A4894)>0,VLOOKUP(A4894,Subcontractors!$A$2:$B$3,2,FALSE),\"\")","v":""},null,{"$f":"IF(LEN(A4894)>0,VLOOKUP(A4894,Subcontractors!$A$2:$B$2,2,FALSE),\"\")","v":""}]
[null,null,null,null,null,null,null,null,null,null,null,null,null,null,null,null,null,null,null,null,null,{"$f":"IF(LEN(X4895)>0,VLOOKUP(X4895,'TFW Programs'!$A$2:$B$24,2,FALSE),\"\")","v":""},null,null,{"$f":"IF(LEN(A4895)>0,VLOOKUP(A4895,Subcontractors!$A$2:$B$3,2,FALSE),\"\")","v":""},null,{"$f":"IF(LEN(A4895)>0,VLOOKUP(A4895,Subcontractors!$A$2:$B$2,2,FALSE),\"\")","v":""}]
[null,null,null,null,null,null,null,null,null,null,null,null,null,null,null,null,null,null,null,null,null,{"$f":"IF(LEN(X4896)>0,VLOOKUP(X4896,'TFW Programs'!$A$2:$B$24,2,FALSE),\"\")","v":""},null,null,{"$f":"IF(LEN(A4896)>0,VLOOKUP(A4896,Subcontractors!$A$2:$B$3,2,FALSE),\"\")","v":""},null,{"$f":"IF(LEN(A4896)>0,VLOOKUP(A4896,Subcontractors!$A$2:$B$2,2,FALSE),\"\")","v":""}]
[null,null,null,null,null,null,null,null,null,null,null,null,null,null,null,null,null,null,null,null,null,{"$f":"IF(LEN(X4897)>0,VLOOKUP(X4897,'TFW Programs'!$A$2:$B$24,2,FALSE),\"\")","v":""},null,null,{"$f":"IF(LEN(A4897)>0,VLOOKUP(A4897,Subcontractors!$A$2:$B$3,2,FALSE),\"\")","v":""},null,{"$f":"IF(LEN(A4897)>0,VLOOKUP(A4897,Subcontractors!$A$2:$B$2,2,FALSE),\"\")","v":""}]
[null,null,null,null,null,null,null,null,null,null,null,null,null,null,null,null,null,null,null,null,null,{"$f":"IF(LEN(X4898)>0,VLOOKUP(X4898,'TFW Programs'!$A$2:$B$24,2,FALSE),\"\")","v":""},null,null,{"$f":"IF(LEN(A4898)>0,VLOOKUP(A4898,Subcontractors!$A$2:$B$3,2,FALSE),\"\")","v":""},null,{"$f":"IF(LEN(A4898)>0,VLOOKUP(A4898,Subcontractors!$A$2:$B$2,2,FALSE),\"\")","v":""}]
[null,null,null,null,null,null,null,null,null,null,null,null,null,null,null,null,null,null,null,null,null,{"$f":"IF(LEN(X4899)>0,VLOOKUP(X4899,'TFW Programs'!$A$2:$B$24,2,FALSE),\"\")","v":""},null,null,{"$f":"IF(LEN(A4899)>0,VLOOKUP(A4899,Subcontractors!$A$2:$B$3,2,FALSE),\"\")","v":""},null,{"$f":"IF(LEN(A4899)>0,VLOOKUP(A4899,Subcontractors!$A$2:$B$2,2,FALSE),\"\")","v":""}]
[null,null,null,null,null,null,null,null,null,null,null,null,null,null,null,null,null,null,null,null,null,{"$f":"IF(LEN(X4900)>0,VLOOKUP(X4900,'TFW Programs'!$A$2:$B$24,2,FALSE),\"\")","v":""},null,null,{"$f":"IF(LEN(A4900)>0,VLOOKUP(A4900,Subcontractors!$A$2:$B$3,2,FALSE),\"\")","v":""},null,{"$f":"IF(LEN(A4900)>0,VLOOKUP(A4900,Subcontractors!$A$2:$B$2,2,FALSE),\"\")","v":""}]
[null,null,null,null,null,null,null,null,null,null,null,null,null,null,null,null,null,null,null,null,null,{"$f":"IF(LEN(X4901)>0,VLOOKUP(X4901,'TFW Programs'!$A$2:$B$24,2,FALSE),\"\")","v":""},null,null,{"$f":"IF(LEN(A4901)>0,VLOOKUP(A4901,Subcontractors!$A$2:$B$3,2,FALSE),\"\")","v":""},null,{"$f":"IF(LEN(A4901)>0,VLOOKUP(A4901,Subcontractors!$A$2:$B$2,2,FALSE),\"\")","v":""}]
[null,null,null,null,null,null,null,null,null,null,null,null,null,null,null,null,null,null,null,null,null,{"$f":"IF(LEN(X4902)>0,VLOOKUP(X4902,'TFW Programs'!$A$2:$B$24,2,FALSE),\"\")","v":""},null,null,{"$f":"IF(LEN(A4902)>0,VLOOKUP(A4902,Subcontractors!$A$2:$B$3,2,FALSE),\"\")","v":""},null,{"$f":"IF(LEN(A4902)>0,VLOOKUP(A4902,Subcontractors!$A$2:$B$2,2,FALSE),\"\")","v":""}]
[null,null,null,null,null,null,null,null,null,null,null,null,null,null,null,null,null,null,null,null,null,{"$f":"IF(LEN(X4903)>0,VLOOKUP(X4903,'TFW Programs'!$A$2:$B$24,2,FALSE),\"\")","v":""},null,null,{"$f":"IF(LEN(A4903)>0,VLOOKUP(A4903,Subcontractors!$A$2:$B$3,2,FALSE),\"\")","v":""},null,{"$f":"IF(LEN(A4903)>0,VLOOKUP(A4903,Subcontractors!$A$2:$B$2,2,FALSE),\"\")","v":""}]
[null,null,null,null,null,null,null,null,null,null,null,null,null,null,null,null,null,null,null,null,null,{"$f":"IF(LEN(X4904)>0,VLOOKUP(X4904,'TFW Programs'!$A$2:$B$24,2,FALSE),\"\")","v":""},null,null,{"$f":"IF(LEN(A4904)>0,VLOOKUP(A4904,Subcontractors!$A$2:$B$3,2,FALSE),\"\")","v":""},null,{"$f":"IF(LEN(A4904)>0,VLOOKUP(A4904,Subcontractors!$A$2:$B$2,2,FALSE),\"\")","v":""}]
[null,null,null,null,null,null,null,null,null,null,null,null,null,null,null,null,null,null,null,null,null,{"$f":"IF(LEN(X4905)>0,VLOOKUP(X4905,'TFW Programs'!$A$2:$B$24,2,FALSE),\"\")","v":""},null,null,{"$f":"IF(LEN(A4905)>0,VLOOKUP(A4905,Subcontractors!$A$2:$B$3,2,FALSE),\"\")","v":""},null,{"$f":"IF(LEN(A4905)>0,VLOOKUP(A4905,Subcontractors!$A$2:$B$2,2,FALSE),\"\")","v":""}]
[null,null,null,null,null,null,null,null,null,null,null,null,null,null,null,null,null,null,null,null,null,{"$f":"IF(LEN(X4906)>0,VLOOKUP(X4906,'TFW Programs'!$A$2:$B$24,2,FALSE),\"\")","v":""},null,null,{"$f":"IF(LEN(A4906)>0,VLOOKUP(A4906,Subcontractors!$A$2:$B$3,2,FALSE),\"\")","v":""},null,{"$f":"IF(LEN(A4906)>0,VLOOKUP(A4906,Subcontractors!$A$2:$B$2,2,FALSE),\"\")","v":""}]
[null,null,null,null,null,null,null,null,null,null,null,null,null,null,null,null,null,null,null,null,null,{"$f":"IF(LEN(X4907)>0,VLOOKUP(X4907,'TFW Programs'!$A$2:$B$24,2,FALSE),\"\")","v":""},null,null,{"$f":"IF(LEN(A4907)>0,VLOOKUP(A4907,Subcontractors!$A$2:$B$3,2,FALSE),\"\")","v":""},null,{"$f":"IF(LEN(A4907)>0,VLOOKUP(A4907,Subcontractors!$A$2:$B$2,2,FALSE),\"\")","v":""}]
[null,null,null,null,null,null,null,null,null,null,null,null,null,null,null,null,null,null,null,null,null,{"$f":"IF(LEN(X4908)>0,VLOOKUP(X4908,'TFW Programs'!$A$2:$B$24,2,FALSE),\"\")","v":""},null,null,{"$f":"IF(LEN(A4908)>0,VLOOKUP(A4908,Subcontractors!$A$2:$B$3,2,FALSE),\"\")","v":""},null,{"$f":"IF(LEN(A4908)>0,VLOOKUP(A4908,Subcontractors!$A$2:$B$2,2,FALSE),\"\")","v":""}]
[null,null,null,null,null,null,null,null,null,null,null,null,null,null,null,null,null,null,null,null,null,{"$f":"IF(LEN(X4909)>0,VLOOKUP(X4909,'TFW Programs'!$A$2:$B$24,2,FALSE),\"\")","v":""},null,null,{"$f":"IF(LEN(A4909)>0,VLOOKUP(A4909,Subcontractors!$A$2:$B$3,2,FALSE),\"\")","v":""},null,{"$f":"IF(LEN(A4909)>0,VLOOKUP(A4909,Subcontractors!$A$2:$B$2,2,FALSE),\"\")","v":""}]
[null,null,null,null,null,null,null,null,null,null,null,null,null,null,null,null,null,null,null,null,null,{"$f":"IF(LEN(X4910)>0,VLOOKUP(X4910,'TFW Programs'!$A$2:$B$24,2,FALSE),\"\")","v":""},null,null,{"$f":"IF(LEN(A4910)>0,VLOOKUP(A4910,Subcontractors!$A$2:$B$3,2,FALSE),\"\")","v":""},null,{"$f":"IF(LEN(A4910)>0,VLOOKUP(A4910,Subcontractors!$A$2:$B$2,2,FALSE),\"\")","v":""}]
[null,null,null,null,null,null,null,null,null,null,null,null,null,null,null,null,null,null,null,null,null,{"$f":"IF(LEN(X4911)>0,VLOOKUP(X4911,'TFW Programs'!$A$2:$B$24,2,FALSE),\"\")","v":""},null,null,{"$f":"IF(LEN(A4911)>0,VLOOKUP(A4911,Subcontractors!$A$2:$B$3,2,FALSE),\"\")","v":""},null,{"$f":"IF(LEN(A4911)>0,VLOOKUP(A4911,Subcontractors!$A$2:$B$2,2,FALSE),\"\")","v":""}]
[null,null,null,null,null,null,null,null,null,null,null,null,null,null,null,null,null,null,null,null,null,{"$f":"IF(LEN(X4912)>0,VLOOKUP(X4912,'TFW Programs'!$A$2:$B$24,2,FALSE),\"\")","v":""},null,null,{"$f":"IF(LEN(A4912)>0,VLOOKUP(A4912,Subcontractors!$A$2:$B$3,2,FALSE),\"\")","v":""},null,{"$f":"IF(LEN(A4912)>0,VLOOKUP(A4912,Subcontractors!$A$2:$B$2,2,FALSE),\"\")","v":""}]
[null,null,null,null,null,null,null,null,null,null,null,null,null,null,null,null,null,null,null,null,null,{"$f":"IF(LEN(X4913)>0,VLOOKUP(X4913,'TFW Programs'!$A$2:$B$24,2,FALSE),\"\")","v":""},null,null,{"$f":"IF(LEN(A4913)>0,VLOOKUP(A4913,Subcontractors!$A$2:$B$3,2,FALSE),\"\")","v":""},null,{"$f":"IF(LEN(A4913)>0,VLOOKUP(A4913,Subcontractors!$A$2:$B$2,2,FALSE),\"\")","v":""}]
[null,null,null,null,null,null,null,null,null,null,null,null,null,null,null,null,null,null,null,null,null,{"$f":"IF(LEN(X4914)>0,VLOOKUP(X4914,'TFW Programs'!$A$2:$B$24,2,FALSE),\"\")","v":""},null,null,{"$f":"IF(LEN(A4914)>0,VLOOKUP(A4914,Subcontractors!$A$2:$B$3,2,FALSE),\"\")","v":""},null,{"$f":"IF(LEN(A4914)>0,VLOOKUP(A4914,Subcontractors!$A$2:$B$2,2,FALSE),\"\")","v":""}]
[null,null,null,null,null,null,null,null,null,null,null,null,null,null,null,null,null,null,null,null,null,{"$f":"IF(LEN(X4915)>0,VLOOKUP(X4915,'TFW Programs'!$A$2:$B$24,2,FALSE),\"\")","v":""},null,null,{"$f":"IF(LEN(A4915)>0,VLOOKUP(A4915,Subcontractors!$A$2:$B$3,2,FALSE),\"\")","v":""},null,{"$f":"IF(LEN(A4915)>0,VLOOKUP(A4915,Subcontractors!$A$2:$B$2,2,FALSE),\"\")","v":""}]
[null,null,null,null,null,null,null,null,null,null,null,null,null,null,null,null,null,null,null,null,null,{"$f":"IF(LEN(X4916)>0,VLOOKUP(X4916,'TFW Programs'!$A$2:$B$24,2,FALSE),\"\")","v":""},null,null,{"$f":"IF(LEN(A4916)>0,VLOOKUP(A4916,Subcontractors!$A$2:$B$3,2,FALSE),\"\")","v":""},null,{"$f":"IF(LEN(A4916)>0,VLOOKUP(A4916,Subcontractors!$A$2:$B$2,2,FALSE),\"\")","v":""}]
[null,null,null,null,null,null,null,null,null,null,null,null,null,null,null,null,null,null,null,null,null,{"$f":"IF(LEN(X4917)>0,VLOOKUP(X4917,'TFW Programs'!$A$2:$B$24,2,FALSE),\"\")","v":""},null,null,{"$f":"IF(LEN(A4917)>0,VLOOKUP(A4917,Subcontractors!$A$2:$B$3,2,FALSE),\"\")","v":""},null,{"$f":"IF(LEN(A4917)>0,VLOOKUP(A4917,Subcontractors!$A$2:$B$2,2,FALSE),\"\")","v":""}]
[null,null,null,null,null,null,null,null,null,null,null,null,null,null,null,null,null,null,null,null,null,{"$f":"IF(LEN(X4918)>0,VLOOKUP(X4918,'TFW Programs'!$A$2:$B$24,2,FALSE),\"\")","v":""},null,null,{"$f":"IF(LEN(A4918)>0,VLOOKUP(A4918,Subcontractors!$A$2:$B$3,2,FALSE),\"\")","v":""},null,{"$f":"IF(LEN(A4918)>0,VLOOKUP(A4918,Subcontractors!$A$2:$B$2,2,FALSE),\"\")","v":""}]
[null,null,null,null,null,null,null,null,null,null,null,null,null,null,null,null,null,null,null,null,null,{"$f":"IF(LEN(X4919)>0,VLOOKUP(X4919,'TFW Programs'!$A$2:$B$24,2,FALSE),\"\")","v":""},null,null,{"$f":"IF(LEN(A4919)>0,VLOOKUP(A4919,Subcontractors!$A$2:$B$3,2,FALSE),\"\")","v":""},null,{"$f":"IF(LEN(A4919)>0,VLOOKUP(A4919,Subcontractors!$A$2:$B$2,2,FALSE),\"\")","v":""}]
[null,null,null,null,null,null,null,null,null,null,null,null,null,null,null,null,null,null,null,null,null,{"$f":"IF(LEN(X4920)>0,VLOOKUP(X4920,'TFW Programs'!$A$2:$B$24,2,FALSE),\"\")","v":""},null,null,{"$f":"IF(LEN(A4920)>0,VLOOKUP(A4920,Subcontractors!$A$2:$B$3,2,FALSE),\"\")","v":""},null,{"$f":"IF(LEN(A4920)>0,VLOOKUP(A4920,Subcontractors!$A$2:$B$2,2,FALSE),\"\")","v":""}]
[null,null,null,null,null,null,null,null,null,null,null,null,null,null,null,null,null,null,null,null,null,{"$f":"IF(LEN(X4921)>0,VLOOKUP(X4921,'TFW Programs'!$A$2:$B$24,2,FALSE),\"\")","v":""},null,null,{"$f":"IF(LEN(A4921)>0,VLOOKUP(A4921,Subcontractors!$A$2:$B$3,2,FALSE),\"\")","v":""},null,{"$f":"IF(LEN(A4921)>0,VLOOKUP(A4921,Subcontractors!$A$2:$B$2,2,FALSE),\"\")","v":""}]
[null,null,null,null,null,null,null,null,null,null,null,null,null,null,null,null,null,null,null,null,null,{"$f":"IF(LEN(X4922)>0,VLOOKUP(X4922,'TFW Programs'!$A$2:$B$24,2,FALSE),\"\")","v":""},null,null,{"$f":"IF(LEN(A4922)>0,VLOOKUP(A4922,Subcontractors!$A$2:$B$3,2,FALSE),\"\")","v":""},null,{"$f":"IF(LEN(A4922)>0,VLOOKUP(A4922,Subcontractors!$A$2:$B$2,2,FALSE),\"\")","v":""}]
[null,null,null,null,null,null,null,null,null,null,null,null,null,null,null,null,null,null,null,null,null,{"$f":"IF(LEN(X4923)>0,VLOOKUP(X4923,'TFW Programs'!$A$2:$B$24,2,FALSE),\"\")","v":""},null,null,{"$f":"IF(LEN(A4923)>0,VLOOKUP(A4923,Subcontractors!$A$2:$B$3,2,FALSE),\"\")","v":""},null,{"$f":"IF(LEN(A4923)>0,VLOOKUP(A4923,Subcontractors!$A$2:$B$2,2,FALSE),\"\")","v":""}]
[null,null,null,null,null,null,null,null,null,null,null,null,null,null,null,null,null,null,null,null,null,{"$f":"IF(LEN(X4924)>0,VLOOKUP(X4924,'TFW Programs'!$A$2:$B$24,2,FALSE),\"\")","v":""},null,null,{"$f":"IF(LEN(A4924)>0,VLOOKUP(A4924,Subcontractors!$A$2:$B$3,2,FALSE),\"\")","v":""},null,{"$f":"IF(LEN(A4924)>0,VLOOKUP(A4924,Subcontractors!$A$2:$B$2,2,FALSE),\"\")","v":""}]
[null,null,null,null,null,null,null,null,null,null,null,null,null,null,null,null,null,null,null,null,null,{"$f":"IF(LEN(X4925)>0,VLOOKUP(X4925,'TFW Programs'!$A$2:$B$24,2,FALSE),\"\")","v":""},null,null,{"$f":"IF(LEN(A4925)>0,VLOOKUP(A4925,Subcontractors!$A$2:$B$3,2,FALSE),\"\")","v":""},null,{"$f":"IF(LEN(A4925)>0,VLOOKUP(A4925,Subcontractors!$A$2:$B$2,2,FALSE),\"\")","v":""}]
[null,null,null,null,null,null,null,null,null,null,null,null,null,null,null,null,null,null,null,null,null,{"$f":"IF(LEN(X4926)>0,VLOOKUP(X4926,'TFW Programs'!$A$2:$B$24,2,FALSE),\"\")","v":""},null,null,{"$f":"IF(LEN(A4926)>0,VLOOKUP(A4926,Subcontractors!$A$2:$B$3,2,FALSE),\"\")","v":""},null,{"$f":"IF(LEN(A4926)>0,VLOOKUP(A4926,Subcontractors!$A$2:$B$2,2,FALSE),\"\")","v":""}]
[null,null,null,null,null,null,null,null,null,null,null,null,null,null,null,null,null,null,null,null,null,{"$f":"IF(LEN(X4927)>0,VLOOKUP(X4927,'TFW Programs'!$A$2:$B$24,2,FALSE),\"\")","v":""},null,null,{"$f":"IF(LEN(A4927)>0,VLOOKUP(A4927,Subcontractors!$A$2:$B$3,2,FALSE),\"\")","v":""},null,{"$f":"IF(LEN(A4927)>0,VLOOKUP(A4927,Subcontractors!$A$2:$B$2,2,FALSE),\"\")","v":""}]
[null,null,null,null,null,null,null,null,null,null,null,null,null,null,null,null,null,null,null,null,null,{"$f":"IF(LEN(X4928)>0,VLOOKUP(X4928,'TFW Programs'!$A$2:$B$24,2,FALSE),\"\")","v":""},null,null,{"$f":"IF(LEN(A4928)>0,VLOOKUP(A4928,Subcontractors!$A$2:$B$3,2,FALSE),\"\")","v":""},null,{"$f":"IF(LEN(A4928)>0,VLOOKUP(A4928,Subcontractors!$A$2:$B$2,2,FALSE),\"\")","v":""}]
[null,null,null,null,null,null,null,null,null,null,null,null,null,null,null,null,null,null,null,null,null,{"$f":"IF(LEN(X4929)>0,VLOOKUP(X4929,'TFW Programs'!$A$2:$B$24,2,FALSE),\"\")","v":""},null,null,{"$f":"IF(LEN(A4929)>0,VLOOKUP(A4929,Subcontractors!$A$2:$B$3,2,FALSE),\"\")","v":""},null,{"$f":"IF(LEN(A4929)>0,VLOOKUP(A4929,Subcontractors!$A$2:$B$2,2,FALSE),\"\")","v":""}]
[null,null,null,null,null,null,null,null,null,null,null,null,null,null,null,null,null,null,null,null,null,{"$f":"IF(LEN(X4930)>0,VLOOKUP(X4930,'TFW Programs'!$A$2:$B$24,2,FALSE),\"\")","v":""},null,null,{"$f":"IF(LEN(A4930)>0,VLOOKUP(A4930,Subcontractors!$A$2:$B$3,2,FALSE),\"\")","v":""},null,{"$f":"IF(LEN(A4930)>0,VLOOKUP(A4930,Subcontractors!$A$2:$B$2,2,FALSE),\"\")","v":""}]
[null,null,null,null,null,null,null,null,null,null,null,null,null,null,null,null,null,null,null,null,null,{"$f":"IF(LEN(X4931)>0,VLOOKUP(X4931,'TFW Programs'!$A$2:$B$24,2,FALSE),\"\")","v":""},null,null,{"$f":"IF(LEN(A4931)>0,VLOOKUP(A4931,Subcontractors!$A$2:$B$3,2,FALSE),\"\")","v":""},null,{"$f":"IF(LEN(A4931)>0,VLOOKUP(A4931,Subcontractors!$A$2:$B$2,2,FALSE),\"\")","v":""}]
[null,null,null,null,null,null,null,null,null,null,null,null,null,null,null,null,null,null,null,null,null,{"$f":"IF(LEN(X4932)>0,VLOOKUP(X4932,'TFW Programs'!$A$2:$B$24,2,FALSE),\"\")","v":""},null,null,{"$f":"IF(LEN(A4932)>0,VLOOKUP(A4932,Subcontractors!$A$2:$B$3,2,FALSE),\"\")","v":""},null,{"$f":"IF(LEN(A4932)>0,VLOOKUP(A4932,Subcontractors!$A$2:$B$2,2,FALSE),\"\")","v":""}]
[null,null,null,null,null,null,null,null,null,null,null,null,null,null,null,null,null,null,null,null,null,{"$f":"IF(LEN(X4933)>0,VLOOKUP(X4933,'TFW Programs'!$A$2:$B$24,2,FALSE),\"\")","v":""},null,null,{"$f":"IF(LEN(A4933)>0,VLOOKUP(A4933,Subcontractors!$A$2:$B$3,2,FALSE),\"\")","v":""},null,{"$f":"IF(LEN(A4933)>0,VLOOKUP(A4933,Subcontractors!$A$2:$B$2,2,FALSE),\"\")","v":""}]
[null,null,null,null,null,null,null,null,null,null,null,null,null,null,null,null,null,null,null,null,null,{"$f":"IF(LEN(X4934)>0,VLOOKUP(X4934,'TFW Programs'!$A$2:$B$24,2,FALSE),\"\")","v":""},null,null,{"$f":"IF(LEN(A4934)>0,VLOOKUP(A4934,Subcontractors!$A$2:$B$3,2,FALSE),\"\")","v":""},null,{"$f":"IF(LEN(A4934)>0,VLOOKUP(A4934,Subcontractors!$A$2:$B$2,2,FALSE),\"\")","v":""}]
[null,null,null,null,null,null,null,null,null,null,null,null,null,null,null,null,null,null,null,null,null,{"$f":"IF(LEN(X4935)>0,VLOOKUP(X4935,'TFW Programs'!$A$2:$B$24,2,FALSE),\"\")","v":""},null,null,{"$f":"IF(LEN(A4935)>0,VLOOKUP(A4935,Subcontractors!$A$2:$B$3,2,FALSE),\"\")","v":""},null,{"$f":"IF(LEN(A4935)>0,VLOOKUP(A4935,Subcontractors!$A$2:$B$2,2,FALSE),\"\")","v":""}]
[null,null,null,null,null,null,null,null,null,null,null,null,null,null,null,null,null,null,null,null,null,{"$f":"IF(LEN(X4936)>0,VLOOKUP(X4936,'TFW Programs'!$A$2:$B$24,2,FALSE),\"\")","v":""},null,null,{"$f":"IF(LEN(A4936)>0,VLOOKUP(A4936,Subcontractors!$A$2:$B$3,2,FALSE),\"\")","v":""},null,{"$f":"IF(LEN(A4936)>0,VLOOKUP(A4936,Subcontractors!$A$2:$B$2,2,FALSE),\"\")","v":""}]
[null,null,null,null,null,null,null,null,null,null,null,null,null,null,null,null,null,null,null,null,null,{"$f":"IF(LEN(X4937)>0,VLOOKUP(X4937,'TFW Programs'!$A$2:$B$24,2,FALSE),\"\")","v":""},null,null,{"$f":"IF(LEN(A4937)>0,VLOOKUP(A4937,Subcontractors!$A$2:$B$3,2,FALSE),\"\")","v":""},null,{"$f":"IF(LEN(A4937)>0,VLOOKUP(A4937,Subcontractors!$A$2:$B$2,2,FALSE),\"\")","v":""}]
[null,null,null,null,null,null,null,null,null,null,null,null,null,null,null,null,null,null,null,null,null,{"$f":"IF(LEN(X4938)>0,VLOOKUP(X4938,'TFW Programs'!$A$2:$B$24,2,FALSE),\"\")","v":""},null,null,{"$f":"IF(LEN(A4938)>0,VLOOKUP(A4938,Subcontractors!$A$2:$B$3,2,FALSE),\"\")","v":""},null,{"$f":"IF(LEN(A4938)>0,VLOOKUP(A4938,Subcontractors!$A$2:$B$2,2,FALSE),\"\")","v":""}]
[null,null,null,null,null,null,null,null,null,null,null,null,null,null,null,null,null,null,null,null,null,{"$f":"IF(LEN(X4939)>0,VLOOKUP(X4939,'TFW Programs'!$A$2:$B$24,2,FALSE),\"\")","v":""},null,null,{"$f":"IF(LEN(A4939)>0,VLOOKUP(A4939,Subcontractors!$A$2:$B$3,2,FALSE),\"\")","v":""},null,{"$f":"IF(LEN(A4939)>0,VLOOKUP(A4939,Subcontractors!$A$2:$B$2,2,FALSE),\"\")","v":""}]
[null,null,null,null,null,null,null,null,null,null,null,null,null,null,null,null,null,null,null,null,null,{"$f":"IF(LEN(X4940)>0,VLOOKUP(X4940,'TFW Programs'!$A$2:$B$24,2,FALSE),\"\")","v":""},null,null,{"$f":"IF(LEN(A4940)>0,VLOOKUP(A4940,Subcontractors!$A$2:$B$3,2,FALSE),\"\")","v":""},null,{"$f":"IF(LEN(A4940)>0,VLOOKUP(A4940,Subcontractors!$A$2:$B$2,2,FALSE),\"\")","v":""}]
[null,null,null,null,null,null,null,null,null,null,null,null,null,null,null,null,null,null,null,null,null,{"$f":"IF(LEN(X4941)>0,VLOOKUP(X4941,'TFW Programs'!$A$2:$B$24,2,FALSE),\"\")","v":""},null,null,{"$f":"IF(LEN(A4941)>0,VLOOKUP(A4941,Subcontractors!$A$2:$B$3,2,FALSE),\"\")","v":""},null,{"$f":"IF(LEN(A4941)>0,VLOOKUP(A4941,Subcontractors!$A$2:$B$2,2,FALSE),\"\")","v":""}]
[null,null,null,null,null,null,null,null,null,null,null,null,null,null,null,null,null,null,null,null,null,{"$f":"IF(LEN(X4942)>0,VLOOKUP(X4942,'TFW Programs'!$A$2:$B$24,2,FALSE),\"\")","v":""},null,null,{"$f":"IF(LEN(A4942)>0,VLOOKUP(A4942,Subcontractors!$A$2:$B$3,2,FALSE),\"\")","v":""},null,{"$f":"IF(LEN(A4942)>0,VLOOKUP(A4942,Subcontractors!$A$2:$B$2,2,FALSE),\"\")","v":""}]
[null,null,null,null,null,null,null,null,null,null,null,null,null,null,null,null,null,null,null,null,null,{"$f":"IF(LEN(X4943)>0,VLOOKUP(X4943,'TFW Programs'!$A$2:$B$24,2,FALSE),\"\")","v":""},null,null,{"$f":"IF(LEN(A4943)>0,VLOOKUP(A4943,Subcontractors!$A$2:$B$3,2,FALSE),\"\")","v":""},null,{"$f":"IF(LEN(A4943)>0,VLOOKUP(A4943,Subcontractors!$A$2:$B$2,2,FALSE),\"\")","v":""}]
[null,null,null,null,null,null,null,null,null,null,null,null,null,null,null,null,null,null,null,null,null,{"$f":"IF(LEN(X4944)>0,VLOOKUP(X4944,'TFW Programs'!$A$2:$B$24,2,FALSE),\"\")","v":""},null,null,{"$f":"IF(LEN(A4944)>0,VLOOKUP(A4944,Subcontractors!$A$2:$B$3,2,FALSE),\"\")","v":""},null,{"$f":"IF(LEN(A4944)>0,VLOOKUP(A4944,Subcontractors!$A$2:$B$2,2,FALSE),\"\")","v":""}]
[null,null,null,null,null,null,null,null,null,null,null,null,null,null,null,null,null,null,null,null,null,{"$f":"IF(LEN(X4945)>0,VLOOKUP(X4945,'TFW Programs'!$A$2:$B$24,2,FALSE),\"\")","v":""},null,null,{"$f":"IF(LEN(A4945)>0,VLOOKUP(A4945,Subcontractors!$A$2:$B$3,2,FALSE),\"\")","v":""},null,{"$f":"IF(LEN(A4945)>0,VLOOKUP(A4945,Subcontractors!$A$2:$B$2,2,FALSE),\"\")","v":""}]
[null,null,null,null,null,null,null,null,null,null,null,null,null,null,null,null,null,null,null,null,null,{"$f":"IF(LEN(X4946)>0,VLOOKUP(X4946,'TFW Programs'!$A$2:$B$24,2,FALSE),\"\")","v":""},null,null,{"$f":"IF(LEN(A4946)>0,VLOOKUP(A4946,Subcontractors!$A$2:$B$3,2,FALSE),\"\")","v":""},null,{"$f":"IF(LEN(A4946)>0,VLOOKUP(A4946,Subcontractors!$A$2:$B$2,2,FALSE),\"\")","v":""}]
[null,null,null,null,null,null,null,null,null,null,null,null,null,null,null,null,null,null,null,null,null,{"$f":"IF(LEN(X4947)>0,VLOOKUP(X4947,'TFW Programs'!$A$2:$B$24,2,FALSE),\"\")","v":""},null,null,{"$f":"IF(LEN(A4947)>0,VLOOKUP(A4947,Subcontractors!$A$2:$B$3,2,FALSE),\"\")","v":""},null,{"$f":"IF(LEN(A4947)>0,VLOOKUP(A4947,Subcontractors!$A$2:$B$2,2,FALSE),\"\")","v":""}]
[null,null,null,null,null,null,null,null,null,null,null,null,null,null,null,null,null,null,null,null,null,{"$f":"IF(LEN(X4948)>0,VLOOKUP(X4948,'TFW Programs'!$A$2:$B$24,2,FALSE),\"\")","v":""},null,null,{"$f":"IF(LEN(A4948)>0,VLOOKUP(A4948,Subcontractors!$A$2:$B$3,2,FALSE),\"\")","v":""},null,{"$f":"IF(LEN(A4948)>0,VLOOKUP(A4948,Subcontractors!$A$2:$B$2,2,FALSE),\"\")","v":""}]
[null,null,null,null,null,null,null,null,null,null,null,null,null,null,null,null,null,null,null,null,null,{"$f":"IF(LEN(X4949)>0,VLOOKUP(X4949,'TFW Programs'!$A$2:$B$24,2,FALSE),\"\")","v":""},null,null,{"$f":"IF(LEN(A4949)>0,VLOOKUP(A4949,Subcontractors!$A$2:$B$3,2,FALSE),\"\")","v":""},null,{"$f":"IF(LEN(A4949)>0,VLOOKUP(A4949,Subcontractors!$A$2:$B$2,2,FALSE),\"\")","v":""}]
[null,null,null,null,null,null,null,null,null,null,null,null,null,null,null,null,null,null,null,null,null,{"$f":"IF(LEN(X4950)>0,VLOOKUP(X4950,'TFW Programs'!$A$2:$B$24,2,FALSE),\"\")","v":""},null,null,{"$f":"IF(LEN(A4950)>0,VLOOKUP(A4950,Subcontractors!$A$2:$B$3,2,FALSE),\"\")","v":""},null,{"$f":"IF(LEN(A4950)>0,VLOOKUP(A4950,Subcontractors!$A$2:$B$2,2,FALSE),\"\")","v":""}]
[null,null,null,null,null,null,null,null,null,null,null,null,null,null,null,null,null,null,null,null,null,{"$f":"IF(LEN(X4951)>0,VLOOKUP(X4951,'TFW Programs'!$A$2:$B$24,2,FALSE),\"\")","v":""},null,null,{"$f":"IF(LEN(A4951)>0,VLOOKUP(A4951,Subcontractors!$A$2:$B$3,2,FALSE),\"\")","v":""},null,{"$f":"IF(LEN(A4951)>0,VLOOKUP(A4951,Subcontractors!$A$2:$B$2,2,FALSE),\"\")","v":""}]
[null,null,null,null,null,null,null,null,null,null,null,null,null,null,null,null,null,null,null,null,null,{"$f":"IF(LEN(X4952)>0,VLOOKUP(X4952,'TFW Programs'!$A$2:$B$24,2,FALSE),\"\")","v":""},null,null,{"$f":"IF(LEN(A4952)>0,VLOOKUP(A4952,Subcontractors!$A$2:$B$3,2,FALSE),\"\")","v":""},null,{"$f":"IF(LEN(A4952)>0,VLOOKUP(A4952,Subcontractors!$A$2:$B$2,2,FALSE),\"\")","v":""}]
[null,null,null,null,null,null,null,null,null,null,null,null,null,null,null,null,null,null,null,null,null,{"$f":"IF(LEN(X4953)>0,VLOOKUP(X4953,'TFW Programs'!$A$2:$B$24,2,FALSE),\"\")","v":""},null,null,{"$f":"IF(LEN(A4953)>0,VLOOKUP(A4953,Subcontractors!$A$2:$B$3,2,FALSE),\"\")","v":""},null,{"$f":"IF(LEN(A4953)>0,VLOOKUP(A4953,Subcontractors!$A$2:$B$2,2,FALSE),\"\")","v":""}]
[null,null,null,null,null,null,null,null,null,null,null,null,null,null,null,null,null,null,null,null,null,{"$f":"IF(LEN(X4954)>0,VLOOKUP(X4954,'TFW Programs'!$A$2:$B$24,2,FALSE),\"\")","v":""},null,null,{"$f":"IF(LEN(A4954)>0,VLOOKUP(A4954,Subcontractors!$A$2:$B$3,2,FALSE),\"\")","v":""},null,{"$f":"IF(LEN(A4954)>0,VLOOKUP(A4954,Subcontractors!$A$2:$B$2,2,FALSE),\"\")","v":""}]
[null,null,null,null,null,null,null,null,null,null,null,null,null,null,null,null,null,null,null,null,null,{"$f":"IF(LEN(X4955)>0,VLOOKUP(X4955,'TFW Programs'!$A$2:$B$24,2,FALSE),\"\")","v":""},null,null,{"$f":"IF(LEN(A4955)>0,VLOOKUP(A4955,Subcontractors!$A$2:$B$3,2,FALSE),\"\")","v":""},null,{"$f":"IF(LEN(A4955)>0,VLOOKUP(A4955,Subcontractors!$A$2:$B$2,2,FALSE),\"\")","v":""}]
[null,null,null,null,null,null,null,null,null,null,null,null,null,null,null,null,null,null,null,null,null,{"$f":"IF(LEN(X4956)>0,VLOOKUP(X4956,'TFW Programs'!$A$2:$B$24,2,FALSE),\"\")","v":""},null,null,{"$f":"IF(LEN(A4956)>0,VLOOKUP(A4956,Subcontractors!$A$2:$B$3,2,FALSE),\"\")","v":""},null,{"$f":"IF(LEN(A4956)>0,VLOOKUP(A4956,Subcontractors!$A$2:$B$2,2,FALSE),\"\")","v":""}]
[null,null,null,null,null,null,null,null,null,null,null,null,null,null,null,null,null,null,null,null,null,{"$f":"IF(LEN(X4957)>0,VLOOKUP(X4957,'TFW Programs'!$A$2:$B$24,2,FALSE),\"\")","v":""},null,null,{"$f":"IF(LEN(A4957)>0,VLOOKUP(A4957,Subcontractors!$A$2:$B$3,2,FALSE),\"\")","v":""},null,{"$f":"IF(LEN(A4957)>0,VLOOKUP(A4957,Subcontractors!$A$2:$B$2,2,FALSE),\"\")","v":""}]
[null,null,null,null,null,null,null,null,null,null,null,null,null,null,null,null,null,null,null,null,null,{"$f":"IF(LEN(X4958)>0,VLOOKUP(X4958,'TFW Programs'!$A$2:$B$24,2,FALSE),\"\")","v":""},null,null,{"$f":"IF(LEN(A4958)>0,VLOOKUP(A4958,Subcontractors!$A$2:$B$3,2,FALSE),\"\")","v":""},null,{"$f":"IF(LEN(A4958)>0,VLOOKUP(A4958,Subcontractors!$A$2:$B$2,2,FALSE),\"\")","v":""}]
[null,null,null,null,null,null,null,null,null,null,null,null,null,null,null,null,null,null,null,null,null,{"$f":"IF(LEN(X4959)>0,VLOOKUP(X4959,'TFW Programs'!$A$2:$B$24,2,FALSE),\"\")","v":""},null,null,{"$f":"IF(LEN(A4959)>0,VLOOKUP(A4959,Subcontractors!$A$2:$B$3,2,FALSE),\"\")","v":""},null,{"$f":"IF(LEN(A4959)>0,VLOOKUP(A4959,Subcontractors!$A$2:$B$2,2,FALSE),\"\")","v":""}]
[null,null,null,null,null,null,null,null,null,null,null,null,null,null,null,null,null,null,null,null,null,{"$f":"IF(LEN(X4960)>0,VLOOKUP(X4960,'TFW Programs'!$A$2:$B$24,2,FALSE),\"\")","v":""},null,null,{"$f":"IF(LEN(A4960)>0,VLOOKUP(A4960,Subcontractors!$A$2:$B$3,2,FALSE),\"\")","v":""},null,{"$f":"IF(LEN(A4960)>0,VLOOKUP(A4960,Subcontractors!$A$2:$B$2,2,FALSE),\"\")","v":""}]
[null,null,null,null,null,null,null,null,null,null,null,null,null,null,null,null,null,null,null,null,null,{"$f":"IF(LEN(X4961)>0,VLOOKUP(X4961,'TFW Programs'!$A$2:$B$24,2,FALSE),\"\")","v":""},null,null,{"$f":"IF(LEN(A4961)>0,VLOOKUP(A4961,Subcontractors!$A$2:$B$3,2,FALSE),\"\")","v":""},null,{"$f":"IF(LEN(A4961)>0,VLOOKUP(A4961,Subcontractors!$A$2:$B$2,2,FALSE),\"\")","v":""}]
[null,null,null,null,null,null,null,null,null,null,null,null,null,null,null,null,null,null,null,null,null,{"$f":"IF(LEN(X4962)>0,VLOOKUP(X4962,'TFW Programs'!$A$2:$B$24,2,FALSE),\"\")","v":""},null,null,{"$f":"IF(LEN(A4962)>0,VLOOKUP(A4962,Subcontractors!$A$2:$B$3,2,FALSE),\"\")","v":""},null,{"$f":"IF(LEN(A4962)>0,VLOOKUP(A4962,Subcontractors!$A$2:$B$2,2,FALSE),\"\")","v":""}]
[null,null,null,null,null,null,null,null,null,null,null,null,null,null,null,null,null,null,null,null,null,{"$f":"IF(LEN(X4963)>0,VLOOKUP(X4963,'TFW Programs'!$A$2:$B$24,2,FALSE),\"\")","v":""},null,null,{"$f":"IF(LEN(A4963)>0,VLOOKUP(A4963,Subcontractors!$A$2:$B$3,2,FALSE),\"\")","v":""},null,{"$f":"IF(LEN(A4963)>0,VLOOKUP(A4963,Subcontractors!$A$2:$B$2,2,FALSE),\"\")","v":""}]
[null,null,null,null,null,null,null,null,null,null,null,null,null,null,null,null,null,null,null,null,null,{"$f":"IF(LEN(X4964)>0,VLOOKUP(X4964,'TFW Programs'!$A$2:$B$24,2,FALSE),\"\")","v":""},null,null,{"$f":"IF(LEN(A4964)>0,VLOOKUP(A4964,Subcontractors!$A$2:$B$3,2,FALSE),\"\")","v":""},null,{"$f":"IF(LEN(A4964)>0,VLOOKUP(A4964,Subcontractors!$A$2:$B$2,2,FALSE),\"\")","v":""}]
[null,null,null,null,null,null,null,null,null,null,null,null,null,null,null,null,null,null,null,null,null,{"$f":"IF(LEN(X4965)>0,VLOOKUP(X4965,'TFW Programs'!$A$2:$B$24,2,FALSE),\"\")","v":""},null,null,{"$f":"IF(LEN(A4965)>0,VLOOKUP(A4965,Subcontractors!$A$2:$B$3,2,FALSE),\"\")","v":""},null,{"$f":"IF(LEN(A4965)>0,VLOOKUP(A4965,Subcontractors!$A$2:$B$2,2,FALSE),\"\")","v":""}]
[null,null,null,null,null,null,null,null,null,null,null,null,null,null,null,null,null,null,null,null,null,{"$f":"IF(LEN(X4966)>0,VLOOKUP(X4966,'TFW Programs'!$A$2:$B$24,2,FALSE),\"\")","v":""},null,null,{"$f":"IF(LEN(A4966)>0,VLOOKUP(A4966,Subcontractors!$A$2:$B$3,2,FALSE),\"\")","v":""},null,{"$f":"IF(LEN(A4966)>0,VLOOKUP(A4966,Subcontractors!$A$2:$B$2,2,FALSE),\"\")","v":""}]
[null,null,null,null,null,null,null,null,null,null,null,null,null,null,null,null,null,null,null,null,null,{"$f":"IF(LEN(X4967)>0,VLOOKUP(X4967,'TFW Programs'!$A$2:$B$24,2,FALSE),\"\")","v":""},null,null,{"$f":"IF(LEN(A4967)>0,VLOOKUP(A4967,Subcontractors!$A$2:$B$3,2,FALSE),\"\")","v":""},null,{"$f":"IF(LEN(A4967)>0,VLOOKUP(A4967,Subcontractors!$A$2:$B$2,2,FALSE),\"\")","v":""}]
[null,null,null,null,null,null,null,null,null,null,null,null,null,null,null,null,null,null,null,null,null,{"$f":"IF(LEN(X4968)>0,VLOOKUP(X4968,'TFW Programs'!$A$2:$B$24,2,FALSE),\"\")","v":""},null,null,{"$f":"IF(LEN(A4968)>0,VLOOKUP(A4968,Subcontractors!$A$2:$B$3,2,FALSE),\"\")","v":""},null,{"$f":"IF(LEN(A4968)>0,VLOOKUP(A4968,Subcontractors!$A$2:$B$2,2,FALSE),\"\")","v":""}]
[null,null,null,null,null,null,null,null,null,null,null,null,null,null,null,null,null,null,null,null,null,{"$f":"IF(LEN(X4969)>0,VLOOKUP(X4969,'TFW Programs'!$A$2:$B$24,2,FALSE),\"\")","v":""},null,null,{"$f":"IF(LEN(A4969)>0,VLOOKUP(A4969,Subcontractors!$A$2:$B$3,2,FALSE),\"\")","v":""},null,{"$f":"IF(LEN(A4969)>0,VLOOKUP(A4969,Subcontractors!$A$2:$B$2,2,FALSE),\"\")","v":""}]
[null,null,null,null,null,null,null,null,null,null,null,null,null,null,null,null,null,null,null,null,null,{"$f":"IF(LEN(X4970)>0,VLOOKUP(X4970,'TFW Programs'!$A$2:$B$24,2,FALSE),\"\")","v":""},null,null,{"$f":"IF(LEN(A4970)>0,VLOOKUP(A4970,Subcontractors!$A$2:$B$3,2,FALSE),\"\")","v":""},null,{"$f":"IF(LEN(A4970)>0,VLOOKUP(A4970,Subcontractors!$A$2:$B$2,2,FALSE),\"\")","v":""}]
[null,null,null,null,null,null,null,null,null,null,null,null,null,null,null,null,null,null,null,null,null,{"$f":"IF(LEN(X4971)>0,VLOOKUP(X4971,'TFW Programs'!$A$2:$B$24,2,FALSE),\"\")","v":""},null,null,{"$f":"IF(LEN(A4971)>0,VLOOKUP(A4971,Subcontractors!$A$2:$B$3,2,FALSE),\"\")","v":""},null,{"$f":"IF(LEN(A4971)>0,VLOOKUP(A4971,Subcontractors!$A$2:$B$2,2,FALSE),\"\")","v":""}]
[null,null,null,null,null,null,null,null,null,null,null,null,null,null,null,null,null,null,null,null,null,{"$f":"IF(LEN(X4972)>0,VLOOKUP(X4972,'TFW Programs'!$A$2:$B$24,2,FALSE),\"\")","v":""},null,null,{"$f":"IF(LEN(A4972)>0,VLOOKUP(A4972,Subcontractors!$A$2:$B$3,2,FALSE),\"\")","v":""},null,{"$f":"IF(LEN(A4972)>0,VLOOKUP(A4972,Subcontractors!$A$2:$B$2,2,FALSE),\"\")","v":""}]
[null,null,null,null,null,null,null,null,null,null,null,null,null,null,null,null,null,null,null,null,null,{"$f":"IF(LEN(X4973)>0,VLOOKUP(X4973,'TFW Programs'!$A$2:$B$24,2,FALSE),\"\")","v":""},null,null,{"$f":"IF(LEN(A4973)>0,VLOOKUP(A4973,Subcontractors!$A$2:$B$3,2,FALSE),\"\")","v":""},null,{"$f":"IF(LEN(A4973)>0,VLOOKUP(A4973,Subcontractors!$A$2:$B$2,2,FALSE),\"\")","v":""}]
[null,null,null,null,null,null,null,null,null,null,null,null,null,null,null,null,null,null,null,null,null,{"$f":"IF(LEN(X4974)>0,VLOOKUP(X4974,'TFW Programs'!$A$2:$B$24,2,FALSE),\"\")","v":""},null,null,{"$f":"IF(LEN(A4974)>0,VLOOKUP(A4974,Subcontractors!$A$2:$B$3,2,FALSE),\"\")","v":""},null,{"$f":"IF(LEN(A4974)>0,VLOOKUP(A4974,Subcontractors!$A$2:$B$2,2,FALSE),\"\")","v":""}]
[null,null,null,null,null,null,null,null,null,null,null,null,null,null,null,null,null,null,null,null,null,{"$f":"IF(LEN(X4975)>0,VLOOKUP(X4975,'TFW Programs'!$A$2:$B$24,2,FALSE),\"\")","v":""},null,null,{"$f":"IF(LEN(A4975)>0,VLOOKUP(A4975,Subcontractors!$A$2:$B$3,2,FALSE),\"\")","v":""},null,{"$f":"IF(LEN(A4975)>0,VLOOKUP(A4975,Subcontractors!$A$2:$B$2,2,FALSE),\"\")","v":""}]
[null,null,null,null,null,null,null,null,null,null,null,null,null,null,null,null,null,null,null,null,null,{"$f":"IF(LEN(X4976)>0,VLOOKUP(X4976,'TFW Programs'!$A$2:$B$24,2,FALSE),\"\")","v":""},null,null,{"$f":"IF(LEN(A4976)>0,VLOOKUP(A4976,Subcontractors!$A$2:$B$3,2,FALSE),\"\")","v":""},null,{"$f":"IF(LEN(A4976)>0,VLOOKUP(A4976,Subcontractors!$A$2:$B$2,2,FALSE),\"\")","v":""}]
[null,null,null,null,null,null,null,null,null,null,null,null,null,null,null,null,null,null,null,null,null,{"$f":"IF(LEN(X4977)>0,VLOOKUP(X4977,'TFW Programs'!$A$2:$B$24,2,FALSE),\"\")","v":""},null,null,{"$f":"IF(LEN(A4977)>0,VLOOKUP(A4977,Subcontractors!$A$2:$B$3,2,FALSE),\"\")","v":""},null,{"$f":"IF(LEN(A4977)>0,VLOOKUP(A4977,Subcontractors!$A$2:$B$2,2,FALSE),\"\")","v":""}]
[null,null,null,null,null,null,null,null,null,null,null,null,null,null,null,null,null,null,null,null,null,{"$f":"IF(LEN(X4978)>0,VLOOKUP(X4978,'TFW Programs'!$A$2:$B$24,2,FALSE),\"\")","v":""},null,null,{"$f":"IF(LEN(A4978)>0,VLOOKUP(A4978,Subcontractors!$A$2:$B$3,2,FALSE),\"\")","v":""},null,{"$f":"IF(LEN(A4978)>0,VLOOKUP(A4978,Subcontractors!$A$2:$B$2,2,FALSE),\"\")","v":""}]
[null,null,null,null,null,null,null,null,null,null,null,null,null,null,null,null,null,null,null,null,null,{"$f":"IF(LEN(X4979)>0,VLOOKUP(X4979,'TFW Programs'!$A$2:$B$24,2,FALSE),\"\")","v":""},null,null,{"$f":"IF(LEN(A4979)>0,VLOOKUP(A4979,Subcontractors!$A$2:$B$3,2,FALSE),\"\")","v":""},null,{"$f":"IF(LEN(A4979)>0,VLOOKUP(A4979,Subcontractors!$A$2:$B$2,2,FALSE),\"\")","v":""}]
[null,null,null,null,null,null,null,null,null,null,null,null,null,null,null,null,null,null,null,null,null,{"$f":"IF(LEN(X4980)>0,VLOOKUP(X4980,'TFW Programs'!$A$2:$B$24,2,FALSE),\"\")","v":""},null,null,{"$f":"IF(LEN(A4980)>0,VLOOKUP(A4980,Subcontractors!$A$2:$B$3,2,FALSE),\"\")","v":""},null,{"$f":"IF(LEN(A4980)>0,VLOOKUP(A4980,Subcontractors!$A$2:$B$2,2,FALSE),\"\")","v":""}]
[null,null,null,null,null,null,null,null,null,null,null,null,null,null,null,null,null,null,null,null,null,{"$f":"IF(LEN(X4981)>0,VLOOKUP(X4981,'TFW Programs'!$A$2:$B$24,2,FALSE),\"\")","v":""},null,null,{"$f":"IF(LEN(A4981)>0,VLOOKUP(A4981,Subcontractors!$A$2:$B$3,2,FALSE),\"\")","v":""},null,{"$f":"IF(LEN(A4981)>0,VLOOKUP(A4981,Subcontractors!$A$2:$B$2,2,FALSE),\"\")","v":""}]
[null,null,null,null,null,null,null,null,null,null,null,null,null,null,null,null,null,null,null,null,null,{"$f":"IF(LEN(X4982)>0,VLOOKUP(X4982,'TFW Programs'!$A$2:$B$24,2,FALSE),\"\")","v":""},null,null,{"$f":"IF(LEN(A4982)>0,VLOOKUP(A4982,Subcontractors!$A$2:$B$3,2,FALSE),\"\")","v":""},null,{"$f":"IF(LEN(A4982)>0,VLOOKUP(A4982,Subcontractors!$A$2:$B$2,2,FALSE),\"\")","v":""}]
[null,null,null,null,null,null,null,null,null,null,null,null,null,null,null,null,null,null,null,null,null,{"$f":"IF(LEN(X4983)>0,VLOOKUP(X4983,'TFW Programs'!$A$2:$B$24,2,FALSE),\"\")","v":""},null,null,{"$f":"IF(LEN(A4983)>0,VLOOKUP(A4983,Subcontractors!$A$2:$B$3,2,FALSE),\"\")","v":""},null,{"$f":"IF(LEN(A4983)>0,VLOOKUP(A4983,Subcontractors!$A$2:$B$2,2,FALSE),\"\")","v":""}]
[null,null,null,null,null,null,null,null,null,null,null,null,null,null,null,null,null,null,null,null,null,{"$f":"IF(LEN(X4984)>0,VLOOKUP(X4984,'TFW Programs'!$A$2:$B$24,2,FALSE),\"\")","v":""},null,null,{"$f":"IF(LEN(A4984)>0,VLOOKUP(A4984,Subcontractors!$A$2:$B$3,2,FALSE),\"\")","v":""},null,{"$f":"IF(LEN(A4984)>0,VLOOKUP(A4984,Subcontractors!$A$2:$B$2,2,FALSE),\"\")","v":""}]
[null,null,null,null,null,null,null,null,null,null,null,null,null,null,null,null,null,null,null,null,null,{"$f":"IF(LEN(X4985)>0,VLOOKUP(X4985,'TFW Programs'!$A$2:$B$24,2,FALSE),\"\")","v":""},null,null,{"$f":"IF(LEN(A4985)>0,VLOOKUP(A4985,Subcontractors!$A$2:$B$3,2,FALSE),\"\")","v":""},null,{"$f":"IF(LEN(A4985)>0,VLOOKUP(A4985,Subcontractors!$A$2:$B$2,2,FALSE),\"\")","v":""}]
[null,null,null,null,null,null,null,null,null,null,null,null,null,null,null,null,null,null,null,null,null,{"$f":"IF(LEN(X4986)>0,VLOOKUP(X4986,'TFW Programs'!$A$2:$B$24,2,FALSE),\"\")","v":""},null,null,{"$f":"IF(LEN(A4986)>0,VLOOKUP(A4986,Subcontractors!$A$2:$B$3,2,FALSE),\"\")","v":""},null,{"$f":"IF(LEN(A4986)>0,VLOOKUP(A4986,Subcontractors!$A$2:$B$2,2,FALSE),\"\")","v":""}]
[null,null,null,null,null,null,null,null,null,null,null,null,null,null,null,null,null,null,null,null,null,{"$f":"IF(LEN(X4987)>0,VLOOKUP(X4987,'TFW Programs'!$A$2:$B$24,2,FALSE),\"\")","v":""},null,null,{"$f":"IF(LEN(A4987)>0,VLOOKUP(A4987,Subcontractors!$A$2:$B$3,2,FALSE),\"\")","v":""},null,{"$f":"IF(LEN(A4987)>0,VLOOKUP(A4987,Subcontractors!$A$2:$B$2,2,FALSE),\"\")","v":""}]
[null,null,null,null,null,null,null,null,null,null,null,null,null,null,null,null,null,null,null,null,null,{"$f":"IF(LEN(X4988)>0,VLOOKUP(X4988,'TFW Programs'!$A$2:$B$24,2,FALSE),\"\")","v":""},null,null,{"$f":"IF(LEN(A4988)>0,VLOOKUP(A4988,Subcontractors!$A$2:$B$3,2,FALSE),\"\")","v":""},null,{"$f":"IF(LEN(A4988)>0,VLOOKUP(A4988,Subcontractors!$A$2:$B$2,2,FALSE),\"\")","v":""}]
[null,null,null,null,null,null,null,null,null,null,null,null,null,null,null,null,null,null,null,null,null,{"$f":"IF(LEN(X4989)>0,VLOOKUP(X4989,'TFW Programs'!$A$2:$B$24,2,FALSE),\"\")","v":""},null,null,{"$f":"IF(LEN(A4989)>0,VLOOKUP(A4989,Subcontractors!$A$2:$B$3,2,FALSE),\"\")","v":""},null,{"$f":"IF(LEN(A4989)>0,VLOOKUP(A4989,Subcontractors!$A$2:$B$2,2,FALSE),\"\")","v":""}]
[null,null,null,null,null,null,null,null,null,null,null,null,null,null,null,null,null,null,null,null,null,{"$f":"IF(LEN(X4990)>0,VLOOKUP(X4990,'TFW Programs'!$A$2:$B$24,2,FALSE),\"\")","v":""},null,null,{"$f":"IF(LEN(A4990)>0,VLOOKUP(A4990,Subcontractors!$A$2:$B$3,2,FALSE),\"\")","v":""},null,{"$f":"IF(LEN(A4990)>0,VLOOKUP(A4990,Subcontractors!$A$2:$B$2,2,FALSE),\"\")","v":""}]
[null,null,null,null,null,null,null,null,null,null,null,null,null,null,null,null,null,null,null,null,null,{"$f":"IF(LEN(X4991)>0,VLOOKUP(X4991,'TFW Programs'!$A$2:$B$24,2,FALSE),\"\")","v":""},null,null,{"$f":"IF(LEN(A4991)>0,VLOOKUP(A4991,Subcontractors!$A$2:$B$3,2,FALSE),\"\")","v":""},null,{"$f":"IF(LEN(A4991)>0,VLOOKUP(A4991,Subcontractors!$A$2:$B$2,2,FALSE),\"\")","v":""}]
[null,null,null,null,null,null,null,null,null,null,null,null,null,null,null,null,null,null,null,null,null,{"$f":"IF(LEN(X4992)>0,VLOOKUP(X4992,'TFW Programs'!$A$2:$B$24,2,FALSE),\"\")","v":""},null,null,{"$f":"IF(LEN(A4992)>0,VLOOKUP(A4992,Subcontractors!$A$2:$B$3,2,FALSE),\"\")","v":""},null,{"$f":"IF(LEN(A4992)>0,VLOOKUP(A4992,Subcontractors!$A$2:$B$2,2,FALSE),\"\")","v":""}]
[null,null,null,null,null,null,null,null,null,null,null,null,null,null,null,null,null,null,null,null,null,{"$f":"IF(LEN(X4993)>0,VLOOKUP(X4993,'TFW Programs'!$A$2:$B$24,2,FALSE),\"\")","v":""},null,null,{"$f":"IF(LEN(A4993)>0,VLOOKUP(A4993,Subcontractors!$A$2:$B$3,2,FALSE),\"\")","v":""},null,{"$f":"IF(LEN(A4993)>0,VLOOKUP(A4993,Subcontractors!$A$2:$B$2,2,FALSE),\"\")","v":""}]
[null,null,null,null,null,null,null,null,null,null,null,null,null,null,null,null,null,null,null,null,null,{"$f":"IF(LEN(X4994)>0,VLOOKUP(X4994,'TFW Programs'!$A$2:$B$24,2,FALSE),\"\")","v":""},null,null,{"$f":"IF(LEN(A4994)>0,VLOOKUP(A4994,Subcontractors!$A$2:$B$3,2,FALSE),\"\")","v":""},null,{"$f":"IF(LEN(A4994)>0,VLOOKUP(A4994,Subcontractors!$A$2:$B$2,2,FALSE),\"\")","v":""}]
[null,null,null,null,null,null,null,null,null,null,null,null,null,null,null,null,null,null,null,null,null,{"$f":"IF(LEN(X4995)>0,VLOOKUP(X4995,'TFW Programs'!$A$2:$B$24,2,FALSE),\"\")","v":""},null,null,{"$f":"IF(LEN(A4995)>0,VLOOKUP(A4995,Subcontractors!$A$2:$B$3,2,FALSE),\"\")","v":""},null,{"$f":"IF(LEN(A4995)>0,VLOOKUP(A4995,Subcontractors!$A$2:$B$2,2,FALSE),\"\")","v":""}]
[null,null,null,null,null,null,null,null,null,null,null,null,null,null,null,null,null,null,null,null,null,{"$f":"IF(LEN(X4996)>0,VLOOKUP(X4996,'TFW Programs'!$A$2:$B$24,2,FALSE),\"\")","v":""},null,null,{"$f":"IF(LEN(A4996)>0,VLOOKUP(A4996,Subcontractors!$A$2:$B$3,2,FALSE),\"\")","v":""},null,{"$f":"IF(LEN(A4996)>0,VLOOKUP(A4996,Subcontractors!$A$2:$B$2,2,FALSE),\"\")","v":""}]
[null,null,null,null,null,null,null,null,null,null,null,null,null,null,null,null,null,null,null,null,null,{"$f":"IF(LEN(X4997)>0,VLOOKUP(X4997,'TFW Programs'!$A$2:$B$24,2,FALSE),\"\")","v":""},null,null,{"$f":"IF(LEN(A4997)>0,VLOOKUP(A4997,Subcontractors!$A$2:$B$3,2,FALSE),\"\")","v":""},null,{"$f":"IF(LEN(A4997)>0,VLOOKUP(A4997,Subcontractors!$A$2:$B$2,2,FALSE),\"\")","v":""}]
[null,null,null,null,null,null,null,null,null,null,null,null,null,null,null,null,null,null,null,null,null,{"$f":"IF(LEN(X4998)>0,VLOOKUP(X4998,'TFW Programs'!$A$2:$B$24,2,FALSE),\"\")","v":""},null,null,{"$f":"IF(LEN(A4998)>0,VLOOKUP(A4998,Subcontractors!$A$2:$B$3,2,FALSE),\"\")","v":""},null,{"$f":"IF(LEN(A4998)>0,VLOOKUP(A4998,Subcontractors!$A$2:$B$2,2,FALSE),\"\")","v":""}]
[null,null,null,null,null,null,null,null,null,null,null,null,null,null,null,null,null,null,null,null,null,{"$f":"IF(LEN(X4999)>0,VLOOKUP(X4999,'TFW Programs'!$A$2:$B$24,2,FALSE),\"\")","v":""},null,null,{"$f":"IF(LEN(A4999)>0,VLOOKUP(A4999,Subcontractors!$A$2:$B$3,2,FALSE),\"\")","v":""},null,{"$f":"IF(LEN(A4999)>0,VLOOKUP(A4999,Subcontractors!$A$2:$B$2,2,FALSE),\"\")","v":""}]
[null,null,null,null,null,null,null,null,null,null,null,null,null,null,null,null,null,null,null,null,null,{"$f":"IF(LEN(X5000)>0,VLOOKUP(X5000,'TFW Programs'!$A$2:$B$24,2,FALSE),\"\")","v":""},null,null,{"$f":"IF(LEN(A5000)>0,VLOOKUP(A5000,Subcontractors!$A$2:$B$3,2,FALSE),\"\")","v":""},null,{"$f":"IF(LEN(A5000)>0,VLOOKUP(A5000,Subcontractors!$A$2:$B$2,2,FALSE),\"\")","v":""}]
[null,null,null,null,null,null,null,null,null,null,null,null,null,null,null,null,null,null,null,null,null,{"$f":"IF(LEN(X5001)>0,VLOOKUP(X5001,'TFW Programs'!$A$2:$B$24,2,FALSE),\"\")","v":""},null,null,{"$f":"IF(LEN(A5001)>0,VLOOKUP(A5001,Subcontractors!$A$2:$B$3,2,FALSE),\"\")","v":""},null,{"$f":"IF(LEN(A5001)>0,VLOOKUP(A5001,Subcontractors!$A$2:$B$2,2,FALSE),\"\")","v":""}]
[null,null,null,null,null,null,null,null,null,null,null,null,null,null,null,null,null,null,null,null,null,{"$f":"IF(LEN(X5002)>0,VLOOKUP(X5002,'TFW Programs'!$A$2:$B$24,2,FALSE),\"\")","v":""},null,null,{"$f":"IF(LEN(A5002)>0,VLOOKUP(A5002,Subcontractors!$A$2:$B$3,2,FALSE),\"\")","v":""},null,{"$f":"IF(LEN(A5002)>0,VLOOKUP(A5002,Subcontractors!$A$2:$B$2,2,FALSE),\"\")","v":""}]
[null,null,null,null,null,null,null,null,null,null,null,null,null,null,null,null,null,null,null,null,null,{"$f":"IF(LEN(X5003)>0,VLOOKUP(X5003,'TFW Programs'!$A$2:$B$24,2,FALSE),\"\")","v":""},null,null,{"$f":"IF(LEN(A5003)>0,VLOOKUP(A5003,Subcontractors!$A$2:$B$3,2,FALSE),\"\")","v":""},null,{"$f":"IF(LEN(A5003)>0,VLOOKUP(A5003,Subcontractors!$A$2:$B$2,2,FALSE),\"\")","v":""}]
[null,null,null,null,null,null,null,null,null,null,null,null,null,null,null,null,null,null,null,null,null,{"$f":"IF(LEN(X5004)>0,VLOOKUP(X5004,'TFW Programs'!$A$2:$B$24,2,FALSE),\"\")","v":""},null,null,{"$f":"IF(LEN(A5004)>0,VLOOKUP(A5004,Subcontractors!$A$2:$B$3,2,FALSE),\"\")","v":""},null,{"$f":"IF(LEN(A5004)>0,VLOOKUP(A5004,Subcontractors!$A$2:$B$2,2,FALSE),\"\")","v":""}]
[null,null,null,null,null,null,null,null,null,null,null,null,null,null,null,null,null,null,null,null,null,{"$f":"IF(LEN(X5005)>0,VLOOKUP(X5005,'TFW Programs'!$A$2:$B$24,2,FALSE),\"\")","v":""},null,null,{"$f":"IF(LEN(A5005)>0,VLOOKUP(A5005,Subcontractors!$A$2:$B$3,2,FALSE),\"\")","v":""},null,{"$f":"IF(LEN(A5005)>0,VLOOKUP(A5005,Subcontractors!$A$2:$B$2,2,FALSE),\"\")","v":""}]
[null,null,null,null,null,null,null,null,null,null,null,null,null,null,null,null,null,null,null,null,null,{"$f":"IF(LEN(X5006)>0,VLOOKUP(X5006,'TFW Programs'!$A$2:$B$24,2,FALSE),\"\")","v":""},null,null,{"$f":"IF(LEN(A5006)>0,VLOOKUP(A5006,Subcontractors!$A$2:$B$3,2,FALSE),\"\")","v":""},null,{"$f":"IF(LEN(A5006)>0,VLOOKUP(A5006,Subcontractors!$A$2:$B$2,2,FALSE),\"\")","v":""}]
[null,null,null,null,null,null,null,null,null,null,null,null,null,null,null,null,null,null,null,null,null,{"$f":"IF(LEN(X5007)>0,VLOOKUP(X5007,'TFW Programs'!$A$2:$B$24,2,FALSE),\"\")","v":""},null,null,{"$f":"IF(LEN(A5007)>0,VLOOKUP(A5007,Subcontractors!$A$2:$B$3,2,FALSE),\"\")","v":""}]
[null,null,null,null,null,null,null,null,null,null,null,null,null,null,null,null,null,null,null,null,null,{"$f":"IF(LEN(X5008)>0,VLOOKUP(X5008, 'TFW Programs'!$A$2:$A$8,2,FALSE),\"\")","v":""}]
[null,null,null,null,null,null,null,null,null,null,null,null,null,null,null,null,null,null,null,null,null,{"$f":"IF(LEN(X5009)>0,VLOOKUP(X5009, 'TFW Programs'!$A$2:$A$8,2,FALSE),\"\")","v":""}]
[null,null,null,null,null,null,null,null,null,null,null,null,null,null,null,null,null,null,null,null,null,{"$f":"IF(LEN(X5010)>0,VLOOKUP(X5010, 'TFW Programs'!$A$2:$A$8,2,FALSE),\"\")","v":""}]
[null,null,null,null,null,null,null,null,null,null,null,null,null,null,null,null,null,null,null,null,null,{"$f":"IF(LEN(X5011)>0,VLOOKUP(X5011, 'TFW Programs'!$A$2:$A$8,2,FALSE),\"\")","v":""}]
[null,null,null,null,null,null,null,null,null,null,null,null,null,null,null,null,null,null,null,null,null,{"$f":"IF(LEN(X5012)>0,VLOOKUP(X5012, 'TFW Programs'!$A$2:$A$8,2,FALSE),\"\")","v":""}]
[null,null,null,null,null,null,null,null,null,null,null,null,null,null,null,null,null,null,null,null,null,{"$f":"IF(LEN(X5013)>0,VLOOKUP(X5013, 'TFW Programs'!$A$2:$A$8,2,FALSE),\"\")","v":""}]
[null,null,null,null,null,null,null,null,null,null,null,null,null,null,null,null,null,null,null,null,null,{"$f":"IF(LEN(X5014)>0,VLOOKUP(X5014, 'TFW Programs'!$A$2:$A$8,2,FALSE),\"\")","v":""}]
[null,null,null,null,null,null,null,null,null,null,null,null,null,null,null,null,null,null,null,null,null,{"$f":"IF(LEN(X5015)>0,VLOOKUP(X5015, 'TFW Programs'!$A$2:$A$8,2,FALSE),\"\")","v":""}]
[null,null,null,null,null,null,null,null,null,null,null,null,null,null,null,null,null,null,null,null,null,{"$f":"IF(LEN(X5016)>0,VLOOKUP(X5016, 'TFW Programs'!$A$2:$A$8,2,FALSE),\"\")","v":""}]
[null,null,null,null,null,null,null,null,null,null,null,null,null,null,null,null,null,null,null,null,null,{"$f":"IF(LEN(X5017)>0,VLOOKUP(X5017, 'TFW Programs'!$A$2:$A$8,2,FALSE),\"\")","v":""}]
[null,null,null,null,null,null,null,null,null,null,null,null,null,null,null,null,null,null,null,null,null,{"$f":"IF(LEN(X5018)>0,VLOOKUP(X5018, 'TFW Programs'!$A$2:$A$8,2,FALSE),\"\")","v":""}]
[null,null,null,null,null,null,null,null,null,null,null,null,null,null,null,null,null,null,null,null,null,{"$f":"IF(LEN(X5019)>0,VLOOKUP(X5019, 'TFW Programs'!$A$2:$A$8,2,FALSE),\"\")","v":""}]
[null,null,null,null,null,null,null,null,null,null,null,null,null,null,null,null,null,null,null,null,null,{"$f":"IF(LEN(X5020)>0,VLOOKUP(X5020, 'TFW Programs'!$A$2:$A$8,2,FALSE),\"\")","v":""}]
[null,null,null,null,null,null,null,null,null,null,null,null,null,null,null,null,null,null,null,null,null,{"$f":"IF(LEN(X5021)>0,VLOOKUP(X5021, 'TFW Programs'!$A$2:$A$8,2,FALSE),\"\")","v":""}]
[null,null,null,null,null,null,null,null,null,null,null,null,null,null,null,null,null,null,null,null,null,{"$f":"IF(LEN(X5022)>0,VLOOKUP(X5022, 'TFW Programs'!$A$2:$A$8,2,FALSE),\"\")","v":""}]
[null,null,null,null,null,null,null,null,null,null,null,null,null,null,null,null,null,null,null,null,null,{"$f":"IF(LEN(X5023)>0,VLOOKUP(X5023, 'TFW Programs'!$A$2:$A$8,2,FALSE),\"\")","v":""}]
[null,null,null,null,null,null,null,null,null,null,null,null,null,null,null,null,null,null,null,null,null,{"$f":"IF(LEN(X5024)>0,VLOOKUP(X5024, 'TFW Programs'!$A$2:$A$8,2,FALSE),\"\")","v":""}]

{"sheet":"Materials","index":3,"n_rows":3,"n_cols":17,"rows_kept":3,"cut":false,"hidden":false,"merged":[]}
[]
[]
["Supplier Name","Material Type","Cost Incl Tax","Currency","City/ Town","Province/ State","Country","Postal/ Zip Code","Women","African-American (USA)","Asian-American (USA)","Hispanic-American (USA)","Native-Amerian (USA)","Veteran","LGBT","Indigenous/Tribal Community","Other Indigenous/Tribal Community"]

{"sheet":"Expenses","index":4,"n_rows":3,"n_cols":6,"rows_kept":3,"cut":false,"hidden":false,"merged":[]}
[]
[]
["Total Expenses ","Currency","City/ Town","Province/ State","Country","Postal/ Zip Code"]

{"sheet":"Subcontractor Spend","index":5,"n_rows":501,"n_cols":7,"rows_kept":501,"cut":false,"hidden":false,"merged":[]}
[]
[]
["Subcontractor","Service Type","Hours Worked","Total Spend","Currency","Traditional Studies","Phase Subcontractor"]
[null,null,null,null,null,null,{"$f":"IF(LEN(A4)>0,VLOOKUP(A4,Subcontractors!$A$2:$B$2,2,FALSE),\"\")","v":""}]
[null,null,null,null,null,null,{"$f":"IF(LEN(A5)>0,VLOOKUP(A5,Subcontractors!$A$2:$B$2,2,FALSE),\"\")","v":""}]
[null,null,null,null,null,null,{"$f":"IF(LEN(A6)>0,VLOOKUP(A6,Subcontractors!$A$2:$B$2,2,FALSE),\"\")","v":""}]
[null,null,null,null,null,null,{"$f":"IF(LEN(A7)>0,VLOOKUP(A7,Subcontractors!$A$2:$B$2,2,FALSE),\"\")","v":""}]
[null,null,null,null,null,null,{"$f":"IF(LEN(A8)>0,VLOOKUP(A8,Subcontractors!$A$2:$B$2,2,FALSE),\"\")","v":""}]
[null,null,null,null,null,null,{"$f":"IF(LEN(A9)>0,VLOOKUP(A9,Subcontractors!$A$2:$B$2,2,FALSE),\"\")","v":""}]
[null,null,null,null,null,null,{"$f":"IF(LEN(A10)>0,VLOOKUP(A10,Subcontractors!$A$2:$B$2,2,FALSE),\"\")","v":""}]
[null,null,null,null,null,null,{"$f":"IF(LEN(A11)>0,VLOOKUP(A11,Subcontractors!$A$2:$B$2,2,FALSE),\"\")","v":""}]
[null,null,null,null,null,null,{"$f":"IF(LEN(A12)>0,VLOOKUP(A12,Subcontractors!$A$2:$B$2,2,FALSE),\"\")","v":""}]
[null,null,null,null,null,null,{"$f":"IF(LEN(A13)>0,VLOOKUP(A13,Subcontractors!$A$2:$B$2,2,FALSE),\"\")","v":""}]
[null,null,null,null,null,null,{"$f":"IF(LEN(A14)>0,VLOOKUP(A14,Subcontractors!$A$2:$B$2,2,FALSE),\"\")","v":""}]
[null,null,null,null,null,null,{"$f":"IF(LEN(A15)>0,VLOOKUP(A15,Subcontractors!$A$2:$B$2,2,FALSE),\"\")","v":""}]
[null,null,null,null,null,null,{"$f":"IF(LEN(A16)>0,VLOOKUP(A16,Subcontractors!$A$2:$B$2,2,FALSE),\"\")","v":""}]
[null,null,null,null,null,null,{"$f":"IF(LEN(A17)>0,VLOOKUP(A17,Subcontractors!$A$2:$B$2,2,FALSE),\"\")","v":""}]
[null,null,null,null,null,null,{"$f":"IF(LEN(A18)>0,VLOOKUP(A18,Subcontractors!$A$2:$B$2,2,FALSE),\"\")","v":""}]
[null,null,null,null,null,null,{"$f":"IF(LEN(A19)>0,VLOOKUP(A19,Subcontractors!$A$2:$B$2,2,FALSE),\"\")","v":""}]
[null,null,null,null,null,null,{"$f":"IF(LEN(A20)>0,VLOOKUP(A20,Subcontractors!$A$2:$B$2,2,FALSE),\"\")","v":""}]
[null,null,null,null,null,null,{"$f":"IF(LEN(A21)>0,VLOOKUP(A21,Subcontractors!$A$2:$B$2,2,FALSE),\"\")","v":""}]
[null,null,null,null,null,null,{"$f":"IF(LEN(A22)>0,VLOOKUP(A22,Subcontractors!$A$2:$B$2,2,FALSE),\"\")","v":""}]
[null,null,null,null,null,null,{"$f":"IF(LEN(A23)>0,VLOOKUP(A23,Subcontractors!$A$2:$B$2,2,FALSE),\"\")","v":""}]
[null,null,null,null,null,null,{"$f":"IF(LEN(A24)>0,VLOOKUP(A24,Subcontractors!$A$2:$B$2,2,FALSE),\"\")","v":""}]
[null,null,null,null,null,null,{"$f":"IF(LEN(A25)>0,VLOOKUP(A25,Subcontractors!$A$2:$B$2,2,FALSE),\"\")","v":""}]
[null,null,null,null,null,null,{"$f":"IF(LEN(A26)>0,VLOOKUP(A26,Subcontractors!$A$2:$B$2,2,FALSE),\"\")","v":""}]
[null,null,null,null,null,null,{"$f":"IF(LEN(A27)>0,VLOOKUP(A27,Subcontractors!$A$2:$B$2,2,FALSE),\"\")","v":""}]
[null,null,null,null,null,null,{"$f":"IF(LEN(A28)>0,VLOOKUP(A28,Subcontractors!$A$2:$B$2,2,FALSE),\"\")","v":""}]
[null,null,null,null,null,null,{"$f":"IF(LEN(A29)>0,VLOOKUP(A29,Subcontractors!$A$2:$B$2,2,FALSE),\"\")","v":""}]
[null,null,null,null,null,null,{"$f":"IF(LEN(A30)>0,VLOOKUP(A30,Subcontractors!$A$2:$B$2,2,FALSE),\"\")","v":""}]
[null,null,null,null,null,null,{"$f":"IF(LEN(A31)>0,VLOOKUP(A31,Subcontractors!$A$2:$B$2,2,FALSE),\"\")","v":""}]
[null,null,null,null,null,null,{"$f":"IF(LEN(A32)>0,VLOOKUP(A32,Subcontractors!$A$2:$B$2,2,FALSE),\"\")","v":""}]
[null,null,null,null,null,null,{"$f":"IF(LEN(A33)>0,VLOOKUP(A33,Subcontractors!$A$2:$B$2,2,FALSE),\"\")","v":""}]
[null,null,null,null,null,null,{"$f":"IF(LEN(A34)>0,VLOOKUP(A34,Subcontractors!$A$2:$B$2,2,FALSE),\"\")","v":""}]
[null,null,null,null,null,null,{"$f":"IF(LEN(A35)>0,VLOOKUP(A35,Subcontractors!$A$2:$B$2,2,FALSE),\"\")","v":""}]
[null,null,null,null,null,null,{"$f":"IF(LEN(A36)>0,VLOOKUP(A36,Subcontractors!$A$2:$B$2,2,FALSE),\"\")","v":""}]
[null,null,null,null,null,null,{"$f":"IF(LEN(A37)>0,VLOOKUP(A37,Subcontractors!$A$2:$B$2,2,FALSE),\"\")","v":""}]
[null,null,null,null,null,null,{"$f":"IF(LEN(A38)>0,VLOOKUP(A38,Subcontractors!$A$2:$B$2,2,FALSE),\"\")","v":""}]
[null,null,null,null,null,null,{"$f":"IF(LEN(A39)>0,VLOOKUP(A39,Subcontractors!$A$2:$B$2,2,FALSE),\"\")","v":""}]
[null,null,null,null,null,null,{"$f":"IF(LEN(A40)>0,VLOOKUP(A40,Subcontractors!$A$2:$B$2,2,FALSE),\"\")","v":""}]
[null,null,null,null,null,null,{"$f":"IF(LEN(A41)>0,VLOOKUP(A41,Subcontractors!$A$2:$B$2,2,FALSE),\"\")","v":""}]
[null,null,null,null,null,null,{"$f":"IF(LEN(A42)>0,VLOOKUP(A42,Subcontractors!$A$2:$B$2,2,FALSE),\"\")","v":""}]
[null,null,null,null,null,null,{"$f":"IF(LEN(A43)>0,VLOOKUP(A43,Subcontractors!$A$2:$B$2,2,FALSE),\"\")","v":""}]
[null,null,null,null,null,null,{"$f":"IF(LEN(A44)>0,VLOOKUP(A44,Subcontractors!$A$2:$B$2,2,FALSE),\"\")","v":""}]
[null,null,null,null,null,null,{"$f":"IF(LEN(A45)>0,VLOOKUP(A45,Subcontractors!$A$2:$B$2,2,FALSE),\"\")","v":""}]
[null,null,null,null,null,null,{"$f":"IF(LEN(A46)>0,VLOOKUP(A46,Subcontractors!$A$2:$B$2,2,FALSE),\"\")","v":""}]
[null,null,null,null,null,null,{"$f":"IF(LEN(A47)>0,VLOOKUP(A47,Subcontractors!$A$2:$B$2,2,FALSE),\"\")","v":""}]
[null,null,null,null,null,null,{"$f":"IF(LEN(A48)>0,VLOOKUP(A48,Subcontractors!$A$2:$B$2,2,FALSE),\"\")","v":""}]
[null,null,null,null,null,null,{"$f":"IF(LEN(A49)>0,VLOOKUP(A49,Subcontractors!$A$2:$B$2,2,FALSE),\"\")","v":""}]
[null,null,null,null,null,null,{"$f":"IF(LEN(A50)>0,VLOOKUP(A50,Subcontractors!$A$2:$B$2,2,FALSE),\"\")","v":""}]
[null,null,null,null,null,null,{"$f":"IF(LEN(A51)>0,VLOOKUP(A51,Subcontractors!$A$2:$B$2,2,FALSE),\"\")","v":""}]
[null,null,null,null,null,null,{"$f":"IF(LEN(A52)>0,VLOOKUP(A52,Subcontractors!$A$2:$B$2,2,FALSE),\"\")","v":""}]
[null,null,null,null,null,null,{"$f":"IF(LEN(A53)>0,VLOOKUP(A53,Subcontractors!$A$2:$B$2,2,FALSE),\"\")","v":""}]
[null,null,null,null,null,null,{"$f":"IF(LEN(A54)>0,VLOOKUP(A54,Subcontractors!$A$2:$B$2,2,FALSE),\"\")","v":""}]
[null,null,null,null,null,null,{"$f":"IF(LEN(A55)>0,VLOOKUP(A55,Subcontractors!$A$2:$B$2,2,FALSE),\"\")","v":""}]
[null,null,null,null,null,null,{"$f":"IF(LEN(A56)>0,VLOOKUP(A56,Subcontractors!$A$2:$B$2,2,FALSE),\"\")","v":""}]
[null,null,null,null,null,null,{"$f":"IF(LEN(A57)>0,VLOOKUP(A57,Subcontractors!$A$2:$B$2,2,FALSE),\"\")","v":""}]
[null,null,null,null,null,null,{"$f":"IF(LEN(A58)>0,VLOOKUP(A58,Subcontractors!$A$2:$B$2,2,FALSE),\"\")","v":""}]
[null,null,null,null,null,null,{"$f":"IF(LEN(A59)>0,VLOOKUP(A59,Subcontractors!$A$2:$B$2,2,FALSE),\"\")","v":""}]
[null,null,null,null,null,null,{"$f":"IF(LEN(A60)>0,VLOOKUP(A60,Subcontractors!$A$2:$B$2,2,FALSE),\"\")","v":""}]
[null,null,null,null,null,null,{"$f":"IF(LEN(A61)>0,VLOOKUP(A61,Subcontractors!$A$2:$B$2,2,FALSE),\"\")","v":""}]
[null,null,null,null,null,null,{"$f":"IF(LEN(A62)>0,VLOOKUP(A62,Subcontractors!$A$2:$B$2,2,FALSE),\"\")","v":""}]
[null,null,null,null,null,null,{"$f":"IF(LEN(A63)>0,VLOOKUP(A63,Subcontractors!$A$2:$B$2,2,FALSE),\"\")","v":""}]
[null,null,null,null,null,null,{"$f":"IF(LEN(A64)>0,VLOOKUP(A64,Subcontractors!$A$2:$B$2,2,FALSE),\"\")","v":""}]
[null,null,null,null,null,null,{"$f":"IF(LEN(A65)>0,VLOOKUP(A65,Subcontractors!$A$2:$B$2,2,FALSE),\"\")","v":""}]
[null,null,null,null,null,null,{"$f":"IF(LEN(A66)>0,VLOOKUP(A66,Subcontractors!$A$2:$B$2,2,FALSE),\"\")","v":""}]
[null,null,null,null,null,null,{"$f":"IF(LEN(A67)>0,VLOOKUP(A67,Subcontractors!$A$2:$B$2,2,FALSE),\"\")","v":""}]
[null,null,null,null,null,null,{"$f":"IF(LEN(A68)>0,VLOOKUP(A68,Subcontractors!$A$2:$B$2,2,FALSE),\"\")","v":""}]
[null,null,null,null,null,null,{"$f":"IF(LEN(A69)>0,VLOOKUP(A69,Subcontractors!$A$2:$B$2,2,FALSE),\"\")","v":""}]
[null,null,null,null,null,null,{"$f":"IF(LEN(A70)>0,VLOOKUP(A70,Subcontractors!$A$2:$B$2,2,FALSE),\"\")","v":""}]
[null,null,null,null,null,null,{"$f":"IF(LEN(A71)>0,VLOOKUP(A71,Subcontractors!$A$2:$B$2,2,FALSE),\"\")","v":""}]
[null,null,null,null,null,null,{"$f":"IF(LEN(A72)>0,VLOOKUP(A72,Subcontractors!$A$2:$B$2,2,FALSE),\"\")","v":""}]
[null,null,null,null,null,null,{"$f":"IF(LEN(A73)>0,VLOOKUP(A73,Subcontractors!$A$2:$B$2,2,FALSE),\"\")","v":""}]
[null,null,null,null,null,null,{"$f":"IF(LEN(A74)>0,VLOOKUP(A74,Subcontractors!$A$2:$B$2,2,FALSE),\"\")","v":""}]
[null,null,null,null,null,null,{"$f":"IF(LEN(A75)>0,VLOOKUP(A75,Subcontractors!$A$2:$B$2,2,FALSE),\"\")","v":""}]
[null,null,null,null,null,null,{"$f":"IF(LEN(A76)>0,VLOOKUP(A76,Subcontractors!$A$2:$B$2,2,FALSE),\"\")","v":""}]
[null,null,null,null,null,null,{"$f":"IF(LEN(A77)>0,VLOOKUP(A77,Subcontractors!$A$2:$B$2,2,FALSE),\"\")","v":""}]
[null,null,null,null,null,null,{"$f":"IF(LEN(A78)>0,VLOOKUP(A78,Subcontractors!$A$2:$B$2,2,FALSE),\"\")","v":""}]
[null,null,null,null,null,null,{"$f":"IF(LEN(A79)>0,VLOOKUP(A79,Subcontractors!$A$2:$B$2,2,FALSE),\"\")","v":""}]
[null,null,null,null,null,null,{"$f":"IF(LEN(A80)>0,VLOOKUP(A80,Subcontractors!$A$2:$B$2,2,FALSE),\"\")","v":""}]
[null,null,null,null,null,null,{"$f":"IF(LEN(A81)>0,VLOOKUP(A81,Subcontractors!$A$2:$B$2,2,FALSE),\"\")","v":""}]
[null,null,null,null,null,null,{"$f":"IF(LEN(A82)>0,VLOOKUP(A82,Subcontractors!$A$2:$B$2,2,FALSE),\"\")","v":""}]
[null,null,null,null,null,null,{"$f":"IF(LEN(A83)>0,VLOOKUP(A83,Subcontractors!$A$2:$B$2,2,FALSE),\"\")","v":""}]
[null,null,null,null,null,null,{"$f":"IF(LEN(A84)>0,VLOOKUP(A84,Subcontractors!$A$2:$B$2,2,FALSE),\"\")","v":""}]
[null,null,null,null,null,null,{"$f":"IF(LEN(A85)>0,VLOOKUP(A85,Subcontractors!$A$2:$B$2,2,FALSE),\"\")","v":""}]
[null,null,null,null,null,null,{"$f":"IF(LEN(A86)>0,VLOOKUP(A86,Subcontractors!$A$2:$B$2,2,FALSE),\"\")","v":""}]
[null,null,null,null,null,null,{"$f":"IF(LEN(A87)>0,VLOOKUP(A87,Subcontractors!$A$2:$B$2,2,FALSE),\"\")","v":""}]
[null,null,null,null,null,null,{"$f":"IF(LEN(A88)>0,VLOOKUP(A88,Subcontractors!$A$2:$B$2,2,FALSE),\"\")","v":""}]
[null,null,null,null,null,null,{"$f":"IF(LEN(A89)>0,VLOOKUP(A89,Subcontractors!$A$2:$B$2,2,FALSE),\"\")","v":""}]
[null,null,null,null,null,null,{"$f":"IF(LEN(A90)>0,VLOOKUP(A90,Subcontractors!$A$2:$B$2,2,FALSE),\"\")","v":""}]
[null,null,null,null,null,null,{"$f":"IF(LEN(A91)>0,VLOOKUP(A91,Subcontractors!$A$2:$B$2,2,FALSE),\"\")","v":""}]
[null,null,null,null,null,null,{"$f":"IF(LEN(A92)>0,VLOOKUP(A92,Subcontractors!$A$2:$B$2,2,FALSE),\"\")","v":""}]
[null,null,null,null,null,null,{"$f":"IF(LEN(A93)>0,VLOOKUP(A93,Subcontractors!$A$2:$B$2,2,FALSE),\"\")","v":""}]
[null,null,null,null,null,null,{"$f":"IF(LEN(A94)>0,VLOOKUP(A94,Subcontractors!$A$2:$B$2,2,FALSE),\"\")","v":""}]
[null,null,null,null,null,null,{"$f":"IF(LEN(A95)>0,VLOOKUP(A95,Subcontractors!$A$2:$B$2,2,FALSE),\"\")","v":""}]
[null,null,null,null,null,null,{"$f":"IF(LEN(A96)>0,VLOOKUP(A96,Subcontractors!$A$2:$B$2,2,FALSE),\"\")","v":""}]
[null,null,null,null,null,null,{"$f":"IF(LEN(A97)>0,VLOOKUP(A97,Subcontractors!$A$2:$B$2,2,FALSE),\"\")","v":""}]
[null,null,null,null,null,null,{"$f":"IF(LEN(A98)>0,VLOOKUP(A98,Subcontractors!$A$2:$B$2,2,FALSE),\"\")","v":""}]
[null,null,null,null,null,null,{"$f":"IF(LEN(A99)>0,VLOOKUP(A99,Subcontractors!$A$2:$B$2,2,FALSE),\"\")","v":""}]
[null,null,null,null,null,null,{"$f":"IF(LEN(A100)>0,VLOOKUP(A100,Subcontractors!$A$2:$B$2,2,FALSE),\"\")","v":""}]
[null,null,null,null,null,null,{"$f":"IF(LEN(A101)>0,VLOOKUP(A101,Subcontractors!$A$2:$B$2,2,FALSE),\"\")","v":""}]
[null,null,null,null,null,null,{"$f":"IF(LEN(A102)>0,VLOOKUP(A102,Subcontractors!$A$2:$B$2,2,FALSE),\"\")","v":""}]
[null,null,null,null,null,null,{"$f":"IF(LEN(A103)>0,VLOOKUP(A103,Subcontractors!$A$2:$B$2,2,FALSE),\"\")","v":""}]
[null,null,null,null,null,null,{"$f":"IF(LEN(A104)>0,VLOOKUP(A104,Subcontractors!$A$2:$B$2,2,FALSE),\"\")","v":""}]
[null,null,null,null,null,null,{"$f":"IF(LEN(A105)>0,VLOOKUP(A105,Subcontractors!$A$2:$B$2,2,FALSE),\"\")","v":""}]
[null,null,null,null,null,null,{"$f":"IF(LEN(A106)>0,VLOOKUP(A106,Subcontractors!$A$2:$B$2,2,FALSE),\"\")","v":""}]
[null,null,null,null,null,null,{"$f":"IF(LEN(A107)>0,VLOOKUP(A107,Subcontractors!$A$2:$B$2,2,FALSE),\"\")","v":""}]
[null,null,null,null,null,null,{"$f":"IF(LEN(A108)>0,VLOOKUP(A108,Subcontractors!$A$2:$B$2,2,FALSE),\"\")","v":""}]
[null,null,null,null,null,null,{"$f":"IF(LEN(A109)>0,VLOOKUP(A109,Subcontractors!$A$2:$B$2,2,FALSE),\"\")","v":""}]
[null,null,null,null,null,null,{"$f":"IF(LEN(A110)>0,VLOOKUP(A110,Subcontractors!$A$2:$B$2,2,FALSE),\"\")","v":""}]
[null,null,null,null,null,null,{"$f":"IF(LEN(A111)>0,VLOOKUP(A111,Subcontractors!$A$2:$B$2,2,FALSE),\"\")","v":""}]
[null,null,null,null,null,null,{"$f":"IF(LEN(A112)>0,VLOOKUP(A112,Subcontractors!$A$2:$B$2,2,FALSE),\"\")","v":""}]
[null,null,null,null,null,null,{"$f":"IF(LEN(A113)>0,VLOOKUP(A113,Subcontractors!$A$2:$B$2,2,FALSE),\"\")","v":""}]
[null,null,null,null,null,null,{"$f":"IF(LEN(A114)>0,VLOOKUP(A114,Subcontractors!$A$2:$B$2,2,FALSE),\"\")","v":""}]
[null,null,null,null,null,null,{"$f":"IF(LEN(A115)>0,VLOOKUP(A115,Subcontractors!$A$2:$B$2,2,FALSE),\"\")","v":""}]
[null,null,null,null,null,null,{"$f":"IF(LEN(A116)>0,VLOOKUP(A116,Subcontractors!$A$2:$B$2,2,FALSE),\"\")","v":""}]
[null,null,null,null,null,null,{"$f":"IF(LEN(A117)>0,VLOOKUP(A117,Subcontractors!$A$2:$B$2,2,FALSE),\"\")","v":""}]
[null,null,null,null,null,null,{"$f":"IF(LEN(A118)>0,VLOOKUP(A118,Subcontractors!$A$2:$B$2,2,FALSE),\"\")","v":""}]
[null,null,null,null,null,null,{"$f":"IF(LEN(A119)>0,VLOOKUP(A119,Subcontractors!$A$2:$B$2,2,FALSE),\"\")","v":""}]
[null,null,null,null,null,null,{"$f":"IF(LEN(A120)>0,VLOOKUP(A120,Subcontractors!$A$2:$B$2,2,FALSE),\"\")","v":""}]
[null,null,null,null,null,null,{"$f":"IF(LEN(A121)>0,VLOOKUP(A121,Subcontractors!$A$2:$B$2,2,FALSE),\"\")","v":""}]
[null,null,null,null,null,null,{"$f":"IF(LEN(A122)>0,VLOOKUP(A122,Subcontractors!$A$2:$B$2,2,FALSE),\"\")","v":""}]
[null,null,null,null,null,null,{"$f":"IF(LEN(A123)>0,VLOOKUP(A123,Subcontractors!$A$2:$B$2,2,FALSE),\"\")","v":""}]
[null,null,null,null,null,null,{"$f":"IF(LEN(A124)>0,VLOOKUP(A124,Subcontractors!$A$2:$B$2,2,FALSE),\"\")","v":""}]
[null,null,null,null,null,null,{"$f":"IF(LEN(A125)>0,VLOOKUP(A125,Subcontractors!$A$2:$B$2,2,FALSE),\"\")","v":""}]
[null,null,null,null,null,null,{"$f":"IF(LEN(A126)>0,VLOOKUP(A126,Subcontractors!$A$2:$B$2,2,FALSE),\"\")","v":""}]
[null,null,null,null,null,null,{"$f":"IF(LEN(A127)>0,VLOOKUP(A127,Subcontractors!$A$2:$B$2,2,FALSE),\"\")","v":""}]
[null,null,null,null,null,null,{"$f":"IF(LEN(A128)>0,VLOOKUP(A128,Subcontractors!$A$2:$B$2,2,FALSE),\"\")","v":""}]
[null,null,null,null,null,null,{"$f":"IF(LEN(A129)>0,VLOOKUP(A129,Subcontractors!$A$2:$B$2,2,FALSE),\"\")","v":""}]
[null,null,null,null,null,null,{"$f":"IF(LEN(A130)>0,VLOOKUP(A130,Subcontractors!$A$2:$B$2,2,FALSE),\"\")","v":""}]
[null,null,null,null,null,null,{"$f":"IF(LEN(A131)>0,VLOOKUP(A131,Subcontractors!$A$2:$B$2,2,FALSE),\"\")","v":""}]
[null,null,null,null,null,null,{"$f":"IF(LEN(A132)>0,VLOOKUP(A132,Subcontractors!$A$2:$B$2,2,FALSE),\"\")","v":""}]
[null,null,null,null,null,null,{"$f":"IF(LEN(A133)>0,VLOOKUP(A133,Subcontractors!$A$2:$B$2,2,FALSE),\"\")","v":""}]
[null,null,null,null,null,null,{"$f":"IF(LEN(A134)>0,VLOOKUP(A134,Subcontractors!$A$2:$B$2,2,FALSE),\"\")","v":""}]
[null,null,null,null,null,null,{"$f":"IF(LEN(A135)>0,VLOOKUP(A135,Subcontractors!$A$2:$B$2,2,FALSE),\"\")","v":""}]
[null,null,null,null,null,null,{"$f":"IF(LEN(A136)>0,VLOOKUP(A136,Subcontractors!$A$2:$B$2,2,FALSE),\"\")","v":""}]
[null,null,null,null,null,null,{"$f":"IF(LEN(A137)>0,VLOOKUP(A137,Subcontractors!$A$2:$B$2,2,FALSE),\"\")","v":""}]
[null,null,null,null,null,null,{"$f":"IF(LEN(A138)>0,VLOOKUP(A138,Subcontractors!$A$2:$B$2,2,FALSE),\"\")","v":""}]
[null,null,null,null,null,null,{"$f":"IF(LEN(A139)>0,VLOOKUP(A139,Subcontractors!$A$2:$B$2,2,FALSE),\"\")","v":""}]
[null,null,null,null,null,null,{"$f":"IF(LEN(A140)>0,VLOOKUP(A140,Subcontractors!$A$2:$B$2,2,FALSE),\"\")","v":""}]
[null,null,null,null,null,null,{"$f":"IF(LEN(A141)>0,VLOOKUP(A141,Subcontractors!$A$2:$B$2,2,FALSE),\"\")","v":""}]
[null,null,null,null,null,null,{"$f":"IF(LEN(A142)>0,VLOOKUP(A142,Subcontractors!$A$2:$B$2,2,FALSE),\"\")","v":""}]
[null,null,null,null,null,null,{"$f":"IF(LEN(A143)>0,VLOOKUP(A143,Subcontractors!$A$2:$B$2,2,FALSE),\"\")","v":""}]
[null,null,null,null,null,null,{"$f":"IF(LEN(A144)>0,VLOOKUP(A144,Subcontractors!$A$2:$B$2,2,FALSE),\"\")","v":""}]
[null,null,null,null,null,null,{"$f":"IF(LEN(A145)>0,VLOOKUP(A145,Subcontractors!$A$2:$B$2,2,FALSE),\"\")","v":""}]
[null,null,null,null,null,null,{"$f":"IF(LEN(A146)>0,VLOOKUP(A146,Subcontractors!$A$2:$B$2,2,FALSE),\"\")","v":""}]
[null,null,null,null,null,null,{"$f":"IF(LEN(A147)>0,VLOOKUP(A147,Subcontractors!$A$2:$B$2,2,FALSE),\"\")","v":""}]
[null,null,null,null,null,null,{"$f":"IF(LEN(A148)>0,VLOOKUP(A148,Subcontractors!$A$2:$B$2,2,FALSE),\"\")","v":""}]
[null,null,null,null,null,null,{"$f":"IF(LEN(A149)>0,VLOOKUP(A149,Subcontractors!$A$2:$B$2,2,FALSE),\"\")","v":""}]
[null,null,null,null,null,null,{"$f":"IF(LEN(A150)>0,VLOOKUP(A150,Subcontractors!$A$2:$B$2,2,FALSE),\"\")","v":""}]
[null,null,null,null,null,null,{"$f":"IF(LEN(A151)>0,VLOOKUP(A151,Subcontractors!$A$2:$B$2,2,FALSE),\"\")","v":""}]
[null,null,null,null,null,null,{"$f":"IF(LEN(A152)>0,VLOOKUP(A152,Subcontractors!$A$2:$B$2,2,FALSE),\"\")","v":""}]
[null,null,null,null,null,null,{"$f":"IF(LEN(A153)>0,VLOOKUP(A153,Subcontractors!$A$2:$B$2,2,FALSE),\"\")","v":""}]
[null,null,null,null,null,null,{"$f":"IF(LEN(A154)>0,VLOOKUP(A154,Subcontractors!$A$2:$B$2,2,FALSE),\"\")","v":""}]
[null,null,null,null,null,null,{"$f":"IF(LEN(A155)>0,VLOOKUP(A155,Subcontractors!$A$2:$B$2,2,FALSE),\"\")","v":""}]
[null,null,null,null,null,null,{"$f":"IF(LEN(A156)>0,VLOOKUP(A156,Subcontractors!$A$2:$B$2,2,FALSE),\"\")","v":""}]
[null,null,null,null,null,null,{"$f":"IF(LEN(A157)>0,VLOOKUP(A157,Subcontractors!$A$2:$B$2,2,FALSE),\"\")","v":""}]
[null,null,null,null,null,null,{"$f":"IF(LEN(A158)>0,VLOOKUP(A158,Subcontractors!$A$2:$B$2,2,FALSE),\"\")","v":""}]
[null,null,null,null,null,null,{"$f":"IF(LEN(A159)>0,VLOOKUP(A159,Subcontractors!$A$2:$B$2,2,FALSE),\"\")","v":""}]
[null,null,null,null,null,null,{"$f":"IF(LEN(A160)>0,VLOOKUP(A160,Subcontractors!$A$2:$B$2,2,FALSE),\"\")","v":""}]
[null,null,null,null,null,null,{"$f":"IF(LEN(A161)>0,VLOOKUP(A161,Subcontractors!$A$2:$B$2,2,FALSE),\"\")","v":""}]
[null,null,null,null,null,null,{"$f":"IF(LEN(A162)>0,VLOOKUP(A162,Subcontractors!$A$2:$B$2,2,FALSE),\"\")","v":""}]
[null,null,null,null,null,null,{"$f":"IF(LEN(A163)>0,VLOOKUP(A163,Subcontractors!$A$2:$B$2,2,FALSE),\"\")","v":""}]
[null,null,null,null,null,null,{"$f":"IF(LEN(A164)>0,VLOOKUP(A164,Subcontractors!$A$2:$B$2,2,FALSE),\"\")","v":""}]
[null,null,null,null,null,null,{"$f":"IF(LEN(A165)>0,VLOOKUP(A165,Subcontractors!$A$2:$B$2,2,FALSE),\"\")","v":""}]
[null,null,null,null,null,null,{"$f":"IF(LEN(A166)>0,VLOOKUP(A166,Subcontractors!$A$2:$B$2,2,FALSE),\"\")","v":""}]
[null,null,null,null,null,null,{"$f":"IF(LEN(A167)>0,VLOOKUP(A167,Subcontractors!$A$2:$B$2,2,FALSE),\"\")","v":""}]
[null,null,null,null,null,null,{"$f":"IF(LEN(A168)>0,VLOOKUP(A168,Subcontractors!$A$2:$B$2,2,FALSE),\"\")","v":""}]
[null,null,null,null,null,null,{"$f":"IF(LEN(A169)>0,VLOOKUP(A169,Subcontractors!$A$2:$B$2,2,FALSE),\"\")","v":""}]
[null,null,null,null,null,null,{"$f":"IF(LEN(A170)>0,VLOOKUP(A170,Subcontractors!$A$2:$B$2,2,FALSE),\"\")","v":""}]
[null,null,null,null,null,null,{"$f":"IF(LEN(A171)>0,VLOOKUP(A171,Subcontractors!$A$2:$B$2,2,FALSE),\"\")","v":""}]
[null,null,null,null,null,null,{"$f":"IF(LEN(A172)>0,VLOOKUP(A172,Subcontractors!$A$2:$B$2,2,FALSE),\"\")","v":""}]
[null,null,null,null,null,null,{"$f":"IF(LEN(A173)>0,VLOOKUP(A173,Subcontractors!$A$2:$B$2,2,FALSE),\"\")","v":""}]
[null,null,null,null,null,null,{"$f":"IF(LEN(A174)>0,VLOOKUP(A174,Subcontractors!$A$2:$B$2,2,FALSE),\"\")","v":""}]
[null,null,null,null,null,null,{"$f":"IF(LEN(A175)>0,VLOOKUP(A175,Subcontractors!$A$2:$B$2,2,FALSE),\"\")","v":""}]
[null,null,null,null,null,null,{"$f":"IF(LEN(A176)>0,VLOOKUP(A176,Subcontractors!$A$2:$B$2,2,FALSE),\"\")","v":""}]
[null,null,null,null,null,null,{"$f":"IF(LEN(A177)>0,VLOOKUP(A177,Subcontractors!$A$2:$B$2,2,FALSE),\"\")","v":""}]
[null,null,null,null,null,null,{"$f":"IF(LEN(A178)>0,VLOOKUP(A178,Subcontractors!$A$2:$B$2,2,FALSE),\"\")","v":""}]
[null,null,null,null,null,null,{"$f":"IF(LEN(A179)>0,VLOOKUP(A179,Subcontractors!$A$2:$B$2,2,FALSE),\"\")","v":""}]
[null,null,null,null,null,null,{"$f":"IF(LEN(A180)>0,VLOOKUP(A180,Subcontractors!$A$2:$B$2,2,FALSE),\"\")","v":""}]
[null,null,null,null,null,null,{"$f":"IF(LEN(A181)>0,VLOOKUP(A181,Subcontractors!$A$2:$B$2,2,FALSE),\"\")","v":""}]
[null,null,null,null,null,null,{"$f":"IF(LEN(A182)>0,VLOOKUP(A182,Subcontractors!$A$2:$B$2,2,FALSE),\"\")","v":""}]
[null,null,null,null,null,null,{"$f":"IF(LEN(A183)>0,VLOOKUP(A183,Subcontractors!$A$2:$B$2,2,FALSE),\"\")","v":""}]
[null,null,null,null,null,null,{"$f":"IF(LEN(A184)>0,VLOOKUP(A184,Subcontractors!$A$2:$B$2,2,FALSE),\"\")","v":""}]
[null,null,null,null,null,null,{"$f":"IF(LEN(A185)>0,VLOOKUP(A185,Subcontractors!$A$2:$B$2,2,FALSE),\"\")","v":""}]
[null,null,null,null,null,null,{"$f":"IF(LEN(A186)>0,VLOOKUP(A186,Subcontractors!$A$2:$B$2,2,FALSE),\"\")","v":""}]
[null,null,null,null,null,null,{"$f":"IF(LEN(A187)>0,VLOOKUP(A187,Subcontractors!$A$2:$B$2,2,FALSE),\"\")","v":""}]
[null,null,null,null,null,null,{"$f":"IF(LEN(A188)>0,VLOOKUP(A188,Subcontractors!$A$2:$B$2,2,FALSE),\"\")","v":""}]
[null,null,null,null,null,null,{"$f":"IF(LEN(A189)>0,VLOOKUP(A189,Subcontractors!$A$2:$B$2,2,FALSE),\"\")","v":""}]
[null,null,null,null,null,null,{"$f":"IF(LEN(A190)>0,VLOOKUP(A190,Subcontractors!$A$2:$B$2,2,FALSE),\"\")","v":""}]
[null,null,null,null,null,null,{"$f":"IF(LEN(A191)>0,VLOOKUP(A191,Subcontractors!$A$2:$B$2,2,FALSE),\"\")","v":""}]
[null,null,null,null,null,null,{"$f":"IF(LEN(A192)>0,VLOOKUP(A192,Subcontractors!$A$2:$B$2,2,FALSE),\"\")","v":""}]
[null,null,null,null,null,null,{"$f":"IF(LEN(A193)>0,VLOOKUP(A193,Subcontractors!$A$2:$B$2,2,FALSE),\"\")","v":""}]
[null,null,null,null,null,null,{"$f":"IF(LEN(A194)>0,VLOOKUP(A194,Subcontractors!$A$2:$B$2,2,FALSE),\"\")","v":""}]
[null,null,null,null,null,null,{"$f":"IF(LEN(A195)>0,VLOOKUP(A195,Subcontractors!$A$2:$B$2,2,FALSE),\"\")","v":""}]
[null,null,null,null,null,null,{"$f":"IF(LEN(A196)>0,VLOOKUP(A196,Subcontractors!$A$2:$B$2,2,FALSE),\"\")","v":""}]
[null,null,null,null,null,null,{"$f":"IF(LEN(A197)>0,VLOOKUP(A197,Subcontractors!$A$2:$B$2,2,FALSE),\"\")","v":""}]
[null,null,null,null,null,null,{"$f":"IF(LEN(A198)>0,VLOOKUP(A198,Subcontractors!$A$2:$B$2,2,FALSE),\"\")","v":""}]
[null,null,null,null,null,null,{"$f":"IF(LEN(A199)>0,VLOOKUP(A199,Subcontractors!$A$2:$B$2,2,FALSE),\"\")","v":""}]
[null,null,null,null,null,null,{"$f":"IF(LEN(A200)>0,VLOOKUP(A200,Subcontractors!$A$2:$B$2,2,FALSE),\"\")","v":""}]
[null,null,null,null,null,null,{"$f":"IF(LEN(A201)>0,VLOOKUP(A201,Subcontractors!$A$2:$B$2,2,FALSE),\"\")","v":""}]
[null,null,null,null,null,null,{"$f":"IF(LEN(A202)>0,VLOOKUP(A202,Subcontractors!$A$2:$B$2,2,FALSE),\"\")","v":""}]
[null,null,null,null,null,null,{"$f":"IF(LEN(A203)>0,VLOOKUP(A203,Subcontractors!$A$2:$B$2,2,FALSE),\"\")","v":""}]
[null,null,null,null,null,null,{"$f":"IF(LEN(A204)>0,VLOOKUP(A204,Subcontractors!$A$2:$B$2,2,FALSE),\"\")","v":""}]
[null,null,null,null,null,null,{"$f":"IF(LEN(A205)>0,VLOOKUP(A205,Subcontractors!$A$2:$B$2,2,FALSE),\"\")","v":""}]
[null,null,null,null,null,null,{"$f":"IF(LEN(A206)>0,VLOOKUP(A206,Subcontractors!$A$2:$B$2,2,FALSE),\"\")","v":""}]
[null,null,null,null,null,null,{"$f":"IF(LEN(A207)>0,VLOOKUP(A207,Subcontractors!$A$2:$B$2,2,FALSE),\"\")","v":""}]
[null,null,null,null,null,null,{"$f":"IF(LEN(A208)>0,VLOOKUP(A208,Subcontractors!$A$2:$B$2,2,FALSE),\"\")","v":""}]
[null,null,null,null,null,null,{"$f":"IF(LEN(A209)>0,VLOOKUP(A209,Subcontractors!$A$2:$B$2,2,FALSE),\"\")","v":""}]
[null,null,null,null,null,null,{"$f":"IF(LEN(A210)>0,VLOOKUP(A210,Subcontractors!$A$2:$B$2,2,FALSE),\"\")","v":""}]
[null,null,null,null,null,null,{"$f":"IF(LEN(A211)>0,VLOOKUP(A211,Subcontractors!$A$2:$B$2,2,FALSE),\"\")","v":""}]
[null,null,null,null,null,null,{"$f":"IF(LEN(A212)>0,VLOOKUP(A212,Subcontractors!$A$2:$B$2,2,FALSE),\"\")","v":""}]
[null,null,null,null,null,null,{"$f":"IF(LEN(A213)>0,VLOOKUP(A213,Subcontractors!$A$2:$B$2,2,FALSE),\"\")","v":""}]
[null,null,null,null,null,null,{"$f":"IF(LEN(A214)>0,VLOOKUP(A214,Subcontractors!$A$2:$B$2,2,FALSE),\"\")","v":""}]
[null,null,null,null,null,null,{"$f":"IF(LEN(A215)>0,VLOOKUP(A215,Subcontractors!$A$2:$B$2,2,FALSE),\"\")","v":""}]
[null,null,null,null,null,null,{"$f":"IF(LEN(A216)>0,VLOOKUP(A216,Subcontractors!$A$2:$B$2,2,FALSE),\"\")","v":""}]
[null,null,null,null,null,null,{"$f":"IF(LEN(A217)>0,VLOOKUP(A217,Subcontractors!$A$2:$B$2,2,FALSE),\"\")","v":""}]
[null,null,null,null,null,null,{"$f":"IF(LEN(A218)>0,VLOOKUP(A218,Subcontractors!$A$2:$B$2,2,FALSE),\"\")","v":""}]
[null,null,null,null,null,null,{"$f":"IF(LEN(A219)>0,VLOOKUP(A219,Subcontractors!$A$2:$B$2,2,FALSE),\"\")","v":""}]
[null,null,null,null,null,null,{"$f":"IF(LEN(A220)>0,VLOOKUP(A220,Subcontractors!$A$2:$B$2,2,FALSE),\"\")","v":""}]
[null,null,null,null,null,null,{"$f":"IF(LEN(A221)>0,VLOOKUP(A221,Subcontractors!$A$2:$B$2,2,FALSE),\"\")","v":""}]
[null,null,null,null,null,null,{"$f":"IF(LEN(A222)>0,VLOOKUP(A222,Subcontractors!$A$2:$B$2,2,FALSE),\"\")","v":""}]
[null,null,null,null,null,null,{"$f":"IF(LEN(A223)>0,VLOOKUP(A223,Subcontractors!$A$2:$B$2,2,FALSE),\"\")","v":""}]
[null,null,null,null,null,null,{"$f":"IF(LEN(A224)>0,VLOOKUP(A224,Subcontractors!$A$2:$B$2,2,FALSE),\"\")","v":""}]
[null,null,null,null,null,null,{"$f":"IF(LEN(A225)>0,VLOOKUP(A225,Subcontractors!$A$2:$B$2,2,FALSE),\"\")","v":""}]
[null,null,null,null,null,null,{"$f":"IF(LEN(A226)>0,VLOOKUP(A226,Subcontractors!$A$2:$B$2,2,FALSE),\"\")","v":""}]
[null,null,null,null,null,null,{"$f":"IF(LEN(A227)>0,VLOOKUP(A227,Subcontractors!$A$2:$B$2,2,FALSE),\"\")","v":""}]
[null,null,null,null,null,null,{"$f":"IF(LEN(A228)>0,VLOOKUP(A228,Subcontractors!$A$2:$B$2,2,FALSE),\"\")","v":""}]
[null,null,null,null,null,null,{"$f":"IF(LEN(A229)>0,VLOOKUP(A229,Subcontractors!$A$2:$B$2,2,FALSE),\"\")","v":""}]
[null,null,null,null,null,null,{"$f":"IF(LEN(A230)>0,VLOOKUP(A230,Subcontractors!$A$2:$B$2,2,FALSE),\"\")","v":""}]
[null,null,null,null,null,null,{"$f":"IF(LEN(A231)>0,VLOOKUP(A231,Subcontractors!$A$2:$B$2,2,FALSE),\"\")","v":""}]
[null,null,null,null,null,null,{"$f":"IF(LEN(A232)>0,VLOOKUP(A232,Subcontractors!$A$2:$B$2,2,FALSE),\"\")","v":""}]
[null,null,null,null,null,null,{"$f":"IF(LEN(A233)>0,VLOOKUP(A233,Subcontractors!$A$2:$B$2,2,FALSE),\"\")","v":""}]
[null,null,null,null,null,null,{"$f":"IF(LEN(A234)>0,VLOOKUP(A234,Subcontractors!$A$2:$B$2,2,FALSE),\"\")","v":""}]
[null,null,null,null,null,null,{"$f":"IF(LEN(A235)>0,VLOOKUP(A235,Subcontractors!$A$2:$B$2,2,FALSE),\"\")","v":""}]
[null,null,null,null,null,null,{"$f":"IF(LEN(A236)>0,VLOOKUP(A236,Subcontractors!$A$2:$B$2,2,FALSE),\"\")","v":""}]
[null,null,null,null,null,null,{"$f":"IF(LEN(A237)>0,VLOOKUP(A237,Subcontractors!$A$2:$B$2,2,FALSE),\"\")","v":""}]
[null,null,null,null,null,null,{"$f":"IF(LEN(A238)>0,VLOOKUP(A238,Subcontractors!$A$2:$B$2,2,FALSE),\"\")","v":""}]
[null,null,null,null,null,null,{"$f":"IF(LEN(A239)>0,VLOOKUP(A239,Subcontractors!$A$2:$B$2,2,FALSE),\"\")","v":""}]
[null,null,null,null,null,null,{"$f":"IF(LEN(A240)>0,VLOOKUP(A240,Subcontractors!$A$2:$B$2,2,FALSE),\"\")","v":""}]
[null,null,null,null,null,null,{"$f":"IF(LEN(A241)>0,VLOOKUP(A241,Subcontractors!$A$2:$B$2,2,FALSE),\"\")","v":""}]
[null,null,null,null,null,null,{"$f":"IF(LEN(A242)>0,VLOOKUP(A242,Subcontractors!$A$2:$B$2,2,FALSE),\"\")","v":""}]
[null,null,null,null,null,null,{"$f":"IF(LEN(A243)>0,VLOOKUP(A243,Subcontractors!$A$2:$B$2,2,FALSE),\"\")","v":""}]
[null,null,null,null,null,null,{"$f":"IF(LEN(A244)>0,VLOOKUP(A244,Subcontractors!$A$2:$B$2,2,FALSE),\"\")","v":""}]
[null,null,null,null,null,null,{"$f":"IF(LEN(A245)>0,VLOOKUP(A245,Subcontractors!$A$2:$B$2,2,FALSE),\"\")","v":""}]
[null,null,null,null,null,null,{"$f":"IF(LEN(A246)>0,VLOOKUP(A246,Subcontractors!$A$2:$B$2,2,FALSE),\"\")","v":""}]
[null,null,null,null,null,null,{"$f":"IF(LEN(A247)>0,VLOOKUP(A247,Subcontractors!$A$2:$B$2,2,FALSE),\"\")","v":""}]
[null,null,null,null,null,null,{"$f":"IF(LEN(A248)>0,VLOOKUP(A248,Subcontractors!$A$2:$B$2,2,FALSE),\"\")","v":""}]
[null,null,null,null,null,null,{"$f":"IF(LEN(A249)>0,VLOOKUP(A249,Subcontractors!$A$2:$B$2,2,FALSE),\"\")","v":""}]
[null,null,null,null,null,null,{"$f":"IF(LEN(A250)>0,VLOOKUP(A250,Subcontractors!$A$2:$B$2,2,FALSE),\"\")","v":""}]
[null,null,null,null,null,null,{"$f":"IF(LEN(A251)>0,VLOOKUP(A251,Subcontractors!$A$2:$B$2,2,FALSE),\"\")","v":""}]
[null,null,null,null,null,null,{"$f":"IF(LEN(A252)>0,VLOOKUP(A252,Subcontractors!$A$2:$B$2,2,FALSE),\"\")","v":""}]
[null,null,null,null,null,null,{"$f":"IF(LEN(A253)>0,VLOOKUP(A253,Subcontractors!$A$2:$B$2,2,FALSE),\"\")","v":""}]
[null,null,null,null,null,null,{"$f":"IF(LEN(A254)>0,VLOOKUP(A254,Subcontractors!$A$2:$B$2,2,FALSE),\"\")","v":""}]
[null,null,null,null,null,null,{"$f":"IF(LEN(A255)>0,VLOOKUP(A255,Subcontractors!$A$2:$B$2,2,FALSE),\"\")","v":""}]
[null,null,null,null,null,null,{"$f":"IF(LEN(A256)>0,VLOOKUP(A256,Subcontractors!$A$2:$B$2,2,FALSE),\"\")","v":""}]
[null,null,null,null,null,null,{"$f":"IF(LEN(A257)>0,VLOOKUP(A257,Subcontractors!$A$2:$B$2,2,FALSE),\"\")","v":""}]
[null,null,null,null,null,null,{"$f":"IF(LEN(A258)>0,VLOOKUP(A258,Subcontractors!$A$2:$B$2,2,FALSE),\"\")","v":""}]
[null,null,null,null,null,null,{"$f":"IF(LEN(A259)>0,VLOOKUP(A259,Subcontractors!$A$2:$B$2,2,FALSE),\"\")","v":""}]
[null,null,null,null,null,null,{"$f":"IF(LEN(A260)>0,VLOOKUP(A260,Subcontractors!$A$2:$B$2,2,FALSE),\"\")","v":""}]
[null,null,null,null,null,null,{"$f":"IF(LEN(A261)>0,VLOOKUP(A261,Subcontractors!$A$2:$B$2,2,FALSE),\"\")","v":""}]
[null,null,null,null,null,null,{"$f":"IF(LEN(A262)>0,VLOOKUP(A262,Subcontractors!$A$2:$B$2,2,FALSE),\"\")","v":""}]
[null,null,null,null,null,null,{"$f":"IF(LEN(A263)>0,VLOOKUP(A263,Subcontractors!$A$2:$B$2,2,FALSE),\"\")","v":""}]
[null,null,null,null,null,null,{"$f":"IF(LEN(A264)>0,VLOOKUP(A264,Subcontractors!$A$2:$B$2,2,FALSE),\"\")","v":""}]
[null,null,null,null,null,null,{"$f":"IF(LEN(A265)>0,VLOOKUP(A265,Subcontractors!$A$2:$B$2,2,FALSE),\"\")","v":""}]
[null,null,null,null,null,null,{"$f":"IF(LEN(A266)>0,VLOOKUP(A266,Subcontractors!$A$2:$B$2,2,FALSE),\"\")","v":""}]
[null,null,null,null,null,null,{"$f":"IF(LEN(A267)>0,VLOOKUP(A267,Subcontractors!$A$2:$B$2,2,FALSE),\"\")","v":""}]
[null,null,null,null,null,null,{"$f":"IF(LEN(A268)>0,VLOOKUP(A268,Subcontractors!$A$2:$B$2,2,FALSE),\"\")","v":""}]
[null,null,null,null,null,null,{"$f":"IF(LEN(A269)>0,VLOOKUP(A269,Subcontractors!$A$2:$B$2,2,FALSE),\"\")","v":""}]
[null,null,null,null,null,null,{"$f":"IF(LEN(A270)>0,VLOOKUP(A270,Subcontractors!$A$2:$B$2,2,FALSE),\"\")","v":""}]
[null,null,null,null,null,null,{"$f":"IF(LEN(A271)>0,VLOOKUP(A271,Subcontractors!$A$2:$B$2,2,FALSE),\"\")","v":""}]
[null,null,null,null,null,null,{"$f":"IF(LEN(A272)>0,VLOOKUP(A272,Subcontractors!$A$2:$B$2,2,FALSE),\"\")","v":""}]
[null,null,null,null,null,null,{"$f":"IF(LEN(A273)>0,VLOOKUP(A273,Subcontractors!$A$2:$B$2,2,FALSE),\"\")","v":""}]
[null,null,null,null,null,null,{"$f":"IF(LEN(A274)>0,VLOOKUP(A274,Subcontractors!$A$2:$B$2,2,FALSE),\"\")","v":""}]
[null,null,null,null,null,null,{"$f":"IF(LEN(A275)>0,VLOOKUP(A275,Subcontractors!$A$2:$B$2,2,FALSE),\"\")","v":""}]
[null,null,null,null,null,null,{"$f":"IF(LEN(A276)>0,VLOOKUP(A276,Subcontractors!$A$2:$B$2,2,FALSE),\"\")","v":""}]
[null,null,null,null,null,null,{"$f":"IF(LEN(A277)>0,VLOOKUP(A277,Subcontractors!$A$2:$B$2,2,FALSE),\"\")","v":""}]
[null,null,null,null,null,null,{"$f":"IF(LEN(A278)>0,VLOOKUP(A278,Subcontractors!$A$2:$B$2,2,FALSE),\"\")","v":""}]
[null,null,null,null,null,null,{"$f":"IF(LEN(A279)>0,VLOOKUP(A279,Subcontractors!$A$2:$B$2,2,FALSE),\"\")","v":""}]
[null,null,null,null,null,null,{"$f":"IF(LEN(A280)>0,VLOOKUP(A280,Subcontractors!$A$2:$B$2,2,FALSE),\"\")","v":""}]
[null,null,null,null,null,null,{"$f":"IF(LEN(A281)>0,VLOOKUP(A281,Subcontractors!$A$2:$B$2,2,FALSE),\"\")","v":""}]
[null,null,null,null,null,null,{"$f":"IF(LEN(A282)>0,VLOOKUP(A282,Subcontractors!$A$2:$B$2,2,FALSE),\"\")","v":""}]
[null,null,null,null,null,null,{"$f":"IF(LEN(A283)>0,VLOOKUP(A283,Subcontractors!$A$2:$B$2,2,FALSE),\"\")","v":""}]
[null,null,null,null,null,null,{"$f":"IF(LEN(A284)>0,VLOOKUP(A284,Subcontractors!$A$2:$B$2,2,FALSE),\"\")","v":""}]
[null,null,null,null,null,null,{"$f":"IF(LEN(A285)>0,VLOOKUP(A285,Subcontractors!$A$2:$B$2,2,FALSE),\"\")","v":""}]
[null,null,null,null,null,null,{"$f":"IF(LEN(A286)>0,VLOOKUP(A286,Subcontractors!$A$2:$B$2,2,FALSE),\"\")","v":""}]
[null,null,null,null,null,null,{"$f":"IF(LEN(A287)>0,VLOOKUP(A287,Subcontractors!$A$2:$B$2,2,FALSE),\"\")","v":""}]
[null,null,null,null,null,null,{"$f":"IF(LEN(A288)>0,VLOOKUP(A288,Subcontractors!$A$2:$B$2,2,FALSE),\"\")","v":""}]
[null,null,null,null,null,null,{"$f":"IF(LEN(A289)>0,VLOOKUP(A289,Subcontractors!$A$2:$B$2,2,FALSE),\"\")","v":""}]
[null,null,null,null,null,null,{"$f":"IF(LEN(A290)>0,VLOOKUP(A290,Subcontractors!$A$2:$B$2,2,FALSE),\"\")","v":""}]
[null,null,null,null,null,null,{"$f":"IF(LEN(A291)>0,VLOOKUP(A291,Subcontractors!$A$2:$B$2,2,FALSE),\"\")","v":""}]
[null,null,null,null,null,null,{"$f":"IF(LEN(A292)>0,VLOOKUP(A292,Subcontractors!$A$2:$B$2,2,FALSE),\"\")","v":""}]
[null,null,null,null,null,null,{"$f":"IF(LEN(A293)>0,VLOOKUP(A293,Subcontractors!$A$2:$B$2,2,FALSE),\"\")","v":""}]
[null,null,null,null,null,null,{"$f":"IF(LEN(A294)>0,VLOOKUP(A294,Subcontractors!$A$2:$B$2,2,FALSE),\"\")","v":""}]
[null,null,null,null,null,null,{"$f":"IF(LEN(A295)>0,VLOOKUP(A295,Subcontractors!$A$2:$B$2,2,FALSE),\"\")","v":""}]
[null,null,null,null,null,null,{"$f":"IF(LEN(A296)>0,VLOOKUP(A296,Subcontractors!$A$2:$B$2,2,FALSE),\"\")","v":""}]
[null,null,null,null,null,null,{"$f":"IF(LEN(A297)>0,VLOOKUP(A297,Subcontractors!$A$2:$B$2,2,FALSE),\"\")","v":""}]
[null,null,null,null,null,null,{"$f":"IF(LEN(A298)>0,VLOOKUP(A298,Subcontractors!$A$2:$B$2,2,FALSE),\"\")","v":""}]
[null,null,null,null,null,null,{"$f":"IF(LEN(A299)>0,VLOOKUP(A299,Subcontractors!$A$2:$B$2,2,FALSE),\"\")","v":""}]
[null,null,null,null,null,null,{"$f":"IF(LEN(A300)>0,VLOOKUP(A300,Subcontractors!$A$2:$B$2,2,FALSE),\"\")","v":""}]
[null,null,null,null,null,null,{"$f":"IF(LEN(A301)>0,VLOOKUP(A301,Subcontractors!$A$2:$B$2,2,FALSE),\"\")","v":""}]
[null,null,null,null,null,null,{"$f":"IF(LEN(A302)>0,VLOOKUP(A302,Subcontractors!$A$2:$B$2,2,FALSE),\"\")","v":""}]
[null,null,null,null,null,null,{"$f":"IF(LEN(A303)>0,VLOOKUP(A303,Subcontractors!$A$2:$B$2,2,FALSE),\"\")","v":""}]
[null,null,null,null,null,null,{"$f":"IF(LEN(A304)>0,VLOOKUP(A304,Subcontractors!$A$2:$B$2,2,FALSE),\"\")","v":""}]
[null,null,null,null,null,null,{"$f":"IF(LEN(A305)>0,VLOOKUP(A305,Subcontractors!$A$2:$B$2,2,FALSE),\"\")","v":""}]
[null,null,null,null,null,null,{"$f":"IF(LEN(A306)>0,VLOOKUP(A306,Subcontractors!$A$2:$B$2,2,FALSE),\"\")","v":""}]
[null,null,null,null,null,null,{"$f":"IF(LEN(A307)>0,VLOOKUP(A307,Subcontractors!$A$2:$B$2,2,FALSE),\"\")","v":""}]
[null,null,null,null,null,null,{"$f":"IF(LEN(A308)>0,VLOOKUP(A308,Subcontractors!$A$2:$B$2,2,FALSE),\"\")","v":""}]
[null,null,null,null,null,null,{"$f":"IF(LEN(A309)>0,VLOOKUP(A309,Subcontractors!$A$2:$B$2,2,FALSE),\"\")","v":""}]
[null,null,null,null,null,null,{"$f":"IF(LEN(A310)>0,VLOOKUP(A310,Subcontractors!$A$2:$B$2,2,FALSE),\"\")","v":""}]
[null,null,null,null,null,null,{"$f":"IF(LEN(A311)>0,VLOOKUP(A311,Subcontractors!$A$2:$B$2,2,FALSE),\"\")","v":""}]
[null,null,null,null,null,null,{"$f":"IF(LEN(A312)>0,VLOOKUP(A312,Subcontractors!$A$2:$B$2,2,FALSE),\"\")","v":""}]
[null,null,null,null,null,null,{"$f":"IF(LEN(A313)>0,VLOOKUP(A313,Subcontractors!$A$2:$B$2,2,FALSE),\"\")","v":""}]
[null,null,null,null,null,null,{"$f":"IF(LEN(A314)>0,VLOOKUP(A314,Subcontractors!$A$2:$B$2,2,FALSE),\"\")","v":""}]
[null,null,null,null,null,null,{"$f":"IF(LEN(A315)>0,VLOOKUP(A315,Subcontractors!$A$2:$B$2,2,FALSE),\"\")","v":""}]
[null,null,null,null,null,null,{"$f":"IF(LEN(A316)>0,VLOOKUP(A316,Subcontractors!$A$2:$B$2,2,FALSE),\"\")","v":""}]
[null,null,null,null,null,null,{"$f":"IF(LEN(A317)>0,VLOOKUP(A317,Subcontractors!$A$2:$B$2,2,FALSE),\"\")","v":""}]
[null,null,null,null,null,null,{"$f":"IF(LEN(A318)>0,VLOOKUP(A318,Subcontractors!$A$2:$B$2,2,FALSE),\"\")","v":""}]
[null,null,null,null,null,null,{"$f":"IF(LEN(A319)>0,VLOOKUP(A319,Subcontractors!$A$2:$B$2,2,FALSE),\"\")","v":""}]
[null,null,null,null,null,null,{"$f":"IF(LEN(A320)>0,VLOOKUP(A320,Subcontractors!$A$2:$B$2,2,FALSE),\"\")","v":""}]
[null,null,null,null,null,null,{"$f":"IF(LEN(A321)>0,VLOOKUP(A321,Subcontractors!$A$2:$B$2,2,FALSE),\"\")","v":""}]
[null,null,null,null,null,null,{"$f":"IF(LEN(A322)>0,VLOOKUP(A322,Subcontractors!$A$2:$B$2,2,FALSE),\"\")","v":""}]
[null,null,null,null,null,null,{"$f":"IF(LEN(A323)>0,VLOOKUP(A323,Subcontractors!$A$2:$B$2,2,FALSE),\"\")","v":""}]
[null,null,null,null,null,null,{"$f":"IF(LEN(A324)>0,VLOOKUP(A324,Subcontractors!$A$2:$B$2,2,FALSE),\"\")","v":""}]
[null,null,null,null,null,null,{"$f":"IF(LEN(A325)>0,VLOOKUP(A325,Subcontractors!$A$2:$B$2,2,FALSE),\"\")","v":""}]
[null,null,null,null,null,null,{"$f":"IF(LEN(A326)>0,VLOOKUP(A326,Subcontractors!$A$2:$B$2,2,FALSE),\"\")","v":""}]
[null,null,null,null,null,null,{"$f":"IF(LEN(A327)>0,VLOOKUP(A327,Subcontractors!$A$2:$B$2,2,FALSE),\"\")","v":""}]
[null,null,null,null,null,null,{"$f":"IF(LEN(A328)>0,VLOOKUP(A328,Subcontractors!$A$2:$B$2,2,FALSE),\"\")","v":""}]
[null,null,null,null,null,null,{"$f":"IF(LEN(A329)>0,VLOOKUP(A329,Subcontractors!$A$2:$B$2,2,FALSE),\"\")","v":""}]
[null,null,null,null,null,null,{"$f":"IF(LEN(A330)>0,VLOOKUP(A330,Subcontractors!$A$2:$B$2,2,FALSE),\"\")","v":""}]
[null,null,null,null,null,null,{"$f":"IF(LEN(A331)>0,VLOOKUP(A331,Subcontractors!$A$2:$B$2,2,FALSE),\"\")","v":""}]
[null,null,null,null,null,null,{"$f":"IF(LEN(A332)>0,VLOOKUP(A332,Subcontractors!$A$2:$B$2,2,FALSE),\"\")","v":""}]
[null,null,null,null,null,null,{"$f":"IF(LEN(A333)>0,VLOOKUP(A333,Subcontractors!$A$2:$B$2,2,FALSE),\"\")","v":""}]
[null,null,null,null,null,null,{"$f":"IF(LEN(A334)>0,VLOOKUP(A334,Subcontractors!$A$2:$B$2,2,FALSE),\"\")","v":""}]
[null,null,null,null,null,null,{"$f":"IF(LEN(A335)>0,VLOOKUP(A335,Subcontractors!$A$2:$B$2,2,FALSE),\"\")","v":""}]
[null,null,null,null,null,null,{"$f":"IF(LEN(A336)>0,VLOOKUP(A336,Subcontractors!$A$2:$B$2,2,FALSE),\"\")","v":""}]
[null,null,null,null,null,null,{"$f":"IF(LEN(A337)>0,VLOOKUP(A337,Subcontractors!$A$2:$B$2,2,FALSE),\"\")","v":""}]
[null,null,null,null,null,null,{"$f":"IF(LEN(A338)>0,VLOOKUP(A338,Subcontractors!$A$2:$B$2,2,FALSE),\"\")","v":""}]
[null,null,null,null,null,null,{"$f":"IF(LEN(A339)>0,VLOOKUP(A339,Subcontractors!$A$2:$B$2,2,FALSE),\"\")","v":""}]
[null,null,null,null,null,null,{"$f":"IF(LEN(A340)>0,VLOOKUP(A340,Subcontractors!$A$2:$B$2,2,FALSE),\"\")","v":""}]
[null,null,null,null,null,null,{"$f":"IF(LEN(A341)>0,VLOOKUP(A341,Subcontractors!$A$2:$B$2,2,FALSE),\"\")","v":""}]
[null,null,null,null,null,null,{"$f":"IF(LEN(A342)>0,VLOOKUP(A342,Subcontractors!$A$2:$B$2,2,FALSE),\"\")","v":""}]
[null,null,null,null,null,null,{"$f":"IF(LEN(A343)>0,VLOOKUP(A343,Subcontractors!$A$2:$B$2,2,FALSE),\"\")","v":""}]
[null,null,null,null,null,null,{"$f":"IF(LEN(A344)>0,VLOOKUP(A344,Subcontractors!$A$2:$B$2,2,FALSE),\"\")","v":""}]
[null,null,null,null,null,null,{"$f":"IF(LEN(A345)>0,VLOOKUP(A345,Subcontractors!$A$2:$B$2,2,FALSE),\"\")","v":""}]
[null,null,null,null,null,null,{"$f":"IF(LEN(A346)>0,VLOOKUP(A346,Subcontractors!$A$2:$B$2,2,FALSE),\"\")","v":""}]
[null,null,null,null,null,null,{"$f":"IF(LEN(A347)>0,VLOOKUP(A347,Subcontractors!$A$2:$B$2,2,FALSE),\"\")","v":""}]
[null,null,null,null,null,null,{"$f":"IF(LEN(A348)>0,VLOOKUP(A348,Subcontractors!$A$2:$B$2,2,FALSE),\"\")","v":""}]
[null,null,null,null,null,null,{"$f":"IF(LEN(A349)>0,VLOOKUP(A349,Subcontractors!$A$2:$B$2,2,FALSE),\"\")","v":""}]
[null,null,null,null,null,null,{"$f":"IF(LEN(A350)>0,VLOOKUP(A350,Subcontractors!$A$2:$B$2,2,FALSE),\"\")","v":""}]
[null,null,null,null,null,null,{"$f":"IF(LEN(A351)>0,VLOOKUP(A351,Subcontractors!$A$2:$B$2,2,FALSE),\"\")","v":""}]
[null,null,null,null,null,null,{"$f":"IF(LEN(A352)>0,VLOOKUP(A352,Subcontractors!$A$2:$B$2,2,FALSE),\"\")","v":""}]
[null,null,null,null,null,null,{"$f":"IF(LEN(A353)>0,VLOOKUP(A353,Subcontractors!$A$2:$B$2,2,FALSE),\"\")","v":""}]
[null,null,null,null,null,null,{"$f":"IF(LEN(A354)>0,VLOOKUP(A354,Subcontractors!$A$2:$B$2,2,FALSE),\"\")","v":""}]
[null,null,null,null,null,null,{"$f":"IF(LEN(A355)>0,VLOOKUP(A355,Subcontractors!$A$2:$B$2,2,FALSE),\"\")","v":""}]
[null,null,null,null,null,null,{"$f":"IF(LEN(A356)>0,VLOOKUP(A356,Subcontractors!$A$2:$B$2,2,FALSE),\"\")","v":""}]
[null,null,null,null,null,null,{"$f":"IF(LEN(A357)>0,VLOOKUP(A357,Subcontractors!$A$2:$B$2,2,FALSE),\"\")","v":""}]
[null,null,null,null,null,null,{"$f":"IF(LEN(A358)>0,VLOOKUP(A358,Subcontractors!$A$2:$B$2,2,FALSE),\"\")","v":""}]
[null,null,null,null,null,null,{"$f":"IF(LEN(A359)>0,VLOOKUP(A359,Subcontractors!$A$2:$B$2,2,FALSE),\"\")","v":""}]
[null,null,null,null,null,null,{"$f":"IF(LEN(A360)>0,VLOOKUP(A360,Subcontractors!$A$2:$B$2,2,FALSE),\"\")","v":""}]
[null,null,null,null,null,null,{"$f":"IF(LEN(A361)>0,VLOOKUP(A361,Subcontractors!$A$2:$B$2,2,FALSE),\"\")","v":""}]
[null,null,null,null,null,null,{"$f":"IF(LEN(A362)>0,VLOOKUP(A362,Subcontractors!$A$2:$B$2,2,FALSE),\"\")","v":""}]
[null,null,null,null,null,null,{"$f":"IF(LEN(A363)>0,VLOOKUP(A363,Subcontractors!$A$2:$B$2,2,FALSE),\"\")","v":""}]
[null,null,null,null,null,null,{"$f":"IF(LEN(A364)>0,VLOOKUP(A364,Subcontractors!$A$2:$B$2,2,FALSE),\"\")","v":""}]
[null,null,null,null,null,null,{"$f":"IF(LEN(A365)>0,VLOOKUP(A365,Subcontractors!$A$2:$B$2,2,FALSE),\"\")","v":""}]
[null,null,null,null,null,null,{"$f":"IF(LEN(A366)>0,VLOOKUP(A366,Subcontractors!$A$2:$B$2,2,FALSE),\"\")","v":""}]
[null,null,null,null,null,null,{"$f":"IF(LEN(A367)>0,VLOOKUP(A367,Subcontractors!$A$2:$B$2,2,FALSE),\"\")","v":""}]
[null,null,null,null,null,null,{"$f":"IF(LEN(A368)>0,VLOOKUP(A368,Subcontractors!$A$2:$B$2,2,FALSE),\"\")","v":""}]
[null,null,null,null,null,null,{"$f":"IF(LEN(A369)>0,VLOOKUP(A369,Subcontractors!$A$2:$B$2,2,FALSE),\"\")","v":""}]
[null,null,null,null,null,null,{"$f":"IF(LEN(A370)>0,VLOOKUP(A370,Subcontractors!$A$2:$B$2,2,FALSE),\"\")","v":""}]
[null,null,null,null,null,null,{"$f":"IF(LEN(A371)>0,VLOOKUP(A371,Subcontractors!$A$2:$B$2,2,FALSE),\"\")","v":""}]
[null,null,null,null,null,null,{"$f":"IF(LEN(A372)>0,VLOOKUP(A372,Subcontractors!$A$2:$B$2,2,FALSE),\"\")","v":""}]
[null,null,null,null,null,null,{"$f":"IF(LEN(A373)>0,VLOOKUP(A373,Subcontractors!$A$2:$B$2,2,FALSE),\"\")","v":""}]
[null,null,null,null,null,null,{"$f":"IF(LEN(A374)>0,VLOOKUP(A374,Subcontractors!$A$2:$B$2,2,FALSE),\"\")","v":""}]
[null,null,null,null,null,null,{"$f":"IF(LEN(A375)>0,VLOOKUP(A375,Subcontractors!$A$2:$B$2,2,FALSE),\"\")","v":""}]
[null,null,null,null,null,null,{"$f":"IF(LEN(A376)>0,VLOOKUP(A376,Subcontractors!$A$2:$B$2,2,FALSE),\"\")","v":""}]
[null,null,null,null,null,null,{"$f":"IF(LEN(A377)>0,VLOOKUP(A377,Subcontractors!$A$2:$B$2,2,FALSE),\"\")","v":""}]
[null,null,null,null,null,null,{"$f":"IF(LEN(A378)>0,VLOOKUP(A378,Subcontractors!$A$2:$B$2,2,FALSE),\"\")","v":""}]
[null,null,null,null,null,null,{"$f":"IF(LEN(A379)>0,VLOOKUP(A379,Subcontractors!$A$2:$B$2,2,FALSE),\"\")","v":""}]
[null,null,null,null,null,null,{"$f":"IF(LEN(A380)>0,VLOOKUP(A380,Subcontractors!$A$2:$B$2,2,FALSE),\"\")","v":""}]
[null,null,null,null,null,null,{"$f":"IF(LEN(A381)>0,VLOOKUP(A381,Subcontractors!$A$2:$B$2,2,FALSE),\"\")","v":""}]
[null,null,null,null,null,null,{"$f":"IF(LEN(A382)>0,VLOOKUP(A382,Subcontractors!$A$2:$B$2,2,FALSE),\"\")","v":""}]
[null,null,null,null,null,null,{"$f":"IF(LEN(A383)>0,VLOOKUP(A383,Subcontractors!$A$2:$B$2,2,FALSE),\"\")","v":""}]
[null,null,null,null,null,null,{"$f":"IF(LEN(A384)>0,VLOOKUP(A384,Subcontractors!$A$2:$B$2,2,FALSE),\"\")","v":""}]
[null,null,null,null,null,null,{"$f":"IF(LEN(A385)>0,VLOOKUP(A385,Subcontractors!$A$2:$B$2,2,FALSE),\"\")","v":""}]
[null,null,null,null,null,null,{"$f":"IF(LEN(A386)>0,VLOOKUP(A386,Subcontractors!$A$2:$B$2,2,FALSE),\"\")","v":""}]
[null,null,null,null,null,null,{"$f":"IF(LEN(A387)>0,VLOOKUP(A387,Subcontractors!$A$2:$B$2,2,FALSE),\"\")","v":""}]
[null,null,null,null,null,null,{"$f":"IF(LEN(A388)>0,VLOOKUP(A388,Subcontractors!$A$2:$B$2,2,FALSE),\"\")","v":""}]
[null,null,null,null,null,null,{"$f":"IF(LEN(A389)>0,VLOOKUP(A389,Subcontractors!$A$2:$B$2,2,FALSE),\"\")","v":""}]
[null,null,null,null,null,null,{"$f":"IF(LEN(A390)>0,VLOOKUP(A390,Subcontractors!$A$2:$B$2,2,FALSE),\"\")","v":""}]
[null,null,null,null,null,null,{"$f":"IF(LEN(A391)>0,VLOOKUP(A391,Subcontractors!$A$2:$B$2,2,FALSE),\"\")","v":""}]
[null,null,null,null,null,null,{"$f":"IF(LEN(A392)>0,VLOOKUP(A392,Subcontractors!$A$2:$B$2,2,FALSE),\"\")","v":""}]
[null,null,null,null,null,null,{"$f":"IF(LEN(A393)>0,VLOOKUP(A393,Subcontractors!$A$2:$B$2,2,FALSE),\"\")","v":""}]
[null,null,null,null,null,null,{"$f":"IF(LEN(A394)>0,VLOOKUP(A394,Subcontractors!$A$2:$B$2,2,FALSE),\"\")","v":""}]
[null,null,null,null,null,null,{"$f":"IF(LEN(A395)>0,VLOOKUP(A395,Subcontractors!$A$2:$B$2,2,FALSE),\"\")","v":""}]
[null,null,null,null,null,null,{"$f":"IF(LEN(A396)>0,VLOOKUP(A396,Subcontractors!$A$2:$B$2,2,FALSE),\"\")","v":""}]
[null,null,null,null,null,null,{"$f":"IF(LEN(A397)>0,VLOOKUP(A397,Subcontractors!$A$2:$B$2,2,FALSE),\"\")","v":""}]
[null,null,null,null,null,null,{"$f":"IF(LEN(A398)>0,VLOOKUP(A398,Subcontractors!$A$2:$B$2,2,FALSE),\"\")","v":""}]
[null,null,null,null,null,null,{"$f":"IF(LEN(A399)>0,VLOOKUP(A399,Subcontractors!$A$2:$B$2,2,FALSE),\"\")","v":""}]
[null,null,null,null,null,null,{"$f":"IF(LEN(A400)>0,VLOOKUP(A400,Subcontractors!$A$2:$B$2,2,FALSE),\"\")","v":""}]
[null,null,null,null,null,null,{"$f":"IF(LEN(A401)>0,VLOOKUP(A401,Subcontractors!$A$2:$B$2,2,FALSE),\"\")","v":""}]
[null,null,null,null,null,null,{"$f":"IF(LEN(A402)>0,VLOOKUP(A402,Subcontractors!$A$2:$B$2,2,FALSE),\"\")","v":""}]
[null,null,null,null,null,null,{"$f":"IF(LEN(A403)>0,VLOOKUP(A403,Subcontractors!$A$2:$B$2,2,FALSE),\"\")","v":""}]
[null,null,null,null,null,null,{"$f":"IF(LEN(A404)>0,VLOOKUP(A404,Subcontractors!$A$2:$B$2,2,FALSE),\"\")","v":""}]
[null,null,null,null,null,null,{"$f":"IF(LEN(A405)>0,VLOOKUP(A405,Subcontractors!$A$2:$B$2,2,FALSE),\"\")","v":""}]
[null,null,null,null,null,null,{"$f":"IF(LEN(A406)>0,VLOOKUP(A406,Subcontractors!$A$2:$B$2,2,FALSE),\"\")","v":""}]
[null,null,null,null,null,null,{"$f":"IF(LEN(A407)>0,VLOOKUP(A407,Subcontractors!$A$2:$B$2,2,FALSE),\"\")","v":""}]
[null,null,null,null,null,null,{"$f":"IF(LEN(A408)>0,VLOOKUP(A408,Subcontractors!$A$2:$B$2,2,FALSE),\"\")","v":""}]
[null,null,null,null,null,null,{"$f":"IF(LEN(A409)>0,VLOOKUP(A409,Subcontractors!$A$2:$B$2,2,FALSE),\"\")","v":""}]
[null,null,null,null,null,null,{"$f":"IF(LEN(A410)>0,VLOOKUP(A410,Subcontractors!$A$2:$B$2,2,FALSE),\"\")","v":""}]
[null,null,null,null,null,null,{"$f":"IF(LEN(A411)>0,VLOOKUP(A411,Subcontractors!$A$2:$B$2,2,FALSE),\"\")","v":""}]
[null,null,null,null,null,null,{"$f":"IF(LEN(A412)>0,VLOOKUP(A412,Subcontractors!$A$2:$B$2,2,FALSE),\"\")","v":""}]
[null,null,null,null,null,null,{"$f":"IF(LEN(A413)>0,VLOOKUP(A413,Subcontractors!$A$2:$B$2,2,FALSE),\"\")","v":""}]
[null,null,null,null,null,null,{"$f":"IF(LEN(A414)>0,VLOOKUP(A414,Subcontractors!$A$2:$B$2,2,FALSE),\"\")","v":""}]
[null,null,null,null,null,null,{"$f":"IF(LEN(A415)>0,VLOOKUP(A415,Subcontractors!$A$2:$B$2,2,FALSE),\"\")","v":""}]
[null,null,null,null,null,null,{"$f":"IF(LEN(A416)>0,VLOOKUP(A416,Subcontractors!$A$2:$B$2,2,FALSE),\"\")","v":""}]
[null,null,null,null,null,null,{"$f":"IF(LEN(A417)>0,VLOOKUP(A417,Subcontractors!$A$2:$B$2,2,FALSE),\"\")","v":""}]
[null,null,null,null,null,null,{"$f":"IF(LEN(A418)>0,VLOOKUP(A418,Subcontractors!$A$2:$B$2,2,FALSE),\"\")","v":""}]
[null,null,null,null,null,null,{"$f":"IF(LEN(A419)>0,VLOOKUP(A419,Subcontractors!$A$2:$B$2,2,FALSE),\"\")","v":""}]
[null,null,null,null,null,null,{"$f":"IF(LEN(A420)>0,VLOOKUP(A420,Subcontractors!$A$2:$B$2,2,FALSE),\"\")","v":""}]
[null,null,null,null,null,null,{"$f":"IF(LEN(A421)>0,VLOOKUP(A421,Subcontractors!$A$2:$B$2,2,FALSE),\"\")","v":""}]
[null,null,null,null,null,null,{"$f":"IF(LEN(A422)>0,VLOOKUP(A422,Subcontractors!$A$2:$B$2,2,FALSE),\"\")","v":""}]
[null,null,null,null,null,null,{"$f":"IF(LEN(A423)>0,VLOOKUP(A423,Subcontractors!$A$2:$B$2,2,FALSE),\"\")","v":""}]
[null,null,null,null,null,null,{"$f":"IF(LEN(A424)>0,VLOOKUP(A424,Subcontractors!$A$2:$B$2,2,FALSE),\"\")","v":""}]
[null,null,null,null,null,null,{"$f":"IF(LEN(A425)>0,VLOOKUP(A425,Subcontractors!$A$2:$B$2,2,FALSE),\"\")","v":""}]
[null,null,null,null,null,null,{"$f":"IF(LEN(A426)>0,VLOOKUP(A426,Subcontractors!$A$2:$B$2,2,FALSE),\"\")","v":""}]
[null,null,null,null,null,null,{"$f":"IF(LEN(A427)>0,VLOOKUP(A427,Subcontractors!$A$2:$B$2,2,FALSE),\"\")","v":""}]
[null,null,null,null,null,null,{"$f":"IF(LEN(A428)>0,VLOOKUP(A428,Subcontractors!$A$2:$B$2,2,FALSE),\"\")","v":""}]
[null,null,null,null,null,null,{"$f":"IF(LEN(A429)>0,VLOOKUP(A429,Subcontractors!$A$2:$B$2,2,FALSE),\"\")","v":""}]
[null,null,null,null,null,null,{"$f":"IF(LEN(A430)>0,VLOOKUP(A430,Subcontractors!$A$2:$B$2,2,FALSE),\"\")","v":""}]
[null,null,null,null,null,null,{"$f":"IF(LEN(A431)>0,VLOOKUP(A431,Subcontractors!$A$2:$B$2,2,FALSE),\"\")","v":""}]
[null,null,null,null,null,null,{"$f":"IF(LEN(A432)>0,VLOOKUP(A432,Subcontractors!$A$2:$B$2,2,FALSE),\"\")","v":""}]
[null,null,null,null,null,null,{"$f":"IF(LEN(A433)>0,VLOOKUP(A433,Subcontractors!$A$2:$B$2,2,FALSE),\"\")","v":""}]
[null,null,null,null,null,null,{"$f":"IF(LEN(A434)>0,VLOOKUP(A434,Subcontractors!$A$2:$B$2,2,FALSE),\"\")","v":""}]
[null,null,null,null,null,null,{"$f":"IF(LEN(A435)>0,VLOOKUP(A435,Subcontractors!$A$2:$B$2,2,FALSE),\"\")","v":""}]
[null,null,null,null,null,null,{"$f":"IF(LEN(A436)>0,VLOOKUP(A436,Subcontractors!$A$2:$B$2,2,FALSE),\"\")","v":""}]
[null,null,null,null,null,null,{"$f":"IF(LEN(A437)>0,VLOOKUP(A437,Subcontractors!$A$2:$B$2,2,FALSE),\"\")","v":""}]
[null,null,null,null,null,null,{"$f":"IF(LEN(A438)>0,VLOOKUP(A438,Subcontractors!$A$2:$B$2,2,FALSE),\"\")","v":""}]
[null,null,null,null,null,null,{"$f":"IF(LEN(A439)>0,VLOOKUP(A439,Subcontractors!$A$2:$B$2,2,FALSE),\"\")","v":""}]
[null,null,null,null,null,null,{"$f":"IF(LEN(A440)>0,VLOOKUP(A440,Subcontractors!$A$2:$B$2,2,FALSE),\"\")","v":""}]
[null,null,null,null,null,null,{"$f":"IF(LEN(A441)>0,VLOOKUP(A441,Subcontractors!$A$2:$B$2,2,FALSE),\"\")","v":""}]
[null,null,null,null,null,null,{"$f":"IF(LEN(A442)>0,VLOOKUP(A442,Subcontractors!$A$2:$B$2,2,FALSE),\"\")","v":""}]
[null,null,null,null,null,null,{"$f":"IF(LEN(A443)>0,VLOOKUP(A443,Subcontractors!$A$2:$B$2,2,FALSE),\"\")","v":""}]
[null,null,null,null,null,null,{"$f":"IF(LEN(A444)>0,VLOOKUP(A444,Subcontractors!$A$2:$B$2,2,FALSE),\"\")","v":""}]
[null,null,null,null,null,null,{"$f":"IF(LEN(A445)>0,VLOOKUP(A445,Subcontractors!$A$2:$B$2,2,FALSE),\"\")","v":""}]
[null,null,null,null,null,null,{"$f":"IF(LEN(A446)>0,VLOOKUP(A446,Subcontractors!$A$2:$B$2,2,FALSE),\"\")","v":""}]
[null,null,null,null,null,null,{"$f":"IF(LEN(A447)>0,VLOOKUP(A447,Subcontractors!$A$2:$B$2,2,FALSE),\"\")","v":""}]
[null,null,null,null,null,null,{"$f":"IF(LEN(A448)>0,VLOOKUP(A448,Subcontractors!$A$2:$B$2,2,FALSE),\"\")","v":""}]
[null,null,null,null,null,null,{"$f":"IF(LEN(A449)>0,VLOOKUP(A449,Subcontractors!$A$2:$B$2,2,FALSE),\"\")","v":""}]
[null,null,null,null,null,null,{"$f":"IF(LEN(A450)>0,VLOOKUP(A450,Subcontractors!$A$2:$B$2,2,FALSE),\"\")","v":""}]
[null,null,null,null,null,null,{"$f":"IF(LEN(A451)>0,VLOOKUP(A451,Subcontractors!$A$2:$B$2,2,FALSE),\"\")","v":""}]
[null,null,null,null,null,null,{"$f":"IF(LEN(A452)>0,VLOOKUP(A452,Subcontractors!$A$2:$B$2,2,FALSE),\"\")","v":""}]
[null,null,null,null,null,null,{"$f":"IF(LEN(A453)>0,VLOOKUP(A453,Subcontractors!$A$2:$B$2,2,FALSE),\"\")","v":""}]
[null,null,null,null,null,null,{"$f":"IF(LEN(A454)>0,VLOOKUP(A454,Subcontractors!$A$2:$B$2,2,FALSE),\"\")","v":""}]
[null,null,null,null,null,null,{"$f":"IF(LEN(A455)>0,VLOOKUP(A455,Subcontractors!$A$2:$B$2,2,FALSE),\"\")","v":""}]
[null,null,null,null,null,null,{"$f":"IF(LEN(A456)>0,VLOOKUP(A456,Subcontractors!$A$2:$B$2,2,FALSE),\"\")","v":""}]
[null,null,null,null,null,null,{"$f":"IF(LEN(A457)>0,VLOOKUP(A457,Subcontractors!$A$2:$B$2,2,FALSE),\"\")","v":""}]
[null,null,null,null,null,null,{"$f":"IF(LEN(A458)>0,VLOOKUP(A458,Subcontractors!$A$2:$B$2,2,FALSE),\"\")","v":""}]
[null,null,null,null,null,null,{"$f":"IF(LEN(A459)>0,VLOOKUP(A459,Subcontractors!$A$2:$B$2,2,FALSE),\"\")","v":""}]
[null,null,null,null,null,null,{"$f":"IF(LEN(A460)>0,VLOOKUP(A460,Subcontractors!$A$2:$B$2,2,FALSE),\"\")","v":""}]
[null,null,null,null,null,null,{"$f":"IF(LEN(A461)>0,VLOOKUP(A461,Subcontractors!$A$2:$B$2,2,FALSE),\"\")","v":""}]
[null,null,null,null,null,null,{"$f":"IF(LEN(A462)>0,VLOOKUP(A462,Subcontractors!$A$2:$B$2,2,FALSE),\"\")","v":""}]
[null,null,null,null,null,null,{"$f":"IF(LEN(A463)>0,VLOOKUP(A463,Subcontractors!$A$2:$B$2,2,FALSE),\"\")","v":""}]
[null,null,null,null,null,null,{"$f":"IF(LEN(A464)>0,VLOOKUP(A464,Subcontractors!$A$2:$B$2,2,FALSE),\"\")","v":""}]
[null,null,null,null,null,null,{"$f":"IF(LEN(A465)>0,VLOOKUP(A465,Subcontractors!$A$2:$B$2,2,FALSE),\"\")","v":""}]
[null,null,null,null,null,null,{"$f":"IF(LEN(A466)>0,VLOOKUP(A466,Subcontractors!$A$2:$B$2,2,FALSE),\"\")","v":""}]
[null,null,null,null,null,null,{"$f":"IF(LEN(A467)>0,VLOOKUP(A467,Subcontractors!$A$2:$B$2,2,FALSE),\"\")","v":""}]
[null,null,null,null,null,null,{"$f":"IF(LEN(A468)>0,VLOOKUP(A468,Subcontractors!$A$2:$B$2,2,FALSE),\"\")","v":""}]
[null,null,null,null,null,null,{"$f":"IF(LEN(A469)>0,VLOOKUP(A469,Subcontractors!$A$2:$B$2,2,FALSE),\"\")","v":""}]
[null,null,null,null,null,null,{"$f":"IF(LEN(A470)>0,VLOOKUP(A470,Subcontractors!$A$2:$B$2,2,FALSE),\"\")","v":""}]
[null,null,null,null,null,null,{"$f":"IF(LEN(A471)>0,VLOOKUP(A471,Subcontractors!$A$2:$B$2,2,FALSE),\"\")","v":""}]
[null,null,null,null,null,null,{"$f":"IF(LEN(A472)>0,VLOOKUP(A472,Subcontractors!$A$2:$B$2,2,FALSE),\"\")","v":""}]
[null,null,null,null,null,null,{"$f":"IF(LEN(A473)>0,VLOOKUP(A473,Subcontractors!$A$2:$B$2,2,FALSE),\"\")","v":""}]
[null,null,null,null,null,null,{"$f":"IF(LEN(A474)>0,VLOOKUP(A474,Subcontractors!$A$2:$B$2,2,FALSE),\"\")","v":""}]
[null,null,null,null,null,null,{"$f":"IF(LEN(A475)>0,VLOOKUP(A475,Subcontractors!$A$2:$B$2,2,FALSE),\"\")","v":""}]
[null,null,null,null,null,null,{"$f":"IF(LEN(A476)>0,VLOOKUP(A476,Subcontractors!$A$2:$B$2,2,FALSE),\"\")","v":""}]
[null,null,null,null,null,null,{"$f":"IF(LEN(A477)>0,VLOOKUP(A477,Subcontractors!$A$2:$B$2,2,FALSE),\"\")","v":""}]
[null,null,null,null,null,null,{"$f":"IF(LEN(A478)>0,VLOOKUP(A478,Subcontractors!$A$2:$B$2,2,FALSE),\"\")","v":""}]
[null,null,null,null,null,null,{"$f":"IF(LEN(A479)>0,VLOOKUP(A479,Subcontractors!$A$2:$B$2,2,FALSE),\"\")","v":""}]
[null,null,null,null,null,null,{"$f":"IF(LEN(A480)>0,VLOOKUP(A480,Subcontractors!$A$2:$B$2,2,FALSE),\"\")","v":""}]
[null,null,null,null,null,null,{"$f":"IF(LEN(A481)>0,VLOOKUP(A481,Subcontractors!$A$2:$B$2,2,FALSE),\"\")","v":""}]
[null,null,null,null,null,null,{"$f":"IF(LEN(A482)>0,VLOOKUP(A482,Subcontractors!$A$2:$B$2,2,FALSE),\"\")","v":""}]
[null,null,null,null,null,null,{"$f":"IF(LEN(A483)>0,VLOOKUP(A483,Subcontractors!$A$2:$B$2,2,FALSE),\"\")","v":""}]
[null,null,null,null,null,null,{"$f":"IF(LEN(A484)>0,VLOOKUP(A484,Subcontractors!$A$2:$B$2,2,FALSE),\"\")","v":""}]
[null,null,null,null,null,null,{"$f":"IF(LEN(A485)>0,VLOOKUP(A485,Subcontractors!$A$2:$B$2,2,FALSE),\"\")","v":""}]
[null,null,null,null,null,null,{"$f":"IF(LEN(A486)>0,VLOOKUP(A486,Subcontractors!$A$2:$B$2,2,FALSE),\"\")","v":""}]
[null,null,null,null,null,null,{"$f":"IF(LEN(A487)>0,VLOOKUP(A487,Subcontractors!$A$2:$B$2,2,FALSE),\"\")","v":""}]
[null,null,null,null,null,null,{"$f":"IF(LEN(A488)>0,VLOOKUP(A488,Subcontractors!$A$2:$B$2,2,FALSE),\"\")","v":""}]
[null,null,null,null,null,null,{"$f":"IF(LEN(A489)>0,VLOOKUP(A489,Subcontractors!$A$2:$B$2,2,FALSE),\"\")","v":""}]
[null,null,null,null,null,null,{"$f":"IF(LEN(A490)>0,VLOOKUP(A490,Subcontractors!$A$2:$B$2,2,FALSE),\"\")","v":""}]
[null,null,null,null,null,null,{"$f":"IF(LEN(A491)>0,VLOOKUP(A491,Subcontractors!$A$2:$B$2,2,FALSE),\"\")","v":""}]
[null,null,null,null,null,null,{"$f":"IF(LEN(A492)>0,VLOOKUP(A492,Subcontractors!$A$2:$B$2,2,FALSE),\"\")","v":""}]
[null,null,null,null,null,null,{"$f":"IF(LEN(A493)>0,VLOOKUP(A493,Subcontractors!$A$2:$B$2,2,FALSE),\"\")","v":""}]
[null,null,null,null,null,null,{"$f":"IF(LEN(A494)>0,VLOOKUP(A494,Subcontractors!$A$2:$B$2,2,FALSE),\"\")","v":""}]
[null,null,null,null,null,null,{"$f":"IF(LEN(A495)>0,VLOOKUP(A495,Subcontractors!$A$2:$B$2,2,FALSE),\"\")","v":""}]
[null,null,null,null,null,null,{"$f":"IF(LEN(A496)>0,VLOOKUP(A496,Subcontractors!$A$2:$B$2,2,FALSE),\"\")","v":""}]
[null,null,null,null,null,null,{"$f":"IF(LEN(A497)>0,VLOOKUP(A497,Subcontractors!$A$2:$B$2,2,FALSE),\"\")","v":""}]
[null,null,null,null,null,null,{"$f":"IF(LEN(A498)>0,VLOOKUP(A498,Subcontractors!$A$2:$B$2,2,FALSE),\"\")","v":""}]
[null,null,null,null,null,null,{"$f":"IF(LEN(A499)>0,VLOOKUP(A499,Subcontractors!$A$2:$B$2,2,FALSE),\"\")","v":""}]
[null,null,null,null,null,null,{"$f":"IF(LEN(A500)>0,VLOOKUP(A500,Subcontractors!$A$2:$B$2,2,FALSE),\"\")","v":""}]
[null,null,null,null,null,null,{"$f":"IF(LEN(A501)>0,VLOOKUP(A501,Subcontractors!$A$2:$B$3,2,FALSE),\"\")","v":""}]

{"sheet":"Community Investment","index":6,"n_rows":3,"n_cols":13,"rows_kept":3,"cut":false,"hidden":false,"merged":[]}
[]
[]
["Recipient Organization","Spend Amount","Currency","City/ Town","Province/ State","Country","Postal/ Zip Code","Indigenous (CAN)","Native-American (USA)","Indigenous/Tribal Community","Other Indigenous/Tribal Community","Community Investment Type","Leveraging Plans"]

{"sheet":"Subcontractors","index":7,"n_rows":1,"n_cols":2,"rows_kept":1,"cut":false,"hidden":false,"merged":[]}
["Subcontractor Name","Record Id #"]

{"sheet":"Diversity Information Consent","index":8,"n_rows":4,"n_cols":1,"rows_kept":4,"cut":false,"hidden":false,"merged":[[1,0,1,10],[3,0,3,10]]}
["Diversity Information Consent / Consentement des informations sur la diversité"]
["TransCanada values making contributions to social and economic well-being in communities adjacent to our business. We endeavor to create equitable opportunities for qualified indigenous, diverse and local businesses and individuals to benefit from our footprint. This commitment to enabling social and economic opportunities for the communities where we live and work is reflected in our supplier diversity and local participation practices. TransCanada collects this data as an important part of tracking the inclusion of indigenous, diverse and local suppliers in our business and related opportunities. The collection and utilization of this information is in support of our Supplier Diversity and Local Participation Program, designed to increase participation of indigenous, diverse and local businesses in the company’s supply chain. Responses to questions in the ‘Diversity Information’ sections are voluntary. If you have additional questions regarding the Supplier Diversity and Local Participation Program at TransCanada please contact Dls_support@transcanada.com. All data (except the employees' names) collected in this form will be stored in a data center located in the United States and will be retained for only as long as reasonably required by TransCanada. For more information or questions related to TransCanada’s Protection of Personal Information Policy, please contact our Privacy Officer (privacy_officer@transcanada.com). "]
[]
["TransCanada valorise faire des contributions au bien-être sociale et économique dans les communautés adjacentes à notre entreprise. Nous nous efforçons de créer des opportunités équitables pour les entreprises et les individus divers et locaux qualifiés afin qu’ils puissent bénéficier de notre empreinte. Ce dévouement envers la génération d’opportunités sociales et économiques se démontre dans la diversité et les pratiques de participation locale de nos fournisseurs. La collection de ces données par TransCanada joue un rôle important dans le suivi de l’inclusion de divers fournisseurs locaux dans notre entreprise et opportunités augmenter la participation des entreprises diverses et locales dans la chaîne d’approvisionnement de l’entreprise. Les réponses aux questions dans les sections augmenter la participation des entreprises diverses et locales dans la chaîne d’approvisionnement de l’entreprise. Les réponses aux questions dans les sections ‘informations sur la diversité’ sont volontaires.‘informations sur la diversité’ sont volontaires.connexes. La collection et l’utilisation de ces informations sont à l’appui de notre programme de diversité des fournisseurs conçu pour augmenter la participation des entreprises diverses et locales dans la chaîne d’approvisionnement de l’entreprise. Les réponses aux questions dans les sections augmenter la participation des entreprises diverses et locales dans la chaîne d’approvisionnement de l’entreprise. Les réponses aux questions dans les sections ‘informations sur la diversité’ sont volontaires.‘informations sur la diversité’ sont volontaires. Si vous avez des questions supplémentaires concernant le programme de diversité des fournisseurs à TransCanada, s’il vous plaît, contactez Dls_support@transcanada.com. Toutes les données (sauf les noms des travailleurs) recueillies dans ce formulaire seront conservées dans un centre de données situé aux États-Unis et ne seront retenues que pour la durée jugée Si vous voulez de l’information ou avez des questions supplémentaires au sujet de la politique de TransCanada en matière de protection des renseignements personnels, s’il vous plaît, contactez notre agent de confidentialité.raisonnablement nécessaire par TransCanada. Si vous voulez de l’information ou avez des questions supplémentaires au sujet de la politique de TransCanada en matière de protection des renseignements personnels, s’il vous plaît, contactez notre agent de confidentialité (privacy_officer@transcanada.com)."]

{"sheet":"Case","index":9,"n_rows":19,"n_cols":3,"rows_kept":19,"cut":false,"hidden":true,"merged":[]}
["City","A","proper"]
["Province/ State","B","upper"]
["Country","C","proper"]
["Postal/Zip Code","D","upper"]
["Service Completed","E","proper"]
["Aboriginal Affiliation","Q","proper"]
["Aboriginal Affiliation Other","R","proper"]
["Currency","V","upper"]
["Spend City","W","proper"]
["Spend Province/ State","X","upper"]
["Spend Country","Y","proper"]
["Spend Postal Zip Code","Z","upper"]
["Material Supplier Name","AA","proper"]
["Traditional Studies","AF","proper"]
["Material Type","AI","proper"]
["Service Type","AJ","proper"]
["Recipient Organization","AL","proper"]
["Community Investment Type","AN","proper"]
["Leveraging Plans","AO","proper"]

{"sheet":"Com Inv Type","index":10,"n_rows":5,"n_cols":1,"rows_kept":5,"cut":false,"hidden":true,"merged":[]}
["Community Investment Type"]
["Education and Training"]
["Safety"]
["Environment"]
["Community"]

{"sheet":"Unions","index":11,"n_rows":110,"n_cols":1,"rows_kept":110,"cut":false,"hidden":true,"merged":[]}
["Union"]
["USA"]
["Air Line Pilots Association"]
["Aircraft Mechanics Fraternal Association"]
["Allied Pilots Association"]
["Amalgamated Transit Union"]
["American Association of Classified School Employees"]
["American Federation of Government Employees"]
["American Federation of Musicians"]
["American Federation of School Administrators"]
["American Federation of State, County and Municipal Employees"]
["American Federation of State, County, and Municipal Employees"]
["American Federation of Teachers"]
["American Guild of Musical Artists"]
["American Guild of Variety Artists"]
["American Nurses Association"]
["American Postal Workers Union"]
["American Train Dispatchers Association"]
["Associated Actors and Artistes of America"]
["Bakery, Confectionery, Tobacco Workers and Grain Millers' International Union"]
["Brotherhood of Railroad Signalmen"]
["California Nurses Association"]
["California School Employees Association"]
["Coalition of Graduate Employee Unions"]
["Communications Workers of America"]
["Directors Guild of America"]
["Dramatists Guild of America"]
["Farm Labor Organizing Committee"]
["Federation of Professional Athletes/National Football League Players Association"]
["Fraternal Order of Police"]
["Glass, Molders, Pottery, Plastics and Allied Workers International Union"]
["Independent Pilots Association"]
["Industrial Workers of the World"]
["International Alliance of Theatrical Stage Employees"]
["International Association of Bridge, Structural, Ornamental and Reinforcing Iron Workers"]
["International Association of Bridge, Structural, Ornamental, and Reinforcing Iron Workers"]
["International Association of Fire Fighters"]
["International Association of Heat and Frost Insulators and Asbestos Workers"]
["International Association of Machinists and Aerospace Workers"]
["International Brotherhood of Boilermakers, Iron Ship Builders, Blacksmiths, Forgers and Helpers"]
["International Brotherhood of Electrical Workers"]
["International Federation of Professional and Technical Engineers"]
["International Brotherhood of Teamsters"]
["International Longshore and Warehouse Union"]
["International Longshoremen's Association"]
["International Plate Printers, Die Stampers and Engravers Union of North America"]
["International Union of Allied Novelty and Production Workers"]
["International Union of Bricklayers and Allied Craftworkers"]
["International Union of Elevator Constructors"]
["International Union of Journeymen and Allied Trades"]
["International Union of Operating Engineers"]
["International Union of Painters and Allied Trades"]
["International Union of Police Associations"]
["International Union Security * Police * Fire Professionals of America"]
["Jockeys' Guild"]
["Laborers' International Union of North America"]
["Major League Baseball Players Association"]
["Major League Soccer Players Union"]
["Marine Engineers Beneficial Association"]
["National Air Traffic Controllers Association"]
["National Alliance of Postal and Federal Employees"]
["National Association of Letter Carriers"]
["National Basketball Players Association"]
["National Education Association"]
["National Education Association of the United States"]
["National Emergency Medical Services Association"]
["National Football League Players Association"]
["National Hockey League Players Association"]
["National Nurses United"]
["National Postal Mail Handlers Union"]
["National Rural Letter Carriers Association"]
["National Rural Letter Carriers' Association"]
["National Taxi Workers' Alliance"]
["National Treasury Employees Union"]
["National Weather Service Employees Organization"]
["Office and Professional Employees International Union"]
["Operative Plasterers' and Cement Masons' International Association"]
["Patrolmen's Benevolent Association"]
["Philadelphia Artists Equity"]
["Professional Aviation Safety Specialists"]
["Professional Hockey Players' Association"]
["Professional Lacrosse Players' Association"]
["Programmers Guild"]
["SAG-AFTRA"]
["Seafarers International Union of North America"]
["Service Employees International Union"]
["Sheet Metal Workers International Association"]
["Southwest Airlines' Pilots Association"]
["Stage Directors and Choreographers Society"]
["Teamsters"]
["The Guild of Italian American Actors"]
["Transport Workers Union of America"]
["UNITE HERE"]
["United Association"]
["United Association of Journeymen and Apprentices of the Plumbing, Pipefitting and Sprinkler Fitting Industry of the United States and Canada"]
["United Auto Workers"]
["United Automobile, Aerospace & Agricultural Implement Workers of America International Union"]
["United Brotherhood of Carpenters and Joiners of America"]
["United Electrical, Radio and Machine Workers of America"]
["United Food and Commercial Workers"]
["United Independent Technology Technicians of America"]
["United Mine Workers of America"]
["United Steel, Paper and Forestry, Rubber, Manufacturing, Energy, Allied Industrial and Service Workers International Union"]
["United Steelworkers"]
["United Transportation Union"]
["United Union of Roofers, Waterproofers and Allied Workers"]
["Utility Workers Union of America"]
["World Umpires Association"]
["Writers Guild of America, East"]
["Writers Guild of America, west"]

{"sheet":"Material Types","index":12,"n_rows":6,"n_cols":1,"rows_kept":6,"cut":false,"hidden":true,"merged":[]}
["Materials"]
["Raw Building Materials"]
["Large Fuel Purchases"]
["Equipment"]
["Office Supplies"]
["Other"]

{"sheet":"Service Type","index":13,"n_rows":24,"n_cols":1,"rows_kept":24,"cut":false,"hidden":true,"merged":[]}
["Service Types"]
["Aviation Services"]
["Civil/Structural Services"]
["Coating Services"]
["Construction Services"]
["Customs"]
["Electrical Services "]
["Engineering Design"]
["Environmental Services"]
["Equipment Services"]
["Fabrication Services"]
["Facility Services"]
["Grounds Maintenance"]
["Health & Safety Services"]
["Instrumentation"]
["Land Services"]
["Maintenance Services"]
["Measurement Services"]
["Mechanical Services"]
["Offshore Services"]
["Pipeline Maintenance"]
["Professional/Consulting Services"]
["Rental Services"]
["Transport/Freight Services"]

{"sheet":"Currency","index":14,"n_rows":3,"n_cols":1,"rows_kept":3,"cut":false,"hidden":true,"merged":[]}
["Currency"]
["CAD"]
["USD"]

{"sheet":"Provinces States","index":15,"n_rows":102,"n_cols":1,"rows_kept":102,"cut":false,"hidden":true,"merged":[]}
["Provinces States"]
["United States"]
["AK"]
["AL"]
["AR"]
["AZ"]
["CA"]
["CO"]
["CT"]
["DC"]
["DE"]
["FL"]
["GA"]
["GU"]
["HI"]
["IA"]
["ID"]
["IL"]
["IN"]
["KS"]
["KY"]
["LA"]
["MA"]
["MD"]
["ME"]
["MI"]
["MN"]
["MO"]
["MS"]
["MT"]
["NC"]
["ND"]
["NE"]
["NH"]
["NJ"]
["NM"]
["NV"]
["NY"]
["OH"]
["OK"]
["OR"]
["PA"]
["PR"]
["RI"]
["SC"]
["SD"]
["TN"]
["TX"]
["UT"]
["VA"]
["VI"]
["VT"]
["WA"]
["WI"]
["WV"]
["WY"]
["Canada"]
["AB"]
["BC"]
["MB"]
["NB"]
["NL"]
["NS"]
["NT"]
["NU"]
["ON"]
["PE"]
["QC"]
["SK"]
["YT"]
["Mexico"]
["Aguascalientes"]
["Baja California"]
["Baja California Sur"]
["Campeche"]
["Chiapas"]
["Chihuahua"]
["Coahuila"]
["Colima"]
["Distrito Federal"]
["Durango"]
["Guanajuato"]
["Guerrero"]
["Hidalgo"]
["Jalisco"]
["Michoacan"]
["Morelos"]
["Nayarit"]
["Nuevo Leon"]
["Oaxaca"]
["Puebla"]
["Queretaro"]
["Quintana Roo"]
["San Luis Potosi"]
["Sinaloa"]
["Sonora"]
["Tabasco"]
["Tamaulipas"]
["Tlaxcala"]
["Veracruz"]
["Yucatan"]
["Zacatecas"]

{"sheet":"Countries","index":16,"n_rows":255,"n_cols":1,"rows_kept":255,"cut":false,"hidden":true,"merged":[]}
["Countries"]
["Canada"]
["United States"]
["Mexico"]
["Afghanistan"]
["Aland Islands"]
["Albania"]
["Algeria"]
["American Samoa"]
["Andorra"]
["Angola"]
["Anguilla"]
["Antarctica"]
["Antigua and Barbuda"]
["Argentina"]
["Armenia"]
["Aruba"]
["Australia"]
["Austria"]
["Azerbaijan"]
["Bahamas"]
["Bahrain"]
["Bangladesh"]
["Barbados"]
["Belarus"]
["Belgium"]
["Belize"]
["Benin"]
["Bermuda"]
["Bhutan"]
["Bolivia, Plurinational State of"]
["Bonaire, Sint Eustatius and Saba"]
["Bosnia and Herzegovina"]
["Botswana"]
["Bouvet Island"]
["Brazil"]
["British Indian Ocean Territory"]
["Brunei Darussalam"]
["Bulgaria"]
["Burkina Faso"]
["Burundi"]
["Cambodia"]
["Cameroon"]
["Cape Verde"]
["Cayman Islands"]
["Central African Republic"]
["Chad"]
["Chile"]
["China"]
["Christmas Island"]
["Cocos (Keeling) Islands"]
["Colombia"]
["Comoros"]
["Congo"]
["Congo, The Democratic Republic of the"]
["Cook Islands"]
["Costa Rica"]
["Cote d'Ivoire"]
["Croatia"]
["Cuba"]
["Curacao"]
["Cyprus"]
["Czech Republic"]
["Denmark"]
["Djibouti"]
["Dominica"]
["Dominican Republic"]
["Ecuador"]
["Egypt"]
["El Salvador"]
["Equatorial Guinea"]
["Eritrea"]
["Estonia"]
["Ethiopia"]
["Falkland Islands (Malvinas)"]
["Faroe Islands"]
["Fiji"]
["Finland"]
["France"]
["French Guiana"]
["French Polynesia"]
["French Southern Territories"]
["Gabon"]
["Gambia"]
["Georgia"]
["Germany"]
["Ghana"]
["Gibraltar"]
["Greece"]
["Greenland"]
["Grenada"]
["Guadeloupe"]
["Guam"]
["Guatemala"]
["Guernsey"]
["Guinea"]
["Guinea-Bissau"]
["Guyana"]
["Haiti"]
["Heard Island and McDonald Islands"]
["Holy See (Vatican City State)"]
["Honduras"]
["Hong Kong"]
["Hungary"]
["Iceland"]
["India"]
["Indonesia"]
["Iran, Islamic Republic of"]
["Iraq"]
["Ireland"]
["Isle of Man"]
["Israel"]
["Italy"]
["Jamaica"]
["Japan"]
["Jersey"]
["Jordan"]
["Kazakhstan"]
["Kenya"]
["Kiribati"]
["Korea, Democratic People's Republic of"]
["Korea, Republic of"]
["Kosovo"]
["Kuwait"]
["Kyrgyzstan"]
["Lao People's Democratic Republic"]
["Latvia"]
["Lebanon"]
["Lesotho"]
["Liberia"]
["Libya"]
["Liechtenstein"]
["Lithuania"]
["Luxembourg"]
["Macao"]
["Macedonia, The Former Yugoslav Republic of"]
["Madagascar"]
["Malawi"]
["Malaysia"]
["Maldives"]
["Mali"]
["Malta"]
["Marshall Islands"]
["Martinique"]
["Mauritania"]
["Mauritius"]
["Mayotte"]
["Micronesia, Federated States of"]
["Moldova, Republic of"]
["Monaco"]
["Mongolia"]
["Montenegro"]
["Montserrat"]
["Morocco"]
["Mozambique"]
["Myanmar"]
["Namibia"]
["Nauru"]
["Nepal"]
["Netherlands"]
["New Caledonia"]
["New Zealand"]
["Nicaragua"]
["Niger"]
["Nigeria"]
["Niue"]
["Norfolk Island"]
["Northern Cyprus"]
["Northern Mariana Islands"]
["Norway"]
["Oman"]
["Pakistan"]
["Palau"]
["Palestine, State of"]
["Panama"]
["Papua New Guinea"]
["Paraguay"]
["Peru"]
["Philippines"]
["Pitcairn Islands"]
["Poland"]
["Portugal"]
["Puerto Rico"]
["Qatar"]
["Reunion"]
["Romania"]
["Russian Federation"]
["Rwanda"]
["Western Sahara"]
["Saint Barthelemy"]
["Saint Helena, Ascension and Tristan da Cunha"]
["Saint Kitts and Nevis"]
["Saint Lucia"]
["Saint Martin (French Part)"]
["Saint Pierre and Miquelon"]
["Saint Vincent and the Grenadines"]
["Samoa"]
["San Marino"]
["Sao Tome and Principe"]
["Saudi Arabia"]
["Senegal"]
["Serbia"]
["Seychelles"]
["Sierra Leone"]
["Singapore"]
["Sint Maarten (Dutch Part)"]
["Slovakia"]
["Slovenia"]
["Solomon Islands"]
["Somalia"]
["Somaliland"]
["South Africa"]
["South Georgia and the South Sandwich Islands"]
["South Ossetia"]
["South Sudan"]
["Spain"]
["Sri Lanka"]
["Sudan"]
["Suriname"]
["Svalbard and Jan Mayen"]
["Swaziland"]
["Sweden"]
["Switzerland"]
["Syrian Arab Republic"]
["Taiwan, Province of China"]
["Tajikistan"]
["Tanzania, United Republic of"]
["Thailand"]
["Timor-Leste"]
["Togo"]
["Tokelau"]
["Tonga"]
["Transnistria"]
["Trinidad and Tobago"]
["Tunisia"]
["Turkey"]
["Turkmenistan"]
["Turks and Caicos Islands"]
["Tuvalu"]
["Uganda"]
["Ukraine"]
["United Arab Emirates"]
["United Kingdom"]
["United States Minor Outlying Islands"]
["Uruguay"]
["Uzbekistan"]
["Vanuatu"]
["Venezuela, Bolivarian Republic of"]
["Vietnam"]
["Virgin Islands, British"]
["Virgin Islands, US"]
["Wallis and Futuna"]
["Yemen"]
["Zambia"]
["Zimbabwe"]

{"sheet":"Service Completed","index":17,"n_rows":6,"n_cols":1,"rows_kept":6,"cut":false,"hidden":true,"merged":[]}
["Service Completed"]
["Labourer"]
["Skilled trades"]
["Office staff"]
["Management"]
["Professionals"]

{"sheet":"TFW Programs","index":18,"n_rows":24,"n_cols":2,"rows_kept":24,"cut":false,"hidden":true,"merged":[]}
["Program","Record ID#"]
["Labour Market Impact Assessment (LMIA)",1]
["Intra-Company Transferee - Managerial",2]
["Intra-Company Transferee - Specialized Knowledge",3]
["NAFTA TN Professional",4]
["L1A – Managerial",5]
["L1B – Specialized Knowledge",6]
["H1B – Specialty Occupations",7]
["Labour Market Impact Assessment (LMIA)",8]
["Intra-Company Transferee - Managerial",9]
["Intra-Company Transferee - Specialized Knowledge",10]
["NAFTA TN Professional",11]
["L1A – Managerial",12]
["L1B – Specialized Knowledge",13]
["H1B – Specialty Occupations",14]
["EB-1-1 Extraordinary Ability",15]
["EB1-2 Outstanding Professors or Researchers",16]
["EB-1-3 Multinational Manager or Executive",17]
["EB-2-1 Professionals holding advanced degree",18]
["EB-2-2 Persons with exceptional ability",19]
["EB-3-1 Skilled workers",20]
["EB-3-2 Professionals",21]
["EB-3-3 Unskilled workers",22]
["EB-4 Certain special immigrants",23]

{"sheet":"Traditional Studies","index":19,"n_rows":3,"n_cols":1,"rows_kept":3,"cut":false,"hidden":true,"merged":[]}
["Traditional Studies "]
["Traditional Land Use (TLU)"]
["Traditional Ecological Knowledge (TEK)"]

{"sheet":"Aboriginal Affiliation","index":20,"n_rows":1350,"n_cols":1,"rows_kept":1350,"cut":false,"hidden":true,"merged":[]}
["List of Tribes (USA) List (Updated 07.29.2017)"]
["A"]
["Absentee-Shawnee Tribe of Indians of Oklahoma"]
["Agdaagux Tribe of King Cove"]
["Agua Caliente Band of Cahuilla Indians of the Agua Caliente Indian Reservation, California"]
["Ak-Chin Indian Community of the Maricopa (Ak Chin) Indian Reservation, Arizona"]
["Akiachak Native Community"]
["Akiak Native Community"]
["Alabama-Coushatta Tribes of Texas"]
["Alabama-Quassarte Tribal Town"]
["Alatna Village"]
["Algaaciq Native Village (St. Mary's)"]
["Allakaket Village"]
["Alturas Indian Rancheria, CA"]
["Alutiiq Tribe of Old Harbor"]
["Angoon Community Association"]
["Anvik Village"]
["Apache Tribe of Oklahoma"]
["Arctic Village"]
["Aroostook Band of Micmacs"]
["Asa'carsarmiut Tribe"]
["Assiniboine & Sioux Tribes of the Fort Peck Indian Reservation, MT"]
["Atqasuk Village (Atkasook)"]
["Augustine Band of Cahuilla Indians, California"]
["B"]
["Bad River Band of Lake Superior Tribe of Chippewa Indians"]
["Bay Mills Indian Community, Michigan"]
["Bear River Band of the Rohnerville Rancheria, California"]
["Beaver Village"]
["Berry Creek Rancheria of Maidu Indians of California"]
["Big Lagoon Rancheria, California"]
["Big Pine Paiute Tribe of the Owens Valley"]
["Big Sandy Rancheria of Western Mono Indians of California"]
["Big Valley Band of Pomo Indians of the Big Valley Rancheria, California"]
["Birch Creek Tribe"]
["Bishop Paiute Tribe"]
["Blackfeet Tribe of the Blackfeet Indian Reservation of MT"]
["Blue Lake Rancheria, California"]
["Bridgeport Indian Colony"]
["Buena Vista Rancheria of Me-wuk Indians of California"]
["Burns Paiute Tribe"]
["C"]
["Cabazon Band of Mission Indians, California"]
["Cachil DeHe Band of Wintun Indians of the Colusa Indian Community of the Colusa Rancheria, California"]
["Caddo Nation of Oklahoma"]
["Cahto Tribe of the Laytonville Rancheria"]
["Cahuilla Band of Mission Indians of the Cahuilla Reservation, California"]
["California Valley Miwok Tribe, California"]
["Campo Band of Diegueno Mission Indians of the Campo Indian Reservation, California"]
["Capitan Grande Band of Diegueno Mission Indians of California (Barona Group of Capitan Grande Band of Mission Indians of the Barona Reservation, California)"]
["Capitan Grande Band of Diegueno Mission Indians of California: Viejas (Barona Long) Group of Capitan Grande Band of Mission Indians of the Viejas Reservation, California"]
["Catawba Indian Nation"]
["Cayuga Nation"]
["Cedarville Rancheria, California"]
["Central Council of the Tlingit & Haida Indian Tribes of Alaska"]
["Chalkyitsik Village"]
["Cheesh-Na Tribe"]
["Chemehuevi Indian Tribe of the Chemehuevi Reservation, California"]
["Cher-Ae Heights Indian Community of the Trinidad Rancheria, California"]
["Cherokee Nation"]
["Chevak Native Village"]
["Cheyenne and Arapaho Tribes, Oklahoma"]
["Cheyenne River Sioux Tribe of the Cheyenne River Reservation, SD"]
["Chickaloon Native Village"]
["Chicken Ranch Rancheria of Me-wuk Indians of California"]
["Chignik Bay Tribal Council"]
["Chignik Lake Village"]
["Chilkat Indian Village (Klukwan)"]
["Chilkoot Indian Association (Haines)"]
["Chinik Eskimo Community (Golovin)"]
["Chippewa Cree Indians of the Rocky Boy's Reservation, MT"]
["Chitimacha Tribe of Louisiana"]
["Chuloonawick Native Village"]
["Circle Native Community"]
["Citizen Potawatomi Nation (Oklahoma)"]
["Cloverdale Rancheria of Pomo Indians of California"]
["Cocopah Tribe of Arizona"]
["Coeur D'Alene Tribe"]
["Cold Springs Rancheria of Mono Indians of California"]
["Colorado River Indian Tribes of the Colorado Indian Reservation, Arizona and California"]
["Comanche Nation, Oklahoma"]
["Confederated Salish & Kootenai Tribes of the Flathead Reservation"]
["Confederated Tribes and Bands of the Yakama Nation"]
["Confederated Tribes of Coos, Lower Umpqua and Siuslaw Indians"]
["Confederated Tribes of Siletz Indians of Oregon"]
["Confederated Tribes of the Chehalis Reservation"]
["Confederated Tribes of the Colville Reservation"]
["Confederated Tribes of the Goshute Reservation, Nevada and Utah"]
["Confederated Tribes of the Grand Ronde Community of Oregon"]
["Confederated Tribes of the Umatilla Indian Reservation"]
["Confederated Tribes of the Warm Springs Reservation of Oregon"]
["Coquille Indian Tribe"]
["Coushatta Tribe of Louisiana"]
["Cow Creek Band of Umpqua Tribe of Indians"]
["Cowlitz Indian Tribe"]
["Coyote Valley Band of Pomo Indians of California"]
["Craig Tribal Association"]
["Crow Creek Sioux Tribe of the Crow Creek Reservation, SD"]
["Crow Tribe of Montana"]
["Curyung Tribal Council"]
["D"]
["Death Valley Timbi-sha Shoshone Tribe"]
["Delaware Nation, Oklahoma"]
["Delaware Tribe of Indians"]
["Douglas Indian Association"]
["Dry Creek Rancheria Band of Pomo Indians, California"]
["Duckwater Shoshone Tribe of the Duckwater Reservation, Nevada"]
["E"]
["Eastern Band of Cherokee Indians"]
["Eastern Shawnee Tribe of Oklahoma"]
["Eastern Shoshone Tribe of the Wind River Reservation, Wyoming"]
["Egegik Village"]
["Eklutna Native Village"]
["Elem Indian Colony of Pomo Indians of the Sulphur Bank Rancheria, California"]
["Elk Valley Rancheria, California"]
["Ely Shoshone Tribe of Nevada"]
["Emmonak Village"]
["Enterprise Rancheria of Maidu Indians of California"]
["Evansville Village (aka Bettles Field)"]
["Ewiiaapaayp Band of Kumeyaay Indians, California"]
["F"]
["Federated Indians of Graton Rancheria, California"]
["Flandreau Santee Sioux Tribe of South Dakota"]
["Forest County Potawatomi Community, Wisconsin"]
["Fort Belknap Indian Community"]
["Fort Bidwell Indian Community of the Fort Bidwell Reservation of California"]
["Fort Independence Indian Community of Paiute Indians of the Fort Independence Reservation, California"]
["Fort McDermitt Paiute and Shoshone Tribes of the Fort McDermitt Indian Reservation, Nevada and Oregon"]
["Fort McDowell Yavapai Nation, Arizona"]
["Fort Mojave Indian Tribe of Arizona, California & Nevada"]
["Fort Sill Apache Tribe of Oklahoma"]
["G"]
["Galena Village (aka Louden Village)"]
["Gila River Indian Community of the Gila River Indian Reservation, Arizona"]
["Grand Traverse Band of Ottawa & Chippewa Indians, Michigan"]
["Greenville Rancheria"]
["Grindstone Indian Rancheria of Wintun-Wailaki Indians of California"]
["Guidiville Rancheria of California"]
["Gulkana Village"]
["H"]
["Habematolel Pomo of Upper Lake, California"]
["Hannahville Indian Community, Michigan"]
["Havasupai Tribe of the Havasupai Reservation, Arizona"]
["Healy Lake Village"]
["Ho-Chunk Nation of Wisconsin"]
["Hoh Indian Tribe"]
["Holy Cross Village"]
["Hoonah Indian Association"]
["Hoopa Valley Tribe, California"]
["Hopi Tribe of Arizona"]
["Hopland Band of Pomo Indians, California"]
["Houlton Band of Maliseet Indians"]
["Hualapai Indian Tribe of the Hualapai Indian Reservation, Arizona"]
["Hughes Village"]
["Huslia Village"]
["Hydaburg Cooperative Association"]
["I"]
["Igiugig Village"]
["Iipay Nation of Santa Ysabel, California"]
["Inaja Band of Diegueno Mission Indians of the Inaja and Cosmit Reservation, California"]
["Inupiat Community of the Arctic Slope"]
["Ione Band of Miwok Indians of California"]
["Iowa Tribe of Kansas & Nebraska"]
["Iowa Tribe of Oklahoma"]
["Iqurmuit Traditional Council"]
["Ivanof Bay Tribe"]
["J"]
["Jackson Band of Miwuk Indians"]
["Jamestown S'Klallam Tribe"]
["Jamul Indian Village of California"]
["Jena Band of Choctaw Indians"]
["Jicarilla Apache Nation, New Mexico"]
["K"]
["Kaguyak Village"]
["Kaibab Band of Paiute Indians of the Kaibab Indian Reservation, Arizona"]
["Kaktovik Village (aka Barter Island)"]
["Kalispel Indian Community of the Kalispel Reservation"]
["Karuk Tribe"]
["Kashia Band of Pomo Indians of the Stewarts Point Rancheria, California"]
["Kasigluk Traditional Elders Council"]
["Kaw Nation, Oklahoma"]
["Kenaitze Indian Tribe"]
["Ketchikan Indian Corporation"]
["Kewa Pueblo"]
["Keweenaw Bay Indian Community, Michigan"]
["Kialegee Tribal Town"]
["Kickapoo Traditional Tribe of Texas"]
["Kickapoo Tribe of Indians of the Kickapoo Reservation in Kansas"]
["Kickapoo Tribe of Oklahoma"]
["King Island Native Community"]
["King Salmon Tribe"]
["Kiowa Indian Tribe of Oklahoma"]
["Klamath Tribes"]
["Klawock Cooperative Association"]
["Kletsel Dehe Band of Wintun Indians"]
["Knik Tribe"]
["Koi Nation of Northern California"]
["Kokhanok Village"]
["Kootenai Tribe of Idaho"]
["Koyukuk Native Village"]
["L"]
["La Jolla Band of Luiseno Indians, California"]
["La Posta Band of Diegueno Mission Indians of the La Posta Indian Reservation, California"]
["Lac Courte Oreilles Band of Lake Superior Chippewa Indians of Wisconsin"]
["Lac du Flambeau Band of Lake Superior Chippewa Indians of Wisconsin"]
["Lac Vieux Desert Band of Lake Superior Chippewa Indians of MI"]
["Las Vegas Tribe of Paiute Indians of the Las Vegas Indian Colony, Nevada"]
["Levelock Village"]
["Lime Village"]
["Little River Band of Ottawa Indians, Michigan"]
["Little Traverse Bay Bands of Odawa Indians, Michigan"]
["Lone Pine Paiute-Shoshone Tribe"]
["Los Coyotes Band of Cahuilla & Cupeno Indians, California"]
["Lovelock Paiute Tribe of the Lovelock Indian Colony, Nevada"]
["Lower Brule Sioux Tribe of the Lower Brule Reservation, SD"]
["Lower Elwha Tribal Community"]
["Lower Sioux Indian Community in the State of Minnesota"]
["Lummi Tribe of the Lummi Reservation"]
["Lytton Rancheria of California"]
["M"]
["Makah Indian Tribe of the Makah Indian Reservation"]
["Manchester Band of Pomo Indians of the Manchester Rancheria, California"]
["Manley Hot Springs Village"]
["Manokotak Village"]
["Manzanita Band of Diegueno Mission Indians of the Manzanita Reservation, Califonria"]
["Mashantucket Pequot Indian Tribe"]
["Mashpee Wampanoag Tribe"]
["Match-e-be-nash-she-wish Band of Pottawatomi Indians of Michigan"]
["McGrath Native Village"]
["Mechoopda Indian Tribe of Chico Rancheria, California"]
["Menominee Indian Tribe of Wisconsin"]
["Mentasta Traditional Council"]
["Mesa Grande Band of Diegueno Mission Indians of the Mesa Grande Reservation, California"]
["Mescalero Apache Tribe"]
["Metlakatla Indian Community, Annette Island Reserve"]
["Miami Tribe of Oklahoma"]
["Miccosukee Tribe of Indians"]
["Middletown Rancheria of Pomo Indians of California"]
["Minnesota Chippewa Tribe"]
["Minnesota Chippewa Tribe - Bois Forte Band (Nett Lake)"]
["Minnesota Chippewa Tribe - Fond du Lac Band"]
["Minnesota Chippewa Tribe - Grand Portage Band"]
["Minnesota Chippewa Tribe - Leech Lake Band"]
["Minnesota Chippewa Tribe - Mille Lacs Band"]
["Minnesota Chippewa Tribe - White Earth Band"]
["Mississippi Band of Choctaw Indians"]
["Moapa Band of Paiute Indians of the Moapa River Indian Reservation, Nevada"]
["Mohegan Tribe of Indians of Connecticut"]
["Mooretown Rancheria of Maidu Indians of California"]
["Morongo Band of Mission Indians, California"]
["Muckleshoot Indian Tribe"]
["N"]
["Naknek Native Village"]
["Narragansett Indian Tribe"]
["Native Village of Afognak"]
["Native Village of Akhiok"]
["Native Village of Akutan"]
["Native Village of Aleknagik"]
["Native Village of Ambler"]
["Native Village of Atka"]
["Native Village of Barrow Inupiat Traditional Government"]
["Native Village of Belkofski"]
["Native Village of Brevig Mission"]
["Native Village of Buckland"]
["Native Village of Cantwell"]
["Native Village of Chenega (aka Chanega)"]
["Native Village of Chignik Lagoon"]
["Native Village of Chitina"]
["Native Village of Chuathbaluk (Russian Mission, Kuskokwim)"]
["Native Village of Council"]
["Native Village of Deering"]
["Native Village of Diomede (aka Inalik)"]
["Native Village of Eagle"]
["Native Village of Eek"]
["Native Village of Ekuk"]
["Native Village of Ekwok"]
["Native Village of Elim"]
["Native Village of Eyak (Cordova)"]
["Native Village of False Pass"]
["Native Village of Fort Yukon"]
["Native Village of Gakona"]
["Native Village of Gambell"]
["Native Village of Georgetown"]
["Native Village of Goodnews Bay"]
["Native Village of Hamilton"]
["Native Village of Hooper Bay"]
["Native Village of Kanatak"]
["Native Village of Karluk"]
["Native Village of Kiana"]
["Native Village of Kipnuk"]
["Native Village of Kivalina"]
["Native Village of Kluti-Kaah (aka Copper Center)"]
["Native Village of Kobuk"]
["Native Village of Kongiganak"]
["Native Village of Kotzebue"]
["Native Village of Koyuk"]
["Native Village of Kwigillingok"]
["Native Village of Kwinhagak (aka Quinhagak)"]
["Native Village of Larsen Bay"]
["Native Village of Marshall (aka Fortuna Ledge)"]
["Native Village of Mary's Igloo"]
["Native Village of Mekoryuk"]
["Native Village of Minto"]
["Native Village of Nanwalek (aka English Bay)"]
["Native Village of Napaimute"]
["Native Village of Napakiak"]
["Native Village of Napaskiak"]
["Native Village of Nelson Lagoon"]
["Native Village of Nightmute"]
["Native Village of Nikolski"]
["Native Village of Noatak"]
["Native Village of Nuiqsut (aka Nooiksut)"]
["Native Village of Nunam Iqua"]
["Native Village of Nunapitchuk"]
["Native Village of Ouzinkie"]
["Native Village of Paimiut"]
["Native Village of Perryville"]
["Native Village of Pilot Point"]
["Native Village of Pitka's Point"]
["Native Village of Point Hope"]
["Native Village of Point Lay"]
["Native Village of Port Graham"]
["Native Village of Port Heiden"]
["Native Village of Port Lions"]
["Native Village of Ruby"]
["Native Village of Saint Michael"]
["Native Village of Savoonga"]
["Native Village of Scammon Bay"]
["Native Village of Selawik"]
["Native Village of Shaktoolik"]
["Native Village of Shishmaref"]
["Native Village of Shungnak"]
["Native Village of Stevens"]
["Native Village of Tanacross"]
["Native Village of Tanana"]
["Native Village of Tatitlek"]
["Native Village of Tazlina"]
["Native Village of Teller"]
["Native Village of Tetlin"]
["Native Village of Tuntutuliak"]
["Native Village of Tununak"]
["Native Village of Tyonek"]
["Native Village of Unalakleet"]
["Native Village of Unga"]
["Native Village of Venetie Tribal Government"]
["Native Village of Wales"]
["Native Village of White Mountain"]
["Navajo Nation, Arizona, New Mexico & Utah"]
["Nenana Native Association"]
["New Koliganek Village Council"]
["New Stuyahok Village"]
["Newhalen Village"]
["Newtok Village"]
["Nez Perce Tribe"]
["Nikolai Village"]
["Ninilchik Village"]
["Nisqually Indian Tribe"]
["Nome Eskimo Community"]
["Nondalton Village"]
["Nooksack Indian Tribe"]
["Noorvik Native Community"]
["Northern Arapaho Tribe of the Wind River Reservation, Wyoming"]
["Northern Cheyenne Tribe"]
["Northfork Rancheria of Mono Indians of California"]
["Northway Village"]
["Northwestern Band of Shoshone Nation"]
["Nottawaseppi Huron Band of the Potawatomi, MI"]
["Nulato Village"]
["Nunakauyarmiut Tribe"]
["O"]
["Oglala Sioux Tribe"]
["Ohkay Owingeh"]
["Omaha Tribe of Nebraska"]
["Oneida Nation"]
["Oneida Nation of New York"]
["Onondaga Nation"]
["Organized Village of Grayling (aka Holikachuk)"]
["Organized Village of Kake"]
["Organized Village of Kasaan"]
["Organized Village of Kwethluk"]
["Organized Village of Saxman"]
["Orutsararmiut Traditional Native Council"]
["Oscarville Traditional Village"]
["Otoe-Missouria Tribe of Indians, Oklahoma"]
["Ottawa Tribe of Oklahoma"]
["P"]
["Paiute Indian Tribe of Utah (Cedar Band of Paiutes, Kanosh Band of Paiutes, Koosharem Band of Paiutes, Indian Peaks Band of Paiutes, and Shivwits Band of Paiutes)"]
["Paiute-Shoshone Tribe of the Fallon Reservation and Colony, Nevada"]
["Pala Band of Mission Indians"]
["Pamunkey Indian Tribe"]
["Pascua Yaqui Tribe of Arizona"]
["Paskenta Band of Nomlaki Indians of California"]
["Passamaquoddy Tribe - Indian Township"]
["Passamaquoddy Tribe - Pleasant Point"]
["Pauloff Harbor Village"]
["Pauma Band of Luiseno Mission Indians of the Pauma & Yuima Reservation, California"]
["Pawnee Nation of Oklahoma"]
["Pechanga Band of Luiseno Mission Indians of the Pechanga Reservation, California"]
["Pedro Bay Village"]
["Penobscot Nation"]
["Peoria Tribe of Indians of Oklahoma"]
["Petersburg Indian Association"]
["Picayune Rancheria of Chukchansi Indians of California"]
["Pilot Station Traditional Village"]
["Pinoleville Pomo Nation, California"]
["Pit River Tribe, California"]
["Platinum Traditional Village"]
["Poarch Band of Creeks"]
["Pokagon Band of Potawatomi Indians, Michigan & Indiana"]
["Ponca Tribe of Indians of Oklahoma"]
["Ponca Tribe of Nebraska"]
["Port Gamble S'Klallam Tribe"]
["Portage Creek Village (aka Ohgsenakale)"]
["Potter Valley Tribe, California"]
["Prairie Band of Potawatomi Nation"]
["Prairie Island Indian Community in the State of MN"]
["Pueblo of Acoma"]
["Pueblo of Cochiti"]
["Pueblo of Isleta"]
["Pueblo of Jemez"]
["Pueblo of Laguna"]
["Pueblo of Nambe"]
["Pueblo of Picuris"]
["Pueblo of Pojoaque"]
["Pueblo of San Felipe"]
["Pueblo of San Ildefonso"]
["Pueblo of Sandia"]
["Pueblo of Santa Ana"]
["Pueblo of Santa Clara"]
["Pueblo of Taos"]
["Pueblo of Tesuque"]
["Pueblo of Zia"]
["Puyallup Tribe of the Puyallup Reservation"]
["Pyramid Lake Paiute Tribe of the Pyramid Lake Reservation, Nevada"]
["Q"]
["Qagan Tayagungin Tribe of Sand Point Village"]
["Qawalangin Tribe of Unalaska"]
["Quartz Valley Indian Community of the Quartz Valley Reservation of California"]
["Quechan Tribe of the Fort Yuma Indian Reservation, California & Arizona (aka Fort Yuma-Quechen Tribe)"]
["Quileute Tribe of the Quileute Reservation"]
["Quinault Indian Nation"]
["R"]
["Ramah Navajo Chapter"]
["Ramona Band of Cahuilla, California"]
["Rampart Village"]
["Red Cliff Band of Lake Superior Chippewa Indians of Wisconsin"]
["Red Lake Band of Chippewa Indians, Minnesota"]
["Redding Rancheria, California"]
["Redwood Valley or Little River Band of Pomo Indians of the Redwood Valley Rancheria California"]
["Reno-Sparks Indian Colony, Nevada"]
["Resighini Rancheria, California"]
["Rincon Band of Luiseno Mission Indians of the Rincon Reservation, California"]
["Robinson Rancheria Band of Pomo Indians, CA"]
["Rosebud Sioux Tribe of the Rosebud Indian Reservation, SD"]
["Round Valley Indian Tribes, Round Valley Reservation, California"]
["S"]
["Sac & Fox Tribe of the Mississippi in Iowa"]
["Sac and Fox Nation of Missouri in Kansas and Nebraska"]
["Sac and Fox Nation, Oklahoma"]
["Saginaw Chippewa Indian Tribe of Michigan"]
["Saint George Island"]
["Saint Paul Island"]
["Saint Regis Mohawk Tribe"]
["Salt River Pima-Maricopa Indian Community of the Salt River Reservation, Arizona"]
["Samish Indian Nation"]
["San Carlos Apache Tribe of the San Carlos Reservation, Arizona"]
["San Juan Southern Paiute Tribe of Arizona"]
["San Manuel Band of Mission Indians, California"]
["San Pasqual Band of Diegueno Mission Indians of California"]
["Santa Rosa Band of Cahuilla Indians, California"]
["Santa Rosa Indian Community of the Santa Rosa Rancheria, California"]
["Santa Ynez Band of Chumash Mission Indians of the Santa Ynez Reservation, California"]
["Santee Sioux Nation, Nebraska"]
["Sauk-Suiattle Indian Tribe"]
["Sault Ste. Marie Tribe of Chippewa Indians, Michigan"]
["Scotts Valley Band of Pomo Indians of California"]
["Seldovia Village Tribe"]
["Seminole Tribe of Florida"]
["Seneca Nation of Indians"]
["Seneca-Cayuga Nation"]
["Shageluk Native Village"]
["Shakopee Mdewakanton Sioux Community of Minnesota"]
["Shawnee Tribe"]
["Sherwood Valley Rancheria of Pomo Indians of California"]
["Shingle Springs Band of Miwok Indians, Shingle Springs Rancheria (Verona Tract), California"]
["Shinnecock Indian Nation"]
["Shoalwater Bay Indian Tribe"]
["Shoshone-Bannock Tribes of the Fort Hall Reservation"]
["Shoshone-Paiute Tribes of the Duck Valley Reservation, Nevada"]
["Sisseton-Wahpeton Oyate of the Lake Traverse Reservation, SD"]
["Sitka Tribe of Alaska"]
["Skagway Village"]
["Skokomish Indian Tribe"]
["Skull Valley Band of Goshute Indians of Utah"]
["Snoqualmie Indian Tribe"]
["Soboba Band of Luiseno Indians, California"]
["Sokaogon Chippewa  Community, Wisconsin"]
["South Naknek Village"]
["Southern Ute Indian Tribe"]
["Spirit Lake Tribe, North Dakota"]
["Spokane Tribe of the Spokane Reservation"]
["Squaxin Island Tribe of the Squaxin Island Reservation"]
["St. Croix Chippewa Indians of Wisconsin"]
["Standing Rock Sioux Tribe of North & South Dakota"]
["Stebbins Community Association"]
["Stillaguamish Tribe of Indians of Washington"]
["Stockbridge Munsee Community, Wisconsin"]
["Summit Lake Paiute Tribe of Nevada"]
["Sun'aq Tribe of Kodiak"]
["Suquamish Indian Tribe of the Port Madison Reservation"]
["Susanville Indian Rancheria, California"]
["Swinomish Indian Tribal Community"]
["Sycuan Band of the Kumeyaay Nation"]
["T"]
["Table Mountain Rancheria of California"]
["Takotna Village"]
["Tangirnaq Native Village (aka Woody Island)"]
["Tejon Indian Tribe"]
["Telida Village"]
["Te-Moak Tribe of Western Shoshone Indians of Nevada (Four constituent bands: Battle Mountain Band; Elko Band; South Fork Band and Wells Band)"]
["The Chickasaw Nation"]
["The Choctaw Nation of Oklahoma"]
["The Modoc Tribe of Oklahoma"]
["The Muscogee (Creek) Nation"]
["The Osage Nation"]
["The Quapaw Tribe of Indians"]
["The Seminole Nation of Oklahoma"]
["Thlopthlocco Tribal Town"]
["Three Affiliated Tribes of the Fort Berthold Reservation, ND"]
["Tohono O'odham Nation of Arizona"]
["Tolowa Dee-Ni' Nation"]
["Tonawanda Band of Seneca"]
["Tonkawa Tribe of Indians of Oklahoma"]
["Tonto Apache Tribe of Arizona"]
["Torres Martinez Desert Cahuilla Indians, California"]
["Traditional Village of Togiak"]
["Tulalip Tribes of Washington"]
["Tule River Indian Tribe of the Tule River Reservation, California"]
["Tuluksak Native Community"]
["Tunica-Biloxi Indian Tribe"]
["Tuolumne Band of Me-Wuk Indians of the Tuolumne Rancheria of California"]
["Turtle Mountain Band of Chippewa Indians of North Dakota"]
["Tuscarora Nation"]
["Twenty-Nine Palms Band of Mission Indians of California"]
["Twin Hills Village"]
["U"]
["Ugashik Village"]
["Umkumiut Native Village"]
["United Auburn Indian Community of the Auburn Rancheria of California"]
["United Keetoowah Band of Cherokee Indians in Oklahoma"]
["Upper Sioux Community, Minnesota"]
["Upper Skagit Indian Tribe"]
["Ute Indian Tribe of the Uintah & Ouray Reservation, Utah"]
["Ute Mountain Ute Tribe"]
["Utu Utu Gwaitu Paiute Tribe of the Benton Paiute Reservation, California"]
["V"]
["Village of Alakanuk"]
["Village of Anaktuvuk Pass"]
["Village of Aniak"]
["Village of Atmautluak"]
["Village of Bill Moore's Slough"]
["Village of Chefornak"]
["Village of Clarks Point"]
["Village of Crooked Creek"]
["Village of Dot Lake"]
["Village of Iliamna"]
["Village of Kalskag"]
["Village of Kaltag"]
["Village of Kotlik"]
["Village of Lower Kalskag"]
["Village of Ohogamiut"]
["Village of Red Devil"]
["Village of Salamatoff"]
["Village of Sleetmute"]
["Village of Solomon"]
["Village of Stony River"]
["Village of Venetie"]
["Village of Wainwright"]
["W"]
["Walker River Paiute Tribe of the Walker River Reservation, Nevada"]
["Wampanoag Tribe of Gay Head (Aquinnah)"]
["Washoe Tribe of Nevada & California (Carson Colony, Dresslerville Colony, Woodfords Community, Stewart Community, & Washoe Ranches)"]
["White Mountain Apache Tribe of the Fort Apache Reservation, Arizona"]
["Wichita and Affiliated Tribes"]
["Wilton Rancheria"]
["Winnebago Tribe of Nebraska"]
["Winnemucca Indian Colony of Nevada"]
["Wiyot Tribe, California"]
["Wrangell Cooperative Association"]
["Wyandotte Nation"]
["Y"]
["Yakutat Tlingit Tribe"]
["Yankton Sioux Tribe of South Dakota"]
["Yavapai-Apache Nation of the Camp Verde Indian Reservation, Arizona"]
["Yavapai-Prescott Indian Tribe"]
["Yerington Paiute Tribe of the Yerington Colony & Campbell Ranch, Nevada"]
["Yocha Dehe Wintun Nation, California"]
["Yomba Shoshone Tribe of the Yomba Reservation, Nevada"]
["Ysleta del Sur Pueblo"]
["Yupiit of Andreafski"]
["Yurok Tribe of the Yurok Reservation, California"]
["Z"]
["Zuni Tribe of the Zuni Reservation"]
["Indigenous (CAN) List "]
["A"]
["Aamjiwnaang"]
["Abegweit"]
["Abénakis D'odanak"]
["Abénakis De Wôlinak"]
["Acadia First Nation"]
["Acho Dene Koe First Nation"]
["Adams Lake"]
["Ahousaht"]
["Ahtahkakoop"]
["Aishihik"]
["Aitchelitz"]
["Aklavik"]
["Albany"]
["Alderville First Nation"]
["Alexander First Nation"]
["Alexis Creek"]
["Alexis Nakota Sioux Nation"]
["Algonquins of Barriere Lake"]
["Algonquins of Greater Golden Lake"]
["Algonquins of Kitigan Zibi Anishinabeg"]
["Algonquins of Long Point"]
["Algonquins of Ontario Consultation Office"]
["Algonquins of Pikwakanagan First Nation"]
["Algonquins of Pikwakanagan - Golden Lake First Nation"]
["Animakee Wa Zhing #37"]
["Animbiigoo Zaagi'igan Aniskinaabek (Lake Nipigon First Nation)"]
["Animbiigoo Zaagi'igan Anishinaabek"]
["Anishinaabe Agowidiiwiinan Treaty 2 Territory"]
["Anishnaabe of Naongashiing (Big Island)"]
["Anishinabe of Wauzhushk Onigum"]
["Anishnaabeg of Naongashiing"]
["Annapolis Valley First Nation"]
["Antoine First Nation"]
["Aroland First Nation"]
["Ashcroft"]
["Assembly of First Nations' Chiefs In New Brunswick"]
["Asubspeeschoseewagong Netum Anishinabek"]
["Athabasca Chipewyan First Nation"]
["Atikameksheng Anishnawbek"]
["Atikamekw D'Opitciwan First Nation"]
["Attawapiskat"]
["Aundeck-Omni-Kaning"]
["B"]
["Bancroft (Kijicho Manito Madaouskarini)"]
["Bande des Innus de Pessamit"]
["Barren Lands"]
["Batchewana First Nation"]
["Bay of Quinte Mohawk"]
["BC Metis Federation"]
["Bear River First Nation"]
["Beardy's and Okemasis"]
["Bearfoot Onondaga"]
["Bearskin Lake"]
["Bearspaw"]
["Beausoleil"]
["Beaver First Nation"]
["Beaver Lake Cree Nation"]
["Beecher Bay"]
["Behdzi Ahda\" First Nation"]
["Berens River"]
["Big Grassy First Nation"]
["Big Island Lake Cree Nation"]
["Big River"]
["Bigstone Cree Nation"]
["Biigtigong Nishnaabeg"]
["Bingwi Neyaashi Anishinaabek"]
["Biinjitiwaabik Zaaging Anishinaabek (Rocky Bay First Nation)"]
["Bingwi Neyaashi Anishinaabek (Sand Point First Nation)"]
["Birch Narrows First Nation"]
["Birdtail Sioux First Nation"]
["Black Lake"]
["Black River First Nation"]
["Blood Tribe"]
["Bloodvein"]
["Blueberry River First Nations"]
["Bonaparte"]
["Bonnechere Algonquin First Nation"]
["Boothroyd"]
["Boston Bar First Nation"]
["Bridge River"]
["Brokenhead Ojibway Nation"]
["Brunswick House First Nation"]
["Buctouche First Nation (Tjipõgtõtjg First Nation)"]
["Buffalo Lake Metis Settlement"]
["Buffalo Point First Nation"]
["Buffalo River Dene Nation"]
["Bunibonibee Cree Nation"]
["Burns Lake Band"]
["C"]
["Caldwell"]
["Campbell River"]
["Canim Lake"]
["Canoe Lake Cree First Nation"]
["Canupawakpa Dakota First Nation"]
["Cape Mudge"]
["Carcross/Tagish First Nation"]
["Carry the Kettle First Nation"]
["Cat Lake"]
["Cayoose Creek"]
["Champagne"]
["Champagne and Aishihik First Nations"]
["Chapleau Cree First Nation"]
["Chapleau Ojibwe First Nation"]
["Chard Metis Society"]
["Chawathil"]
["Cheam"]
["Chemawawin Cree Nation"]
["Cheslatta Carrier Nation"]
["Chiniki"]
["Chipewyan Prairie Dene Nation"]
["Chipewyan Prairie First Nation"]
["Chippewas of Georgina Island"]
["Chippewas of Kettle and Stony Point"]
["Chippewas of Nawash First Nation"]
["Chippewas of Rama First Nation"]
["Chippewas of the Thames First Nation"]
["Christina River Dene"]
["Clearwater River Dene"]
["Cold Lake First Nations"]
["Coldwater"]
["Communauté anicinape de Kitcisakik"]
["Conklin Metis Local #193"]
["Conseil de la Nation Atikamekw (Atikamekw Sipi Tribal Council)"]
["Conseil de la Première Nation Abitibiwinni"]
["Conseil De la Première Nation Des Inuus Essipit"]
["Conseil des Abénakis d’Odanak"]
["Conseil des Abénakis de Wôlinak"]
["Conseil des Atikamekw de Manawan"]
["Conseil des Atikamekw de Opitciwan"]
["Conseil des Atikamekw de Wemotaci"]
["Conseil Des Innus De Pessamit"]
["Conseil Des Montagnais Du Lac-St-Jean (Mashteuiatsh)"]
["Constance Lake First Nation"]
["Cook's Ferry"]
["Cote First Nation 366"]
["Couchiching First Nation"]
["Cowessess First Nation"]
["Cowichan"]
["Cree Nation of Chisasibi"]
["Cree Nation of Mistissini"]
["Cree Nation of Nemaska"]
["Cree Nation of Wemindji"]
["Cross Lake Band of Indians"]
["Cumberland House Cree Nation"]
["Curve Lake"]
["D"]
["Da'naxda'xw First Nation"]
["Dakota Plains"]
["Dakota Plains Wahpeton Nation"]
["Dakota Tipi First Nation"]
["Dauphin River"]
["Day Star"]
["Dease River"]
["Dechi Laot'i First Nations"]
["Deer Lake"]
["Deh Gáh Got'ie Dene First Nation"]
["Delaware"]
["Deline First Nation"]
["Dene Tha First Nation"]
["Deninu K'ue First Nation"]
["Ditidaht"]
["Dog Rib Rae"]
["Doig River First Nation"]
["Dokis First Nation"]
["Douglas"]
["Driftpile First Nation"]
["Duncan's First Nation"]
["Dzawada'enuxw First Nation"]
["E"]
["Eabametoong First Nation"]
["Eagle Lake"]
["Eagle Village First Nation – Kipawa"]
["Eastmain"]
["East Prairie Metis Settlement"]
["Ebb and Flow"]
["Eel Ground First Nation (Natoaganeg First Nation)"]
["Eel River Bar First Nation (Ugpi’ganjig First Nation)"]
["Ehattesaht"]
["Elsipogtog First Nation"]
["English River First Nation"]
["Enoch Cree Nation"]
["Ermineskin Tribe"]
["Esgenoopetitj (Burnt Church) First Nation - Direct Engagement"]
["Esk'etemc"]
["Eskasoni"]
["Esquimalt"]
["F"]
["Fairview Metis"]
["First Nation of Nacho Nyak Dun"]
["Fisher River"]
["Fishing Lake First Nation"]
["Flying Dust First Nation"]
["Flying Post First Nation"]
["Fond du Lac"]
["Fort Alexander"]
["Fort Folly First Nation (Amlamgog First Nation)"]
["Fort Good Hope"]
["Fort McKay First Nation"]
["Fort McMurray #468 First Nation"]
["Fort McMurray Metis #1935"]
["Fort Nelson First Nation"]
["Fort Severn"]
["Fort William First Nation"]
["Fox Lake"]
["Frog Lake First Nation"]
["G"]
["Gamblers First Nation"]
["Gameti First Nation"]
["Garden Hill First Nations"]
["Garden River First Nation"]
["George Gordon First Nation"]
["Gift Lake Metis Settlement"]
["Ginoogaming First Nation"]
["Ginoogaming First Nations' Collective"]
["Gitanmaax"]
["Gitanyow First Nation"]
["Gitga'at First Nation"]
["Gitsegukla"]
["Gitwangak"]
["Gitxaala First Nation"]
["Gitxsan First Nation"]
["Glen Vowell"]
["Glooscap First Nation"]
["God's Lake First Nation"]
["Grand Conseil De la Nation Waban-Aki"]
["Grand Council Treaty #3"]
["Grassy Narrows First Nation"]
["Gull Bay"]
["Gun Metis Local"]
["Gwa'Sala-Nakwaxda'xw"]
["Gwawaenuk Tribe"]
["Gwichya Gwich'in"]
["H"]
["Hagwilget Village"]
["Haisla Nation"]
["Halalt"]
["Halfway River First Nations"]
["Hatchet Lake"]
["Heart Lake First Nation"]
["Heiltsuk"]
["Henvey Inlet First Nation"]
["Hesquiaht"]
["Hiawatha First Nation"]
["High Bar"]
["Hollow Water"]
["Homalco"]
["Horse Lake First Nation"]
["Hupacasath First Nation"]
["Huron-Wendat Nation (Wendake)"]
["Huu-ay-aht First Nations"]
["I"]
["Indian Island First Nation (L’nui Menikuk First Nation)"]
["Innu Takuaikan Uashat Mak Mani-Utenam"]
["Innue Essipit"]
["Inuvik Native"]
["Iskatewizaagegan #39 Independant First Nation (Shoal Lake #39)"]
["Iskut"]
["J"]
["James Smith"]
["Jean Marie River First Nation"]
["K"]
["K'atlodeeche First Nation"]
["K'ómoks First Nation"]
["Ka'a'gee Tu First Nation"]
["Ka:'yu:'k't'h'/Che:k:tles7et'h' First Nations"]
["Kahkewistahaw First Nation"]
["Kanaka Bar"]
["Kapawe'no First Nation"]
["Kasabonika Lake"]
["Katzie"]
["Kawacatoose First Nation"]
["Kee-Way-Win"]
["Keeseekoose"]
["Keeseekoowenin First Nation"]
["Kehewin Cree Nation"]
["Kelly Lake Cree Nation"]
["Kelly Lake Métis Settlement Society"]
["Kiashke Zaaging Anishinaabek (Gull Bay First Nation)"]
["Kikino Metis Settlement"]
["Kingfisher"]
["Kingsclear First Nation (Pilick First Nation)"]
["Kinistin Saulteaux Nation"]
["Kinonjeoshtegon First Nation"]
["Kispiox"]
["Kitasoo"]
["Kitchenuhmaykoosib Inninuwug"]
["Kitigan Zibi Anishinabeg"]
["Kitselas First Nation"]
["Kitsumkalum Indian Band"]
["Klahoose First Nation"]
["Kluane First Nation"]
["Konadaha Seneca"]
["Kwadacha"]
["Kwakiutl"]
["Kwanlin Dun First Nation"]
["Kwantlen First Nation"]
["Kwaw-kwaw-Apilt"]
["Kwiakah"]
["Kwikwasut'inuxw Haxwa'mis"]
["Kwikwetlem First Nation"]
["Kwilmu'Kw Maw-Klusuaqn (Mi'kmaq Rights Initiative)"]
["L"]
["La Nation Innu Matimekush-Lac John"]
["La Nation Micmac de Gespeg"]
["La Première Nation Micmac de Gespeg"]
["Lac Des Mille Lacs First Nation"]
["Lac La Croix First Nation"]
["Lac La Ronge"]
["Lac Seul First Nation"]
["Lake Babine First Nation"]
["Lake Cowichan First Nation"]
["Lake Manitoba"]
["Lake St. Martin"]
["Lax Kw'alaams Band"]
["le Grand Conseil de la Nation Waban-Aki"]
["Lennox Island"]
["Leq' a: mel First Nation"]
["Les Atikamekw De Manawan"]
["Les Innus de Ekuanitshit"]
["Lheidli-T'enneh First Nation"]
["Lhoosk'uz Dene Nation"]
["Lhtako Dene Nation"]
["Liard First Nation"]
["Liidlii Kue First Nation"]
["Lil'wat Nation"]
["Listuguj Mi'gmaq Government"]
["Little Black Bear First Nation"]
["Little Grand Rapids"]
["Little Pine"]
["Little Red River Cree Nation"]
["Little Salmon/Carmacks First Nation"]
["Little Saskatchewan"]
["Little Shuswap Lake"]
["Long Lake #58 First Nation"]
["Long Plain First Nation"]
["Long Point First Nation"]
["Loon River Cree"]
["Louis Bull Tribe"]
["Lower Cayuga"]
["Lower Kootenay"]
["Lower Mohawk"]
["Lower Nicola"]
["Lower Similkameen"]
["Lubicon Lake Band"]
["Lucky Man"]
["Lutsel K'e Dene First Nation"]
["Lyackson"]
["Lytton"]
["M"]
["M'Chigeeng First Nation"]
["Madawaska Maliseet First Nation"]
["Manitoba Métis Federation"]
["Magnetawan"]
["Makwa Sahgaiehcan First Nation"]
["Malahat First Nation"]
["Mamalilikulla First Nation"]
["Manto Sipi Cree Nation"]
["Marcel Colomb First Nation"]
["Martin Falls"]
["Matachewan First Nation"]
["Mathias Colomb"]
["Matsqui"]
["Mattagami First Nation"]
["Mattawa - North Bay Algonquin First Nation"]
["McDowell Lake"]
["McLeod Lake Indian Band"]
["Membertou"]
["Metepenagiag Mi’kmaq Nation (Red Bank First Nation)"]
["Métis Nation of Alberta"]
["Metis Nation of BC"]
["Metis Nation of Ontario"]
["Metis Nation of Saskatchewan"]
["Metis Nation of Saskatchewan Eastern Region 3"]
["Metis Nation of Saskatchewan Western Region 3"]
["Metlakatla First Nation"]
["Mi'gmawei Mawiomi Secretariat"]
["Miawpukek"]
["Michipicoten"]
["Micmacs of Gesgapegiag First Nation"]
["Migisi Sahgaigan (Eagle Lake First Nation)"]
["Mikisew Cree First Nation"]
["Millbrook"]
["Ministikwan Lake Cree Nation"]
["Mishkeegogamang"]
["Misipawistik Cree Nation"]
["Missanabie Cree First Nation"]
["Mississauga"]
["Mississaugas of Scugog Island First Nation"]
["Mississaugas of the Credit"]
["Mistawasis Nêhiyawak"]
["Mitaanjigamiing First Nation"]
["MMF Region 1 & 2"]
["MNA Region 2"]
["MNA Region 3"]
["Mohawk Council of Akwesasne"]
["Mohawk Council of Kanesatake"]
["Mohawk Council of Kahnawà:ke"]
["Mohawks of Akwesasne"]
["Mohawk of Kahnawa:Ke"]
["Mohawk of Kanehsata:Ke"]
["Mohawks of the Bay of Quinte"]
["Montagnais de Natashquan"]
["Montagnais de Pakua Shipi"]
["Montagnais de Unamen Shipu"]
["Montagnais du Lac St-Jean"]
["Montana First Nation"]
["Montreal Lake"]
["Moose Cree First Nation"]
["Moose Deer Point"]
["Moosomin"]
["Moravian of the Thames"]
["Moricetown Indian Band"]
["Mosakahiken Cree Nation"]
["Mosquito, Grizzly Bear's Head, Lean Man First Nati"]
["Mowachaht/Muchalaht"]
["Munsee-Delaware Nation"]
["Muscowpetung First Nation"]
["Muskowekwan First Nation"]
["Mushuau Innu First Nation"]
["Muskeg Lake Cree Nation #102"]
["Muskoday First Nation"]
["Muskowekwan"]
["Muskrat Dam Lake"]
["Musqueam"]
["N"]
["N'Quatqua"]
["Nadleh Whuten First Nation"]
["Nahanni Butte"]
["Naicatchewenin"]
["Nak'azdli Whut'en First Nation"]
["Namgis First Nation"]
["Nanoose First Nation"]
["Naotkamegwanning First Nation (Whitefish Bay First Nation)"]
["Naskapi Nation of Kawawachikamach"]
["Nation Anishnabe du Lac Simon"]
["Nation Huronne Wendat"]
["Nazko First Nation"]
["Nee Tahi Buhn Indian Band"]
["Nekaneet First Nation"]
["Neskantaga First Nation"]
["Neskonlith"]
["New Westminster"]
["Nibinamik First Nation"]
["Nicomen"]
["Nigigoonsiminikaaning First Nation"]
["Niharondasa Seneca"]
["Nipissing First Nation"]
["Nisga'a Lisms Government"]
["Nisga'a Village of Gingolx"]
["Nisga'a Village of Gitwinksihlkw"]
["Nisga'a Village of Laxgalt'sap"]
["Nisga'a Village of New Aiyansh"]
["Nisichawayasihk Cree Nation"]
["Nooaitch"]
["North Caribou Lake"]
["North Spirit Lake"]
["Northlands"]
["Northwest Angle No. 33 First Nation"]
["Northwest Angle No. 37 First Nation"]
["Norway House Cree Nation"]
["Nuchatlaht"]
["Nuxalk Nation"]
["O"]
["O'Chiese First Nation"]
["O-Chi-Chak-Ko-Sipi First Nation"]
["O-Pipon-Na-Piwin Cree Nation"]
["Obashkaandagaang First Nation"]
["Ocean Man First Nation"]
["Ochapowace First Nation"]
["Ochiichagwe'Bagigo'ining First Nation"]
["Odanak"]
["Ojibway Nation of Saugeen"]
["Ojibways Of Onigaming First Nation"]
["Ojibways of the Pic River First Nation"]
["Okanagan"]
["Okanese"]
["Old Massett Village Council"]
["One Arrow First Nation"]
["Oneida"]
["Oneida Nation of the Thames"]
["Onigaming"]
["Onion Lake Cree Nation"]
["Onondaga Clear Sky"]
["Opaskwayak Cree Nation"]
["Oregon Jack Creek"]
["Oromocto First Nation (Wolamuktuk First Nation)"]
["Osoyoos"]
["Ottawa Algonquin First Nation"]
["Oujé-Bougoumou Cree Nation"]
["P"]
["Pabineau First Nation (Oinpegitjoig First Nation)"]
["Pacheedaht First Nation"]
["Paddle Prairie Metis"]
["Paqtnkek Mi'kmaw Nation"]
["Pasqua First Nation #79"]
["Pauingassi First Nation"]
["Paul"]
["Pauquachin"]
["Pays Plat First Nation"]
["Pearless Trout"]
["Peavine Metis Settlement"]
["Peepeekisis Cree Nation #81"]
["Peerless Trout First Nation"]
["Peguis"]
["Pehdzeh Ki First Nation"]
["Pelican Lake"]
["Penelakut Tribe"]
["Penticton"]
["Peter Ballantyne Cree Nation"]
["Peters First Nation"]
["Pheasant Rump Nakota First Nation"]
["Piapot First Nation"]
["Pic Mobert"]
["Pictou Landing"]
["Piikani First Nation"]
["Pikangikum"]
["Pinaymootang First Nation"]
["Pine Creek"]
["Popkum"]
["Poplar Hill"]
["Poplar River First Nation"]
["Potlotek First Nation"]
["Poundmaker"]
["Première Nation Malecite de Viger"]
["Première Nation des Abénakis de Wôlinak"]
["Première nation de Whapmagoostui"]
["Prophet River First Nation"]
["Q"]
["Qalipu Mi'kmaq First Nation"]
["Qualicum First Nation"]
["Quatsino"]
["R"]
["Rainy River First Nation"]
["Red Earth"]
["Red Pheasant"]
["Red Rock Indian Band"]
["Red Sky Métis Independant Nation"]
["Red Sucker Lake"]
["Rolling River First Nation"]
["Roseau River Anishinabe First Nation"]
["Ross River"]
["S"]
["SIPEKNE'KATIK"]
["Sachigo Lake"]
["Saddle Lake Cree Nation"]
["Sagamok Anishnawbek"]
["Sagkeeng First Nation"]
["Saik'uz First Nation"]
["Saint Mary's"]
["Sakimay First Nation"]
["Sakimay First Nation Standing Buffalo Dakota Nation"]
["Salt River First Nation #195"]
["Samahquam"]
["Sambaa K'e First Nation"]
["Samson Cree Nation"]
["Sandy Bay Ojibway First Nation"]
["Sandy Lake"]
["Sapotaweyak Cree Nation"]
["Saugeen First Nation"]
["Saulteau First Nations"]
["Saulteaux"]
["Sawridge First Nation"]
["Sayisi Dene First Nation"]
["Seabird Island"]
["Sechelt"]
["Seine River First Nation"]
["Selkirk First Nation"]
["Semiahmoo"]
["Serpent River"]
["Shabot Obaadjiwan First Nation (Sharbot Lake)"]
["Shackan"]
["Shamattawa First Nation"]
["Shawanaga First Nation"]
["Sheguiandah"]
["Sheshatshiu Innu First Nation"]
["Sheshegwaning"]
["Shoal Lake Cree Nation"]
["Shoal Lake No. 40 First Nation"]
["Shuswap"]
["Shxw'ow'hamel First Nation"]
["Shxwhá:y Village"]
["Siksika Nation"]
["Simpcw First Nation"]
["Sioux Valley Dakota Nation"]
["Siska"]
["Six Nations of the Grand River"]
["Skatin Nations"]
["Skawahlook First Nation"]
["Skeetchestn"]
["Skidegate"]
["Skin Tyee First Nation"]
["Skowkale"]
["Skownan First Nation"]
["Skuppah"]
["Skwah"]
["Slate Falls Nation"]
["Smith's Landing First Nation"]
["Snimikobi (Ardoch) Algonquin First Nation"]
["Snuneymuxw First Nation"]
["Soda Creek"]
["Songhees First Nation"]
["Soowahlie"]
["Splatsin"]
["Spuzzum"]
["Sq'éwlets"]
["Squamish"]
["Squiala First Nation"]
["St. Mary's First Nation"]
["St. Theresa Point"]
["Standing Buffalo"]
["Star Blanket Cree Nation"]
["Stellat'en First Nation"]
["Stoney"]
["Sts'ailes"]
["Stswecem'c Xgat'tem First Nation"]
["Sturgeon Lake Cree Nation"]
["Stz'uminus First Nation"]
["Suactuav"]
["Sucker Creek First Nation"]
["Sumas First Nation"]
["Sunchild First Nation"]
["Sundance First Nation"]
["Swan Lake First Nation"]
["Swan River First Nation"]
["Sweetgrass"]
["T"]
["T'Sou-ke First Nation"]
["T'it'q'et"]
["Ta'an Kwach'an"]
["Tahltan"]
["Takla Lake First Nation"]
["Taku River Tlingit"]
["Tallcree"]
["Tataskweyak Cree Nation"]
["Taykwa Tagamou Nation ( New Post First Nation)"]
["Temagami First Nation"]
["Teslin Tlingit Council"]
["Tetlit Gwich'in"]
["The Crees of the Waskaganish First Nation"]
["The Key First Nation"]
["Thessalon"]
["Thunderchild First Nation"]
["Timiskaming First Nation"]
["Tk'emlúps te Secwépemc"]
["Tl'azt'en First Nation"]
["Tl'etinqox Government"]
["Tla'amin Nation"]
["Tla-o-qui-aht First Nations"]
["Tlatlasikwala"]
["Tlowitsis Tribe"]
["Tobacco Plains"]
["Tobique First Nation"]
["Toosey"]
["Tootinaowaziibeeng Treaty Reserve"]
["Toquaht"]
["Tr'ondëk Hwëch'in"]
["Ts'kw'aylaxw First Nation"]
["Tsal'alh"]
["Tsartlip"]
["Tsawout First Nation"]
["Tsawwassen First Nation"]
["Tsay Keh Dene"]
["Tseshaht"]
["Tseycum"]
["Tsleil-Waututh Nation"]
["Tsuut'ina Nation"]
["Tulita Dene"]
["Tuscarora"]
["Tzeachten"]
["U"]
["Uchucklesaht"]
["Ucluelet First Nation"]
["Ulkatcho"]
["Union Bar First Nation"]
["Upper Cayuga"]
["Upper Mohawk"]
["Upper Nicola"]
["Upper Similkameen"]
["V"]
["Valley View Metis"]
["Vuntut Gwitchin First Nation"]
["W"]
["Wabasca Metis Local #90"]
["Wabaseemoong Independant First Nations"]
["Wabauskang First Nation"]
["Wabigoon Lake Ojibway Nation"]
["Wabun Tribal Council"]
["Wagmatcook"]
["Wahgoshig First Nation"]
["Wahnapitae First Nation"]
["Wahpeton Dakota Nation"]
["Wahta Mohawk"]
["Walker Mohawk"]
["Walpole Island"]
["Wapekeka"]
["War Lake First Nation"]
["Wasagamack First Nation"]
["Wasauksing First Nation"]
["Waswanipi"]
["Waterhen Lake"]
["Wauzhushk Onigum - Rat Portage"]
["Wawakapewin"]
["Waycobah First Nation"]
["Waywayseecappo First Nation"]
["Webequie"]
["Weenusk"]
["Wemotaci First Nation"]
["Wesley"]
["West Moberly First Nations"]
["West Point First Nation"]
["Westbank First Nation"]
["Wet'suwet'en First Nation"]
["Wha Ti First Nation"]
["Whispering Pines/Clinton"]
["White Bear"]
["White River First Nation"]
["Whitecap Dakota First Nation"]
["Whitefish Lake First Nation"]
["Whitefish River"]
["Whitesand"]
["Whitney and Area Algonquins"]
["Wikwemikong"]
["Williams Lake"]
["Witchekan Lake"]
["Wolf Lake First Nation"]
["Wood Mountain"]
["Woodland Cree First Nation"]
["Woodstock First Nation and Madawaska Maliseet First Nation"]
["Wuikinuxv Nation"]
["Wunnumin"]
["Wuse Mo"]
["Wuskwi Sipihk First Nation"]
["X"]
["Xaxli'p"]
["Xeni Gwet'in First Nations Government"]
["Y"]
["Yakweakwioose"]
["Yale First Nation"]
["Yekooche First Nation"]
["Yellow Quill"]
["Yellowknives Dene First Nation"]
["York Factory First Nation"]
["Z"]
["Yunesit'in Government"]
["Zhiibaahaasing First Nation"]

{"sheet":"Leveraging Plans","index":21,"n_rows":7,"n_cols":1,"rows_kept":7,"cut":false,"hidden":true,"merged":[]}
["Leveraging Plans"]
["Event Attendance"]
["Volunteer Opportunity"]
["Print Recognition"]
["Verbal Recognition"]
["Media Recognition"]
["Other"]

{"sheet":"Release Notes","index":22,"n_rows":6,"n_cols":2,"rows_kept":6,"cut":false,"hidden":true,"merged":[]}
["Release",4.5599999999999996]
["Date","2016-10-21"]
[]
["Updated all drop downs to make case sensitive except Aboriginal Affiliation"]
["Aboriginal Affiliation fixed at time of export to 'Proper' case"]
["Added Community Investment Sheet"]

{"sheet":"Copy Map","index":23,"n_rows":41,"n_cols":34,"rows_kept":41,"cut":false,"hidden":true,"merged":[]}
["Sheets","From","To",null,"Employee Profiles","From","To","Materials","From","To","Expenses","From","To","Subcontractor Spend","From","To","Community Investment","From","To",null,"Export",null,"Materials",null,null,"Expenses",null,null,"Subcontractor Spend",null,null,"Community Investment"]
["Employee Profiles","F","G",null,"Count Ranges",{"$f":"COUNTIF(F3:F104, \"<>\")","v":9},null,null,{"$f":"COUNTIF(I3:I104, \"<>\")","v":10},null,null,{"$f":"COUNTIF(L3:L104, \"<>\")","v":2},null,null,{"$f":"COUNTIF(O3:O104, \"<>\")","v":4},null,null,{"$f":"COUNTIF(R3:R104, \"<>\")","v":7},null,null,"City","A","Supplier Name","A","AA","Total Expenses ","A","AC","Subcontractor",null,null,"Recipient Organization","A","AL"]
["Materials","I","J",null,"Home City - Service Completed","C6:G","A","Material Supplier Name","A4:A","AA","Total Expenses ","A4:A","AC","Service Type","B4:B","AI","Recipient Organization - Spend Amt","A4:B","AK",null,"Province/ State","B","Material Type","B","AH","Currency","B","V","Service Type","B","AJ","Spend Amount","B","AM"]
["Expenses","L","M",null,"Hours Worked","H6:H","U","Material Type","B4:B","AH","Currency","B4:F","V","Hours worked to Total Spend","C4:D","AD","Currency","C4:C","V",null,"Country","C","Cost Incl Tax","C","AB","City/ Town","C","W","Hours Worked","C","AD","Currency","C","V"]
["Subcontractor Spend","O","P",null,"Hourly Rate","I6:I","F","Cost Incl Tax","C4:C","AB",null,null,null,"Currency","E4:E","V","Spend City - Zip","D4:G","W",null,"Postal/Zip Code","D","Currency","D","V","Province/ State","D","X","Total Spend","D","AE","City/ Town","D","W"]
["Community Investment","R","S",null,"Currency","J6:J","V","Currency","D4:D","V",null,null,null,"Traditional Studies to Related Sub","F4:G","AF","Indigenous","H4:H","K",null,"Service Completed","E","City/ Town","E","W","Country","E","Y","Currency","E","V","Province/ State","E","X"]
[null,null,null,null,"Diversity, Choose Not to Answer - Women","K6:M","G","City - Zip Code","E4:H","W",null,null,null,null,null,null,"Div Native American","I4:I","O",null,"Hourly Rate","F","Province/ State","F","X","Postal/ Zip Code","F","Z","Traditional Studies","F","AF","Country","F","Y"]
[null,null,null,null,"African-American (USA) - Hispanic","N6:R","L","Women","I4:I","I",null,null,null,null,null,null,"Aboriginal Affiliation","J4:K","Q",null,"Choose Not To Answer","G","Country","G","Y","Women","G","I","Related Subcontractor","G","AG","Postal/ Zip Code","G","Z"]
[null,null,null,null,"LGBT","S6:S","AO","Native-American (USA)","J4:N","L",null,null,null,null,null,null,"Community Inv - Lev Plans","L4:M","AM",null,"No","H","Postal/ Zip Code","H","Z","African-American (USA)","H","L",null,null,null,"Aboriginal/Tribal Affiliation","H","Q"]
[null,null,null,null,"Indigenous Tribal Community - Labour Union","T6:W","Q","Aboriginal/Tribal Affiliation To Other","K4:L","Q",null,null,null,null,null,null,null,null,null,null,"Women","I","Women","I","I","Asian-American (USA)","I","M",null,null,null,"Aboriginal/ Tribal Affiliation Other","I","R"]
[null,null,null,null,"Related Subcontractor","Y6:Y","AG","LGBT","O4:O","AO",null,null,null,null,null,null,null,null,null,null,"Visible Minority","J","African-American (USA)","J","L","Hispanic-American (USA)","J","N",null,null,null,"Community Investment Type","J","AN"]
[null,null,null,null,null,null,null,"Indigenous/Tribal Community","P4:Q","Q",null,null,null,null,null,null,null,null,null,null,"Indigenous","K","Asian-American (USA)","K","M","Native-Amerian (USA)","K","O",null,null,null,"Leveraging Plans","K","AO"]
[null,null,null,null,null,null,null,null,null,null,null,null,null,null,null,null,null,null,null,null,"Div African-American","L","Hispanic-American (USA)","L","N","Veteran","L","P"]
[null,null,null,null,null,null,null,null,null,null,null,null,null,null,null,null,null,null,null,null,"Div Asian-American","M","Native-Amerian (USA)","M","O","LGBT","M","AO"]
[null,null,null,null,null,null,null,null,null,null,null,null,null,null,null,null,null,null,null,null,"Div Hispanic-American","N","Veteran","N","P","Indigenous/Tribal Community","N","Q"]
[null,null,null,null,null,null,null,null,null,null,null,null,null,null,null,null,null,null,null,null,"Div Native-American","O","LGBT","O","AO","Other Indigenous/Tribal Community","O","R"]
[null,null,null,null,null,null,null,null,null,null,null,null,null,null,null,null,null,null,null,null,"Div Veteran","P","Indigenous/Tribal Community","P","Q"]
[null,null,null,null,null,null,null,null,null,null,null,null,null,null,null,null,null,null,null,null,"Aboriginal Affiliation","Q","Other Indigenous/Tribal Community","Q","R"]
[null,null,null,null,null,null,null,null,null,null,null,null,null,null,null,null,null,null,null,null,"Aboriginal Affiliation Other","R"]
[null,null,null,null,null,null,null,null,null,null,null,null,null,null,null,null,null,null,null,null,"Related TFW Program","S"]
[null,null,null,null,null,null,null,null,null,null,null,null,null,null,null,null,null,null,null,null,"Labour Union","T"]
[null,null,null,null,null,null,null,null,null,null,null,null,null,null,null,null,null,null,null,null,"Hours Worked","U"]
[null,null,null,null,null,null,null,null,null,null,null,null,null,null,null,null,null,null,null,null,"Currency","V"]
[null,null,null,null,null,null,null,null,null,null,null,null,null,null,null,null,null,null,null,null,"Spend City","W"]
[null,null,null,null,null,null,null,null,null,null,null,null,null,null,null,null,null,null,null,null,"Spend Province/ State","X"]
[null,null,null,null,null,null,null,null,null,null,null,null,null,null,null,null,null,null,null,null,"Spend Country","Y"]
[null,null,null,null,null,null,null,null,null,null,null,null,null,null,null,null,null,null,null,null,"Spend Postal Zip Code","Z"]
[null,null,null,null,null,null,null,null,null,null,null,null,null,null,null,null,null,null,null,null,"Material Supplier Name","AA"]
[null,null,null,null,null,null,null,null,null,null,null,null,null,null,null,null,null,null,null,null,"Material Cost Incl Tax","AB"]
[null,null,null,null,null,null,null,null,null,null,null,null,null,null,null,null,null,null,null,null,"Total Per Diem","AC"]
[null,null,null,null,null,null,null,null,null,null,null,null,null,null,null,null,null,null,null,null,"Sub Hours Worked","AD"]
[null,null,null,null,null,null,null,null,null,null,null,null,null,null,null,null,null,null,null,null,"Sub Total Spend","AE"]
[null,null,null,null,null,null,null,null,null,null,null,null,null,null,null,null,null,null,null,null,"Traditional Studies","AF"]
[null,null,null,null,null,null,null,null,null,null,null,null,null,null,null,null,null,null,null,null,"Phase Subcontractor","AG"]
[null,null,null,null,null,null,null,null,null,null,null,null,null,null,null,null,null,null,null,null,"Material Type","AH"]
[null,null,null,null,null,null,null,null,null,null,null,null,null,null,null,null,null,null,null,null,"Service Type","AI"]
[null,null,null,null,null,null,null,null,null,null,null,null,null,null,null,null,null,null,null,null,"Related DLS Record","AJ"]
[null,null,null,null,null,null,null,null,null,null,null,null,null,null,null,null,null,null,null,null,"Recipient Organization","AK"]
[null,null,null,null,null,null,null,null,null,null,null,null,null,null,null,null,null,null,null,null,"Community Spend","AL"]
[null,null,null,null,null,null,null,null,null,null,null,null,null,null,null,null,null,null,null,null,"Community Investment Type","AM"]
[null,null,null,null,null,null,null,null,null,null,null,null,null,null,null,null,null,null,null,null,"Leveraging Plans","AN"]